{"text_format":"1","workbook":"xlsx","n_sheets":10,"sheets":["Slagtekalve","Data","Choices","Præsentation","Diagrammer-orig","Fraktilanalyse","Diagrammer","Kredsudvælgelse","Landsgennemsnit","Statiske ejendomme"],"not_rendered":{"charts":9,"images":0,"macros":1,"external_links":0,"defined_names":17,"comments":0,"pivot_tables":0},"unopened":[],"bounds":{"document_bytes":16777216,"sheet_cells":100000,"rows_first":2000,"rows_last":500,"rows_between":2000,"halvings":0,"cell_chars":16384,"cell_head_chars":4096},"cells_cut":0,"cells_raw":0,"read":"whole","date_system":"1900"}

{"sheet":"Slagtekalve","index":0,"n_rows":152,"n_cols":35,"rows_kept":152,"cut":false,"hidden":true,"merged":[[0,0,0,13],[1,3,1,4],[1,5,1,6],[1,11,1,17]]}
["Slagtekalve (6300)",null,null,null,null,null,null,null,null,null,null,null,null,null,null,null,null,null,null,null,null,null,null,null,null,"Ident",{"$f":"Choices!$A$1","v":2},2,3,4,5,6,7]
[null,null,null,"Landsplan",null,"Kreds 101",null,null,null,null,null,"Betingelser",null,null,null,null,null,null,null,null,null,null,null,null,null,null,2,"Dansk Kalv - Under 200 kg (10 mdr)"]
["Tegn (fra højre der skal væk så navnet passer med navnet i forespørgslen)","Divisor, til snit","Slagtekalve","Gennemsnit","Top 5","Gennemsnit","Top 5",null,null,null,null,{"$f":"IF(Choices!$A$1=2,IF(L4=\"\",\"\",IF(ISERROR(HLOOKUP(L4,Forespørgsel1[#Headers],1,FALSE))=TRUE,\"Ikke fundet i forespørgslen\",\"\")),\"\")","v":""},{"$f":"IF(M4=\"\",\"\",IF(ISERROR(HLOOKUP(M4,Forespørgsel1[#Headers],1,FALSE))=TRUE,\"Ikke fundet i forespørgslen\",\"\"))","v":""},{"$f":"IF(N4=\"\",\"\",IF(ISERROR(HLOOKUP(N4,Forespørgsel1[#Headers],1,FALSE))=TRUE,\"Ikke fundet i forespørgslen\",\"\"))","v":""},{"$f":"IF(O4=\"\",\"\",IF(ISERROR(HLOOKUP(O4,Forespørgsel1[#Headers],1,FALSE))=TRUE,\"Ikke fundet i forespørgslen\",\"\"))","v":""},{"$f":"IF(P4=\"\",\"\",IF(ISERROR(HLOOKUP(P4,Forespørgsel1[#Headers],1,FALSE))=TRUE,\"Ikke fundet i forespørgslen\",\"\"))","v":""},{"$f":"IF(Q4=\"\",\"\",IF(ISERROR(HLOOKUP(Q4,Forespørgsel1[#Headers],1,FALSE))=TRUE,\"Ikke fundet i forespørgslen\",\"\"))","v":"Ikke fundet i forespørgslen"},{"$f":"IF(R4=\"\",\"\",IF(ISERROR(HLOOKUP(R4,Forespørgsel1[#Headers],1,FALSE))=TRUE,\"Ikke fundet i forespørgslen\",\"\"))","v":"Ikke fundet i forespørgslen"},null,"Foderdagebetingelse til udregning af nøgletal pr. foderdag",null,null,null,null,null,1,{"$f":"$AA$2*10+Z3","v":21},"Antal producerede kalve","Godkendt","Slagtevægt"]
[null,null,"Antal producerede kalve",{"$f":"IF(Choices!$A$1=2,Landsgennemsnit!$B4,IF(Choices!$A$1=3,Landsgennemsnit!$E4,\"\"))","v":736.33333333333337},{"$f":"IF(Choices!$A$1=2,Landsgennemsnit!C4,IF(Choices!$A$1=3,Landsgennemsnit!F4,\"\"))","v":929.6},{"$f":"IFERROR(IF(ISTEXT($B4)=TRUE,DSUM(Forespørgsel1[#All],\"\"&LEFT($C4,LEN($C4)-$A4)&\"\",$M$4:INDIRECT(ADDRESS($M$42,$M$43)))/DSUM(Forespørgsel1[#All],\"\"&$B4&\"\",$M$4:INDIRECT(ADDRESS($M$42,$M$43))),IF($B4=0,DAVERAGE(Forespørgsel1[#All],\"\"&LEFT($C4,LEN($C4)-$A4)&\"\",$M$4:INDIRECT(ADDRESS($M$42,$M$43))),IF($B4=1,DSUM(Forespørgsel1[#All],\"\"&LEFT($C4,LEN($C4)-$A4)&\"\",$M$4:INDIRECT(ADDRESS($M$42,$M$43)))/DSUM(Forespørgsel1[#All],\"\"&$V$5&\"\",$M$4:INDIRECT(ADDRESS($M$42,$M$43))),DSUM(Forespørgsel1[#All],\"\"&LEFT($C4,LEN($C4)-$A4)&\"\",$M$4:INDIRECT(ADDRESS($M$42,$M$43)))/DSUM(Forespørgsel1[#All],\"\"&$W$5&\"\",$M$4:INDIRECT(ADDRESS($M$42,$M$43)))))),\"\")","v":""},{"$f":"IFERROR(IF(ISTEXT($B4)=TRUE,DSUM(Forespørgsel1[#All],\"\"&LEFT($C4,LEN($C4)-$A4)&\"\",$L$4:INDIRECT(ADDRESS($M$42,$M$43)))/DSUM(Forespørgsel1[#All],\"\"&$B4&\"\",$L$4:INDIRECT(ADDRESS($M$42,$M$43))),IF($B4=0,DAVERAGE(Forespørgsel1[#All],\"\"&LEFT($C4,LEN($C4)-$A4)&\"\",$L$4:INDIRECT(ADDRESS($M$42,$M$43))),IF($B4=1,DSUM(Forespørgsel1[#All],\"\"&LEFT($C4,LEN($C4)-$A4)&\"\",$L$4:INDIRECT(ADDRESS($M$42,$M$43)))/DSUM(Forespørgsel1[#All],\"\"&$V$5&\"\",$L$4:INDIRECT(ADDRESS($M$42,$M$43))),IF($B4=2,DSUM(Forespørgsel1[#All],\"\"&LEFT($C4,LEN($C4)-$A4)&\"\",$L$4:INDIRECT(ADDRESS($M$42,$M$43)))/DSUM(Forespørgsel1[#All],\"\"&$W$5&\"\",$L$4:INDIRECT(ADDRESS($M$42,$M$43))))))),\"\")","v":""},null,null,null,null,"Årets resultat pr. produceret kalv","Prodgren",{"$f":"IFERROR(VLOOKUP($AA$1*10+$Z3,$AA$3:$AG$36,AB$1,FALSE),\"\")","v":"Antal producerede kalve"},{"$f":"IFERROR(VLOOKUP($AA$1*10+$Z3,$AA$3:$AG$36,AC$1,FALSE),\"\")","v":"Godkendt"},"Slagtevægt",0,0,null,"Antal foderdage",null,"Devisorere",null,null,null,2,{"$f":"$AA$2*10+Z4","v":22},">99,9",true,{"$f":"\"<=\"&200","v":"<=200"}]
[null,null,"Slagtevægt",{"$f":"IF(Choices!$A$1=2,Landsgennemsnit!$B5,IF(Choices!$A$1=3,Landsgennemsnit!$E5,\"\"))","v":204.11111111111111},{"$f":"IF(Choices!$A$1=2,Landsgennemsnit!C5,IF(Choices!$A$1=3,Landsgennemsnit!F5,\"\"))","v":207.8},{"$f":"IFERROR(IF(ISTEXT($B5)=TRUE,DSUM(Forespørgsel1[#All],\"\"&LEFT($C5,LEN($C5)-$A5)&\"\",$M$4:INDIRECT(ADDRESS($M$42,$M$43)))/DSUM(Forespørgsel1[#All],\"\"&$B5&\"\",$M$4:INDIRECT(ADDRESS($M$42,$M$43))),IF($B5=0,DAVERAGE(Forespørgsel1[#All],\"\"&LEFT($C5,LEN($C5)-$A5)&\"\",$M$4:INDIRECT(ADDRESS($M$42,$M$43))),IF($B5=1,DSUM(Forespørgsel1[#All],\"\"&LEFT($C5,LEN($C5)-$A5)&\"\",$M$4:INDIRECT(ADDRESS($M$42,$M$43)))/DSUM(Forespørgsel1[#All],\"\"&$V$5&\"\",$M$4:INDIRECT(ADDRESS($M$42,$M$43))),DSUM(Forespørgsel1[#All],\"\"&LEFT($C5,LEN($C5)-$A5)&\"\",$M$4:INDIRECT(ADDRESS($M$42,$M$43)))/DSUM(Forespørgsel1[#All],\"\"&$W$5&\"\",$M$4:INDIRECT(ADDRESS($M$42,$M$43)))))),\"\")","v":""},{"$f":"IFERROR(IF(ISTEXT($B5)=TRUE,DSUM(Forespørgsel1[#All],\"\"&LEFT($C5,LEN($C5)-$A5)&\"\",$L$4:INDIRECT(ADDRESS($M$42,$M$43)))/DSUM(Forespørgsel1[#All],\"\"&$B5&\"\",$L$4:INDIRECT(ADDRESS($M$42,$M$43))),IF($B5=0,DAVERAGE(Forespørgsel1[#All],\"\"&LEFT($C5,LEN($C5)-$A5)&\"\",$L$4:INDIRECT(ADDRESS($M$42,$M$43))),IF($B5=1,DSUM(Forespørgsel1[#All],\"\"&LEFT($C5,LEN($C5)-$A5)&\"\",$L$4:INDIRECT(ADDRESS($M$42,$M$43)))/DSUM(Forespørgsel1[#All],\"\"&$V$5&\"\",$L$4:INDIRECT(ADDRESS($M$42,$M$43))),IF($B5=2,DSUM(Forespørgsel1[#All],\"\"&LEFT($C5,LEN($C5)-$A5)&\"\",$L$4:INDIRECT(ADDRESS($M$42,$M$43)))/DSUM(Forespørgsel1[#All],\"\"&$W$5&\"\",$L$4:INDIRECT(ADDRESS($M$42,$M$43))))))),\"\")","v":""},null,null,null,null,{"$f":"\">\"&IF(M9<=5,\"For få relevante observationer\",DMAX(Forespørgsel1[#All],\"\"&$K$14&\"\",$L$30:INDIRECT(ADDRESS($U$35,$M$43)))&\"\")","v":">For få relevante observationer"},{"$f":"\"=6300\"","v":"=6300"},{"$f":"IFERROR(VLOOKUP($AA$1*10+$Z4,$AA$3:$AG$36,AB$1,FALSE),\"\")","v":">99,9"},true,"<=200",0,0,null,">1",null,"Antal Producerede kalve","Antal foderdage pr. produceret slagtekalv","Antal foderdage",null,3,{"$f":"$AA$2*10+Z5","v":23},">99,9",true,{"$f":"\"<=\"&200","v":"<=200"}]
[null,"Antal Producerede kalve","Antal foderdage pr. produceret slagtekalv",{"$f":"IF(Choices!$A$1=2,Landsgennemsnit!$B6,IF(Choices!$A$1=3,Landsgennemsnit!$E6,\"\"))","v":263.98734118691146},{"$f":"IF(Choices!$A$1=2,Landsgennemsnit!C6,IF(Choices!$A$1=3,Landsgennemsnit!F6,\"\"))","v":268.84918244406191},{"$f":"IFERROR(IF(ISTEXT($B6)=TRUE,DSUM(Forespørgsel1[#All],\"\"&LEFT($C6,LEN($C6)-$A6)&\"\",$M$4:INDIRECT(ADDRESS($M$42,$M$43)))/DSUM(Forespørgsel1[#All],\"\"&$B6&\"\",$M$4:INDIRECT(ADDRESS($M$42,$M$43))),IF($B6=0,DAVERAGE(Forespørgsel1[#All],\"\"&LEFT($C6,LEN($C6)-$A6)&\"\",$M$4:INDIRECT(ADDRESS($M$42,$M$43))),IF($B6=1,DSUM(Forespørgsel1[#All],\"\"&LEFT($C6,LEN($C6)-$A6)&\"\",$M$4:INDIRECT(ADDRESS($M$42,$M$43)))/DSUM(Forespørgsel1[#All],\"\"&$V$5&\"\",$M$4:INDIRECT(ADDRESS($M$42,$M$43))),DSUM(Forespørgsel1[#All],\"\"&LEFT($C6,LEN($C6)-$A6)&\"\",$M$4:INDIRECT(ADDRESS($M$42,$M$43)))/DSUM(Forespørgsel1[#All],\"\"&$W$5&\"\",$M$4:INDIRECT(ADDRESS($M$42,$M$43)))))),\"\")","v":""},{"$f":"IFERROR(IF(ISTEXT($B6)=TRUE,DSUM(Forespørgsel1[#All],\"\"&LEFT($C6,LEN($C6)-$A6)&\"\",$L$4:INDIRECT(ADDRESS($M$42,$M$43)))/DSUM(Forespørgsel1[#All],\"\"&$B6&\"\",$L$4:INDIRECT(ADDRESS($M$42,$M$43))),IF($B6=0,DAVERAGE(Forespørgsel1[#All],\"\"&LEFT($C6,LEN($C6)-$A6)&\"\",$L$4:INDIRECT(ADDRESS($M$42,$M$43))),IF($B6=1,DSUM(Forespørgsel1[#All],\"\"&LEFT($C6,LEN($C6)-$A6)&\"\",$L$4:INDIRECT(ADDRESS($M$42,$M$43)))/DSUM(Forespørgsel1[#All],\"\"&$V$5&\"\",$L$4:INDIRECT(ADDRESS($M$42,$M$43))),IF($B6=2,DSUM(Forespørgsel1[#All],\"\"&LEFT($C6,LEN($C6)-$A6)&\"\",$L$4:INDIRECT(ADDRESS($M$42,$M$43)))/DSUM(Forespørgsel1[#All],\"\"&$W$5&\"\",$L$4:INDIRECT(ADDRESS($M$42,$M$43))))))),\"\")","v":""},null,null,null,null,{"$f":"$L$5","v":">For få relevante observationer"},{"$f":"$M$5","v":"=6300"},">99,9",true,"<=200",0,0,null,">1",null,null,null,null,null,4,{"$f":"$AA$2*10+Z6","v":24},">99,9",true,"<=200",null,null,null,"",""]
[null,null,"Kr. pr. kg slagtet, inkl. efterbetaling",{"$f":"IF(Choices!$A$1=2,Landsgennemsnit!$B7,IF(Choices!$A$1=3,Landsgennemsnit!$E7,\"\"))","v":26.497037037037039},{"$f":"IF(Choices!$A$1=2,Landsgennemsnit!C7,IF(Choices!$A$1=3,Landsgennemsnit!F7,\"\"))","v":26.981999999999999},{"$f":"IFERROR(IF(ISTEXT($B7)=TRUE,DSUM(Forespørgsel1[#All],\"\"&LEFT($C7,LEN($C7)-$A7)&\"\",$M$4:INDIRECT(ADDRESS($M$42,$M$43)))/DSUM(Forespørgsel1[#All],\"\"&$B7&\"\",$M$4:INDIRECT(ADDRESS($M$42,$M$43))),IF($B7=0,DAVERAGE(Forespørgsel1[#All],\"\"&LEFT($C7,LEN($C7)-$A7)&\"\",$M$4:INDIRECT(ADDRESS($M$42,$M$43))),IF($B7=1,DSUM(Forespørgsel1[#All],\"\"&LEFT($C7,LEN($C7)-$A7)&\"\",$M$4:INDIRECT(ADDRESS($M$42,$M$43)))/DSUM(Forespørgsel1[#All],\"\"&$V$5&\"\",$M$4:INDIRECT(ADDRESS($M$42,$M$43))),DSUM(Forespørgsel1[#All],\"\"&LEFT($C7,LEN($C7)-$A7)&\"\",$M$4:INDIRECT(ADDRESS($M$42,$M$43)))/DSUM(Forespørgsel1[#All],\"\"&$W$5&\"\",$M$4:INDIRECT(ADDRESS($M$42,$M$43)))))),\"\")","v":""},{"$f":"IFERROR(IF(ISTEXT($B7)=TRUE,DSUM(Forespørgsel1[#All],\"\"&LEFT($C7,LEN($C7)-$A7)&\"\",$L$4:INDIRECT(ADDRESS($M$42,$M$43)))/DSUM(Forespørgsel1[#All],\"\"&$B7&\"\",$L$4:INDIRECT(ADDRESS($M$42,$M$43))),IF($B7=0,DAVERAGE(Forespørgsel1[#All],\"\"&LEFT($C7,LEN($C7)-$A7)&\"\",$L$4:INDIRECT(ADDRESS($M$42,$M$43))),IF($B7=1,DSUM(Forespørgsel1[#All],\"\"&LEFT($C7,LEN($C7)-$A7)&\"\",$L$4:INDIRECT(ADDRESS($M$42,$M$43)))/DSUM(Forespørgsel1[#All],\"\"&$V$5&\"\",$L$4:INDIRECT(ADDRESS($M$42,$M$43))),IF($B7=2,DSUM(Forespørgsel1[#All],\"\"&LEFT($C7,LEN($C7)-$A7)&\"\",$L$4:INDIRECT(ADDRESS($M$42,$M$43)))/DSUM(Forespørgsel1[#All],\"\"&$W$5&\"\",$L$4:INDIRECT(ADDRESS($M$42,$M$43))))))),\"\")","v":""},null,null,null,null,{"$f":"$L$5","v":">For få relevante observationer"},{"$f":"$M$5","v":"=6300"},">99,9",true,"<=200",0,0,null,">1"]
[null,null,null,{"$f":"IF(Choices!$A$1=2,Landsgennemsnit!$B8,IF(Choices!$A$1=3,Landsgennemsnit!$E8,\"\"))","v":0},{"$f":"IF(Choices!$A$1=2,Landsgennemsnit!C8,IF(Choices!$A$1=3,Landsgennemsnit!F8,\"\"))","v":0},{"$f":"IFERROR(IF(ISTEXT($B8)=TRUE,DSUM(Forespørgsel1[#All],\"\"&LEFT($C8,LEN($C8)-$A8)&\"\",$M$4:INDIRECT(ADDRESS($M$42,$M$43)))/DSUM(Forespørgsel1[#All],\"\"&$B8&\"\",$M$4:INDIRECT(ADDRESS($M$42,$M$43))),IF($B8=0,DAVERAGE(Forespørgsel1[#All],\"\"&LEFT($C8,LEN($C8)-$A8)&\"\",$M$4:INDIRECT(ADDRESS($M$42,$M$43))),IF($B8=1,DSUM(Forespørgsel1[#All],\"\"&LEFT($C8,LEN($C8)-$A8)&\"\",$M$4:INDIRECT(ADDRESS($M$42,$M$43)))/DSUM(Forespørgsel1[#All],\"\"&$V$5&\"\",$M$4:INDIRECT(ADDRESS($M$42,$M$43))),DSUM(Forespørgsel1[#All],\"\"&LEFT($C8,LEN($C8)-$A8)&\"\",$M$4:INDIRECT(ADDRESS($M$42,$M$43)))/DSUM(Forespørgsel1[#All],\"\"&$W$5&\"\",$M$4:INDIRECT(ADDRESS($M$42,$M$43)))))),\"\")","v":""},{"$f":"IFERROR(IF(ISTEXT($B8)=TRUE,DSUM(Forespørgsel1[#All],\"\"&LEFT($C8,LEN($C8)-$A8)&\"\",$L$4:INDIRECT(ADDRESS($M$42,$M$43)))/DSUM(Forespørgsel1[#All],\"\"&$B8&\"\",$L$4:INDIRECT(ADDRESS($M$42,$M$43))),IF($B8=0,DAVERAGE(Forespørgsel1[#All],\"\"&LEFT($C8,LEN($C8)-$A8)&\"\",$L$4:INDIRECT(ADDRESS($M$42,$M$43))),IF($B8=1,DSUM(Forespørgsel1[#All],\"\"&LEFT($C8,LEN($C8)-$A8)&\"\",$L$4:INDIRECT(ADDRESS($M$42,$M$43)))/DSUM(Forespørgsel1[#All],\"\"&$V$5&\"\",$L$4:INDIRECT(ADDRESS($M$42,$M$43))),IF($B8=2,DSUM(Forespørgsel1[#All],\"\"&LEFT($C8,LEN($C8)-$A8)&\"\",$L$4:INDIRECT(ADDRESS($M$42,$M$43)))/DSUM(Forespørgsel1[#All],\"\"&$W$5&\"\",$L$4:INDIRECT(ADDRESS($M$42,$M$43))))))),\"\")","v":""},null,null,null,null,null,null,null,null,null,null,null,null,null,null,null,null,null,null,null,3,"Ungtyre - Over 200 kg (10 mdr)"]
[null,"Slagtevægt_ialt","Fremstillingspris, kr. pr. kg slagtet vægt",{"$f":"IF(Choices!$A$1=2,Landsgennemsnit!$B9,IF(Choices!$A$1=3,Landsgennemsnit!$E9,\"\"))","v":25.720651626713931},{"$f":"IF(Choices!$A$1=2,Landsgennemsnit!C9,IF(Choices!$A$1=3,Landsgennemsnit!F9,\"\"))","v":23.17435642478916},{"$f":"IFERROR(IF(ISTEXT($B9)=TRUE,DSUM(Forespørgsel1[#All],\"\"&LEFT($C9,LEN($C9)-$A9)&\"\",$M$4:INDIRECT(ADDRESS($M$42,$M$43)))/DSUM(Forespørgsel1[#All],\"\"&$B9&\"\",$M$4:INDIRECT(ADDRESS($M$42,$M$43))),IF($B9=0,DAVERAGE(Forespørgsel1[#All],\"\"&LEFT($C9,LEN($C9)-$A9)&\"\",$M$4:INDIRECT(ADDRESS($M$42,$M$43))),IF($B9=1,DSUM(Forespørgsel1[#All],\"\"&LEFT($C9,LEN($C9)-$A9)&\"\",$M$4:INDIRECT(ADDRESS($M$42,$M$43)))/DSUM(Forespørgsel1[#All],\"\"&$V$5&\"\",$M$4:INDIRECT(ADDRESS($M$42,$M$43))),DSUM(Forespørgsel1[#All],\"\"&LEFT($C9,LEN($C9)-$A9)&\"\",$M$4:INDIRECT(ADDRESS($M$42,$M$43)))/DSUM(Forespørgsel1[#All],\"\"&$W$5&\"\",$M$4:INDIRECT(ADDRESS($M$42,$M$43)))))),\"\")","v":""},{"$f":"IFERROR(IF(ISTEXT($B9)=TRUE,DSUM(Forespørgsel1[#All],\"\"&LEFT($C9,LEN($C9)-$A9)&\"\",$L$4:INDIRECT(ADDRESS($M$42,$M$43)))/DSUM(Forespørgsel1[#All],\"\"&$B9&\"\",$L$4:INDIRECT(ADDRESS($M$42,$M$43))),IF($B9=0,DAVERAGE(Forespørgsel1[#All],\"\"&LEFT($C9,LEN($C9)-$A9)&\"\",$L$4:INDIRECT(ADDRESS($M$42,$M$43))),IF($B9=1,DSUM(Forespørgsel1[#All],\"\"&LEFT($C9,LEN($C9)-$A9)&\"\",$L$4:INDIRECT(ADDRESS($M$42,$M$43)))/DSUM(Forespørgsel1[#All],\"\"&$V$5&\"\",$L$4:INDIRECT(ADDRESS($M$42,$M$43))),IF($B9=2,DSUM(Forespørgsel1[#All],\"\"&LEFT($C9,LEN($C9)-$A9)&\"\",$L$4:INDIRECT(ADDRESS($M$42,$M$43)))/DSUM(Forespørgsel1[#All],\"\"&$W$5&\"\",$L$4:INDIRECT(ADDRESS($M$42,$M$43))))))),\"\")","v":""},null,null,null,null,"Samlet antal inkluderet under betingelserne",{"$f":"DCOUNT(Forespørgsel1[#All],\"\"&L4&\"\",IF(N4=0,M4:M7,IF(O4=0,M4:N7,IF(P4=0,M4:O7,IF(Q4=0,M4:P7,IF(R4=0,M4:Q7,IF(S4=0,M4:R7,\"\")))))))","v":0},null,null,null,null,null,null,null,null,null,null,null,null,1,{"$f":"$AA$8*10+Z9","v":31},"Antal producerede kalve","Godkendt","Slagtevægt"]
[null,null,null,{"$f":"IF(Choices!$A$1=2,Landsgennemsnit!$B10,IF(Choices!$A$1=3,Landsgennemsnit!$E10,\"\"))","v":0},{"$f":"IF(Choices!$A$1=2,Landsgennemsnit!C10,IF(Choices!$A$1=3,Landsgennemsnit!F10,\"\"))","v":0},{"$f":"IFERROR(IF(ISTEXT($B10)=TRUE,DSUM(Forespørgsel1[#All],\"\"&LEFT($C10,LEN($C10)-$A10)&\"\",$M$4:INDIRECT(ADDRESS($M$42,$M$43)))/DSUM(Forespørgsel1[#All],\"\"&$B10&\"\",$M$4:INDIRECT(ADDRESS($M$42,$M$43))),IF($B10=0,DAVERAGE(Forespørgsel1[#All],\"\"&LEFT($C10,LEN($C10)-$A10)&\"\",$M$4:INDIRECT(ADDRESS($M$42,$M$43))),IF($B10=1,DSUM(Forespørgsel1[#All],\"\"&LEFT($C10,LEN($C10)-$A10)&\"\",$M$4:INDIRECT(ADDRESS($M$42,$M$43)))/DSUM(Forespørgsel1[#All],\"\"&$V$5&\"\",$M$4:INDIRECT(ADDRESS($M$42,$M$43))),DSUM(Forespørgsel1[#All],\"\"&LEFT($C10,LEN($C10)-$A10)&\"\",$M$4:INDIRECT(ADDRESS($M$42,$M$43)))/DSUM(Forespørgsel1[#All],\"\"&$W$5&\"\",$M$4:INDIRECT(ADDRESS($M$42,$M$43)))))),\"\")","v":""},{"$f":"IFERROR(IF(ISTEXT($B10)=TRUE,DSUM(Forespørgsel1[#All],\"\"&LEFT($C10,LEN($C10)-$A10)&\"\",$L$4:INDIRECT(ADDRESS($M$42,$M$43)))/DSUM(Forespørgsel1[#All],\"\"&$B10&\"\",$L$4:INDIRECT(ADDRESS($M$42,$M$43))),IF($B10=0,DAVERAGE(Forespørgsel1[#All],\"\"&LEFT($C10,LEN($C10)-$A10)&\"\",$L$4:INDIRECT(ADDRESS($M$42,$M$43))),IF($B10=1,DSUM(Forespørgsel1[#All],\"\"&LEFT($C10,LEN($C10)-$A10)&\"\",$L$4:INDIRECT(ADDRESS($M$42,$M$43)))/DSUM(Forespørgsel1[#All],\"\"&$V$5&\"\",$L$4:INDIRECT(ADDRESS($M$42,$M$43))),IF($B10=2,DSUM(Forespørgsel1[#All],\"\"&LEFT($C10,LEN($C10)-$A10)&\"\",$L$4:INDIRECT(ADDRESS($M$42,$M$43)))/DSUM(Forespørgsel1[#All],\"\"&$W$5&\"\",$L$4:INDIRECT(ADDRESS($M$42,$M$43))))))),\"\")","v":""},null,null,null,null,null,null,null,null,null,null,null,null,null,null,null,null,null,null,2,{"$f":"$AA$8*10+Z10","v":32},">99,9",true,">200"]
[null,null,"Nøgletal pr. foderdag",{"$f":"IF(Choices!$A$1=2,Landsgennemsnit!$B11,IF(Choices!$A$1=3,Landsgennemsnit!$E11,\"\"))","v":0},{"$f":"IF(Choices!$A$1=2,Landsgennemsnit!C11,IF(Choices!$A$1=3,Landsgennemsnit!F11,\"\"))","v":0},{"$f":"IFERROR(IF(ISTEXT($B11)=TRUE,DSUM(Forespørgsel1[#All],\"\"&LEFT($C11,LEN($C11)-$A11)&\"\",$M$4:INDIRECT(ADDRESS($M$42,$M$43)))/DSUM(Forespørgsel1[#All],\"\"&$B11&\"\",$M$4:INDIRECT(ADDRESS($M$42,$M$43))),IF($B11=0,DAVERAGE(Forespørgsel1[#All],\"\"&LEFT($C11,LEN($C11)-$A11)&\"\",$M$4:INDIRECT(ADDRESS($M$42,$M$43))),IF($B11=1,DSUM(Forespørgsel1[#All],\"\"&LEFT($C11,LEN($C11)-$A11)&\"\",$M$4:INDIRECT(ADDRESS($M$42,$M$43)))/DSUM(Forespørgsel1[#All],\"\"&$V$5&\"\",$M$4:INDIRECT(ADDRESS($M$42,$M$43))),DSUM(Forespørgsel1[#All],\"\"&LEFT($C11,LEN($C11)-$A11)&\"\",$M$4:INDIRECT(ADDRESS($M$42,$M$43)))/DSUM(Forespørgsel1[#All],\"\"&$W$5&\"\",$M$4:INDIRECT(ADDRESS($M$42,$M$43)))))),\"\")","v":""},{"$f":"IFERROR(IF(ISTEXT($B11)=TRUE,DSUM(Forespørgsel1[#All],\"\"&LEFT($C11,LEN($C11)-$A11)&\"\",$L$4:INDIRECT(ADDRESS($M$42,$M$43)))/DSUM(Forespørgsel1[#All],\"\"&$B11&\"\",$L$4:INDIRECT(ADDRESS($M$42,$M$43))),IF($B11=0,DAVERAGE(Forespørgsel1[#All],\"\"&LEFT($C11,LEN($C11)-$A11)&\"\",$L$4:INDIRECT(ADDRESS($M$42,$M$43))),IF($B11=1,DSUM(Forespørgsel1[#All],\"\"&LEFT($C11,LEN($C11)-$A11)&\"\",$L$4:INDIRECT(ADDRESS($M$42,$M$43)))/DSUM(Forespørgsel1[#All],\"\"&$V$5&\"\",$L$4:INDIRECT(ADDRESS($M$42,$M$43))),IF($B11=2,DSUM(Forespørgsel1[#All],\"\"&LEFT($C11,LEN($C11)-$A11)&\"\",$L$4:INDIRECT(ADDRESS($M$42,$M$43)))/DSUM(Forespørgsel1[#All],\"\"&$W$5&\"\",$L$4:INDIRECT(ADDRESS($M$42,$M$43))))))),\"\")","v":""},null,null,null,null,null,null,null,null,null,null,null,null,null,null,null,null,null,null,3,{"$f":"$AA$8*10+Z11","v":33},">99,9",true,">200"]
[null,"Antal foderdage pr. produceret slagtekalv","Bruttoudbytte",{"$f":"IF(Choices!$A$1=2,Landsgennemsnit!$B12,IF(Choices!$A$1=3,Landsgennemsnit!$E12,\"\"))","v":18.758028379215325},{"$f":"IF(Choices!$A$1=2,Landsgennemsnit!C12,IF(Choices!$A$1=3,Landsgennemsnit!F12,\"\"))","v":19.689904138305423},{"$f":"IFERROR(IF(ISTEXT($B12)=TRUE,DSUM(Forespørgsel1[#All],\"\"&LEFT($C12,LEN($C12)-$A12)&\"\",$M$4:INDIRECT(ADDRESS($M$42,$M$43)))/DSUM(Forespørgsel1[#All],\"\"&$B12&\"\",$M$4:INDIRECT(ADDRESS($M$42,$M$43))),IF($B12=0,DAVERAGE(Forespørgsel1[#All],\"\"&LEFT($C12,LEN($C12)-$A12)&\"\",$M$4:INDIRECT(ADDRESS($M$42,$M$43))),IF($B12=1,DSUM(Forespørgsel1[#All],\"\"&LEFT($C12,LEN($C12)-$A12)&\"\",$M$4:INDIRECT(ADDRESS($M$42,$M$43)))/DSUM(Forespørgsel1[#All],\"\"&$V$5&\"\",$M$4:INDIRECT(ADDRESS($M$42,$M$43))),DSUM(Forespørgsel1[#All],\"\"&LEFT($C12,LEN($C12)-$A12)&\"\",$M$4:INDIRECT(ADDRESS($M$42,$M$43)))/DSUM(Forespørgsel1[#All],\"\"&$W$5&\"\",$M$4:INDIRECT(ADDRESS($M$42,$M$43)))))),\"\")","v":""},{"$f":"IFERROR(IF(ISTEXT($B12)=TRUE,DSUM(Forespørgsel1[#All],\"\"&LEFT($C12,LEN($C12)-$A12)&\"\",$L$4:INDIRECT(ADDRESS($M$42,$M$43)))/DSUM(Forespørgsel1[#All],\"\"&$B12&\"\",$L$4:INDIRECT(ADDRESS($M$42,$M$43))),IF($B12=0,DAVERAGE(Forespørgsel1[#All],\"\"&LEFT($C12,LEN($C12)-$A12)&\"\",$L$4:INDIRECT(ADDRESS($M$42,$M$43))),IF($B12=1,DSUM(Forespørgsel1[#All],\"\"&LEFT($C12,LEN($C12)-$A12)&\"\",$L$4:INDIRECT(ADDRESS($M$42,$M$43)))/DSUM(Forespørgsel1[#All],\"\"&$V$5&\"\",$L$4:INDIRECT(ADDRESS($M$42,$M$43))),IF($B12=2,DSUM(Forespørgsel1[#All],\"\"&LEFT($C12,LEN($C12)-$A12)&\"\",$L$4:INDIRECT(ADDRESS($M$42,$M$43)))/DSUM(Forespørgsel1[#All],\"\"&$W$5&\"\",$L$4:INDIRECT(ADDRESS($M$42,$M$43))))))),\"\")","v":""},null,null,2,null,"o",null,null,null,null,null,null,null,null,null,null,null,null,null,4,{"$f":"$AA$8*10+Z12","v":34},">99,9",true,">200"]
[null,"Antal foderdage pr. produceret slagtekalv","Foderomkostninger",{"$f":"IF(Choices!$A$1=2,Landsgennemsnit!$B13,IF(Choices!$A$1=3,Landsgennemsnit!$E13,\"\"))","v":10.839276188572086},{"$f":"IF(Choices!$A$1=2,Landsgennemsnit!C13,IF(Choices!$A$1=3,Landsgennemsnit!F13,\"\"))","v":10.285573031081139},{"$f":"IFERROR(IF(ISTEXT($B13)=TRUE,DSUM(Forespørgsel1[#All],\"\"&LEFT($C13,LEN($C13)-$A13)&\"\",$M$4:INDIRECT(ADDRESS($M$42,$M$43)))/DSUM(Forespørgsel1[#All],\"\"&$B13&\"\",$M$4:INDIRECT(ADDRESS($M$42,$M$43))),IF($B13=0,DAVERAGE(Forespørgsel1[#All],\"\"&LEFT($C13,LEN($C13)-$A13)&\"\",$M$4:INDIRECT(ADDRESS($M$42,$M$43))),IF($B13=1,DSUM(Forespørgsel1[#All],\"\"&LEFT($C13,LEN($C13)-$A13)&\"\",$M$4:INDIRECT(ADDRESS($M$42,$M$43)))/DSUM(Forespørgsel1[#All],\"\"&$V$5&\"\",$M$4:INDIRECT(ADDRESS($M$42,$M$43))),DSUM(Forespørgsel1[#All],\"\"&LEFT($C13,LEN($C13)-$A13)&\"\",$M$4:INDIRECT(ADDRESS($M$42,$M$43)))/DSUM(Forespørgsel1[#All],\"\"&$W$5&\"\",$M$4:INDIRECT(ADDRESS($M$42,$M$43)))))),\"\")","v":""},{"$f":"IFERROR(IF(ISTEXT($B13)=TRUE,DSUM(Forespørgsel1[#All],\"\"&LEFT($C13,LEN($C13)-$A13)&\"\",$L$4:INDIRECT(ADDRESS($M$42,$M$43)))/DSUM(Forespørgsel1[#All],\"\"&$B13&\"\",$L$4:INDIRECT(ADDRESS($M$42,$M$43))),IF($B13=0,DAVERAGE(Forespørgsel1[#All],\"\"&LEFT($C13,LEN($C13)-$A13)&\"\",$L$4:INDIRECT(ADDRESS($M$42,$M$43))),IF($B13=1,DSUM(Forespørgsel1[#All],\"\"&LEFT($C13,LEN($C13)-$A13)&\"\",$L$4:INDIRECT(ADDRESS($M$42,$M$43)))/DSUM(Forespørgsel1[#All],\"\"&$V$5&\"\",$L$4:INDIRECT(ADDRESS($M$42,$M$43))),IF($B13=2,DSUM(Forespørgsel1[#All],\"\"&LEFT($C13,LEN($C13)-$A13)&\"\",$L$4:INDIRECT(ADDRESS($M$42,$M$43)))/DSUM(Forespørgsel1[#All],\"\"&$W$5&\"\",$L$4:INDIRECT(ADDRESS($M$42,$M$43))))))),\"\")","v":""},null,null,null,"De 5 største værdier:"]
[null,"Antal foderdage pr. produceret slagtekalv","Dyrlæge og diverse",{"$f":"IF(Choices!$A$1=2,Landsgennemsnit!$B14,IF(Choices!$A$1=3,Landsgennemsnit!$E14,\"\"))","v":0.78356888462417129},{"$f":"IF(Choices!$A$1=2,Landsgennemsnit!C14,IF(Choices!$A$1=3,Landsgennemsnit!F14,\"\"))","v":0.68467417643013817},{"$f":"IFERROR(IF(ISTEXT($B14)=TRUE,DSUM(Forespørgsel1[#All],\"\"&LEFT($C14,LEN($C14)-$A14)&\"\",$M$4:INDIRECT(ADDRESS($M$42,$M$43)))/DSUM(Forespørgsel1[#All],\"\"&$B14&\"\",$M$4:INDIRECT(ADDRESS($M$42,$M$43))),IF($B14=0,DAVERAGE(Forespørgsel1[#All],\"\"&LEFT($C14,LEN($C14)-$A14)&\"\",$M$4:INDIRECT(ADDRESS($M$42,$M$43))),IF($B14=1,DSUM(Forespørgsel1[#All],\"\"&LEFT($C14,LEN($C14)-$A14)&\"\",$M$4:INDIRECT(ADDRESS($M$42,$M$43)))/DSUM(Forespørgsel1[#All],\"\"&$V$5&\"\",$M$4:INDIRECT(ADDRESS($M$42,$M$43))),DSUM(Forespørgsel1[#All],\"\"&LEFT($C14,LEN($C14)-$A14)&\"\",$M$4:INDIRECT(ADDRESS($M$42,$M$43)))/DSUM(Forespørgsel1[#All],\"\"&$W$5&\"\",$M$4:INDIRECT(ADDRESS($M$42,$M$43)))))),\"\")","v":""},{"$f":"IFERROR(IF(ISTEXT($B14)=TRUE,DSUM(Forespørgsel1[#All],\"\"&LEFT($C14,LEN($C14)-$A14)&\"\",$L$4:INDIRECT(ADDRESS($M$42,$M$43)))/DSUM(Forespørgsel1[#All],\"\"&$B14&\"\",$L$4:INDIRECT(ADDRESS($M$42,$M$43))),IF($B14=0,DAVERAGE(Forespørgsel1[#All],\"\"&LEFT($C14,LEN($C14)-$A14)&\"\",$L$4:INDIRECT(ADDRESS($M$42,$M$43))),IF($B14=1,DSUM(Forespørgsel1[#All],\"\"&LEFT($C14,LEN($C14)-$A14)&\"\",$L$4:INDIRECT(ADDRESS($M$42,$M$43)))/DSUM(Forespørgsel1[#All],\"\"&$V$5&\"\",$L$4:INDIRECT(ADDRESS($M$42,$M$43))),IF($B14=2,DSUM(Forespørgsel1[#All],\"\"&LEFT($C14,LEN($C14)-$A14)&\"\",$L$4:INDIRECT(ADDRESS($M$42,$M$43)))/DSUM(Forespørgsel1[#All],\"\"&$W$5&\"\",$L$4:INDIRECT(ADDRESS($M$42,$M$43))))))),\"\")","v":""},null,null,"Ejd i top 5",{"$f":"M14","v":"Årets resultat pr. produceret kalv"},"Prodgren",{"$f":"$L$4","v":"Årets resultat pr. produceret kalv"},{"$f":"IF(N$4=\"\",\"\",N$4)","v":"Antal producerede kalve"},{"$f":"IF(O$4=\"\",\"\",O$4)","v":"Godkendt"},{"$f":"IF(P$4=\"\",\"\",P$4)","v":"Slagtevægt"},{"$f":"IF(Q$4=\"\",\"\",Q$4)","v":0},{"$f":"IF(R$4=\"\",\"\",R$4)","v":0}]
[null,"Antal foderdage pr. produceret slagtekalv","Restbeløb",{"$f":"IF(Choices!$A$1=2,Landsgennemsnit!$B15,IF(Choices!$A$1=3,Landsgennemsnit!$E15,\"\"))","v":7.1351833060190684},{"$f":"IF(Choices!$A$1=2,Landsgennemsnit!C15,IF(Choices!$A$1=3,Landsgennemsnit!F15,\"\"))","v":8.7196569307941463},{"$f":"IFERROR(IF(ISTEXT($B15)=TRUE,DSUM(Forespørgsel1[#All],\"\"&LEFT($C15,LEN($C15)-$A15)&\"\",$M$4:INDIRECT(ADDRESS($M$42,$M$43)))/DSUM(Forespørgsel1[#All],\"\"&$B15&\"\",$M$4:INDIRECT(ADDRESS($M$42,$M$43))),IF($B15=0,DAVERAGE(Forespørgsel1[#All],\"\"&LEFT($C15,LEN($C15)-$A15)&\"\",$M$4:INDIRECT(ADDRESS($M$42,$M$43))),IF($B15=1,DSUM(Forespørgsel1[#All],\"\"&LEFT($C15,LEN($C15)-$A15)&\"\",$M$4:INDIRECT(ADDRESS($M$42,$M$43)))/DSUM(Forespørgsel1[#All],\"\"&$V$5&\"\",$M$4:INDIRECT(ADDRESS($M$42,$M$43))),DSUM(Forespørgsel1[#All],\"\"&LEFT($C15,LEN($C15)-$A15)&\"\",$M$4:INDIRECT(ADDRESS($M$42,$M$43)))/DSUM(Forespørgsel1[#All],\"\"&$W$5&\"\",$M$4:INDIRECT(ADDRESS($M$42,$M$43)))))),\"\")","v":""},{"$f":"IFERROR(IF(ISTEXT($B15)=TRUE,DSUM(Forespørgsel1[#All],\"\"&LEFT($C15,LEN($C15)-$A15)&\"\",$L$4:INDIRECT(ADDRESS($M$42,$M$43)))/DSUM(Forespørgsel1[#All],\"\"&$B15&\"\",$L$4:INDIRECT(ADDRESS($M$42,$M$43))),IF($B15=0,DAVERAGE(Forespørgsel1[#All],\"\"&LEFT($C15,LEN($C15)-$A15)&\"\",$L$4:INDIRECT(ADDRESS($M$42,$M$43))),IF($B15=1,DSUM(Forespørgsel1[#All],\"\"&LEFT($C15,LEN($C15)-$A15)&\"\",$L$4:INDIRECT(ADDRESS($M$42,$M$43)))/DSUM(Forespørgsel1[#All],\"\"&$V$5&\"\",$L$4:INDIRECT(ADDRESS($M$42,$M$43))),IF($B15=2,DSUM(Forespørgsel1[#All],\"\"&LEFT($C15,LEN($C15)-$A15)&\"\",$L$4:INDIRECT(ADDRESS($M$42,$M$43)))/DSUM(Forespørgsel1[#All],\"\"&$W$5&\"\",$L$4:INDIRECT(ADDRESS($M$42,$M$43))))))),\"\")","v":""},null,null,{"$f":"SUMIFS(Forespørgsel1[[#All],[EjendomsIdent]],Forespørgsel1[[#All],[Besætningstype]],K15)","v":0},{"$f":"DMAX(Forespørgsel1[#All],\"\"&$K$14&\"\",$M$4:INDIRECT(ADDRESS($M$42,$M$43)))","v":0},{"$f":"$M$5","v":"=6300"},{"$f":"\"<\"&K15&\"\"","v":"<0"},{"$f":"IF(N$4>0,N5,\"\")","v":">99,9"},true,"<=200","",""]
[null,"Antal foderdage pr. produceret slagtekalv","Krav til restbeløb",{"$f":"IF(Choices!$A$1=2,Landsgennemsnit!$B16,IF(Choices!$A$1=3,Landsgennemsnit!$E16,\"\"))","v":6.5657861812430109},{"$f":"IF(Choices!$A$1=2,Landsgennemsnit!C16,IF(Choices!$A$1=3,Landsgennemsnit!F16,\"\"))","v":5.2278186310004413},{"$f":"IFERROR(IF(ISTEXT($B16)=TRUE,DSUM(Forespørgsel1[#All],\"\"&LEFT($C16,LEN($C16)-$A16)&\"\",$M$4:INDIRECT(ADDRESS($M$42,$M$43)))/DSUM(Forespørgsel1[#All],\"\"&$B16&\"\",$M$4:INDIRECT(ADDRESS($M$42,$M$43))),IF($B16=0,DAVERAGE(Forespørgsel1[#All],\"\"&LEFT($C16,LEN($C16)-$A16)&\"\",$M$4:INDIRECT(ADDRESS($M$42,$M$43))),IF($B16=1,DSUM(Forespørgsel1[#All],\"\"&LEFT($C16,LEN($C16)-$A16)&\"\",$M$4:INDIRECT(ADDRESS($M$42,$M$43)))/DSUM(Forespørgsel1[#All],\"\"&$V$5&\"\",$M$4:INDIRECT(ADDRESS($M$42,$M$43))),DSUM(Forespørgsel1[#All],\"\"&LEFT($C16,LEN($C16)-$A16)&\"\",$M$4:INDIRECT(ADDRESS($M$42,$M$43)))/DSUM(Forespørgsel1[#All],\"\"&$W$5&\"\",$M$4:INDIRECT(ADDRESS($M$42,$M$43)))))),\"\")","v":""},{"$f":"IFERROR(IF(ISTEXT($B16)=TRUE,DSUM(Forespørgsel1[#All],\"\"&LEFT($C16,LEN($C16)-$A16)&\"\",$L$4:INDIRECT(ADDRESS($M$42,$M$43)))/DSUM(Forespørgsel1[#All],\"\"&$B16&\"\",$L$4:INDIRECT(ADDRESS($M$42,$M$43))),IF($B16=0,DAVERAGE(Forespørgsel1[#All],\"\"&LEFT($C16,LEN($C16)-$A16)&\"\",$L$4:INDIRECT(ADDRESS($M$42,$M$43))),IF($B16=1,DSUM(Forespørgsel1[#All],\"\"&LEFT($C16,LEN($C16)-$A16)&\"\",$L$4:INDIRECT(ADDRESS($M$42,$M$43)))/DSUM(Forespørgsel1[#All],\"\"&$V$5&\"\",$L$4:INDIRECT(ADDRESS($M$42,$M$43))),IF($B16=2,DSUM(Forespørgsel1[#All],\"\"&LEFT($C16,LEN($C16)-$A16)&\"\",$L$4:INDIRECT(ADDRESS($M$42,$M$43)))/DSUM(Forespørgsel1[#All],\"\"&$W$5&\"\",$L$4:INDIRECT(ADDRESS($M$42,$M$43))))))),\"\")","v":""},null,null,null,null,{"$f":"$M$5","v":"=6300"},{"$f":"M15","v":"<0"},">99,9",true,"<=200","","",null,null,null,null,null,null,null,null,null,"Besætningstype kan bruges til at dele grupperne"]
[null,"Antal foderdage pr. produceret slagtekalv","Årets resultat",{"$f":"IF(Choices!$A$1=2,Landsgennemsnit!$B17,IF(Choices!$A$1=3,Landsgennemsnit!$E17,\"\"))","v":0.56939712477605742},{"$f":"IF(Choices!$A$1=2,Landsgennemsnit!C17,IF(Choices!$A$1=3,Landsgennemsnit!F17,\"\"))","v":3.491838299793705},{"$f":"IFERROR(IF(ISTEXT($B17)=TRUE,DSUM(Forespørgsel1[#All],\"\"&LEFT($C17,LEN($C17)-$A17)&\"\",$M$4:INDIRECT(ADDRESS($M$42,$M$43)))/DSUM(Forespørgsel1[#All],\"\"&$B17&\"\",$M$4:INDIRECT(ADDRESS($M$42,$M$43))),IF($B17=0,DAVERAGE(Forespørgsel1[#All],\"\"&LEFT($C17,LEN($C17)-$A17)&\"\",$M$4:INDIRECT(ADDRESS($M$42,$M$43))),IF($B17=1,DSUM(Forespørgsel1[#All],\"\"&LEFT($C17,LEN($C17)-$A17)&\"\",$M$4:INDIRECT(ADDRESS($M$42,$M$43)))/DSUM(Forespørgsel1[#All],\"\"&$V$5&\"\",$M$4:INDIRECT(ADDRESS($M$42,$M$43))),DSUM(Forespørgsel1[#All],\"\"&LEFT($C17,LEN($C17)-$A17)&\"\",$M$4:INDIRECT(ADDRESS($M$42,$M$43)))/DSUM(Forespørgsel1[#All],\"\"&$W$5&\"\",$M$4:INDIRECT(ADDRESS($M$42,$M$43)))))),\"\")","v":""},{"$f":"IFERROR(IF(ISTEXT($B17)=TRUE,DSUM(Forespørgsel1[#All],\"\"&LEFT($C17,LEN($C17)-$A17)&\"\",$L$4:INDIRECT(ADDRESS($M$42,$M$43)))/DSUM(Forespørgsel1[#All],\"\"&$B17&\"\",$L$4:INDIRECT(ADDRESS($M$42,$M$43))),IF($B17=0,DAVERAGE(Forespørgsel1[#All],\"\"&LEFT($C17,LEN($C17)-$A17)&\"\",$L$4:INDIRECT(ADDRESS($M$42,$M$43))),IF($B17=1,DSUM(Forespørgsel1[#All],\"\"&LEFT($C17,LEN($C17)-$A17)&\"\",$L$4:INDIRECT(ADDRESS($M$42,$M$43)))/DSUM(Forespørgsel1[#All],\"\"&$V$5&\"\",$L$4:INDIRECT(ADDRESS($M$42,$M$43))),IF($B17=2,DSUM(Forespørgsel1[#All],\"\"&LEFT($C17,LEN($C17)-$A17)&\"\",$L$4:INDIRECT(ADDRESS($M$42,$M$43)))/DSUM(Forespørgsel1[#All],\"\"&$W$5&\"\",$L$4:INDIRECT(ADDRESS($M$42,$M$43))))))),\"\")","v":""},null,null,null,null,{"$f":"$M$5","v":"=6300"},{"$f":"M15","v":"<0"},">99,9",true,"<=200","",""]
[null,null,null,{"$f":"IF(Choices!$A$1=2,Landsgennemsnit!$B18,IF(Choices!$A$1=3,Landsgennemsnit!$E18,\"\"))","v":0},{"$f":"IF(Choices!$A$1=2,Landsgennemsnit!C18,IF(Choices!$A$1=3,Landsgennemsnit!F18,\"\"))","v":0},{"$f":"IFERROR(IF(ISTEXT($B18)=TRUE,DSUM(Forespørgsel1[#All],\"\"&LEFT($C18,LEN($C18)-$A18)&\"\",$M$4:INDIRECT(ADDRESS($M$42,$M$43)))/DSUM(Forespørgsel1[#All],\"\"&$B18&\"\",$M$4:INDIRECT(ADDRESS($M$42,$M$43))),IF($B18=0,DAVERAGE(Forespørgsel1[#All],\"\"&LEFT($C18,LEN($C18)-$A18)&\"\",$M$4:INDIRECT(ADDRESS($M$42,$M$43))),IF($B18=1,DSUM(Forespørgsel1[#All],\"\"&LEFT($C18,LEN($C18)-$A18)&\"\",$M$4:INDIRECT(ADDRESS($M$42,$M$43)))/DSUM(Forespørgsel1[#All],\"\"&$V$5&\"\",$M$4:INDIRECT(ADDRESS($M$42,$M$43))),DSUM(Forespørgsel1[#All],\"\"&LEFT($C18,LEN($C18)-$A18)&\"\",$M$4:INDIRECT(ADDRESS($M$42,$M$43)))/DSUM(Forespørgsel1[#All],\"\"&$W$5&\"\",$M$4:INDIRECT(ADDRESS($M$42,$M$43)))))),\"\")","v":""},{"$f":"IFERROR(IF(ISTEXT($B18)=TRUE,DSUM(Forespørgsel1[#All],\"\"&LEFT($C18,LEN($C18)-$A18)&\"\",$L$4:INDIRECT(ADDRESS($M$42,$M$43)))/DSUM(Forespørgsel1[#All],\"\"&$B18&\"\",$L$4:INDIRECT(ADDRESS($M$42,$M$43))),IF($B18=0,DAVERAGE(Forespørgsel1[#All],\"\"&LEFT($C18,LEN($C18)-$A18)&\"\",$L$4:INDIRECT(ADDRESS($M$42,$M$43))),IF($B18=1,DSUM(Forespørgsel1[#All],\"\"&LEFT($C18,LEN($C18)-$A18)&\"\",$L$4:INDIRECT(ADDRESS($M$42,$M$43)))/DSUM(Forespørgsel1[#All],\"\"&$V$5&\"\",$L$4:INDIRECT(ADDRESS($M$42,$M$43))),IF($B18=2,DSUM(Forespørgsel1[#All],\"\"&LEFT($C18,LEN($C18)-$A18)&\"\",$L$4:INDIRECT(ADDRESS($M$42,$M$43)))/DSUM(Forespørgsel1[#All],\"\"&$W$5&\"\",$L$4:INDIRECT(ADDRESS($M$42,$M$43))))))),\"\")","v":""},null,null,null,null,"Prodgren",{"$f":"$L$4","v":"Årets resultat pr. produceret kalv"},{"$f":"IF(N$4=\"\",\"\",N$4)","v":"Antal producerede kalve"},{"$f":"IF(O$4=\"\",\"\",O$4)","v":"Godkendt"},{"$f":"IF(P$4=\"\",\"\",P$4)","v":"Slagtevægt"},{"$f":"IF(Q$4=\"\",\"\",Q$4)","v":0},{"$f":"IF(R$4=\"\",\"\",R$4)","v":0}]
[null,null,"Nøgletal pr. produceret kalv",{"$f":"IF(Choices!$A$1=2,Landsgennemsnit!$B19,IF(Choices!$A$1=3,Landsgennemsnit!$E19,\"\"))","v":0},{"$f":"IF(Choices!$A$1=2,Landsgennemsnit!C19,IF(Choices!$A$1=3,Landsgennemsnit!F19,\"\"))","v":0},{"$f":"IFERROR(IF(ISTEXT($B19)=TRUE,DSUM(Forespørgsel1[#All],\"\"&LEFT($C19,LEN($C19)-$A19)&\"\",$M$4:INDIRECT(ADDRESS($M$42,$M$43)))/DSUM(Forespørgsel1[#All],\"\"&$B19&\"\",$M$4:INDIRECT(ADDRESS($M$42,$M$43))),IF($B19=0,DAVERAGE(Forespørgsel1[#All],\"\"&LEFT($C19,LEN($C19)-$A19)&\"\",$M$4:INDIRECT(ADDRESS($M$42,$M$43))),IF($B19=1,DSUM(Forespørgsel1[#All],\"\"&LEFT($C19,LEN($C19)-$A19)&\"\",$M$4:INDIRECT(ADDRESS($M$42,$M$43)))/DSUM(Forespørgsel1[#All],\"\"&$V$5&\"\",$M$4:INDIRECT(ADDRESS($M$42,$M$43))),DSUM(Forespørgsel1[#All],\"\"&LEFT($C19,LEN($C19)-$A19)&\"\",$M$4:INDIRECT(ADDRESS($M$42,$M$43)))/DSUM(Forespørgsel1[#All],\"\"&$W$5&\"\",$M$4:INDIRECT(ADDRESS($M$42,$M$43)))))),\"\")","v":""},{"$f":"IFERROR(IF(ISTEXT($B19)=TRUE,DSUM(Forespørgsel1[#All],\"\"&LEFT($C19,LEN($C19)-$A19)&\"\",$L$4:INDIRECT(ADDRESS($M$42,$M$43)))/DSUM(Forespørgsel1[#All],\"\"&$B19&\"\",$L$4:INDIRECT(ADDRESS($M$42,$M$43))),IF($B19=0,DAVERAGE(Forespørgsel1[#All],\"\"&LEFT($C19,LEN($C19)-$A19)&\"\",$L$4:INDIRECT(ADDRESS($M$42,$M$43))),IF($B19=1,DSUM(Forespørgsel1[#All],\"\"&LEFT($C19,LEN($C19)-$A19)&\"\",$L$4:INDIRECT(ADDRESS($M$42,$M$43)))/DSUM(Forespørgsel1[#All],\"\"&$V$5&\"\",$L$4:INDIRECT(ADDRESS($M$42,$M$43))),IF($B19=2,DSUM(Forespørgsel1[#All],\"\"&LEFT($C19,LEN($C19)-$A19)&\"\",$L$4:INDIRECT(ADDRESS($M$42,$M$43)))/DSUM(Forespørgsel1[#All],\"\"&$W$5&\"\",$L$4:INDIRECT(ADDRESS($M$42,$M$43))))))),\"\")","v":""},null,null,{"$f":"SUMIFS(Forespørgsel1[[#All],[EjendomsIdent]],Forespørgsel1[[#All],[Besætningstype]],K19)","v":0},{"$f":"DMAX(Forespørgsel1[#All],\"\"&$K$14&\"\",$L14:INDIRECT(ADDRESS($U19,$M$43)))","v":0},{"$f":"$M$5","v":"=6300"},{"$f":"\"<\"&K19&\"\"","v":"<0"},{"$f":"IF(N$4>0,N5,\"\")","v":">99,9"},true,"<=200","","",null,"Række",{"$f":"ROW(T19)-2","v":17}]
[null,"Antal Producerede kalve","Foderomkostninger",{"$f":"IF(Choices!$A$1=2,Landsgennemsnit!$B20,IF(Choices!$A$1=3,Landsgennemsnit!$E20,\"\"))","v":2856.1293194507321},{"$f":"IF(Choices!$A$1=2,Landsgennemsnit!C20,IF(Choices!$A$1=3,Landsgennemsnit!F20,\"\"))","v":2764.5346385542171},{"$f":"IFERROR(IF(ISTEXT($B20)=TRUE,DSUM(Forespørgsel1[#All],\"\"&LEFT($C20,LEN($C20)-$A20)&\"\",$M$4:INDIRECT(ADDRESS($M$42,$M$43)))/DSUM(Forespørgsel1[#All],\"\"&$B20&\"\",$M$4:INDIRECT(ADDRESS($M$42,$M$43))),IF($B20=0,DAVERAGE(Forespørgsel1[#All],\"\"&LEFT($C20,LEN($C20)-$A20)&\"\",$M$4:INDIRECT(ADDRESS($M$42,$M$43))),IF($B20=1,DSUM(Forespørgsel1[#All],\"\"&LEFT($C20,LEN($C20)-$A20)&\"\",$M$4:INDIRECT(ADDRESS($M$42,$M$43)))/DSUM(Forespørgsel1[#All],\"\"&$V$5&\"\",$M$4:INDIRECT(ADDRESS($M$42,$M$43))),DSUM(Forespørgsel1[#All],\"\"&LEFT($C20,LEN($C20)-$A20)&\"\",$M$4:INDIRECT(ADDRESS($M$42,$M$43)))/DSUM(Forespørgsel1[#All],\"\"&$W$5&\"\",$M$4:INDIRECT(ADDRESS($M$42,$M$43)))))),\"\")","v":""},{"$f":"IFERROR(IF(ISTEXT($B20)=TRUE,DSUM(Forespørgsel1[#All],\"\"&LEFT($C20,LEN($C20)-$A20)&\"\",$L$4:INDIRECT(ADDRESS($M$42,$M$43)))/DSUM(Forespørgsel1[#All],\"\"&$B20&\"\",$L$4:INDIRECT(ADDRESS($M$42,$M$43))),IF($B20=0,DAVERAGE(Forespørgsel1[#All],\"\"&LEFT($C20,LEN($C20)-$A20)&\"\",$L$4:INDIRECT(ADDRESS($M$42,$M$43))),IF($B20=1,DSUM(Forespørgsel1[#All],\"\"&LEFT($C20,LEN($C20)-$A20)&\"\",$L$4:INDIRECT(ADDRESS($M$42,$M$43)))/DSUM(Forespørgsel1[#All],\"\"&$V$5&\"\",$L$4:INDIRECT(ADDRESS($M$42,$M$43))),IF($B20=2,DSUM(Forespørgsel1[#All],\"\"&LEFT($C20,LEN($C20)-$A20)&\"\",$L$4:INDIRECT(ADDRESS($M$42,$M$43)))/DSUM(Forespørgsel1[#All],\"\"&$W$5&\"\",$L$4:INDIRECT(ADDRESS($M$42,$M$43))))))),\"\")","v":""},null,null,null,null,{"$f":"$L$17","v":"=6300"},{"$f":"M19","v":"<0"},">99,9",true,"<=200","",""]
[null,"Antal Producerede kalve","Krav til dækningsbidrag",{"$f":"IF(Choices!$A$1=2,Landsgennemsnit!$B21,IF(Choices!$A$1=3,Landsgennemsnit!$E21,\"\"))","v":1669.8008651476284},{"$f":"IF(Choices!$A$1=2,Landsgennemsnit!C21,IF(Choices!$A$1=3,Landsgennemsnit!F21,\"\"))","v":1493.0165662650602},{"$f":"IFERROR(IF(ISTEXT($B21)=TRUE,DSUM(Forespørgsel1[#All],\"\"&LEFT($C21,LEN($C21)-$A21)&\"\",$M$4:INDIRECT(ADDRESS($M$42,$M$43)))/DSUM(Forespørgsel1[#All],\"\"&$B21&\"\",$M$4:INDIRECT(ADDRESS($M$42,$M$43))),IF($B21=0,DAVERAGE(Forespørgsel1[#All],\"\"&LEFT($C21,LEN($C21)-$A21)&\"\",$M$4:INDIRECT(ADDRESS($M$42,$M$43))),IF($B21=1,DSUM(Forespørgsel1[#All],\"\"&LEFT($C21,LEN($C21)-$A21)&\"\",$M$4:INDIRECT(ADDRESS($M$42,$M$43)))/DSUM(Forespørgsel1[#All],\"\"&$V$5&\"\",$M$4:INDIRECT(ADDRESS($M$42,$M$43))),DSUM(Forespørgsel1[#All],\"\"&LEFT($C21,LEN($C21)-$A21)&\"\",$M$4:INDIRECT(ADDRESS($M$42,$M$43)))/DSUM(Forespørgsel1[#All],\"\"&$W$5&\"\",$M$4:INDIRECT(ADDRESS($M$42,$M$43)))))),\"\")","v":""},{"$f":"IFERROR(IF(ISTEXT($B21)=TRUE,DSUM(Forespørgsel1[#All],\"\"&LEFT($C21,LEN($C21)-$A21)&\"\",$L$4:INDIRECT(ADDRESS($M$42,$M$43)))/DSUM(Forespørgsel1[#All],\"\"&$B21&\"\",$L$4:INDIRECT(ADDRESS($M$42,$M$43))),IF($B21=0,DAVERAGE(Forespørgsel1[#All],\"\"&LEFT($C21,LEN($C21)-$A21)&\"\",$L$4:INDIRECT(ADDRESS($M$42,$M$43))),IF($B21=1,DSUM(Forespørgsel1[#All],\"\"&LEFT($C21,LEN($C21)-$A21)&\"\",$L$4:INDIRECT(ADDRESS($M$42,$M$43)))/DSUM(Forespørgsel1[#All],\"\"&$V$5&\"\",$L$4:INDIRECT(ADDRESS($M$42,$M$43))),IF($B21=2,DSUM(Forespørgsel1[#All],\"\"&LEFT($C21,LEN($C21)-$A21)&\"\",$L$4:INDIRECT(ADDRESS($M$42,$M$43)))/DSUM(Forespørgsel1[#All],\"\"&$W$5&\"\",$L$4:INDIRECT(ADDRESS($M$42,$M$43))))))),\"\")","v":""},null,null,null,null,{"$f":"$L$17","v":"=6300"},{"$f":"M19","v":"<0"},">99,9",true,"<=200","",""]
[null,"Antal Producerede kalve","Heraf afskrivninger",{"$f":"IF(Choices!$A$1=2,Landsgennemsnit!$B22,IF(Choices!$A$1=3,Landsgennemsnit!$E22,\"\"))","v":326.61923444494744},{"$f":"IF(Choices!$A$1=2,Landsgennemsnit!C22,IF(Choices!$A$1=3,Landsgennemsnit!F22,\"\"))","v":314.50494836488815},{"$f":"IFERROR(IF(ISTEXT($B22)=TRUE,DSUM(Forespørgsel1[#All],\"\"&LEFT($C22,LEN($C22)-$A22)&\"\",$M$4:INDIRECT(ADDRESS($M$42,$M$43)))/DSUM(Forespørgsel1[#All],\"\"&$B22&\"\",$M$4:INDIRECT(ADDRESS($M$42,$M$43))),IF($B22=0,DAVERAGE(Forespørgsel1[#All],\"\"&LEFT($C22,LEN($C22)-$A22)&\"\",$M$4:INDIRECT(ADDRESS($M$42,$M$43))),IF($B22=1,DSUM(Forespørgsel1[#All],\"\"&LEFT($C22,LEN($C22)-$A22)&\"\",$M$4:INDIRECT(ADDRESS($M$42,$M$43)))/DSUM(Forespørgsel1[#All],\"\"&$V$5&\"\",$M$4:INDIRECT(ADDRESS($M$42,$M$43))),DSUM(Forespørgsel1[#All],\"\"&LEFT($C22,LEN($C22)-$A22)&\"\",$M$4:INDIRECT(ADDRESS($M$42,$M$43)))/DSUM(Forespørgsel1[#All],\"\"&$W$5&\"\",$M$4:INDIRECT(ADDRESS($M$42,$M$43)))))),\"\")","v":""},{"$f":"IFERROR(IF(ISTEXT($B22)=TRUE,DSUM(Forespørgsel1[#All],\"\"&LEFT($C22,LEN($C22)-$A22)&\"\",$L$4:INDIRECT(ADDRESS($M$42,$M$43)))/DSUM(Forespørgsel1[#All],\"\"&$B22&\"\",$L$4:INDIRECT(ADDRESS($M$42,$M$43))),IF($B22=0,DAVERAGE(Forespørgsel1[#All],\"\"&LEFT($C22,LEN($C22)-$A22)&\"\",$L$4:INDIRECT(ADDRESS($M$42,$M$43))),IF($B22=1,DSUM(Forespørgsel1[#All],\"\"&LEFT($C22,LEN($C22)-$A22)&\"\",$L$4:INDIRECT(ADDRESS($M$42,$M$43)))/DSUM(Forespørgsel1[#All],\"\"&$V$5&\"\",$L$4:INDIRECT(ADDRESS($M$42,$M$43))),IF($B22=2,DSUM(Forespørgsel1[#All],\"\"&LEFT($C22,LEN($C22)-$A22)&\"\",$L$4:INDIRECT(ADDRESS($M$42,$M$43)))/DSUM(Forespørgsel1[#All],\"\"&$W$5&\"\",$L$4:INDIRECT(ADDRESS($M$42,$M$43))))))),\"\")","v":""},null,null,null,null,"Prodgren",{"$f":"$L$4","v":"Årets resultat pr. produceret kalv"},{"$f":"IF(N$4=\"\",\"\",N$4)","v":"Antal producerede kalve"},{"$f":"IF(O$4=\"\",\"\",O$4)","v":"Godkendt"},{"$f":"IF(P$4=\"\",\"\",P$4)","v":"Slagtevægt"},{"$f":"IF(Q$4=\"\",\"\",Q$4)","v":0},{"$f":"IF(R$4=\"\",\"\",R$4)","v":0}]
[null,"Antal Producerede kalve","Arbejdsomkostninger",{"$f":"IF(Choices!$A$1=2,Landsgennemsnit!$B23,IF(Choices!$A$1=3,Landsgennemsnit!$E23,\"\"))","v":641.38519189175599},{"$f":"IF(Choices!$A$1=2,Landsgennemsnit!C23,IF(Choices!$A$1=3,Landsgennemsnit!F23,\"\"))","v":629.63403614457832},{"$f":"IFERROR(IF(ISTEXT($B23)=TRUE,DSUM(Forespørgsel1[#All],\"\"&LEFT($C23,LEN($C23)-$A23)&\"\",$M$4:INDIRECT(ADDRESS($M$42,$M$43)))/DSUM(Forespørgsel1[#All],\"\"&$B23&\"\",$M$4:INDIRECT(ADDRESS($M$42,$M$43))),IF($B23=0,DAVERAGE(Forespørgsel1[#All],\"\"&LEFT($C23,LEN($C23)-$A23)&\"\",$M$4:INDIRECT(ADDRESS($M$42,$M$43))),IF($B23=1,DSUM(Forespørgsel1[#All],\"\"&LEFT($C23,LEN($C23)-$A23)&\"\",$M$4:INDIRECT(ADDRESS($M$42,$M$43)))/DSUM(Forespørgsel1[#All],\"\"&$V$5&\"\",$M$4:INDIRECT(ADDRESS($M$42,$M$43))),DSUM(Forespørgsel1[#All],\"\"&LEFT($C23,LEN($C23)-$A23)&\"\",$M$4:INDIRECT(ADDRESS($M$42,$M$43)))/DSUM(Forespørgsel1[#All],\"\"&$W$5&\"\",$M$4:INDIRECT(ADDRESS($M$42,$M$43)))))),\"\")","v":""},{"$f":"IFERROR(IF(ISTEXT($B23)=TRUE,DSUM(Forespørgsel1[#All],\"\"&LEFT($C23,LEN($C23)-$A23)&\"\",$L$4:INDIRECT(ADDRESS($M$42,$M$43)))/DSUM(Forespørgsel1[#All],\"\"&$B23&\"\",$L$4:INDIRECT(ADDRESS($M$42,$M$43))),IF($B23=0,DAVERAGE(Forespørgsel1[#All],\"\"&LEFT($C23,LEN($C23)-$A23)&\"\",$L$4:INDIRECT(ADDRESS($M$42,$M$43))),IF($B23=1,DSUM(Forespørgsel1[#All],\"\"&LEFT($C23,LEN($C23)-$A23)&\"\",$L$4:INDIRECT(ADDRESS($M$42,$M$43)))/DSUM(Forespørgsel1[#All],\"\"&$V$5&\"\",$L$4:INDIRECT(ADDRESS($M$42,$M$43))),IF($B23=2,DSUM(Forespørgsel1[#All],\"\"&LEFT($C23,LEN($C23)-$A23)&\"\",$L$4:INDIRECT(ADDRESS($M$42,$M$43)))/DSUM(Forespørgsel1[#All],\"\"&$W$5&\"\",$L$4:INDIRECT(ADDRESS($M$42,$M$43))))))),\"\")","v":""},null,null,{"$f":"SUMIFS(Forespørgsel1[[#All],[EjendomsIdent]],Forespørgsel1[[#All],[Besætningstype]],K23)","v":0},{"$f":"DMAX(Forespørgsel1[#All],\"\"&$K$14&\"\",$L18:INDIRECT(ADDRESS($U23,$M$43)))","v":0},{"$f":"$M$5","v":"=6300"},{"$f":"\"<\"&K23&\"\"","v":"<0"},{"$f":"IF(N$4>0,N5,\"\")","v":">99,9"},true,"<=200","","",null,"Række",{"$f":"ROW(T23)-2","v":21}]
[null,"Antal Producerede kalve","Bygninger",{"$f":"IF(Choices!$A$1=2,Landsgennemsnit!$B24,IF(Choices!$A$1=3,Landsgennemsnit!$E24,\"\"))","v":462.65363915296012},{"$f":"IF(Choices!$A$1=2,Landsgennemsnit!C24,IF(Choices!$A$1=3,Landsgennemsnit!F24,\"\"))","v":387.34251290877796},{"$f":"IFERROR(IF(ISTEXT($B24)=TRUE,DSUM(Forespørgsel1[#All],\"\"&LEFT($C24,LEN($C24)-$A24)&\"\",$M$4:INDIRECT(ADDRESS($M$42,$M$43)))/DSUM(Forespørgsel1[#All],\"\"&$B24&\"\",$M$4:INDIRECT(ADDRESS($M$42,$M$43))),IF($B24=0,DAVERAGE(Forespørgsel1[#All],\"\"&LEFT($C24,LEN($C24)-$A24)&\"\",$M$4:INDIRECT(ADDRESS($M$42,$M$43))),IF($B24=1,DSUM(Forespørgsel1[#All],\"\"&LEFT($C24,LEN($C24)-$A24)&\"\",$M$4:INDIRECT(ADDRESS($M$42,$M$43)))/DSUM(Forespørgsel1[#All],\"\"&$V$5&\"\",$M$4:INDIRECT(ADDRESS($M$42,$M$43))),DSUM(Forespørgsel1[#All],\"\"&LEFT($C24,LEN($C24)-$A24)&\"\",$M$4:INDIRECT(ADDRESS($M$42,$M$43)))/DSUM(Forespørgsel1[#All],\"\"&$W$5&\"\",$M$4:INDIRECT(ADDRESS($M$42,$M$43)))))),\"\")","v":""},{"$f":"IFERROR(IF(ISTEXT($B24)=TRUE,DSUM(Forespørgsel1[#All],\"\"&LEFT($C24,LEN($C24)-$A24)&\"\",$L$4:INDIRECT(ADDRESS($M$42,$M$43)))/DSUM(Forespørgsel1[#All],\"\"&$B24&\"\",$L$4:INDIRECT(ADDRESS($M$42,$M$43))),IF($B24=0,DAVERAGE(Forespørgsel1[#All],\"\"&LEFT($C24,LEN($C24)-$A24)&\"\",$L$4:INDIRECT(ADDRESS($M$42,$M$43))),IF($B24=1,DSUM(Forespørgsel1[#All],\"\"&LEFT($C24,LEN($C24)-$A24)&\"\",$L$4:INDIRECT(ADDRESS($M$42,$M$43)))/DSUM(Forespørgsel1[#All],\"\"&$V$5&\"\",$L$4:INDIRECT(ADDRESS($M$42,$M$43))),IF($B24=2,DSUM(Forespørgsel1[#All],\"\"&LEFT($C24,LEN($C24)-$A24)&\"\",$L$4:INDIRECT(ADDRESS($M$42,$M$43)))/DSUM(Forespørgsel1[#All],\"\"&$W$5&\"\",$L$4:INDIRECT(ADDRESS($M$42,$M$43))))))),\"\")","v":""},null,null,null,null,{"$f":"$L$17","v":"=6300"},{"$f":"M23","v":"<0"},">99,9",true,"<=200","",""]
[null,"Antal Producerede kalve","Inventar inkl. energi",{"$f":"IF(Choices!$A$1=2,Landsgennemsnit!$B25,IF(Choices!$A$1=3,Landsgennemsnit!$E25,\"\"))","v":344.39811880690104},{"$f":"IF(Choices!$A$1=2,Landsgennemsnit!C25,IF(Choices!$A$1=3,Landsgennemsnit!F25,\"\"))","v":318.18222891566268},{"$f":"IFERROR(IF(ISTEXT($B25)=TRUE,DSUM(Forespørgsel1[#All],\"\"&LEFT($C25,LEN($C25)-$A25)&\"\",$M$4:INDIRECT(ADDRESS($M$42,$M$43)))/DSUM(Forespørgsel1[#All],\"\"&$B25&\"\",$M$4:INDIRECT(ADDRESS($M$42,$M$43))),IF($B25=0,DAVERAGE(Forespørgsel1[#All],\"\"&LEFT($C25,LEN($C25)-$A25)&\"\",$M$4:INDIRECT(ADDRESS($M$42,$M$43))),IF($B25=1,DSUM(Forespørgsel1[#All],\"\"&LEFT($C25,LEN($C25)-$A25)&\"\",$M$4:INDIRECT(ADDRESS($M$42,$M$43)))/DSUM(Forespørgsel1[#All],\"\"&$V$5&\"\",$M$4:INDIRECT(ADDRESS($M$42,$M$43))),DSUM(Forespørgsel1[#All],\"\"&LEFT($C25,LEN($C25)-$A25)&\"\",$M$4:INDIRECT(ADDRESS($M$42,$M$43)))/DSUM(Forespørgsel1[#All],\"\"&$W$5&\"\",$M$4:INDIRECT(ADDRESS($M$42,$M$43)))))),\"\")","v":""},{"$f":"IFERROR(IF(ISTEXT($B25)=TRUE,DSUM(Forespørgsel1[#All],\"\"&LEFT($C25,LEN($C25)-$A25)&\"\",$L$4:INDIRECT(ADDRESS($M$42,$M$43)))/DSUM(Forespørgsel1[#All],\"\"&$B25&\"\",$L$4:INDIRECT(ADDRESS($M$42,$M$43))),IF($B25=0,DAVERAGE(Forespørgsel1[#All],\"\"&LEFT($C25,LEN($C25)-$A25)&\"\",$L$4:INDIRECT(ADDRESS($M$42,$M$43))),IF($B25=1,DSUM(Forespørgsel1[#All],\"\"&LEFT($C25,LEN($C25)-$A25)&\"\",$L$4:INDIRECT(ADDRESS($M$42,$M$43)))/DSUM(Forespørgsel1[#All],\"\"&$V$5&\"\",$L$4:INDIRECT(ADDRESS($M$42,$M$43))),IF($B25=2,DSUM(Forespørgsel1[#All],\"\"&LEFT($C25,LEN($C25)-$A25)&\"\",$L$4:INDIRECT(ADDRESS($M$42,$M$43)))/DSUM(Forespørgsel1[#All],\"\"&$W$5&\"\",$L$4:INDIRECT(ADDRESS($M$42,$M$43))))))),\"\")","v":""},null,null,null,null,{"$f":"$L$17","v":"=6300"},{"$f":"M23","v":"<0"},">99,9",true,"<=200","",""]
[null,"Antal Producerede kalve","Forrentning driftskapital",{"$f":"IF(Choices!$A$1=2,Landsgennemsnit!$B26,IF(Choices!$A$1=3,Landsgennemsnit!$E26,\"\"))","v":81.707358784769383},{"$f":"IF(Choices!$A$1=2,Landsgennemsnit!C26,IF(Choices!$A$1=3,Landsgennemsnit!F26,\"\"))","v":64.059810671256457},{"$f":"IFERROR(IF(ISTEXT($B26)=TRUE,DSUM(Forespørgsel1[#All],\"\"&LEFT($C26,LEN($C26)-$A26)&\"\",$M$4:INDIRECT(ADDRESS($M$42,$M$43)))/DSUM(Forespørgsel1[#All],\"\"&$B26&\"\",$M$4:INDIRECT(ADDRESS($M$42,$M$43))),IF($B26=0,DAVERAGE(Forespørgsel1[#All],\"\"&LEFT($C26,LEN($C26)-$A26)&\"\",$M$4:INDIRECT(ADDRESS($M$42,$M$43))),IF($B26=1,DSUM(Forespørgsel1[#All],\"\"&LEFT($C26,LEN($C26)-$A26)&\"\",$M$4:INDIRECT(ADDRESS($M$42,$M$43)))/DSUM(Forespørgsel1[#All],\"\"&$V$5&\"\",$M$4:INDIRECT(ADDRESS($M$42,$M$43))),DSUM(Forespørgsel1[#All],\"\"&LEFT($C26,LEN($C26)-$A26)&\"\",$M$4:INDIRECT(ADDRESS($M$42,$M$43)))/DSUM(Forespørgsel1[#All],\"\"&$W$5&\"\",$M$4:INDIRECT(ADDRESS($M$42,$M$43)))))),\"\")","v":""},{"$f":"IFERROR(IF(ISTEXT($B26)=TRUE,DSUM(Forespørgsel1[#All],\"\"&LEFT($C26,LEN($C26)-$A26)&\"\",$L$4:INDIRECT(ADDRESS($M$42,$M$43)))/DSUM(Forespørgsel1[#All],\"\"&$B26&\"\",$L$4:INDIRECT(ADDRESS($M$42,$M$43))),IF($B26=0,DAVERAGE(Forespørgsel1[#All],\"\"&LEFT($C26,LEN($C26)-$A26)&\"\",$L$4:INDIRECT(ADDRESS($M$42,$M$43))),IF($B26=1,DSUM(Forespørgsel1[#All],\"\"&LEFT($C26,LEN($C26)-$A26)&\"\",$L$4:INDIRECT(ADDRESS($M$42,$M$43)))/DSUM(Forespørgsel1[#All],\"\"&$V$5&\"\",$L$4:INDIRECT(ADDRESS($M$42,$M$43))),IF($B26=2,DSUM(Forespørgsel1[#All],\"\"&LEFT($C26,LEN($C26)-$A26)&\"\",$L$4:INDIRECT(ADDRESS($M$42,$M$43)))/DSUM(Forespørgsel1[#All],\"\"&$W$5&\"\",$L$4:INDIRECT(ADDRESS($M$42,$M$43))))))),\"\")","v":""},null,null,null,null,"Prodgren",{"$f":"$L$4","v":"Årets resultat pr. produceret kalv"},{"$f":"IF(N$4=\"\",\"\",N$4)","v":"Antal producerede kalve"},{"$f":"IF(O$4=\"\",\"\",O$4)","v":"Godkendt"},{"$f":"IF(P$4=\"\",\"\",P$4)","v":"Slagtevægt"},{"$f":"IF(Q$4=\"\",\"\",Q$4)","v":0},{"$f":"IF(R$4=\"\",\"\",R$4)","v":0}]
[null,"Antal Producerede kalve","Øvrige omkostninger",{"$f":"IF(Choices!$A$1=2,Landsgennemsnit!$B27,IF(Choices!$A$1=3,Landsgennemsnit!$E27,\"\"))","v":139.59136864342841},{"$f":"IF(Choices!$A$1=2,Landsgennemsnit!C27,IF(Choices!$A$1=3,Landsgennemsnit!F27,\"\"))","v":91.793244406196209},{"$f":"IFERROR(IF(ISTEXT($B27)=TRUE,DSUM(Forespørgsel1[#All],\"\"&LEFT($C27,LEN($C27)-$A27)&\"\",$M$4:INDIRECT(ADDRESS($M$42,$M$43)))/DSUM(Forespørgsel1[#All],\"\"&$B27&\"\",$M$4:INDIRECT(ADDRESS($M$42,$M$43))),IF($B27=0,DAVERAGE(Forespørgsel1[#All],\"\"&LEFT($C27,LEN($C27)-$A27)&\"\",$M$4:INDIRECT(ADDRESS($M$42,$M$43))),IF($B27=1,DSUM(Forespørgsel1[#All],\"\"&LEFT($C27,LEN($C27)-$A27)&\"\",$M$4:INDIRECT(ADDRESS($M$42,$M$43)))/DSUM(Forespørgsel1[#All],\"\"&$V$5&\"\",$M$4:INDIRECT(ADDRESS($M$42,$M$43))),DSUM(Forespørgsel1[#All],\"\"&LEFT($C27,LEN($C27)-$A27)&\"\",$M$4:INDIRECT(ADDRESS($M$42,$M$43)))/DSUM(Forespørgsel1[#All],\"\"&$W$5&\"\",$M$4:INDIRECT(ADDRESS($M$42,$M$43)))))),\"\")","v":""},{"$f":"IFERROR(IF(ISTEXT($B27)=TRUE,DSUM(Forespørgsel1[#All],\"\"&LEFT($C27,LEN($C27)-$A27)&\"\",$L$4:INDIRECT(ADDRESS($M$42,$M$43)))/DSUM(Forespørgsel1[#All],\"\"&$B27&\"\",$L$4:INDIRECT(ADDRESS($M$42,$M$43))),IF($B27=0,DAVERAGE(Forespørgsel1[#All],\"\"&LEFT($C27,LEN($C27)-$A27)&\"\",$L$4:INDIRECT(ADDRESS($M$42,$M$43))),IF($B27=1,DSUM(Forespørgsel1[#All],\"\"&LEFT($C27,LEN($C27)-$A27)&\"\",$L$4:INDIRECT(ADDRESS($M$42,$M$43)))/DSUM(Forespørgsel1[#All],\"\"&$V$5&\"\",$L$4:INDIRECT(ADDRESS($M$42,$M$43))),IF($B27=2,DSUM(Forespørgsel1[#All],\"\"&LEFT($C27,LEN($C27)-$A27)&\"\",$L$4:INDIRECT(ADDRESS($M$42,$M$43)))/DSUM(Forespørgsel1[#All],\"\"&$W$5&\"\",$L$4:INDIRECT(ADDRESS($M$42,$M$43))))))),\"\")","v":""},null,null,{"$f":"SUMIFS(Forespørgsel1[[#All],[EjendomsIdent]],Forespørgsel1[[#All],[Besætningstype]],K27)","v":0},{"$f":"DMAX(Forespørgsel1[#All],\"\"&$K$14&\"\",$L22:INDIRECT(ADDRESS($U27,$M$43)))","v":0},{"$f":"$M$5","v":"=6300"},{"$f":"\"<\"&K27&\"\"","v":"<0"},{"$f":"IF(N$4>0,N5,\"\")","v":">99,9"},true,"<=200","","",null,"Række",{"$f":"ROW(T27)-2","v":25}]
[null,null,0,{"$f":"IF(Choices!$A$1=2,Landsgennemsnit!$B28,IF(Choices!$A$1=3,Landsgennemsnit!$E28,\"\"))","v":""},{"$f":"IF(Choices!$A$1=2,Landsgennemsnit!C28,IF(Choices!$A$1=3,Landsgennemsnit!F28,\"\"))","v":""},{"$f":"IFERROR(IF(ISTEXT($B28)=TRUE,DSUM(Forespørgsel1[#All],\"\"&LEFT($C28,LEN($C28)-$A28)&\"\",$M$4:INDIRECT(ADDRESS($M$42,$M$43)))/DSUM(Forespørgsel1[#All],\"\"&$B28&\"\",$M$4:INDIRECT(ADDRESS($M$42,$M$43))),IF($B28=0,DAVERAGE(Forespørgsel1[#All],\"\"&LEFT($C28,LEN($C28)-$A28)&\"\",$M$4:INDIRECT(ADDRESS($M$42,$M$43))),IF($B28=1,DSUM(Forespørgsel1[#All],\"\"&LEFT($C28,LEN($C28)-$A28)&\"\",$M$4:INDIRECT(ADDRESS($M$42,$M$43)))/DSUM(Forespørgsel1[#All],\"\"&$V$5&\"\",$M$4:INDIRECT(ADDRESS($M$42,$M$43))),DSUM(Forespørgsel1[#All],\"\"&LEFT($C28,LEN($C28)-$A28)&\"\",$M$4:INDIRECT(ADDRESS($M$42,$M$43)))/DSUM(Forespørgsel1[#All],\"\"&$W$5&\"\",$M$4:INDIRECT(ADDRESS($M$42,$M$43)))))),\"\")","v":""},{"$f":"IFERROR(IF(ISTEXT($B28)=TRUE,DSUM(Forespørgsel1[#All],\"\"&LEFT($C28,LEN($C28)-$A28)&\"\",$L$4:INDIRECT(ADDRESS($M$42,$M$43)))/DSUM(Forespørgsel1[#All],\"\"&$B28&\"\",$L$4:INDIRECT(ADDRESS($M$42,$M$43))),IF($B28=0,DAVERAGE(Forespørgsel1[#All],\"\"&LEFT($C28,LEN($C28)-$A28)&\"\",$L$4:INDIRECT(ADDRESS($M$42,$M$43))),IF($B28=1,DSUM(Forespørgsel1[#All],\"\"&LEFT($C28,LEN($C28)-$A28)&\"\",$L$4:INDIRECT(ADDRESS($M$42,$M$43)))/DSUM(Forespørgsel1[#All],\"\"&$V$5&\"\",$L$4:INDIRECT(ADDRESS($M$42,$M$43))),IF($B28=2,DSUM(Forespørgsel1[#All],\"\"&LEFT($C28,LEN($C28)-$A28)&\"\",$L$4:INDIRECT(ADDRESS($M$42,$M$43)))/DSUM(Forespørgsel1[#All],\"\"&$W$5&\"\",$L$4:INDIRECT(ADDRESS($M$42,$M$43))))))),\"\")","v":""},null,null,null,null,{"$f":"$L$17","v":"=6300"},{"$f":"M27","v":"<0"},">99,9",true,"<=200","",""]
[null,"Antal Producerede kalve","Bundet kapital",{"$f":"IF(Choices!$A$1=2,Landsgennemsnit!$B29,IF(Choices!$A$1=3,Landsgennemsnit!$E29,\"\"))","v":7346.9254061666916},{"$f":"IF(Choices!$A$1=2,Landsgennemsnit!C29,IF(Choices!$A$1=3,Landsgennemsnit!F29,\"\"))","v":8466.6454388984512},{"$f":"IFERROR(IF(ISTEXT($B29)=TRUE,DSUM(Forespørgsel1[#All],\"\"&LEFT($C29,LEN($C29)-$A29)&\"\",$M$4:INDIRECT(ADDRESS($M$42,$M$43)))/DSUM(Forespørgsel1[#All],\"\"&$B29&\"\",$M$4:INDIRECT(ADDRESS($M$42,$M$43))),IF($B29=0,DAVERAGE(Forespørgsel1[#All],\"\"&LEFT($C29,LEN($C29)-$A29)&\"\",$M$4:INDIRECT(ADDRESS($M$42,$M$43))),IF($B29=1,DSUM(Forespørgsel1[#All],\"\"&LEFT($C29,LEN($C29)-$A29)&\"\",$M$4:INDIRECT(ADDRESS($M$42,$M$43)))/DSUM(Forespørgsel1[#All],\"\"&$V$5&\"\",$M$4:INDIRECT(ADDRESS($M$42,$M$43))),DSUM(Forespørgsel1[#All],\"\"&LEFT($C29,LEN($C29)-$A29)&\"\",$M$4:INDIRECT(ADDRESS($M$42,$M$43)))/DSUM(Forespørgsel1[#All],\"\"&$W$5&\"\",$M$4:INDIRECT(ADDRESS($M$42,$M$43)))))),\"\")","v":""},{"$f":"IFERROR(IF(ISTEXT($B29)=TRUE,DSUM(Forespørgsel1[#All],\"\"&LEFT($C29,LEN($C29)-$A29)&\"\",$L$4:INDIRECT(ADDRESS($M$42,$M$43)))/DSUM(Forespørgsel1[#All],\"\"&$B29&\"\",$L$4:INDIRECT(ADDRESS($M$42,$M$43))),IF($B29=0,DAVERAGE(Forespørgsel1[#All],\"\"&LEFT($C29,LEN($C29)-$A29)&\"\",$L$4:INDIRECT(ADDRESS($M$42,$M$43))),IF($B29=1,DSUM(Forespørgsel1[#All],\"\"&LEFT($C29,LEN($C29)-$A29)&\"\",$L$4:INDIRECT(ADDRESS($M$42,$M$43)))/DSUM(Forespørgsel1[#All],\"\"&$V$5&\"\",$L$4:INDIRECT(ADDRESS($M$42,$M$43))),IF($B29=2,DSUM(Forespørgsel1[#All],\"\"&LEFT($C29,LEN($C29)-$A29)&\"\",$L$4:INDIRECT(ADDRESS($M$42,$M$43)))/DSUM(Forespørgsel1[#All],\"\"&$W$5&\"\",$L$4:INDIRECT(ADDRESS($M$42,$M$43))))))),\"\")","v":""},null,null,null,null,{"$f":"$L$17","v":"=6300"},{"$f":"M27","v":"<0"},">99,9",true,"<=200","",""]
[null,"Antal Producerede kalve","Anvendt rentesats, pct.",{"$f":"IF(Choices!$A$1=2,Landsgennemsnit!$B30,IF(Choices!$A$1=3,Landsgennemsnit!$E30,\"\"))","v":2.6111111111111112},{"$f":"IF(Choices!$A$1=2,Landsgennemsnit!C30,IF(Choices!$A$1=3,Landsgennemsnit!F30,\"\"))","v":2.1399999999999997},{"$f":"IFERROR(IF(ISTEXT($B30)=TRUE,DSUM(Forespørgsel1[#All],\"\"&LEFT($C30,LEN($C30)-$A30)&\"\",$M$4:INDIRECT(ADDRESS($M$42,$M$43)))/DSUM(Forespørgsel1[#All],\"\"&$B30&\"\",$M$4:INDIRECT(ADDRESS($M$42,$M$43))),IF($B30=0,DAVERAGE(Forespørgsel1[#All],\"\"&LEFT($C30,LEN($C30)-$A30)&\"\",$M$4:INDIRECT(ADDRESS($M$42,$M$43))),IF($B30=1,DSUM(Forespørgsel1[#All],\"\"&LEFT($C30,LEN($C30)-$A30)&\"\",$M$4:INDIRECT(ADDRESS($M$42,$M$43)))/DSUM(Forespørgsel1[#All],\"\"&$V$5&\"\",$M$4:INDIRECT(ADDRESS($M$42,$M$43))),DSUM(Forespørgsel1[#All],\"\"&LEFT($C30,LEN($C30)-$A30)&\"\",$M$4:INDIRECT(ADDRESS($M$42,$M$43)))/DSUM(Forespørgsel1[#All],\"\"&$W$5&\"\",$M$4:INDIRECT(ADDRESS($M$42,$M$43)))))),\"\")","v":""},{"$f":"IFERROR(IF(ISTEXT($B30)=TRUE,DSUM(Forespørgsel1[#All],\"\"&LEFT($C30,LEN($C30)-$A30)&\"\",$L$4:INDIRECT(ADDRESS($M$42,$M$43)))/DSUM(Forespørgsel1[#All],\"\"&$B30&\"\",$L$4:INDIRECT(ADDRESS($M$42,$M$43))),IF($B30=0,DAVERAGE(Forespørgsel1[#All],\"\"&LEFT($C30,LEN($C30)-$A30)&\"\",$L$4:INDIRECT(ADDRESS($M$42,$M$43))),IF($B30=1,DSUM(Forespørgsel1[#All],\"\"&LEFT($C30,LEN($C30)-$A30)&\"\",$L$4:INDIRECT(ADDRESS($M$42,$M$43)))/DSUM(Forespørgsel1[#All],\"\"&$V$5&\"\",$L$4:INDIRECT(ADDRESS($M$42,$M$43))),IF($B30=2,DSUM(Forespørgsel1[#All],\"\"&LEFT($C30,LEN($C30)-$A30)&\"\",$L$4:INDIRECT(ADDRESS($M$42,$M$43)))/DSUM(Forespørgsel1[#All],\"\"&$W$5&\"\",$L$4:INDIRECT(ADDRESS($M$42,$M$43))))))),\"\")","v":""},null,null,null,null,"Prodgren",{"$f":"$L$4","v":"Årets resultat pr. produceret kalv"},{"$f":"IF(N$4=\"\",\"\",N$4)","v":"Antal producerede kalve"},{"$f":"IF(O$4=\"\",\"\",O$4)","v":"Godkendt"},{"$f":"IF(P$4=\"\",\"\",P$4)","v":"Slagtevægt"},{"$f":"IF(Q$4=\"\",\"\",Q$4)","v":0},{"$f":"IF(R$4=\"\",\"\",R$4)","v":0}]
[null,"Antal Producerede kalve","Resultatkorrektion ved 4 pct. rente",{"$f":"IF(Choices!$A$1=2,Landsgennemsnit!$B31,IF(Choices!$A$1=3,Landsgennemsnit!$E31,\"\"))","v":-108.83064232181479},{"$f":"IF(Choices!$A$1=2,Landsgennemsnit!C31,IF(Choices!$A$1=3,Landsgennemsnit!F31,\"\"))","v":-146.6540447504303},{"$f":"IFERROR(IF(ISTEXT($B31)=TRUE,DSUM(Forespørgsel1[#All],\"\"&LEFT($C31,LEN($C31)-$A31)&\"\",$M$4:INDIRECT(ADDRESS($M$42,$M$43)))/DSUM(Forespørgsel1[#All],\"\"&$B31&\"\",$M$4:INDIRECT(ADDRESS($M$42,$M$43))),IF($B31=0,DAVERAGE(Forespørgsel1[#All],\"\"&LEFT($C31,LEN($C31)-$A31)&\"\",$M$4:INDIRECT(ADDRESS($M$42,$M$43))),IF($B31=1,DSUM(Forespørgsel1[#All],\"\"&LEFT($C31,LEN($C31)-$A31)&\"\",$M$4:INDIRECT(ADDRESS($M$42,$M$43)))/DSUM(Forespørgsel1[#All],\"\"&$V$5&\"\",$M$4:INDIRECT(ADDRESS($M$42,$M$43))),DSUM(Forespørgsel1[#All],\"\"&LEFT($C31,LEN($C31)-$A31)&\"\",$M$4:INDIRECT(ADDRESS($M$42,$M$43)))/DSUM(Forespørgsel1[#All],\"\"&$W$5&\"\",$M$4:INDIRECT(ADDRESS($M$42,$M$43)))))),\"\")","v":""},{"$f":"IFERROR(IF(ISTEXT($B31)=TRUE,DSUM(Forespørgsel1[#All],\"\"&LEFT($C31,LEN($C31)-$A31)&\"\",$L$4:INDIRECT(ADDRESS($M$42,$M$43)))/DSUM(Forespørgsel1[#All],\"\"&$B31&\"\",$L$4:INDIRECT(ADDRESS($M$42,$M$43))),IF($B31=0,DAVERAGE(Forespørgsel1[#All],\"\"&LEFT($C31,LEN($C31)-$A31)&\"\",$L$4:INDIRECT(ADDRESS($M$42,$M$43))),IF($B31=1,DSUM(Forespørgsel1[#All],\"\"&LEFT($C31,LEN($C31)-$A31)&\"\",$L$4:INDIRECT(ADDRESS($M$42,$M$43)))/DSUM(Forespørgsel1[#All],\"\"&$V$5&\"\",$L$4:INDIRECT(ADDRESS($M$42,$M$43))),IF($B31=2,DSUM(Forespørgsel1[#All],\"\"&LEFT($C31,LEN($C31)-$A31)&\"\",$L$4:INDIRECT(ADDRESS($M$42,$M$43)))/DSUM(Forespørgsel1[#All],\"\"&$W$5&\"\",$L$4:INDIRECT(ADDRESS($M$42,$M$43))))))),\"\")","v":""},null,null,{"$f":"SUMIFS(Forespørgsel1[[#All],[EjendomsIdent]],Forespørgsel1[[#All],[Besætningstype]],K31)","v":0},{"$f":"DMAX(Forespørgsel1[#All],\"\"&$K$14&\"\",$L26:INDIRECT(ADDRESS($U31,$M$43)))","v":0},{"$f":"$M$5","v":"=6300"},{"$f":"\"<\"&K31&\"\"","v":"<0"},{"$f":"IF(N$4>0,N5,\"\")","v":">99,9"},true,"<=200","","",null,"Række",{"$f":"ROW(T31)-2","v":29}]
[null,null,"Afkastningsgrad",{"$f":"IF(Choices!$A$1=2,Landsgennemsnit!$B32,IF(Choices!$A$1=3,Landsgennemsnit!$E32,\"\"))","v":4.0669554718510383},{"$f":"IF(Choices!$A$1=2,Landsgennemsnit!C32,IF(Choices!$A$1=3,Landsgennemsnit!F32,\"\"))","v":13.713999999999999},{"$f":"IFERROR(IF(ISTEXT($B32)=TRUE,DSUM(Forespørgsel1[#All],\"\"&LEFT($C32,LEN($C32)-$A32)&\"\",$M$4:INDIRECT(ADDRESS($M$42,$M$43)))/DSUM(Forespørgsel1[#All],\"\"&$B32&\"\",$M$4:INDIRECT(ADDRESS($M$42,$M$43))),IF($B32=0,DAVERAGE(Forespørgsel1[#All],\"\"&LEFT($C32,LEN($C32)-$A32)&\"\",$M$4:INDIRECT(ADDRESS($M$42,$M$43))),IF($B32=1,DSUM(Forespørgsel1[#All],\"\"&LEFT($C32,LEN($C32)-$A32)&\"\",$M$4:INDIRECT(ADDRESS($M$42,$M$43)))/DSUM(Forespørgsel1[#All],\"\"&$V$5&\"\",$M$4:INDIRECT(ADDRESS($M$42,$M$43))),DSUM(Forespørgsel1[#All],\"\"&LEFT($C32,LEN($C32)-$A32)&\"\",$M$4:INDIRECT(ADDRESS($M$42,$M$43)))/DSUM(Forespørgsel1[#All],\"\"&$W$5&\"\",$M$4:INDIRECT(ADDRESS($M$42,$M$43)))))),\"\")","v":""},{"$f":"IFERROR(IF(ISTEXT($B32)=TRUE,DSUM(Forespørgsel1[#All],\"\"&LEFT($C32,LEN($C32)-$A32)&\"\",$L$4:INDIRECT(ADDRESS($M$42,$M$43)))/DSUM(Forespørgsel1[#All],\"\"&$B32&\"\",$L$4:INDIRECT(ADDRESS($M$42,$M$43))),IF($B32=0,DAVERAGE(Forespørgsel1[#All],\"\"&LEFT($C32,LEN($C32)-$A32)&\"\",$L$4:INDIRECT(ADDRESS($M$42,$M$43))),IF($B32=1,DSUM(Forespørgsel1[#All],\"\"&LEFT($C32,LEN($C32)-$A32)&\"\",$L$4:INDIRECT(ADDRESS($M$42,$M$43)))/DSUM(Forespørgsel1[#All],\"\"&$V$5&\"\",$L$4:INDIRECT(ADDRESS($M$42,$M$43))),IF($B32=2,DSUM(Forespørgsel1[#All],\"\"&LEFT($C32,LEN($C32)-$A32)&\"\",$L$4:INDIRECT(ADDRESS($M$42,$M$43)))/DSUM(Forespørgsel1[#All],\"\"&$W$5&\"\",$L$4:INDIRECT(ADDRESS($M$42,$M$43))))))),\"\")","v":""},null,null,null,null,{"$f":"$L$17","v":"=6300"},{"$f":"M31","v":"<0"},">99,9",true,"<=200","",""]
[null,null,0,{"$f":"IF(Choices!$A$1=2,Landsgennemsnit!$B33,IF(Choices!$A$1=3,Landsgennemsnit!$E33,\"\"))","v":""},{"$f":"IF(Choices!$A$1=2,Landsgennemsnit!C33,IF(Choices!$A$1=3,Landsgennemsnit!F33,\"\"))","v":""},{"$f":"IFERROR(IF(ISTEXT($B33)=TRUE,DSUM(Forespørgsel1[#All],\"\"&LEFT($C33,LEN($C33)-$A33)&\"\",$M$4:INDIRECT(ADDRESS($M$42,$M$43)))/DSUM(Forespørgsel1[#All],\"\"&$B33&\"\",$M$4:INDIRECT(ADDRESS($M$42,$M$43))),IF($B33=0,DAVERAGE(Forespørgsel1[#All],\"\"&LEFT($C33,LEN($C33)-$A33)&\"\",$M$4:INDIRECT(ADDRESS($M$42,$M$43))),IF($B33=1,DSUM(Forespørgsel1[#All],\"\"&LEFT($C33,LEN($C33)-$A33)&\"\",$M$4:INDIRECT(ADDRESS($M$42,$M$43)))/DSUM(Forespørgsel1[#All],\"\"&$V$5&\"\",$M$4:INDIRECT(ADDRESS($M$42,$M$43))),DSUM(Forespørgsel1[#All],\"\"&LEFT($C33,LEN($C33)-$A33)&\"\",$M$4:INDIRECT(ADDRESS($M$42,$M$43)))/DSUM(Forespørgsel1[#All],\"\"&$W$5&\"\",$M$4:INDIRECT(ADDRESS($M$42,$M$43)))))),\"\")","v":""},{"$f":"IFERROR(IF(ISTEXT($B33)=TRUE,DSUM(Forespørgsel1[#All],\"\"&LEFT($C33,LEN($C33)-$A33)&\"\",$L$4:INDIRECT(ADDRESS($M$42,$M$43)))/DSUM(Forespørgsel1[#All],\"\"&$B33&\"\",$L$4:INDIRECT(ADDRESS($M$42,$M$43))),IF($B33=0,DAVERAGE(Forespørgsel1[#All],\"\"&LEFT($C33,LEN($C33)-$A33)&\"\",$L$4:INDIRECT(ADDRESS($M$42,$M$43))),IF($B33=1,DSUM(Forespørgsel1[#All],\"\"&LEFT($C33,LEN($C33)-$A33)&\"\",$L$4:INDIRECT(ADDRESS($M$42,$M$43)))/DSUM(Forespørgsel1[#All],\"\"&$V$5&\"\",$L$4:INDIRECT(ADDRESS($M$42,$M$43))),IF($B33=2,DSUM(Forespørgsel1[#All],\"\"&LEFT($C33,LEN($C33)-$A33)&\"\",$L$4:INDIRECT(ADDRESS($M$42,$M$43)))/DSUM(Forespørgsel1[#All],\"\"&$W$5&\"\",$L$4:INDIRECT(ADDRESS($M$42,$M$43))))))),\"\")","v":""},null,null,null,null,{"$f":"$L$17","v":"=6300"},{"$f":"M31","v":"<0"},">99,9",true,"<=200","",""]
[null,"Antal Producerede kalve","Specifikation af resultat",{"$f":"IF(Choices!$A$1=2,Landsgennemsnit!$B34,IF(Choices!$A$1=3,Landsgennemsnit!$E34,\"\"))","v":""},{"$f":"IF(Choices!$A$1=2,Landsgennemsnit!C34,IF(Choices!$A$1=3,Landsgennemsnit!F34,\"\"))","v":""},{"$f":"IFERROR(IF(ISTEXT($B34)=TRUE,DSUM(Forespørgsel1[#All],\"\"&LEFT($C34,LEN($C34)-$A34)&\"\",$M$4:INDIRECT(ADDRESS($M$42,$M$43)))/DSUM(Forespørgsel1[#All],\"\"&$B34&\"\",$M$4:INDIRECT(ADDRESS($M$42,$M$43))),IF($B34=0,DAVERAGE(Forespørgsel1[#All],\"\"&LEFT($C34,LEN($C34)-$A34)&\"\",$M$4:INDIRECT(ADDRESS($M$42,$M$43))),IF($B34=1,DSUM(Forespørgsel1[#All],\"\"&LEFT($C34,LEN($C34)-$A34)&\"\",$M$4:INDIRECT(ADDRESS($M$42,$M$43)))/DSUM(Forespørgsel1[#All],\"\"&$V$5&\"\",$M$4:INDIRECT(ADDRESS($M$42,$M$43))),DSUM(Forespørgsel1[#All],\"\"&LEFT($C34,LEN($C34)-$A34)&\"\",$M$4:INDIRECT(ADDRESS($M$42,$M$43)))/DSUM(Forespørgsel1[#All],\"\"&$W$5&\"\",$M$4:INDIRECT(ADDRESS($M$42,$M$43)))))),\"\")","v":""},{"$f":"IFERROR(IF(ISTEXT($B34)=TRUE,DSUM(Forespørgsel1[#All],\"\"&LEFT($C34,LEN($C34)-$A34)&\"\",$L$4:INDIRECT(ADDRESS($M$42,$M$43)))/DSUM(Forespørgsel1[#All],\"\"&$B34&\"\",$L$4:INDIRECT(ADDRESS($M$42,$M$43))),IF($B34=0,DAVERAGE(Forespørgsel1[#All],\"\"&LEFT($C34,LEN($C34)-$A34)&\"\",$L$4:INDIRECT(ADDRESS($M$42,$M$43))),IF($B34=1,DSUM(Forespørgsel1[#All],\"\"&LEFT($C34,LEN($C34)-$A34)&\"\",$L$4:INDIRECT(ADDRESS($M$42,$M$43)))/DSUM(Forespørgsel1[#All],\"\"&$V$5&\"\",$L$4:INDIRECT(ADDRESS($M$42,$M$43))),IF($B34=2,DSUM(Forespørgsel1[#All],\"\"&LEFT($C34,LEN($C34)-$A34)&\"\",$L$4:INDIRECT(ADDRESS($M$42,$M$43)))/DSUM(Forespørgsel1[#All],\"\"&$W$5&\"\",$L$4:INDIRECT(ADDRESS($M$42,$M$43))))))),\"\")","v":""}]
[null,"Antal Producerede kalve","Salg af dyr, kvæg",{"$f":"IF(Choices!$A$1=2,Landsgennemsnit!$B35,IF(Choices!$A$1=3,Landsgennemsnit!$E35,\"\"))","v":5457.0883758362252},{"$f":"IF(Choices!$A$1=2,Landsgennemsnit!C35,IF(Choices!$A$1=3,Landsgennemsnit!F35,\"\"))","v":5736.3175559380379},{"$f":"IFERROR(IF(ISTEXT($B35)=TRUE,DSUM(Forespørgsel1[#All],\"\"&LEFT($C35,LEN($C35)-$A35)&\"\",$M$4:INDIRECT(ADDRESS($M$42,$M$43)))/DSUM(Forespørgsel1[#All],\"\"&$B35&\"\",$M$4:INDIRECT(ADDRESS($M$42,$M$43))),IF($B35=0,DAVERAGE(Forespørgsel1[#All],\"\"&LEFT($C35,LEN($C35)-$A35)&\"\",$M$4:INDIRECT(ADDRESS($M$42,$M$43))),IF($B35=1,DSUM(Forespørgsel1[#All],\"\"&LEFT($C35,LEN($C35)-$A35)&\"\",$M$4:INDIRECT(ADDRESS($M$42,$M$43)))/DSUM(Forespørgsel1[#All],\"\"&$V$5&\"\",$M$4:INDIRECT(ADDRESS($M$42,$M$43))),DSUM(Forespørgsel1[#All],\"\"&LEFT($C35,LEN($C35)-$A35)&\"\",$M$4:INDIRECT(ADDRESS($M$42,$M$43)))/DSUM(Forespørgsel1[#All],\"\"&$W$5&\"\",$M$4:INDIRECT(ADDRESS($M$42,$M$43)))))),\"\")","v":""},{"$f":"IFERROR(IF(ISTEXT($B35)=TRUE,DSUM(Forespørgsel1[#All],\"\"&LEFT($C35,LEN($C35)-$A35)&\"\",$L$4:INDIRECT(ADDRESS($M$42,$M$43)))/DSUM(Forespørgsel1[#All],\"\"&$B35&\"\",$L$4:INDIRECT(ADDRESS($M$42,$M$43))),IF($B35=0,DAVERAGE(Forespørgsel1[#All],\"\"&LEFT($C35,LEN($C35)-$A35)&\"\",$L$4:INDIRECT(ADDRESS($M$42,$M$43))),IF($B35=1,DSUM(Forespørgsel1[#All],\"\"&LEFT($C35,LEN($C35)-$A35)&\"\",$L$4:INDIRECT(ADDRESS($M$42,$M$43)))/DSUM(Forespørgsel1[#All],\"\"&$V$5&\"\",$L$4:INDIRECT(ADDRESS($M$42,$M$43))),IF($B35=2,DSUM(Forespørgsel1[#All],\"\"&LEFT($C35,LEN($C35)-$A35)&\"\",$L$4:INDIRECT(ADDRESS($M$42,$M$43)))/DSUM(Forespørgsel1[#All],\"\"&$W$5&\"\",$L$4:INDIRECT(ADDRESS($M$42,$M$43))))))),\"\")","v":""},null,null,null,null,null,null,null,null,null,null,null,null,"Række",{"$f":"ROW(T35)-2","v":33}]
[null,"Antal Producerede kalve","Køb af dyr, kvæg",{"$f":"IF(Choices!$A$1=2,Landsgennemsnit!$B36,IF(Choices!$A$1=3,Landsgennemsnit!$E36,\"\"))","v":-1214.1245410190634},{"$f":"IF(Choices!$A$1=2,Landsgennemsnit!C36,IF(Choices!$A$1=3,Landsgennemsnit!F36,\"\"))","v":-1166.9578313253012},{"$f":"IFERROR(IF(ISTEXT($B36)=TRUE,DSUM(Forespørgsel1[#All],\"\"&LEFT($C36,LEN($C36)-$A36)&\"\",$M$4:INDIRECT(ADDRESS($M$42,$M$43)))/DSUM(Forespørgsel1[#All],\"\"&$B36&\"\",$M$4:INDIRECT(ADDRESS($M$42,$M$43))),IF($B36=0,DAVERAGE(Forespørgsel1[#All],\"\"&LEFT($C36,LEN($C36)-$A36)&\"\",$M$4:INDIRECT(ADDRESS($M$42,$M$43))),IF($B36=1,DSUM(Forespørgsel1[#All],\"\"&LEFT($C36,LEN($C36)-$A36)&\"\",$M$4:INDIRECT(ADDRESS($M$42,$M$43)))/DSUM(Forespørgsel1[#All],\"\"&$V$5&\"\",$M$4:INDIRECT(ADDRESS($M$42,$M$43))),DSUM(Forespørgsel1[#All],\"\"&LEFT($C36,LEN($C36)-$A36)&\"\",$M$4:INDIRECT(ADDRESS($M$42,$M$43)))/DSUM(Forespørgsel1[#All],\"\"&$W$5&\"\",$M$4:INDIRECT(ADDRESS($M$42,$M$43)))))),\"\")","v":""},{"$f":"IFERROR(IF(ISTEXT($B36)=TRUE,DSUM(Forespørgsel1[#All],\"\"&LEFT($C36,LEN($C36)-$A36)&\"\",$L$4:INDIRECT(ADDRESS($M$42,$M$43)))/DSUM(Forespørgsel1[#All],\"\"&$B36&\"\",$L$4:INDIRECT(ADDRESS($M$42,$M$43))),IF($B36=0,DAVERAGE(Forespørgsel1[#All],\"\"&LEFT($C36,LEN($C36)-$A36)&\"\",$L$4:INDIRECT(ADDRESS($M$42,$M$43))),IF($B36=1,DSUM(Forespørgsel1[#All],\"\"&LEFT($C36,LEN($C36)-$A36)&\"\",$L$4:INDIRECT(ADDRESS($M$42,$M$43)))/DSUM(Forespørgsel1[#All],\"\"&$V$5&\"\",$L$4:INDIRECT(ADDRESS($M$42,$M$43))),IF($B36=2,DSUM(Forespørgsel1[#All],\"\"&LEFT($C36,LEN($C36)-$A36)&\"\",$L$4:INDIRECT(ADDRESS($M$42,$M$43)))/DSUM(Forespørgsel1[#All],\"\"&$W$5&\"\",$L$4:INDIRECT(ADDRESS($M$42,$M$43))))))),\"\")","v":""}]
[null,"Antal Producerede kalve","Besætningsforskydning",{"$f":"IF(Choices!$A$1=2,Landsgennemsnit!$B37,IF(Choices!$A$1=3,Landsgennemsnit!$E37,\"\"))","v":38.498113776972993},{"$f":"IF(Choices!$A$1=2,Landsgennemsnit!C37,IF(Choices!$A$1=3,Landsgennemsnit!F37,\"\"))","v":0.63489672977624789},{"$f":"IFERROR(IF(ISTEXT($B37)=TRUE,DSUM(Forespørgsel1[#All],\"\"&LEFT($C37,LEN($C37)-$A37)&\"\",$M$4:INDIRECT(ADDRESS($M$42,$M$43)))/DSUM(Forespørgsel1[#All],\"\"&$B37&\"\",$M$4:INDIRECT(ADDRESS($M$42,$M$43))),IF($B37=0,DAVERAGE(Forespørgsel1[#All],\"\"&LEFT($C37,LEN($C37)-$A37)&\"\",$M$4:INDIRECT(ADDRESS($M$42,$M$43))),IF($B37=1,DSUM(Forespørgsel1[#All],\"\"&LEFT($C37,LEN($C37)-$A37)&\"\",$M$4:INDIRECT(ADDRESS($M$42,$M$43)))/DSUM(Forespørgsel1[#All],\"\"&$V$5&\"\",$M$4:INDIRECT(ADDRESS($M$42,$M$43))),DSUM(Forespørgsel1[#All],\"\"&LEFT($C37,LEN($C37)-$A37)&\"\",$M$4:INDIRECT(ADDRESS($M$42,$M$43)))/DSUM(Forespørgsel1[#All],\"\"&$W$5&\"\",$M$4:INDIRECT(ADDRESS($M$42,$M$43)))))),\"\")","v":""},{"$f":"IFERROR(IF(ISTEXT($B37)=TRUE,DSUM(Forespørgsel1[#All],\"\"&LEFT($C37,LEN($C37)-$A37)&\"\",$L$4:INDIRECT(ADDRESS($M$42,$M$43)))/DSUM(Forespørgsel1[#All],\"\"&$B37&\"\",$L$4:INDIRECT(ADDRESS($M$42,$M$43))),IF($B37=0,DAVERAGE(Forespørgsel1[#All],\"\"&LEFT($C37,LEN($C37)-$A37)&\"\",$L$4:INDIRECT(ADDRESS($M$42,$M$43))),IF($B37=1,DSUM(Forespørgsel1[#All],\"\"&LEFT($C37,LEN($C37)-$A37)&\"\",$L$4:INDIRECT(ADDRESS($M$42,$M$43)))/DSUM(Forespørgsel1[#All],\"\"&$V$5&\"\",$L$4:INDIRECT(ADDRESS($M$42,$M$43))),IF($B37=2,DSUM(Forespørgsel1[#All],\"\"&LEFT($C37,LEN($C37)-$A37)&\"\",$L$4:INDIRECT(ADDRESS($M$42,$M$43)))/DSUM(Forespørgsel1[#All],\"\"&$W$5&\"\",$L$4:INDIRECT(ADDRESS($M$42,$M$43))))))),\"\")","v":""},null,{"$f":"C38&\", kvæg\"","v":"Kvæg andet, inkl. slagtepræmie, kvæg"}]
[null,"Antal Producerede kalve","Kvæg andet, inkl. slagtepræmie",{"$f":"IF(Choices!$A$1=2,Landsgennemsnit!$B38,IF(Choices!$A$1=3,Landsgennemsnit!$E38,\"\"))","v":726.78758613751825},{"$f":"IF(Choices!$A$1=2,Landsgennemsnit!C38,IF(Choices!$A$1=3,Landsgennemsnit!F38,\"\"))","v":751.31755593803791},{"$f":"IFERROR(IF(ISTEXT($B38)=TRUE,DSUM(Forespørgsel1[#All],\"\"&LEFT($C38,LEN($C38)-$A38)&\"\",$M$4:INDIRECT(ADDRESS($M$42,$M$43)))/DSUM(Forespørgsel1[#All],\"\"&$B38&\"\",$M$4:INDIRECT(ADDRESS($M$42,$M$43))),IF($B38=0,DAVERAGE(Forespørgsel1[#All],\"\"&LEFT($C38,LEN($C38)-$A38)&\"\",$M$4:INDIRECT(ADDRESS($M$42,$M$43))),IF($B38=1,DSUM(Forespørgsel1[#All],\"\"&LEFT($C38,LEN($C38)-$A38)&\"\",$M$4:INDIRECT(ADDRESS($M$42,$M$43)))/DSUM(Forespørgsel1[#All],\"\"&$V$5&\"\",$M$4:INDIRECT(ADDRESS($M$42,$M$43))),DSUM(Forespørgsel1[#All],\"\"&LEFT($C38,LEN($C38)-$A38)&\"\",$M$4:INDIRECT(ADDRESS($M$42,$M$43)))/DSUM(Forespørgsel1[#All],\"\"&$W$5&\"\",$M$4:INDIRECT(ADDRESS($M$42,$M$43)))))),\"\")","v":""},{"$f":"IFERROR(IF(ISTEXT($B38)=TRUE,DSUM(Forespørgsel1[#All],\"\"&LEFT($C38,LEN($C38)-$A38)&\"\",$L$4:INDIRECT(ADDRESS($M$42,$M$43)))/DSUM(Forespørgsel1[#All],\"\"&$B38&\"\",$L$4:INDIRECT(ADDRESS($M$42,$M$43))),IF($B38=0,DAVERAGE(Forespørgsel1[#All],\"\"&LEFT($C38,LEN($C38)-$A38)&\"\",$L$4:INDIRECT(ADDRESS($M$42,$M$43))),IF($B38=1,DSUM(Forespørgsel1[#All],\"\"&LEFT($C38,LEN($C38)-$A38)&\"\",$L$4:INDIRECT(ADDRESS($M$42,$M$43)))/DSUM(Forespørgsel1[#All],\"\"&$V$5&\"\",$L$4:INDIRECT(ADDRESS($M$42,$M$43))),IF($B38=2,DSUM(Forespørgsel1[#All],\"\"&LEFT($C38,LEN($C38)-$A38)&\"\",$L$4:INDIRECT(ADDRESS($M$42,$M$43)))/DSUM(Forespørgsel1[#All],\"\"&$W$5&\"\",$L$4:INDIRECT(ADDRESS($M$42,$M$43))))))),\"\")","v":""},null,{"$f":" C38 & C81","v":"Kvæg andet, inkl. slagtepræmieslagtekalve"}]
[null,"Antal Producerede kalve","Andre landbrugsindtægter",{"$f":"IF(Choices!$A$1=2,Landsgennemsnit!$B39,IF(Choices!$A$1=3,Landsgennemsnit!$E39,\"\"))","v":9.5802525023892162},{"$f":"IF(Choices!$A$1=2,Landsgennemsnit!C39,IF(Choices!$A$1=3,Landsgennemsnit!F39,\"\"))","v":34.1039156626506},{"$f":"IFERROR(IF(ISTEXT($B39)=TRUE,DSUM(Forespørgsel1[#All],\"\"&LEFT($C39,LEN($C39)-$A39)&\"\",$M$4:INDIRECT(ADDRESS($M$42,$M$43)))/DSUM(Forespørgsel1[#All],\"\"&$B39&\"\",$M$4:INDIRECT(ADDRESS($M$42,$M$43))),IF($B39=0,DAVERAGE(Forespørgsel1[#All],\"\"&LEFT($C39,LEN($C39)-$A39)&\"\",$M$4:INDIRECT(ADDRESS($M$42,$M$43))),IF($B39=1,DSUM(Forespørgsel1[#All],\"\"&LEFT($C39,LEN($C39)-$A39)&\"\",$M$4:INDIRECT(ADDRESS($M$42,$M$43)))/DSUM(Forespørgsel1[#All],\"\"&$V$5&\"\",$M$4:INDIRECT(ADDRESS($M$42,$M$43))),DSUM(Forespørgsel1[#All],\"\"&LEFT($C39,LEN($C39)-$A39)&\"\",$M$4:INDIRECT(ADDRESS($M$42,$M$43)))/DSUM(Forespørgsel1[#All],\"\"&$W$5&\"\",$M$4:INDIRECT(ADDRESS($M$42,$M$43)))))),\"\")","v":""},{"$f":"IFERROR(IF(ISTEXT($B39)=TRUE,DSUM(Forespørgsel1[#All],\"\"&LEFT($C39,LEN($C39)-$A39)&\"\",$L$4:INDIRECT(ADDRESS($M$42,$M$43)))/DSUM(Forespørgsel1[#All],\"\"&$B39&\"\",$L$4:INDIRECT(ADDRESS($M$42,$M$43))),IF($B39=0,DAVERAGE(Forespørgsel1[#All],\"\"&LEFT($C39,LEN($C39)-$A39)&\"\",$L$4:INDIRECT(ADDRESS($M$42,$M$43))),IF($B39=1,DSUM(Forespørgsel1[#All],\"\"&LEFT($C39,LEN($C39)-$A39)&\"\",$L$4:INDIRECT(ADDRESS($M$42,$M$43)))/DSUM(Forespørgsel1[#All],\"\"&$V$5&\"\",$L$4:INDIRECT(ADDRESS($M$42,$M$43))),IF($B39=2,DSUM(Forespørgsel1[#All],\"\"&LEFT($C39,LEN($C39)-$A39)&\"\",$L$4:INDIRECT(ADDRESS($M$42,$M$43)))/DSUM(Forespørgsel1[#All],\"\"&$W$5&\"\",$L$4:INDIRECT(ADDRESS($M$42,$M$43))))))),\"\")","v":""},null,"Andre landbrugsindtægter, Kvæg"]
[null,"Antal Producerede kalve","Bruttoudbytte i alt",{"$f":"IF(Choices!$A$1=2,Landsgennemsnit!$B40,IF(Choices!$A$1=3,Landsgennemsnit!$E40,\"\"))","v":5017.8297872340418},{"$f":"IF(Choices!$A$1=2,Landsgennemsnit!C40,IF(Choices!$A$1=3,Landsgennemsnit!F40,\"\"))","v":5355.416092943201},{"$f":"IFERROR(IF(ISTEXT($B40)=TRUE,DSUM(Forespørgsel1[#All],\"\"&LEFT($C40,LEN($C40)-$A40)&\"\",$M$4:INDIRECT(ADDRESS($M$42,$M$43)))/DSUM(Forespørgsel1[#All],\"\"&$B40&\"\",$M$4:INDIRECT(ADDRESS($M$42,$M$43))),IF($B40=0,DAVERAGE(Forespørgsel1[#All],\"\"&LEFT($C40,LEN($C40)-$A40)&\"\",$M$4:INDIRECT(ADDRESS($M$42,$M$43))),IF($B40=1,DSUM(Forespørgsel1[#All],\"\"&LEFT($C40,LEN($C40)-$A40)&\"\",$M$4:INDIRECT(ADDRESS($M$42,$M$43)))/DSUM(Forespørgsel1[#All],\"\"&$V$5&\"\",$M$4:INDIRECT(ADDRESS($M$42,$M$43))),DSUM(Forespørgsel1[#All],\"\"&LEFT($C40,LEN($C40)-$A40)&\"\",$M$4:INDIRECT(ADDRESS($M$42,$M$43)))/DSUM(Forespørgsel1[#All],\"\"&$W$5&\"\",$M$4:INDIRECT(ADDRESS($M$42,$M$43)))))),\"\")","v":""},{"$f":"IFERROR(IF(ISTEXT($B40)=TRUE,DSUM(Forespørgsel1[#All],\"\"&LEFT($C40,LEN($C40)-$A40)&\"\",$L$4:INDIRECT(ADDRESS($M$42,$M$43)))/DSUM(Forespørgsel1[#All],\"\"&$B40&\"\",$L$4:INDIRECT(ADDRESS($M$42,$M$43))),IF($B40=0,DAVERAGE(Forespørgsel1[#All],\"\"&LEFT($C40,LEN($C40)-$A40)&\"\",$L$4:INDIRECT(ADDRESS($M$42,$M$43))),IF($B40=1,DSUM(Forespørgsel1[#All],\"\"&LEFT($C40,LEN($C40)-$A40)&\"\",$L$4:INDIRECT(ADDRESS($M$42,$M$43)))/DSUM(Forespørgsel1[#All],\"\"&$V$5&\"\",$L$4:INDIRECT(ADDRESS($M$42,$M$43))),IF($B40=2,DSUM(Forespørgsel1[#All],\"\"&LEFT($C40,LEN($C40)-$A40)&\"\",$L$4:INDIRECT(ADDRESS($M$42,$M$43)))/DSUM(Forespørgsel1[#All],\"\"&$W$5&\"\",$L$4:INDIRECT(ADDRESS($M$42,$M$43))))))),\"\")","v":""},null,null,null,null,"Til adresseformel"]
[null,null,0,{"$f":"IF(Choices!$A$1=2,Landsgennemsnit!$B41,IF(Choices!$A$1=3,Landsgennemsnit!$E41,\"\"))","v":""},{"$f":"IF(Choices!$A$1=2,Landsgennemsnit!C41,IF(Choices!$A$1=3,Landsgennemsnit!F41,\"\"))","v":""},{"$f":"IFERROR(IF(ISTEXT($B41)=TRUE,DSUM(Forespørgsel1[#All],\"\"&LEFT($C41,LEN($C41)-$A41)&\"\",$M$4:INDIRECT(ADDRESS($M$42,$M$43)))/DSUM(Forespørgsel1[#All],\"\"&$B41&\"\",$M$4:INDIRECT(ADDRESS($M$42,$M$43))),IF($B41=0,DAVERAGE(Forespørgsel1[#All],\"\"&LEFT($C41,LEN($C41)-$A41)&\"\",$M$4:INDIRECT(ADDRESS($M$42,$M$43))),IF($B41=1,DSUM(Forespørgsel1[#All],\"\"&LEFT($C41,LEN($C41)-$A41)&\"\",$M$4:INDIRECT(ADDRESS($M$42,$M$43)))/DSUM(Forespørgsel1[#All],\"\"&$V$5&\"\",$M$4:INDIRECT(ADDRESS($M$42,$M$43))),DSUM(Forespørgsel1[#All],\"\"&LEFT($C41,LEN($C41)-$A41)&\"\",$M$4:INDIRECT(ADDRESS($M$42,$M$43)))/DSUM(Forespørgsel1[#All],\"\"&$W$5&\"\",$M$4:INDIRECT(ADDRESS($M$42,$M$43)))))),\"\")","v":""},{"$f":"IFERROR(IF(ISTEXT($B41)=TRUE,DSUM(Forespørgsel1[#All],\"\"&LEFT($C41,LEN($C41)-$A41)&\"\",$L$4:INDIRECT(ADDRESS($M$42,$M$43)))/DSUM(Forespørgsel1[#All],\"\"&$B41&\"\",$L$4:INDIRECT(ADDRESS($M$42,$M$43))),IF($B41=0,DAVERAGE(Forespørgsel1[#All],\"\"&LEFT($C41,LEN($C41)-$A41)&\"\",$L$4:INDIRECT(ADDRESS($M$42,$M$43))),IF($B41=1,DSUM(Forespørgsel1[#All],\"\"&LEFT($C41,LEN($C41)-$A41)&\"\",$L$4:INDIRECT(ADDRESS($M$42,$M$43)))/DSUM(Forespørgsel1[#All],\"\"&$V$5&\"\",$L$4:INDIRECT(ADDRESS($M$42,$M$43))),IF($B41=2,DSUM(Forespørgsel1[#All],\"\"&LEFT($C41,LEN($C41)-$A41)&\"\",$L$4:INDIRECT(ADDRESS($M$42,$M$43)))/DSUM(Forespørgsel1[#All],\"\"&$W$5&\"\",$L$4:INDIRECT(ADDRESS($M$42,$M$43))))))),\"\")","v":""},null,null,null,null,{"$f":"ISTEXT(N4)","v":true},{"$f":"ISTEXT(O4)","v":true},{"$f":"ISTEXT(P4)","v":true},{"$f":"ISTEXT(Q4)","v":false},{"$f":"ISTEXT(R4)","v":false}]
[null,"Antal Producerede kalve","Korn",{"$f":"IF(Choices!$A$1=2,Landsgennemsnit!$B42,IF(Choices!$A$1=3,Landsgennemsnit!$E42,\"\"))","v":-535.28238016196372},{"$f":"IF(Choices!$A$1=2,Landsgennemsnit!C42,IF(Choices!$A$1=3,Landsgennemsnit!F42,\"\"))","v":-587.4292168674699},{"$f":"IFERROR(IF(ISTEXT($B42)=TRUE,DSUM(Forespørgsel1[#All],\"\"&LEFT($C42,LEN($C42)-$A42)&\"\",$M$4:INDIRECT(ADDRESS($M$42,$M$43)))/DSUM(Forespørgsel1[#All],\"\"&$B42&\"\",$M$4:INDIRECT(ADDRESS($M$42,$M$43))),IF($B42=0,DAVERAGE(Forespørgsel1[#All],\"\"&LEFT($C42,LEN($C42)-$A42)&\"\",$M$4:INDIRECT(ADDRESS($M$42,$M$43))),IF($B42=1,DSUM(Forespørgsel1[#All],\"\"&LEFT($C42,LEN($C42)-$A42)&\"\",$M$4:INDIRECT(ADDRESS($M$42,$M$43)))/DSUM(Forespørgsel1[#All],\"\"&$V$5&\"\",$M$4:INDIRECT(ADDRESS($M$42,$M$43))),DSUM(Forespørgsel1[#All],\"\"&LEFT($C42,LEN($C42)-$A42)&\"\",$M$4:INDIRECT(ADDRESS($M$42,$M$43)))/DSUM(Forespørgsel1[#All],\"\"&$W$5&\"\",$M$4:INDIRECT(ADDRESS($M$42,$M$43)))))),\"\")","v":""},{"$f":"IFERROR(IF(ISTEXT($B42)=TRUE,DSUM(Forespørgsel1[#All],\"\"&LEFT($C42,LEN($C42)-$A42)&\"\",$L$4:INDIRECT(ADDRESS($M$42,$M$43)))/DSUM(Forespørgsel1[#All],\"\"&$B42&\"\",$L$4:INDIRECT(ADDRESS($M$42,$M$43))),IF($B42=0,DAVERAGE(Forespørgsel1[#All],\"\"&LEFT($C42,LEN($C42)-$A42)&\"\",$L$4:INDIRECT(ADDRESS($M$42,$M$43))),IF($B42=1,DSUM(Forespørgsel1[#All],\"\"&LEFT($C42,LEN($C42)-$A42)&\"\",$L$4:INDIRECT(ADDRESS($M$42,$M$43)))/DSUM(Forespørgsel1[#All],\"\"&$V$5&\"\",$L$4:INDIRECT(ADDRESS($M$42,$M$43))),IF($B42=2,DSUM(Forespørgsel1[#All],\"\"&LEFT($C42,LEN($C42)-$A42)&\"\",$L$4:INDIRECT(ADDRESS($M$42,$M$43)))/DSUM(Forespørgsel1[#All],\"\"&$W$5&\"\",$L$4:INDIRECT(ADDRESS($M$42,$M$43))))))),\"\")","v":""},null,null,null,null,"Række",7]
[null,"Antal Producerede kalve","Råvarer",{"$f":"IF(Choices!$A$1=2,Landsgennemsnit!$B43,IF(Choices!$A$1=3,Landsgennemsnit!$E43,\"\"))","v":-203.12660328957296},{"$f":"IF(Choices!$A$1=2,Landsgennemsnit!C43,IF(Choices!$A$1=3,Landsgennemsnit!F43,\"\"))","v":-131.22418244406197},{"$f":"IFERROR(IF(ISTEXT($B43)=TRUE,DSUM(Forespørgsel1[#All],\"\"&LEFT($C43,LEN($C43)-$A43)&\"\",$M$4:INDIRECT(ADDRESS($M$42,$M$43)))/DSUM(Forespørgsel1[#All],\"\"&$B43&\"\",$M$4:INDIRECT(ADDRESS($M$42,$M$43))),IF($B43=0,DAVERAGE(Forespørgsel1[#All],\"\"&LEFT($C43,LEN($C43)-$A43)&\"\",$M$4:INDIRECT(ADDRESS($M$42,$M$43))),IF($B43=1,DSUM(Forespørgsel1[#All],\"\"&LEFT($C43,LEN($C43)-$A43)&\"\",$M$4:INDIRECT(ADDRESS($M$42,$M$43)))/DSUM(Forespørgsel1[#All],\"\"&$V$5&\"\",$M$4:INDIRECT(ADDRESS($M$42,$M$43))),DSUM(Forespørgsel1[#All],\"\"&LEFT($C43,LEN($C43)-$A43)&\"\",$M$4:INDIRECT(ADDRESS($M$42,$M$43)))/DSUM(Forespørgsel1[#All],\"\"&$W$5&\"\",$M$4:INDIRECT(ADDRESS($M$42,$M$43)))))),\"\")","v":""},{"$f":"IFERROR(IF(ISTEXT($B43)=TRUE,DSUM(Forespørgsel1[#All],\"\"&LEFT($C43,LEN($C43)-$A43)&\"\",$L$4:INDIRECT(ADDRESS($M$42,$M$43)))/DSUM(Forespørgsel1[#All],\"\"&$B43&\"\",$L$4:INDIRECT(ADDRESS($M$42,$M$43))),IF($B43=0,DAVERAGE(Forespørgsel1[#All],\"\"&LEFT($C43,LEN($C43)-$A43)&\"\",$L$4:INDIRECT(ADDRESS($M$42,$M$43))),IF($B43=1,DSUM(Forespørgsel1[#All],\"\"&LEFT($C43,LEN($C43)-$A43)&\"\",$L$4:INDIRECT(ADDRESS($M$42,$M$43)))/DSUM(Forespørgsel1[#All],\"\"&$V$5&\"\",$L$4:INDIRECT(ADDRESS($M$42,$M$43))),IF($B43=2,DSUM(Forespørgsel1[#All],\"\"&LEFT($C43,LEN($C43)-$A43)&\"\",$L$4:INDIRECT(ADDRESS($M$42,$M$43)))/DSUM(Forespørgsel1[#All],\"\"&$W$5&\"\",$L$4:INDIRECT(ADDRESS($M$42,$M$43))))))),\"\")","v":""},null,null,null,null,"Kolonne",{"$f":"13+COUNTIF(L41:P41,\"SAND\")","v":16}]
[null,"Antal Producerede kalve","Kraftfoder, tilskudsfoder, færdigblanding mv.",{"$f":"IF(Choices!$A$1=2,Landsgennemsnit!$B44,IF(Choices!$A$1=3,Landsgennemsnit!$E44,\"\"))","v":-1494.8054423821739},{"$f":"IF(Choices!$A$1=2,Landsgennemsnit!C44,IF(Choices!$A$1=3,Landsgennemsnit!F44,\"\"))","v":-1570.5036574870912},{"$f":"IFERROR(IF(ISTEXT($B44)=TRUE,DSUM(Forespørgsel1[#All],\"\"&LEFT($C44,LEN($C44)-$A44)&\"\",$M$4:INDIRECT(ADDRESS($M$42,$M$43)))/DSUM(Forespørgsel1[#All],\"\"&$B44&\"\",$M$4:INDIRECT(ADDRESS($M$42,$M$43))),IF($B44=0,DAVERAGE(Forespørgsel1[#All],\"\"&LEFT($C44,LEN($C44)-$A44)&\"\",$M$4:INDIRECT(ADDRESS($M$42,$M$43))),IF($B44=1,DSUM(Forespørgsel1[#All],\"\"&LEFT($C44,LEN($C44)-$A44)&\"\",$M$4:INDIRECT(ADDRESS($M$42,$M$43)))/DSUM(Forespørgsel1[#All],\"\"&$V$5&\"\",$M$4:INDIRECT(ADDRESS($M$42,$M$43))),DSUM(Forespørgsel1[#All],\"\"&LEFT($C44,LEN($C44)-$A44)&\"\",$M$4:INDIRECT(ADDRESS($M$42,$M$43)))/DSUM(Forespørgsel1[#All],\"\"&$W$5&\"\",$M$4:INDIRECT(ADDRESS($M$42,$M$43)))))),\"\")","v":""},{"$f":"IFERROR(IF(ISTEXT($B44)=TRUE,DSUM(Forespørgsel1[#All],\"\"&LEFT($C44,LEN($C44)-$A44)&\"\",$L$4:INDIRECT(ADDRESS($M$42,$M$43)))/DSUM(Forespørgsel1[#All],\"\"&$B44&\"\",$L$4:INDIRECT(ADDRESS($M$42,$M$43))),IF($B44=0,DAVERAGE(Forespørgsel1[#All],\"\"&LEFT($C44,LEN($C44)-$A44)&\"\",$L$4:INDIRECT(ADDRESS($M$42,$M$43))),IF($B44=1,DSUM(Forespørgsel1[#All],\"\"&LEFT($C44,LEN($C44)-$A44)&\"\",$L$4:INDIRECT(ADDRESS($M$42,$M$43)))/DSUM(Forespørgsel1[#All],\"\"&$V$5&\"\",$L$4:INDIRECT(ADDRESS($M$42,$M$43))),IF($B44=2,DSUM(Forespørgsel1[#All],\"\"&LEFT($C44,LEN($C44)-$A44)&\"\",$L$4:INDIRECT(ADDRESS($M$42,$M$43)))/DSUM(Forespørgsel1[#All],\"\"&$W$5&\"\",$L$4:INDIRECT(ADDRESS($M$42,$M$43))))))),\"\")","v":""}]
[null,"Antal Producerede kalve","Mineraler og vitaminer",{"$f":"IF(Choices!$A$1=2,Landsgennemsnit!$B45,IF(Choices!$A$1=3,Landsgennemsnit!$E45,\"\"))","v":-53.24158744529953},{"$f":"IF(Choices!$A$1=2,Landsgennemsnit!C45,IF(Choices!$A$1=3,Landsgennemsnit!F45,\"\"))","v":-33.442986230636834},{"$f":"IFERROR(IF(ISTEXT($B45)=TRUE,DSUM(Forespørgsel1[#All],\"\"&LEFT($C45,LEN($C45)-$A45)&\"\",$M$4:INDIRECT(ADDRESS($M$42,$M$43)))/DSUM(Forespørgsel1[#All],\"\"&$B45&\"\",$M$4:INDIRECT(ADDRESS($M$42,$M$43))),IF($B45=0,DAVERAGE(Forespørgsel1[#All],\"\"&LEFT($C45,LEN($C45)-$A45)&\"\",$M$4:INDIRECT(ADDRESS($M$42,$M$43))),IF($B45=1,DSUM(Forespørgsel1[#All],\"\"&LEFT($C45,LEN($C45)-$A45)&\"\",$M$4:INDIRECT(ADDRESS($M$42,$M$43)))/DSUM(Forespørgsel1[#All],\"\"&$V$5&\"\",$M$4:INDIRECT(ADDRESS($M$42,$M$43))),DSUM(Forespørgsel1[#All],\"\"&LEFT($C45,LEN($C45)-$A45)&\"\",$M$4:INDIRECT(ADDRESS($M$42,$M$43)))/DSUM(Forespørgsel1[#All],\"\"&$W$5&\"\",$M$4:INDIRECT(ADDRESS($M$42,$M$43)))))),\"\")","v":""},{"$f":"IFERROR(IF(ISTEXT($B45)=TRUE,DSUM(Forespørgsel1[#All],\"\"&LEFT($C45,LEN($C45)-$A45)&\"\",$L$4:INDIRECT(ADDRESS($M$42,$M$43)))/DSUM(Forespørgsel1[#All],\"\"&$B45&\"\",$L$4:INDIRECT(ADDRESS($M$42,$M$43))),IF($B45=0,DAVERAGE(Forespørgsel1[#All],\"\"&LEFT($C45,LEN($C45)-$A45)&\"\",$L$4:INDIRECT(ADDRESS($M$42,$M$43))),IF($B45=1,DSUM(Forespørgsel1[#All],\"\"&LEFT($C45,LEN($C45)-$A45)&\"\",$L$4:INDIRECT(ADDRESS($M$42,$M$43)))/DSUM(Forespørgsel1[#All],\"\"&$V$5&\"\",$L$4:INDIRECT(ADDRESS($M$42,$M$43))),IF($B45=2,DSUM(Forespørgsel1[#All],\"\"&LEFT($C45,LEN($C45)-$A45)&\"\",$L$4:INDIRECT(ADDRESS($M$42,$M$43)))/DSUM(Forespørgsel1[#All],\"\"&$W$5&\"\",$L$4:INDIRECT(ADDRESS($M$42,$M$43))))))),\"\")","v":""}]
[null,"Antal Producerede kalve","Biprodukter mv.",{"$f":"IF(Choices!$A$1=2,Landsgennemsnit!$B46,IF(Choices!$A$1=3,Landsgennemsnit!$E46,\"\"))","v":-89.584075247723959},{"$f":"IF(Choices!$A$1=2,Landsgennemsnit!C46,IF(Choices!$A$1=3,Landsgennemsnit!F46,\"\"))","v":-30.298192771084338},{"$f":"IFERROR(IF(ISTEXT($B46)=TRUE,DSUM(Forespørgsel1[#All],\"\"&LEFT($C46,LEN($C46)-$A46)&\"\",$M$4:INDIRECT(ADDRESS($M$42,$M$43)))/DSUM(Forespørgsel1[#All],\"\"&$B46&\"\",$M$4:INDIRECT(ADDRESS($M$42,$M$43))),IF($B46=0,DAVERAGE(Forespørgsel1[#All],\"\"&LEFT($C46,LEN($C46)-$A46)&\"\",$M$4:INDIRECT(ADDRESS($M$42,$M$43))),IF($B46=1,DSUM(Forespørgsel1[#All],\"\"&LEFT($C46,LEN($C46)-$A46)&\"\",$M$4:INDIRECT(ADDRESS($M$42,$M$43)))/DSUM(Forespørgsel1[#All],\"\"&$V$5&\"\",$M$4:INDIRECT(ADDRESS($M$42,$M$43))),DSUM(Forespørgsel1[#All],\"\"&LEFT($C46,LEN($C46)-$A46)&\"\",$M$4:INDIRECT(ADDRESS($M$42,$M$43)))/DSUM(Forespørgsel1[#All],\"\"&$W$5&\"\",$M$4:INDIRECT(ADDRESS($M$42,$M$43)))))),\"\")","v":""},{"$f":"IFERROR(IF(ISTEXT($B46)=TRUE,DSUM(Forespørgsel1[#All],\"\"&LEFT($C46,LEN($C46)-$A46)&\"\",$L$4:INDIRECT(ADDRESS($M$42,$M$43)))/DSUM(Forespørgsel1[#All],\"\"&$B46&\"\",$L$4:INDIRECT(ADDRESS($M$42,$M$43))),IF($B46=0,DAVERAGE(Forespørgsel1[#All],\"\"&LEFT($C46,LEN($C46)-$A46)&\"\",$L$4:INDIRECT(ADDRESS($M$42,$M$43))),IF($B46=1,DSUM(Forespørgsel1[#All],\"\"&LEFT($C46,LEN($C46)-$A46)&\"\",$L$4:INDIRECT(ADDRESS($M$42,$M$43)))/DSUM(Forespørgsel1[#All],\"\"&$V$5&\"\",$L$4:INDIRECT(ADDRESS($M$42,$M$43))),IF($B46=2,DSUM(Forespørgsel1[#All],\"\"&LEFT($C46,LEN($C46)-$A46)&\"\",$L$4:INDIRECT(ADDRESS($M$42,$M$43)))/DSUM(Forespørgsel1[#All],\"\"&$W$5&\"\",$L$4:INDIRECT(ADDRESS($M$42,$M$43))))))),\"\")","v":""}]
[null,"Antal Producerede kalve","Grovfoder",{"$f":"IF(Choices!$A$1=2,Landsgennemsnit!$B47,IF(Choices!$A$1=3,Landsgennemsnit!$E47,\"\"))","v":-479.81595493184449},{"$f":"IF(Choices!$A$1=2,Landsgennemsnit!C47,IF(Choices!$A$1=3,Landsgennemsnit!F47,\"\"))","v":-410.85262478485367},{"$f":"IFERROR(IF(ISTEXT($B47)=TRUE,DSUM(Forespørgsel1[#All],\"\"&LEFT($C47,LEN($C47)-$A47)&\"\",$M$4:INDIRECT(ADDRESS($M$42,$M$43)))/DSUM(Forespørgsel1[#All],\"\"&$B47&\"\",$M$4:INDIRECT(ADDRESS($M$42,$M$43))),IF($B47=0,DAVERAGE(Forespørgsel1[#All],\"\"&LEFT($C47,LEN($C47)-$A47)&\"\",$M$4:INDIRECT(ADDRESS($M$42,$M$43))),IF($B47=1,DSUM(Forespørgsel1[#All],\"\"&LEFT($C47,LEN($C47)-$A47)&\"\",$M$4:INDIRECT(ADDRESS($M$42,$M$43)))/DSUM(Forespørgsel1[#All],\"\"&$V$5&\"\",$M$4:INDIRECT(ADDRESS($M$42,$M$43))),DSUM(Forespørgsel1[#All],\"\"&LEFT($C47,LEN($C47)-$A47)&\"\",$M$4:INDIRECT(ADDRESS($M$42,$M$43)))/DSUM(Forespørgsel1[#All],\"\"&$W$5&\"\",$M$4:INDIRECT(ADDRESS($M$42,$M$43)))))),\"\")","v":""},{"$f":"IFERROR(IF(ISTEXT($B47)=TRUE,DSUM(Forespørgsel1[#All],\"\"&LEFT($C47,LEN($C47)-$A47)&\"\",$L$4:INDIRECT(ADDRESS($M$42,$M$43)))/DSUM(Forespørgsel1[#All],\"\"&$B47&\"\",$L$4:INDIRECT(ADDRESS($M$42,$M$43))),IF($B47=0,DAVERAGE(Forespørgsel1[#All],\"\"&LEFT($C47,LEN($C47)-$A47)&\"\",$L$4:INDIRECT(ADDRESS($M$42,$M$43))),IF($B47=1,DSUM(Forespørgsel1[#All],\"\"&LEFT($C47,LEN($C47)-$A47)&\"\",$L$4:INDIRECT(ADDRESS($M$42,$M$43)))/DSUM(Forespørgsel1[#All],\"\"&$V$5&\"\",$L$4:INDIRECT(ADDRESS($M$42,$M$43))),IF($B47=2,DSUM(Forespørgsel1[#All],\"\"&LEFT($C47,LEN($C47)-$A47)&\"\",$L$4:INDIRECT(ADDRESS($M$42,$M$43)))/DSUM(Forespørgsel1[#All],\"\"&$W$5&\"\",$L$4:INDIRECT(ADDRESS($M$42,$M$43))))))),\"\")","v":""}]
[null,"Antal Producerede kalve","Dyrlæge og medicin",{"$f":"IF(Choices!$A$1=2,Landsgennemsnit!$B48,IF(Choices!$A$1=3,Landsgennemsnit!$E48,\"\"))","v":-100.84814647150546},{"$f":"IF(Choices!$A$1=2,Landsgennemsnit!C48,IF(Choices!$A$1=3,Landsgennemsnit!F48,\"\"))","v":-82.194922547332183},{"$f":"IFERROR(IF(ISTEXT($B48)=TRUE,DSUM(Forespørgsel1[#All],\"\"&LEFT($C48,LEN($C48)-$A48)&\"\",$M$4:INDIRECT(ADDRESS($M$42,$M$43)))/DSUM(Forespørgsel1[#All],\"\"&$B48&\"\",$M$4:INDIRECT(ADDRESS($M$42,$M$43))),IF($B48=0,DAVERAGE(Forespørgsel1[#All],\"\"&LEFT($C48,LEN($C48)-$A48)&\"\",$M$4:INDIRECT(ADDRESS($M$42,$M$43))),IF($B48=1,DSUM(Forespørgsel1[#All],\"\"&LEFT($C48,LEN($C48)-$A48)&\"\",$M$4:INDIRECT(ADDRESS($M$42,$M$43)))/DSUM(Forespørgsel1[#All],\"\"&$V$5&\"\",$M$4:INDIRECT(ADDRESS($M$42,$M$43))),DSUM(Forespørgsel1[#All],\"\"&LEFT($C48,LEN($C48)-$A48)&\"\",$M$4:INDIRECT(ADDRESS($M$42,$M$43)))/DSUM(Forespørgsel1[#All],\"\"&$W$5&\"\",$M$4:INDIRECT(ADDRESS($M$42,$M$43)))))),\"\")","v":""},{"$f":"IFERROR(IF(ISTEXT($B48)=TRUE,DSUM(Forespørgsel1[#All],\"\"&LEFT($C48,LEN($C48)-$A48)&\"\",$L$4:INDIRECT(ADDRESS($M$42,$M$43)))/DSUM(Forespørgsel1[#All],\"\"&$B48&\"\",$L$4:INDIRECT(ADDRESS($M$42,$M$43))),IF($B48=0,DAVERAGE(Forespørgsel1[#All],\"\"&LEFT($C48,LEN($C48)-$A48)&\"\",$L$4:INDIRECT(ADDRESS($M$42,$M$43))),IF($B48=1,DSUM(Forespørgsel1[#All],\"\"&LEFT($C48,LEN($C48)-$A48)&\"\",$L$4:INDIRECT(ADDRESS($M$42,$M$43)))/DSUM(Forespørgsel1[#All],\"\"&$V$5&\"\",$L$4:INDIRECT(ADDRESS($M$42,$M$43))),IF($B48=2,DSUM(Forespørgsel1[#All],\"\"&LEFT($C48,LEN($C48)-$A48)&\"\",$L$4:INDIRECT(ADDRESS($M$42,$M$43)))/DSUM(Forespørgsel1[#All],\"\"&$W$5&\"\",$L$4:INDIRECT(ADDRESS($M$42,$M$43))))))),\"\")","v":""}]
[null,"Antal Producerede kalve","Avl, Rådgivning og Kontrol",{"$f":"IF(Choices!$A$1=2,Landsgennemsnit!$B49,IF(Choices!$A$1=3,Landsgennemsnit!$E49,\"\"))","v":-24.231326392032592},{"$f":"IF(Choices!$A$1=2,Landsgennemsnit!C49,IF(Choices!$A$1=3,Landsgennemsnit!F49,\"\"))","v":-13.199655765920825},{"$f":"IFERROR(IF(ISTEXT($B49)=TRUE,DSUM(Forespørgsel1[#All],\"\"&LEFT($C49,LEN($C49)-$A49)&\"\",$M$4:INDIRECT(ADDRESS($M$42,$M$43)))/DSUM(Forespørgsel1[#All],\"\"&$B49&\"\",$M$4:INDIRECT(ADDRESS($M$42,$M$43))),IF($B49=0,DAVERAGE(Forespørgsel1[#All],\"\"&LEFT($C49,LEN($C49)-$A49)&\"\",$M$4:INDIRECT(ADDRESS($M$42,$M$43))),IF($B49=1,DSUM(Forespørgsel1[#All],\"\"&LEFT($C49,LEN($C49)-$A49)&\"\",$M$4:INDIRECT(ADDRESS($M$42,$M$43)))/DSUM(Forespørgsel1[#All],\"\"&$V$5&\"\",$M$4:INDIRECT(ADDRESS($M$42,$M$43))),DSUM(Forespørgsel1[#All],\"\"&LEFT($C49,LEN($C49)-$A49)&\"\",$M$4:INDIRECT(ADDRESS($M$42,$M$43)))/DSUM(Forespørgsel1[#All],\"\"&$W$5&\"\",$M$4:INDIRECT(ADDRESS($M$42,$M$43)))))),\"\")","v":""},{"$f":"IFERROR(IF(ISTEXT($B49)=TRUE,DSUM(Forespørgsel1[#All],\"\"&LEFT($C49,LEN($C49)-$A49)&\"\",$L$4:INDIRECT(ADDRESS($M$42,$M$43)))/DSUM(Forespørgsel1[#All],\"\"&$B49&\"\",$L$4:INDIRECT(ADDRESS($M$42,$M$43))),IF($B49=0,DAVERAGE(Forespørgsel1[#All],\"\"&LEFT($C49,LEN($C49)-$A49)&\"\",$L$4:INDIRECT(ADDRESS($M$42,$M$43))),IF($B49=1,DSUM(Forespørgsel1[#All],\"\"&LEFT($C49,LEN($C49)-$A49)&\"\",$L$4:INDIRECT(ADDRESS($M$42,$M$43)))/DSUM(Forespørgsel1[#All],\"\"&$V$5&\"\",$L$4:INDIRECT(ADDRESS($M$42,$M$43))),IF($B49=2,DSUM(Forespørgsel1[#All],\"\"&LEFT($C49,LEN($C49)-$A49)&\"\",$L$4:INDIRECT(ADDRESS($M$42,$M$43)))/DSUM(Forespørgsel1[#All],\"\"&$W$5&\"\",$L$4:INDIRECT(ADDRESS($M$42,$M$43))))))),\"\")","v":""}]
[null,"Antal Producerede kalve","Diverse stykomkostninger",{"$f":"IF(Choices!$A$1=2,Landsgennemsnit!$B50,IF(Choices!$A$1=3,Landsgennemsnit!$E50,\"\"))","v":-87.17353251848499},{"$f":"IF(Choices!$A$1=2,Landsgennemsnit!C50,IF(Choices!$A$1=3,Landsgennemsnit!F50,\"\"))","v":-73.486876075731502},{"$f":"IFERROR(IF(ISTEXT($B50)=TRUE,DSUM(Forespørgsel1[#All],\"\"&LEFT($C50,LEN($C50)-$A50)&\"\",$M$4:INDIRECT(ADDRESS($M$42,$M$43)))/DSUM(Forespørgsel1[#All],\"\"&$B50&\"\",$M$4:INDIRECT(ADDRESS($M$42,$M$43))),IF($B50=0,DAVERAGE(Forespørgsel1[#All],\"\"&LEFT($C50,LEN($C50)-$A50)&\"\",$M$4:INDIRECT(ADDRESS($M$42,$M$43))),IF($B50=1,DSUM(Forespørgsel1[#All],\"\"&LEFT($C50,LEN($C50)-$A50)&\"\",$M$4:INDIRECT(ADDRESS($M$42,$M$43)))/DSUM(Forespørgsel1[#All],\"\"&$V$5&\"\",$M$4:INDIRECT(ADDRESS($M$42,$M$43))),DSUM(Forespørgsel1[#All],\"\"&LEFT($C50,LEN($C50)-$A50)&\"\",$M$4:INDIRECT(ADDRESS($M$42,$M$43)))/DSUM(Forespørgsel1[#All],\"\"&$W$5&\"\",$M$4:INDIRECT(ADDRESS($M$42,$M$43)))))),\"\")","v":""},{"$f":"IFERROR(IF(ISTEXT($B50)=TRUE,DSUM(Forespørgsel1[#All],\"\"&LEFT($C50,LEN($C50)-$A50)&\"\",$L$4:INDIRECT(ADDRESS($M$42,$M$43)))/DSUM(Forespørgsel1[#All],\"\"&$B50&\"\",$L$4:INDIRECT(ADDRESS($M$42,$M$43))),IF($B50=0,DAVERAGE(Forespørgsel1[#All],\"\"&LEFT($C50,LEN($C50)-$A50)&\"\",$L$4:INDIRECT(ADDRESS($M$42,$M$43))),IF($B50=1,DSUM(Forespørgsel1[#All],\"\"&LEFT($C50,LEN($C50)-$A50)&\"\",$L$4:INDIRECT(ADDRESS($M$42,$M$43)))/DSUM(Forespørgsel1[#All],\"\"&$V$5&\"\",$L$4:INDIRECT(ADDRESS($M$42,$M$43))),IF($B50=2,DSUM(Forespørgsel1[#All],\"\"&LEFT($C50,LEN($C50)-$A50)&\"\",$L$4:INDIRECT(ADDRESS($M$42,$M$43)))/DSUM(Forespørgsel1[#All],\"\"&$W$5&\"\",$L$4:INDIRECT(ADDRESS($M$42,$M$43))))))),\"\")","v":""}]
[null,"Antal Producerede kalve","Stykomkostninger i alt",{"$f":"IF(Choices!$A$1=2,Landsgennemsnit!$B51,IF(Choices!$A$1=3,Landsgennemsnit!$E51,\"\"))","v":-3068.1090488406012},{"$f":"IF(Choices!$A$1=2,Landsgennemsnit!C51,IF(Choices!$A$1=3,Landsgennemsnit!F51,\"\"))","v":-2932.6323149741825},{"$f":"IFERROR(IF(ISTEXT($B51)=TRUE,DSUM(Forespørgsel1[#All],\"\"&LEFT($C51,LEN($C51)-$A51)&\"\",$M$4:INDIRECT(ADDRESS($M$42,$M$43)))/DSUM(Forespørgsel1[#All],\"\"&$B51&\"\",$M$4:INDIRECT(ADDRESS($M$42,$M$43))),IF($B51=0,DAVERAGE(Forespørgsel1[#All],\"\"&LEFT($C51,LEN($C51)-$A51)&\"\",$M$4:INDIRECT(ADDRESS($M$42,$M$43))),IF($B51=1,DSUM(Forespørgsel1[#All],\"\"&LEFT($C51,LEN($C51)-$A51)&\"\",$M$4:INDIRECT(ADDRESS($M$42,$M$43)))/DSUM(Forespørgsel1[#All],\"\"&$V$5&\"\",$M$4:INDIRECT(ADDRESS($M$42,$M$43))),DSUM(Forespørgsel1[#All],\"\"&LEFT($C51,LEN($C51)-$A51)&\"\",$M$4:INDIRECT(ADDRESS($M$42,$M$43)))/DSUM(Forespørgsel1[#All],\"\"&$W$5&\"\",$M$4:INDIRECT(ADDRESS($M$42,$M$43)))))),\"\")","v":""},{"$f":"IFERROR(IF(ISTEXT($B51)=TRUE,DSUM(Forespørgsel1[#All],\"\"&LEFT($C51,LEN($C51)-$A51)&\"\",$L$4:INDIRECT(ADDRESS($M$42,$M$43)))/DSUM(Forespørgsel1[#All],\"\"&$B51&\"\",$L$4:INDIRECT(ADDRESS($M$42,$M$43))),IF($B51=0,DAVERAGE(Forespørgsel1[#All],\"\"&LEFT($C51,LEN($C51)-$A51)&\"\",$L$4:INDIRECT(ADDRESS($M$42,$M$43))),IF($B51=1,DSUM(Forespørgsel1[#All],\"\"&LEFT($C51,LEN($C51)-$A51)&\"\",$L$4:INDIRECT(ADDRESS($M$42,$M$43)))/DSUM(Forespørgsel1[#All],\"\"&$V$5&\"\",$L$4:INDIRECT(ADDRESS($M$42,$M$43))),IF($B51=2,DSUM(Forespørgsel1[#All],\"\"&LEFT($C51,LEN($C51)-$A51)&\"\",$L$4:INDIRECT(ADDRESS($M$42,$M$43)))/DSUM(Forespørgsel1[#All],\"\"&$W$5&\"\",$L$4:INDIRECT(ADDRESS($M$42,$M$43))))))),\"\")","v":""}]
[null,null,0,{"$f":"IF(Choices!$A$1=2,Landsgennemsnit!$B52,IF(Choices!$A$1=3,Landsgennemsnit!$E52,\"\"))","v":""},{"$f":"IF(Choices!$A$1=2,Landsgennemsnit!C52,IF(Choices!$A$1=3,Landsgennemsnit!F52,\"\"))","v":""},{"$f":"IFERROR(IF(ISTEXT($B52)=TRUE,DSUM(Forespørgsel1[#All],\"\"&LEFT($C52,LEN($C52)-$A52)&\"\",$M$4:INDIRECT(ADDRESS($M$42,$M$43)))/DSUM(Forespørgsel1[#All],\"\"&$B52&\"\",$M$4:INDIRECT(ADDRESS($M$42,$M$43))),IF($B52=0,DAVERAGE(Forespørgsel1[#All],\"\"&LEFT($C52,LEN($C52)-$A52)&\"\",$M$4:INDIRECT(ADDRESS($M$42,$M$43))),IF($B52=1,DSUM(Forespørgsel1[#All],\"\"&LEFT($C52,LEN($C52)-$A52)&\"\",$M$4:INDIRECT(ADDRESS($M$42,$M$43)))/DSUM(Forespørgsel1[#All],\"\"&$V$5&\"\",$M$4:INDIRECT(ADDRESS($M$42,$M$43))),DSUM(Forespørgsel1[#All],\"\"&LEFT($C52,LEN($C52)-$A52)&\"\",$M$4:INDIRECT(ADDRESS($M$42,$M$43)))/DSUM(Forespørgsel1[#All],\"\"&$W$5&\"\",$M$4:INDIRECT(ADDRESS($M$42,$M$43)))))),\"\")","v":""},{"$f":"IFERROR(IF(ISTEXT($B52)=TRUE,DSUM(Forespørgsel1[#All],\"\"&LEFT($C52,LEN($C52)-$A52)&\"\",$L$4:INDIRECT(ADDRESS($M$42,$M$43)))/DSUM(Forespørgsel1[#All],\"\"&$B52&\"\",$L$4:INDIRECT(ADDRESS($M$42,$M$43))),IF($B52=0,DAVERAGE(Forespørgsel1[#All],\"\"&LEFT($C52,LEN($C52)-$A52)&\"\",$L$4:INDIRECT(ADDRESS($M$42,$M$43))),IF($B52=1,DSUM(Forespørgsel1[#All],\"\"&LEFT($C52,LEN($C52)-$A52)&\"\",$L$4:INDIRECT(ADDRESS($M$42,$M$43)))/DSUM(Forespørgsel1[#All],\"\"&$V$5&\"\",$L$4:INDIRECT(ADDRESS($M$42,$M$43))),IF($B52=2,DSUM(Forespørgsel1[#All],\"\"&LEFT($C52,LEN($C52)-$A52)&\"\",$L$4:INDIRECT(ADDRESS($M$42,$M$43)))/DSUM(Forespørgsel1[#All],\"\"&$W$5&\"\",$L$4:INDIRECT(ADDRESS($M$42,$M$43))))))),\"\")","v":""}]
[null,"Antal Producerede kalve","Dækningsbidrag",{"$f":"IF(Choices!$A$1=2,Landsgennemsnit!$B53,IF(Choices!$A$1=3,Landsgennemsnit!$E53,\"\"))","v":1949.7207383934406},{"$f":"IF(Choices!$A$1=2,Landsgennemsnit!C53,IF(Choices!$A$1=3,Landsgennemsnit!F53,\"\"))","v":2422.7837779690185},{"$f":"IFERROR(IF(ISTEXT($B53)=TRUE,DSUM(Forespørgsel1[#All],\"\"&LEFT($C53,LEN($C53)-$A53)&\"\",$M$4:INDIRECT(ADDRESS($M$42,$M$43)))/DSUM(Forespørgsel1[#All],\"\"&$B53&\"\",$M$4:INDIRECT(ADDRESS($M$42,$M$43))),IF($B53=0,DAVERAGE(Forespørgsel1[#All],\"\"&LEFT($C53,LEN($C53)-$A53)&\"\",$M$4:INDIRECT(ADDRESS($M$42,$M$43))),IF($B53=1,DSUM(Forespørgsel1[#All],\"\"&LEFT($C53,LEN($C53)-$A53)&\"\",$M$4:INDIRECT(ADDRESS($M$42,$M$43)))/DSUM(Forespørgsel1[#All],\"\"&$V$5&\"\",$M$4:INDIRECT(ADDRESS($M$42,$M$43))),DSUM(Forespørgsel1[#All],\"\"&LEFT($C53,LEN($C53)-$A53)&\"\",$M$4:INDIRECT(ADDRESS($M$42,$M$43)))/DSUM(Forespørgsel1[#All],\"\"&$W$5&\"\",$M$4:INDIRECT(ADDRESS($M$42,$M$43)))))),\"\")","v":""},{"$f":"IFERROR(IF(ISTEXT($B53)=TRUE,DSUM(Forespørgsel1[#All],\"\"&LEFT($C53,LEN($C53)-$A53)&\"\",$L$4:INDIRECT(ADDRESS($M$42,$M$43)))/DSUM(Forespørgsel1[#All],\"\"&$B53&\"\",$L$4:INDIRECT(ADDRESS($M$42,$M$43))),IF($B53=0,DAVERAGE(Forespørgsel1[#All],\"\"&LEFT($C53,LEN($C53)-$A53)&\"\",$L$4:INDIRECT(ADDRESS($M$42,$M$43))),IF($B53=1,DSUM(Forespørgsel1[#All],\"\"&LEFT($C53,LEN($C53)-$A53)&\"\",$L$4:INDIRECT(ADDRESS($M$42,$M$43)))/DSUM(Forespørgsel1[#All],\"\"&$V$5&\"\",$L$4:INDIRECT(ADDRESS($M$42,$M$43))),IF($B53=2,DSUM(Forespørgsel1[#All],\"\"&LEFT($C53,LEN($C53)-$A53)&\"\",$L$4:INDIRECT(ADDRESS($M$42,$M$43)))/DSUM(Forespørgsel1[#All],\"\"&$W$5&\"\",$L$4:INDIRECT(ADDRESS($M$42,$M$43))))))),\"\")","v":""}]
[null,null,0,{"$f":"IF(Choices!$A$1=2,Landsgennemsnit!$B54,IF(Choices!$A$1=3,Landsgennemsnit!$E54,\"\"))","v":""},{"$f":"IF(Choices!$A$1=2,Landsgennemsnit!C54,IF(Choices!$A$1=3,Landsgennemsnit!F54,\"\"))","v":""},{"$f":"IFERROR(IF(ISTEXT($B54)=TRUE,DSUM(Forespørgsel1[#All],\"\"&LEFT($C54,LEN($C54)-$A54)&\"\",$M$4:INDIRECT(ADDRESS($M$42,$M$43)))/DSUM(Forespørgsel1[#All],\"\"&$B54&\"\",$M$4:INDIRECT(ADDRESS($M$42,$M$43))),IF($B54=0,DAVERAGE(Forespørgsel1[#All],\"\"&LEFT($C54,LEN($C54)-$A54)&\"\",$M$4:INDIRECT(ADDRESS($M$42,$M$43))),IF($B54=1,DSUM(Forespørgsel1[#All],\"\"&LEFT($C54,LEN($C54)-$A54)&\"\",$M$4:INDIRECT(ADDRESS($M$42,$M$43)))/DSUM(Forespørgsel1[#All],\"\"&$V$5&\"\",$M$4:INDIRECT(ADDRESS($M$42,$M$43))),DSUM(Forespørgsel1[#All],\"\"&LEFT($C54,LEN($C54)-$A54)&\"\",$M$4:INDIRECT(ADDRESS($M$42,$M$43)))/DSUM(Forespørgsel1[#All],\"\"&$W$5&\"\",$M$4:INDIRECT(ADDRESS($M$42,$M$43)))))),\"\")","v":""},{"$f":"IFERROR(IF(ISTEXT($B54)=TRUE,DSUM(Forespørgsel1[#All],\"\"&LEFT($C54,LEN($C54)-$A54)&\"\",$L$4:INDIRECT(ADDRESS($M$42,$M$43)))/DSUM(Forespørgsel1[#All],\"\"&$B54&\"\",$L$4:INDIRECT(ADDRESS($M$42,$M$43))),IF($B54=0,DAVERAGE(Forespørgsel1[#All],\"\"&LEFT($C54,LEN($C54)-$A54)&\"\",$L$4:INDIRECT(ADDRESS($M$42,$M$43))),IF($B54=1,DSUM(Forespørgsel1[#All],\"\"&LEFT($C54,LEN($C54)-$A54)&\"\",$L$4:INDIRECT(ADDRESS($M$42,$M$43)))/DSUM(Forespørgsel1[#All],\"\"&$V$5&\"\",$L$4:INDIRECT(ADDRESS($M$42,$M$43))),IF($B54=2,DSUM(Forespørgsel1[#All],\"\"&LEFT($C54,LEN($C54)-$A54)&\"\",$L$4:INDIRECT(ADDRESS($M$42,$M$43)))/DSUM(Forespørgsel1[#All],\"\"&$W$5&\"\",$L$4:INDIRECT(ADDRESS($M$42,$M$43))))))),\"\")","v":""}]
[null,"Antal Producerede kalve","Energi",{"$f":"IF(Choices!$A$1=2,Landsgennemsnit!$B55,IF(Choices!$A$1=3,Landsgennemsnit!$E55,\"\"))","v":-36.35410693627081},{"$f":"IF(Choices!$A$1=2,Landsgennemsnit!C55,IF(Choices!$A$1=3,Landsgennemsnit!F55,\"\"))","v":-41.032702237521512},{"$f":"IFERROR(IF(ISTEXT($B55)=TRUE,DSUM(Forespørgsel1[#All],\"\"&LEFT($C55,LEN($C55)-$A55)&\"\",$M$4:INDIRECT(ADDRESS($M$42,$M$43)))/DSUM(Forespørgsel1[#All],\"\"&$B55&\"\",$M$4:INDIRECT(ADDRESS($M$42,$M$43))),IF($B55=0,DAVERAGE(Forespørgsel1[#All],\"\"&LEFT($C55,LEN($C55)-$A55)&\"\",$M$4:INDIRECT(ADDRESS($M$42,$M$43))),IF($B55=1,DSUM(Forespørgsel1[#All],\"\"&LEFT($C55,LEN($C55)-$A55)&\"\",$M$4:INDIRECT(ADDRESS($M$42,$M$43)))/DSUM(Forespørgsel1[#All],\"\"&$V$5&\"\",$M$4:INDIRECT(ADDRESS($M$42,$M$43))),DSUM(Forespørgsel1[#All],\"\"&LEFT($C55,LEN($C55)-$A55)&\"\",$M$4:INDIRECT(ADDRESS($M$42,$M$43)))/DSUM(Forespørgsel1[#All],\"\"&$W$5&\"\",$M$4:INDIRECT(ADDRESS($M$42,$M$43)))))),\"\")","v":""},{"$f":"IFERROR(IF(ISTEXT($B55)=TRUE,DSUM(Forespørgsel1[#All],\"\"&LEFT($C55,LEN($C55)-$A55)&\"\",$L$4:INDIRECT(ADDRESS($M$42,$M$43)))/DSUM(Forespørgsel1[#All],\"\"&$B55&\"\",$L$4:INDIRECT(ADDRESS($M$42,$M$43))),IF($B55=0,DAVERAGE(Forespørgsel1[#All],\"\"&LEFT($C55,LEN($C55)-$A55)&\"\",$L$4:INDIRECT(ADDRESS($M$42,$M$43))),IF($B55=1,DSUM(Forespørgsel1[#All],\"\"&LEFT($C55,LEN($C55)-$A55)&\"\",$L$4:INDIRECT(ADDRESS($M$42,$M$43)))/DSUM(Forespørgsel1[#All],\"\"&$V$5&\"\",$L$4:INDIRECT(ADDRESS($M$42,$M$43))),IF($B55=2,DSUM(Forespørgsel1[#All],\"\"&LEFT($C55,LEN($C55)-$A55)&\"\",$L$4:INDIRECT(ADDRESS($M$42,$M$43)))/DSUM(Forespørgsel1[#All],\"\"&$W$5&\"\",$L$4:INDIRECT(ADDRESS($M$42,$M$43))))))),\"\")","v":""}]
[null,"Antal Producerede kalve","Brændstof og maskinstation",{"$f":"IF(Choices!$A$1=2,Landsgennemsnit!$B56,IF(Choices!$A$1=3,Landsgennemsnit!$E56,\"\"))","v":-50.596800965746191},{"$f":"IF(Choices!$A$1=2,Landsgennemsnit!C56,IF(Choices!$A$1=3,Landsgennemsnit!F56,\"\"))","v":-37.837994836488811},{"$f":"IFERROR(IF(ISTEXT($B56)=TRUE,DSUM(Forespørgsel1[#All],\"\"&LEFT($C56,LEN($C56)-$A56)&\"\",$M$4:INDIRECT(ADDRESS($M$42,$M$43)))/DSUM(Forespørgsel1[#All],\"\"&$B56&\"\",$M$4:INDIRECT(ADDRESS($M$42,$M$43))),IF($B56=0,DAVERAGE(Forespørgsel1[#All],\"\"&LEFT($C56,LEN($C56)-$A56)&\"\",$M$4:INDIRECT(ADDRESS($M$42,$M$43))),IF($B56=1,DSUM(Forespørgsel1[#All],\"\"&LEFT($C56,LEN($C56)-$A56)&\"\",$M$4:INDIRECT(ADDRESS($M$42,$M$43)))/DSUM(Forespørgsel1[#All],\"\"&$V$5&\"\",$M$4:INDIRECT(ADDRESS($M$42,$M$43))),DSUM(Forespørgsel1[#All],\"\"&LEFT($C56,LEN($C56)-$A56)&\"\",$M$4:INDIRECT(ADDRESS($M$42,$M$43)))/DSUM(Forespørgsel1[#All],\"\"&$W$5&\"\",$M$4:INDIRECT(ADDRESS($M$42,$M$43)))))),\"\")","v":""},{"$f":"IFERROR(IF(ISTEXT($B56)=TRUE,DSUM(Forespørgsel1[#All],\"\"&LEFT($C56,LEN($C56)-$A56)&\"\",$L$4:INDIRECT(ADDRESS($M$42,$M$43)))/DSUM(Forespørgsel1[#All],\"\"&$B56&\"\",$L$4:INDIRECT(ADDRESS($M$42,$M$43))),IF($B56=0,DAVERAGE(Forespørgsel1[#All],\"\"&LEFT($C56,LEN($C56)-$A56)&\"\",$L$4:INDIRECT(ADDRESS($M$42,$M$43))),IF($B56=1,DSUM(Forespørgsel1[#All],\"\"&LEFT($C56,LEN($C56)-$A56)&\"\",$L$4:INDIRECT(ADDRESS($M$42,$M$43)))/DSUM(Forespørgsel1[#All],\"\"&$V$5&\"\",$L$4:INDIRECT(ADDRESS($M$42,$M$43))),IF($B56=2,DSUM(Forespørgsel1[#All],\"\"&LEFT($C56,LEN($C56)-$A56)&\"\",$L$4:INDIRECT(ADDRESS($M$42,$M$43)))/DSUM(Forespørgsel1[#All],\"\"&$W$5&\"\",$L$4:INDIRECT(ADDRESS($M$42,$M$43))))))),\"\")","v":""}]
[null,"Antal Producerede kalve","Vedligehold",{"$f":"IF(Choices!$A$1=2,Landsgennemsnit!$B57,IF(Choices!$A$1=3,Landsgennemsnit!$E57,\"\"))","v":-144.43106483577284},{"$f":"IF(Choices!$A$1=2,Landsgennemsnit!C57,IF(Choices!$A$1=3,Landsgennemsnit!F57,\"\"))","v":-141.19750430292598},{"$f":"IFERROR(IF(ISTEXT($B57)=TRUE,DSUM(Forespørgsel1[#All],\"\"&LEFT($C57,LEN($C57)-$A57)&\"\",$M$4:INDIRECT(ADDRESS($M$42,$M$43)))/DSUM(Forespørgsel1[#All],\"\"&$B57&\"\",$M$4:INDIRECT(ADDRESS($M$42,$M$43))),IF($B57=0,DAVERAGE(Forespørgsel1[#All],\"\"&LEFT($C57,LEN($C57)-$A57)&\"\",$M$4:INDIRECT(ADDRESS($M$42,$M$43))),IF($B57=1,DSUM(Forespørgsel1[#All],\"\"&LEFT($C57,LEN($C57)-$A57)&\"\",$M$4:INDIRECT(ADDRESS($M$42,$M$43)))/DSUM(Forespørgsel1[#All],\"\"&$V$5&\"\",$M$4:INDIRECT(ADDRESS($M$42,$M$43))),DSUM(Forespørgsel1[#All],\"\"&LEFT($C57,LEN($C57)-$A57)&\"\",$M$4:INDIRECT(ADDRESS($M$42,$M$43)))/DSUM(Forespørgsel1[#All],\"\"&$W$5&\"\",$M$4:INDIRECT(ADDRESS($M$42,$M$43)))))),\"\")","v":""},{"$f":"IFERROR(IF(ISTEXT($B57)=TRUE,DSUM(Forespørgsel1[#All],\"\"&LEFT($C57,LEN($C57)-$A57)&\"\",$L$4:INDIRECT(ADDRESS($M$42,$M$43)))/DSUM(Forespørgsel1[#All],\"\"&$B57&\"\",$L$4:INDIRECT(ADDRESS($M$42,$M$43))),IF($B57=0,DAVERAGE(Forespørgsel1[#All],\"\"&LEFT($C57,LEN($C57)-$A57)&\"\",$L$4:INDIRECT(ADDRESS($M$42,$M$43))),IF($B57=1,DSUM(Forespørgsel1[#All],\"\"&LEFT($C57,LEN($C57)-$A57)&\"\",$L$4:INDIRECT(ADDRESS($M$42,$M$43)))/DSUM(Forespørgsel1[#All],\"\"&$V$5&\"\",$L$4:INDIRECT(ADDRESS($M$42,$M$43))),IF($B57=2,DSUM(Forespørgsel1[#All],\"\"&LEFT($C57,LEN($C57)-$A57)&\"\",$L$4:INDIRECT(ADDRESS($M$42,$M$43)))/DSUM(Forespørgsel1[#All],\"\"&$W$5&\"\",$L$4:INDIRECT(ADDRESS($M$42,$M$43))))))),\"\")","v":""}]
[null,"Antal Producerede kalve","Lønomkostninger",{"$f":"IF(Choices!$A$1=2,Landsgennemsnit!$B58,IF(Choices!$A$1=3,Landsgennemsnit!$E58,\"\"))","v":-310.84145666716967},{"$f":"IF(Choices!$A$1=2,Landsgennemsnit!C58,IF(Choices!$A$1=3,Landsgennemsnit!F58,\"\"))","v":-434.45783132530119},{"$f":"IFERROR(IF(ISTEXT($B58)=TRUE,DSUM(Forespørgsel1[#All],\"\"&LEFT($C58,LEN($C58)-$A58)&\"\",$M$4:INDIRECT(ADDRESS($M$42,$M$43)))/DSUM(Forespørgsel1[#All],\"\"&$B58&\"\",$M$4:INDIRECT(ADDRESS($M$42,$M$43))),IF($B58=0,DAVERAGE(Forespørgsel1[#All],\"\"&LEFT($C58,LEN($C58)-$A58)&\"\",$M$4:INDIRECT(ADDRESS($M$42,$M$43))),IF($B58=1,DSUM(Forespørgsel1[#All],\"\"&LEFT($C58,LEN($C58)-$A58)&\"\",$M$4:INDIRECT(ADDRESS($M$42,$M$43)))/DSUM(Forespørgsel1[#All],\"\"&$V$5&\"\",$M$4:INDIRECT(ADDRESS($M$42,$M$43))),DSUM(Forespørgsel1[#All],\"\"&LEFT($C58,LEN($C58)-$A58)&\"\",$M$4:INDIRECT(ADDRESS($M$42,$M$43)))/DSUM(Forespørgsel1[#All],\"\"&$W$5&\"\",$M$4:INDIRECT(ADDRESS($M$42,$M$43)))))),\"\")","v":""},{"$f":"IFERROR(IF(ISTEXT($B58)=TRUE,DSUM(Forespørgsel1[#All],\"\"&LEFT($C58,LEN($C58)-$A58)&\"\",$L$4:INDIRECT(ADDRESS($M$42,$M$43)))/DSUM(Forespørgsel1[#All],\"\"&$B58&\"\",$L$4:INDIRECT(ADDRESS($M$42,$M$43))),IF($B58=0,DAVERAGE(Forespørgsel1[#All],\"\"&LEFT($C58,LEN($C58)-$A58)&\"\",$L$4:INDIRECT(ADDRESS($M$42,$M$43))),IF($B58=1,DSUM(Forespørgsel1[#All],\"\"&LEFT($C58,LEN($C58)-$A58)&\"\",$L$4:INDIRECT(ADDRESS($M$42,$M$43)))/DSUM(Forespørgsel1[#All],\"\"&$V$5&\"\",$L$4:INDIRECT(ADDRESS($M$42,$M$43))),IF($B58=2,DSUM(Forespørgsel1[#All],\"\"&LEFT($C58,LEN($C58)-$A58)&\"\",$L$4:INDIRECT(ADDRESS($M$42,$M$43)))/DSUM(Forespørgsel1[#All],\"\"&$W$5&\"\",$L$4:INDIRECT(ADDRESS($M$42,$M$43))))))),\"\")","v":""}]
[null,"Antal Producerede kalve","Ejeraflønning",{"$f":"IF(Choices!$A$1=2,Landsgennemsnit!$B59,IF(Choices!$A$1=3,Landsgennemsnit!$E59,\"\"))","v":-330.6967456365374},{"$f":"IF(Choices!$A$1=2,Landsgennemsnit!C59,IF(Choices!$A$1=3,Landsgennemsnit!F59,\"\"))","v":-195.88704819277109},{"$f":"IFERROR(IF(ISTEXT($B59)=TRUE,DSUM(Forespørgsel1[#All],\"\"&LEFT($C59,LEN($C59)-$A59)&\"\",$M$4:INDIRECT(ADDRESS($M$42,$M$43)))/DSUM(Forespørgsel1[#All],\"\"&$B59&\"\",$M$4:INDIRECT(ADDRESS($M$42,$M$43))),IF($B59=0,DAVERAGE(Forespørgsel1[#All],\"\"&LEFT($C59,LEN($C59)-$A59)&\"\",$M$4:INDIRECT(ADDRESS($M$42,$M$43))),IF($B59=1,DSUM(Forespørgsel1[#All],\"\"&LEFT($C59,LEN($C59)-$A59)&\"\",$M$4:INDIRECT(ADDRESS($M$42,$M$43)))/DSUM(Forespørgsel1[#All],\"\"&$V$5&\"\",$M$4:INDIRECT(ADDRESS($M$42,$M$43))),DSUM(Forespørgsel1[#All],\"\"&LEFT($C59,LEN($C59)-$A59)&\"\",$M$4:INDIRECT(ADDRESS($M$42,$M$43)))/DSUM(Forespørgsel1[#All],\"\"&$W$5&\"\",$M$4:INDIRECT(ADDRESS($M$42,$M$43)))))),\"\")","v":""},{"$f":"IFERROR(IF(ISTEXT($B59)=TRUE,DSUM(Forespørgsel1[#All],\"\"&LEFT($C59,LEN($C59)-$A59)&\"\",$L$4:INDIRECT(ADDRESS($M$42,$M$43)))/DSUM(Forespørgsel1[#All],\"\"&$B59&\"\",$L$4:INDIRECT(ADDRESS($M$42,$M$43))),IF($B59=0,DAVERAGE(Forespørgsel1[#All],\"\"&LEFT($C59,LEN($C59)-$A59)&\"\",$L$4:INDIRECT(ADDRESS($M$42,$M$43))),IF($B59=1,DSUM(Forespørgsel1[#All],\"\"&LEFT($C59,LEN($C59)-$A59)&\"\",$L$4:INDIRECT(ADDRESS($M$42,$M$43)))/DSUM(Forespørgsel1[#All],\"\"&$V$5&\"\",$L$4:INDIRECT(ADDRESS($M$42,$M$43))),IF($B59=2,DSUM(Forespørgsel1[#All],\"\"&LEFT($C59,LEN($C59)-$A59)&\"\",$L$4:INDIRECT(ADDRESS($M$42,$M$43)))/DSUM(Forespørgsel1[#All],\"\"&$W$5&\"\",$L$4:INDIRECT(ADDRESS($M$42,$M$43))))))),\"\")","v":""}]
[null,"Antal Producerede kalve","Forsikring",{"$f":"IF(Choices!$A$1=2,Landsgennemsnit!$B60,IF(Choices!$A$1=3,Landsgennemsnit!$E60,\"\"))","v":-60.506312559730397},{"$f":"IF(Choices!$A$1=2,Landsgennemsnit!C60,IF(Choices!$A$1=3,Landsgennemsnit!F60,\"\"))","v":-55.859509466437174},{"$f":"IFERROR(IF(ISTEXT($B60)=TRUE,DSUM(Forespørgsel1[#All],\"\"&LEFT($C60,LEN($C60)-$A60)&\"\",$M$4:INDIRECT(ADDRESS($M$42,$M$43)))/DSUM(Forespørgsel1[#All],\"\"&$B60&\"\",$M$4:INDIRECT(ADDRESS($M$42,$M$43))),IF($B60=0,DAVERAGE(Forespørgsel1[#All],\"\"&LEFT($C60,LEN($C60)-$A60)&\"\",$M$4:INDIRECT(ADDRESS($M$42,$M$43))),IF($B60=1,DSUM(Forespørgsel1[#All],\"\"&LEFT($C60,LEN($C60)-$A60)&\"\",$M$4:INDIRECT(ADDRESS($M$42,$M$43)))/DSUM(Forespørgsel1[#All],\"\"&$V$5&\"\",$M$4:INDIRECT(ADDRESS($M$42,$M$43))),DSUM(Forespørgsel1[#All],\"\"&LEFT($C60,LEN($C60)-$A60)&\"\",$M$4:INDIRECT(ADDRESS($M$42,$M$43)))/DSUM(Forespørgsel1[#All],\"\"&$W$5&\"\",$M$4:INDIRECT(ADDRESS($M$42,$M$43)))))),\"\")","v":""},{"$f":"IFERROR(IF(ISTEXT($B60)=TRUE,DSUM(Forespørgsel1[#All],\"\"&LEFT($C60,LEN($C60)-$A60)&\"\",$L$4:INDIRECT(ADDRESS($M$42,$M$43)))/DSUM(Forespørgsel1[#All],\"\"&$B60&\"\",$L$4:INDIRECT(ADDRESS($M$42,$M$43))),IF($B60=0,DAVERAGE(Forespørgsel1[#All],\"\"&LEFT($C60,LEN($C60)-$A60)&\"\",$L$4:INDIRECT(ADDRESS($M$42,$M$43))),IF($B60=1,DSUM(Forespørgsel1[#All],\"\"&LEFT($C60,LEN($C60)-$A60)&\"\",$L$4:INDIRECT(ADDRESS($M$42,$M$43)))/DSUM(Forespørgsel1[#All],\"\"&$V$5&\"\",$L$4:INDIRECT(ADDRESS($M$42,$M$43))),IF($B60=2,DSUM(Forespørgsel1[#All],\"\"&LEFT($C60,LEN($C60)-$A60)&\"\",$L$4:INDIRECT(ADDRESS($M$42,$M$43)))/DSUM(Forespørgsel1[#All],\"\"&$W$5&\"\",$L$4:INDIRECT(ADDRESS($M$42,$M$43))))))),\"\")","v":""}]
[null,"Antal Producerede kalve","Diverse kapacitetsomkostninger",{"$f":"IF(Choices!$A$1=2,Landsgennemsnit!$B61,IF(Choices!$A$1=3,Landsgennemsnit!$E61,\"\"))","v":-127.46436295960967},{"$f":"IF(Choices!$A$1=2,Landsgennemsnit!C61,IF(Choices!$A$1=3,Landsgennemsnit!F61,\"\"))","v":-80.03399311531841},{"$f":"IFERROR(IF(ISTEXT($B61)=TRUE,DSUM(Forespørgsel1[#All],\"\"&LEFT($C61,LEN($C61)-$A61)&\"\",$M$4:INDIRECT(ADDRESS($M$42,$M$43)))/DSUM(Forespørgsel1[#All],\"\"&$B61&\"\",$M$4:INDIRECT(ADDRESS($M$42,$M$43))),IF($B61=0,DAVERAGE(Forespørgsel1[#All],\"\"&LEFT($C61,LEN($C61)-$A61)&\"\",$M$4:INDIRECT(ADDRESS($M$42,$M$43))),IF($B61=1,DSUM(Forespørgsel1[#All],\"\"&LEFT($C61,LEN($C61)-$A61)&\"\",$M$4:INDIRECT(ADDRESS($M$42,$M$43)))/DSUM(Forespørgsel1[#All],\"\"&$V$5&\"\",$M$4:INDIRECT(ADDRESS($M$42,$M$43))),DSUM(Forespørgsel1[#All],\"\"&LEFT($C61,LEN($C61)-$A61)&\"\",$M$4:INDIRECT(ADDRESS($M$42,$M$43)))/DSUM(Forespørgsel1[#All],\"\"&$W$5&\"\",$M$4:INDIRECT(ADDRESS($M$42,$M$43)))))),\"\")","v":""},{"$f":"IFERROR(IF(ISTEXT($B61)=TRUE,DSUM(Forespørgsel1[#All],\"\"&LEFT($C61,LEN($C61)-$A61)&\"\",$L$4:INDIRECT(ADDRESS($M$42,$M$43)))/DSUM(Forespørgsel1[#All],\"\"&$B61&\"\",$L$4:INDIRECT(ADDRESS($M$42,$M$43))),IF($B61=0,DAVERAGE(Forespørgsel1[#All],\"\"&LEFT($C61,LEN($C61)-$A61)&\"\",$L$4:INDIRECT(ADDRESS($M$42,$M$43))),IF($B61=1,DSUM(Forespørgsel1[#All],\"\"&LEFT($C61,LEN($C61)-$A61)&\"\",$L$4:INDIRECT(ADDRESS($M$42,$M$43)))/DSUM(Forespørgsel1[#All],\"\"&$V$5&\"\",$L$4:INDIRECT(ADDRESS($M$42,$M$43))),IF($B61=2,DSUM(Forespørgsel1[#All],\"\"&LEFT($C61,LEN($C61)-$A61)&\"\",$L$4:INDIRECT(ADDRESS($M$42,$M$43)))/DSUM(Forespørgsel1[#All],\"\"&$W$5&\"\",$L$4:INDIRECT(ADDRESS($M$42,$M$43))))))),\"\")","v":""}]
[null,"Antal Producerede kalve","Kapacitetsomkostninger i alt",{"$f":"IF(Choices!$A$1=2,Landsgennemsnit!$B62,IF(Choices!$A$1=3,Landsgennemsnit!$E62,\"\"))","v":-1060.890850560837},{"$f":"IF(Choices!$A$1=2,Landsgennemsnit!C62,IF(Choices!$A$1=3,Landsgennemsnit!F62,\"\"))","v":-986.3065834767641},{"$f":"IFERROR(IF(ISTEXT($B62)=TRUE,DSUM(Forespørgsel1[#All],\"\"&LEFT($C62,LEN($C62)-$A62)&\"\",$M$4:INDIRECT(ADDRESS($M$42,$M$43)))/DSUM(Forespørgsel1[#All],\"\"&$B62&\"\",$M$4:INDIRECT(ADDRESS($M$42,$M$43))),IF($B62=0,DAVERAGE(Forespørgsel1[#All],\"\"&LEFT($C62,LEN($C62)-$A62)&\"\",$M$4:INDIRECT(ADDRESS($M$42,$M$43))),IF($B62=1,DSUM(Forespørgsel1[#All],\"\"&LEFT($C62,LEN($C62)-$A62)&\"\",$M$4:INDIRECT(ADDRESS($M$42,$M$43)))/DSUM(Forespørgsel1[#All],\"\"&$V$5&\"\",$M$4:INDIRECT(ADDRESS($M$42,$M$43))),DSUM(Forespørgsel1[#All],\"\"&LEFT($C62,LEN($C62)-$A62)&\"\",$M$4:INDIRECT(ADDRESS($M$42,$M$43)))/DSUM(Forespørgsel1[#All],\"\"&$W$5&\"\",$M$4:INDIRECT(ADDRESS($M$42,$M$43)))))),\"\")","v":""},{"$f":"IFERROR(IF(ISTEXT($B62)=TRUE,DSUM(Forespørgsel1[#All],\"\"&LEFT($C62,LEN($C62)-$A62)&\"\",$L$4:INDIRECT(ADDRESS($M$42,$M$43)))/DSUM(Forespørgsel1[#All],\"\"&$B62&\"\",$L$4:INDIRECT(ADDRESS($M$42,$M$43))),IF($B62=0,DAVERAGE(Forespørgsel1[#All],\"\"&LEFT($C62,LEN($C62)-$A62)&\"\",$L$4:INDIRECT(ADDRESS($M$42,$M$43))),IF($B62=1,DSUM(Forespørgsel1[#All],\"\"&LEFT($C62,LEN($C62)-$A62)&\"\",$L$4:INDIRECT(ADDRESS($M$42,$M$43)))/DSUM(Forespørgsel1[#All],\"\"&$V$5&\"\",$L$4:INDIRECT(ADDRESS($M$42,$M$43))),IF($B62=2,DSUM(Forespørgsel1[#All],\"\"&LEFT($C62,LEN($C62)-$A62)&\"\",$L$4:INDIRECT(ADDRESS($M$42,$M$43)))/DSUM(Forespørgsel1[#All],\"\"&$W$5&\"\",$L$4:INDIRECT(ADDRESS($M$42,$M$43))))))),\"\")","v":""}]
[null,null,0,{"$f":"IF(Choices!$A$1=2,Landsgennemsnit!$B63,IF(Choices!$A$1=3,Landsgennemsnit!$E63,\"\"))","v":""},{"$f":"IF(Choices!$A$1=2,Landsgennemsnit!C63,IF(Choices!$A$1=3,Landsgennemsnit!F63,\"\"))","v":""},{"$f":"IFERROR(IF(ISTEXT($B63)=TRUE,DSUM(Forespørgsel1[#All],\"\"&LEFT($C63,LEN($C63)-$A63)&\"\",$M$4:INDIRECT(ADDRESS($M$42,$M$43)))/DSUM(Forespørgsel1[#All],\"\"&$B63&\"\",$M$4:INDIRECT(ADDRESS($M$42,$M$43))),IF($B63=0,DAVERAGE(Forespørgsel1[#All],\"\"&LEFT($C63,LEN($C63)-$A63)&\"\",$M$4:INDIRECT(ADDRESS($M$42,$M$43))),IF($B63=1,DSUM(Forespørgsel1[#All],\"\"&LEFT($C63,LEN($C63)-$A63)&\"\",$M$4:INDIRECT(ADDRESS($M$42,$M$43)))/DSUM(Forespørgsel1[#All],\"\"&$V$5&\"\",$M$4:INDIRECT(ADDRESS($M$42,$M$43))),DSUM(Forespørgsel1[#All],\"\"&LEFT($C63,LEN($C63)-$A63)&\"\",$M$4:INDIRECT(ADDRESS($M$42,$M$43)))/DSUM(Forespørgsel1[#All],\"\"&$W$5&\"\",$M$4:INDIRECT(ADDRESS($M$42,$M$43)))))),\"\")","v":""},{"$f":"IFERROR(IF(ISTEXT($B63)=TRUE,DSUM(Forespørgsel1[#All],\"\"&LEFT($C63,LEN($C63)-$A63)&\"\",$L$4:INDIRECT(ADDRESS($M$42,$M$43)))/DSUM(Forespørgsel1[#All],\"\"&$B63&\"\",$L$4:INDIRECT(ADDRESS($M$42,$M$43))),IF($B63=0,DAVERAGE(Forespørgsel1[#All],\"\"&LEFT($C63,LEN($C63)-$A63)&\"\",$L$4:INDIRECT(ADDRESS($M$42,$M$43))),IF($B63=1,DSUM(Forespørgsel1[#All],\"\"&LEFT($C63,LEN($C63)-$A63)&\"\",$L$4:INDIRECT(ADDRESS($M$42,$M$43)))/DSUM(Forespørgsel1[#All],\"\"&$V$5&\"\",$L$4:INDIRECT(ADDRESS($M$42,$M$43))),IF($B63=2,DSUM(Forespørgsel1[#All],\"\"&LEFT($C63,LEN($C63)-$A63)&\"\",$L$4:INDIRECT(ADDRESS($M$42,$M$43)))/DSUM(Forespørgsel1[#All],\"\"&$W$5&\"\",$L$4:INDIRECT(ADDRESS($M$42,$M$43))))))),\"\")","v":""}]
[null,"Antal Producerede kalve","Afskrivning, fast ejendom",{"$f":"IF(Choices!$A$1=2,Landsgennemsnit!$B64,IF(Choices!$A$1=3,Landsgennemsnit!$E64,\"\"))","v":-197.87359790754994},{"$f":"IF(Choices!$A$1=2,Landsgennemsnit!C64,IF(Choices!$A$1=3,Landsgennemsnit!F64,\"\"))","v":-200.64522375215145},{"$f":"IFERROR(IF(ISTEXT($B64)=TRUE,DSUM(Forespørgsel1[#All],\"\"&LEFT($C64,LEN($C64)-$A64)&\"\",$M$4:INDIRECT(ADDRESS($M$42,$M$43)))/DSUM(Forespørgsel1[#All],\"\"&$B64&\"\",$M$4:INDIRECT(ADDRESS($M$42,$M$43))),IF($B64=0,DAVERAGE(Forespørgsel1[#All],\"\"&LEFT($C64,LEN($C64)-$A64)&\"\",$M$4:INDIRECT(ADDRESS($M$42,$M$43))),IF($B64=1,DSUM(Forespørgsel1[#All],\"\"&LEFT($C64,LEN($C64)-$A64)&\"\",$M$4:INDIRECT(ADDRESS($M$42,$M$43)))/DSUM(Forespørgsel1[#All],\"\"&$V$5&\"\",$M$4:INDIRECT(ADDRESS($M$42,$M$43))),DSUM(Forespørgsel1[#All],\"\"&LEFT($C64,LEN($C64)-$A64)&\"\",$M$4:INDIRECT(ADDRESS($M$42,$M$43)))/DSUM(Forespørgsel1[#All],\"\"&$W$5&\"\",$M$4:INDIRECT(ADDRESS($M$42,$M$43)))))),\"\")","v":""},{"$f":"IFERROR(IF(ISTEXT($B64)=TRUE,DSUM(Forespørgsel1[#All],\"\"&LEFT($C64,LEN($C64)-$A64)&\"\",$L$4:INDIRECT(ADDRESS($M$42,$M$43)))/DSUM(Forespørgsel1[#All],\"\"&$B64&\"\",$L$4:INDIRECT(ADDRESS($M$42,$M$43))),IF($B64=0,DAVERAGE(Forespørgsel1[#All],\"\"&LEFT($C64,LEN($C64)-$A64)&\"\",$L$4:INDIRECT(ADDRESS($M$42,$M$43))),IF($B64=1,DSUM(Forespørgsel1[#All],\"\"&LEFT($C64,LEN($C64)-$A64)&\"\",$L$4:INDIRECT(ADDRESS($M$42,$M$43)))/DSUM(Forespørgsel1[#All],\"\"&$V$5&\"\",$L$4:INDIRECT(ADDRESS($M$42,$M$43))),IF($B64=2,DSUM(Forespørgsel1[#All],\"\"&LEFT($C64,LEN($C64)-$A64)&\"\",$L$4:INDIRECT(ADDRESS($M$42,$M$43)))/DSUM(Forespørgsel1[#All],\"\"&$W$5&\"\",$L$4:INDIRECT(ADDRESS($M$42,$M$43))))))),\"\")","v":""}]
[null,"Antal Producerede kalve","Afskrivning, staldinventar",{"$f":"IF(Choices!$A$1=2,Landsgennemsnit!$B65,IF(Choices!$A$1=3,Landsgennemsnit!$E65,\"\"))","v":-128.63613500326946},{"$f":"IF(Choices!$A$1=2,Landsgennemsnit!C65,IF(Choices!$A$1=3,Landsgennemsnit!F65,\"\"))","v":-113.8145438898451},{"$f":"IFERROR(IF(ISTEXT($B65)=TRUE,DSUM(Forespørgsel1[#All],\"\"&LEFT($C65,LEN($C65)-$A65)&\"\",$M$4:INDIRECT(ADDRESS($M$42,$M$43)))/DSUM(Forespørgsel1[#All],\"\"&$B65&\"\",$M$4:INDIRECT(ADDRESS($M$42,$M$43))),IF($B65=0,DAVERAGE(Forespørgsel1[#All],\"\"&LEFT($C65,LEN($C65)-$A65)&\"\",$M$4:INDIRECT(ADDRESS($M$42,$M$43))),IF($B65=1,DSUM(Forespørgsel1[#All],\"\"&LEFT($C65,LEN($C65)-$A65)&\"\",$M$4:INDIRECT(ADDRESS($M$42,$M$43)))/DSUM(Forespørgsel1[#All],\"\"&$V$5&\"\",$M$4:INDIRECT(ADDRESS($M$42,$M$43))),DSUM(Forespørgsel1[#All],\"\"&LEFT($C65,LEN($C65)-$A65)&\"\",$M$4:INDIRECT(ADDRESS($M$42,$M$43)))/DSUM(Forespørgsel1[#All],\"\"&$W$5&\"\",$M$4:INDIRECT(ADDRESS($M$42,$M$43)))))),\"\")","v":""},{"$f":"IFERROR(IF(ISTEXT($B65)=TRUE,DSUM(Forespørgsel1[#All],\"\"&LEFT($C65,LEN($C65)-$A65)&\"\",$L$4:INDIRECT(ADDRESS($M$42,$M$43)))/DSUM(Forespørgsel1[#All],\"\"&$B65&\"\",$L$4:INDIRECT(ADDRESS($M$42,$M$43))),IF($B65=0,DAVERAGE(Forespørgsel1[#All],\"\"&LEFT($C65,LEN($C65)-$A65)&\"\",$L$4:INDIRECT(ADDRESS($M$42,$M$43))),IF($B65=1,DSUM(Forespørgsel1[#All],\"\"&LEFT($C65,LEN($C65)-$A65)&\"\",$L$4:INDIRECT(ADDRESS($M$42,$M$43)))/DSUM(Forespørgsel1[#All],\"\"&$V$5&\"\",$L$4:INDIRECT(ADDRESS($M$42,$M$43))),IF($B65=2,DSUM(Forespørgsel1[#All],\"\"&LEFT($C65,LEN($C65)-$A65)&\"\",$L$4:INDIRECT(ADDRESS($M$42,$M$43)))/DSUM(Forespørgsel1[#All],\"\"&$W$5&\"\",$L$4:INDIRECT(ADDRESS($M$42,$M$43))))))),\"\")","v":""}]
[null,"Antal Producerede kalve","Leje af driftsbygninger",{"$f":"IF(Choices!$A$1=2,Landsgennemsnit!$B66,IF(Choices!$A$1=3,Landsgennemsnit!$E66,\"\"))","v":-97.371611085961476},{"$f":"IF(Choices!$A$1=2,Landsgennemsnit!C66,IF(Choices!$A$1=3,Landsgennemsnit!F66,\"\"))","v":0},{"$f":"IFERROR(IF(ISTEXT($B66)=TRUE,DSUM(Forespørgsel1[#All],\"\"&LEFT($C66,LEN($C66)-$A66)&\"\",$M$4:INDIRECT(ADDRESS($M$42,$M$43)))/DSUM(Forespørgsel1[#All],\"\"&$B66&\"\",$M$4:INDIRECT(ADDRESS($M$42,$M$43))),IF($B66=0,DAVERAGE(Forespørgsel1[#All],\"\"&LEFT($C66,LEN($C66)-$A66)&\"\",$M$4:INDIRECT(ADDRESS($M$42,$M$43))),IF($B66=1,DSUM(Forespørgsel1[#All],\"\"&LEFT($C66,LEN($C66)-$A66)&\"\",$M$4:INDIRECT(ADDRESS($M$42,$M$43)))/DSUM(Forespørgsel1[#All],\"\"&$V$5&\"\",$M$4:INDIRECT(ADDRESS($M$42,$M$43))),DSUM(Forespørgsel1[#All],\"\"&LEFT($C66,LEN($C66)-$A66)&\"\",$M$4:INDIRECT(ADDRESS($M$42,$M$43)))/DSUM(Forespørgsel1[#All],\"\"&$W$5&\"\",$M$4:INDIRECT(ADDRESS($M$42,$M$43)))))),\"\")","v":""},{"$f":"IFERROR(IF(ISTEXT($B66)=TRUE,DSUM(Forespørgsel1[#All],\"\"&LEFT($C66,LEN($C66)-$A66)&\"\",$L$4:INDIRECT(ADDRESS($M$42,$M$43)))/DSUM(Forespørgsel1[#All],\"\"&$B66&\"\",$L$4:INDIRECT(ADDRESS($M$42,$M$43))),IF($B66=0,DAVERAGE(Forespørgsel1[#All],\"\"&LEFT($C66,LEN($C66)-$A66)&\"\",$L$4:INDIRECT(ADDRESS($M$42,$M$43))),IF($B66=1,DSUM(Forespørgsel1[#All],\"\"&LEFT($C66,LEN($C66)-$A66)&\"\",$L$4:INDIRECT(ADDRESS($M$42,$M$43)))/DSUM(Forespørgsel1[#All],\"\"&$V$5&\"\",$L$4:INDIRECT(ADDRESS($M$42,$M$43))),IF($B66=2,DSUM(Forespørgsel1[#All],\"\"&LEFT($C66,LEN($C66)-$A66)&\"\",$L$4:INDIRECT(ADDRESS($M$42,$M$43)))/DSUM(Forespørgsel1[#All],\"\"&$W$5&\"\",$L$4:INDIRECT(ADDRESS($M$42,$M$43))))))),\"\")","v":""}]
[null,"Antal Producerede kalve","Øvrige kapitalomkostninger",{"$f":"IF(Choices!$A$1=2,Landsgennemsnit!$B67,IF(Choices!$A$1=3,Landsgennemsnit!$E67,\"\"))","v":0},{"$f":"IF(Choices!$A$1=2,Landsgennemsnit!C67,IF(Choices!$A$1=3,Landsgennemsnit!F67,\"\"))","v":0},{"$f":"IFERROR(IF(ISTEXT($B67)=TRUE,DSUM(Forespørgsel1[#All],\"\"&LEFT($C67,LEN($C67)-$A67)&\"\",$M$4:INDIRECT(ADDRESS($M$42,$M$43)))/DSUM(Forespørgsel1[#All],\"\"&$B67&\"\",$M$4:INDIRECT(ADDRESS($M$42,$M$43))),IF($B67=0,DAVERAGE(Forespørgsel1[#All],\"\"&LEFT($C67,LEN($C67)-$A67)&\"\",$M$4:INDIRECT(ADDRESS($M$42,$M$43))),IF($B67=1,DSUM(Forespørgsel1[#All],\"\"&LEFT($C67,LEN($C67)-$A67)&\"\",$M$4:INDIRECT(ADDRESS($M$42,$M$43)))/DSUM(Forespørgsel1[#All],\"\"&$V$5&\"\",$M$4:INDIRECT(ADDRESS($M$42,$M$43))),DSUM(Forespørgsel1[#All],\"\"&LEFT($C67,LEN($C67)-$A67)&\"\",$M$4:INDIRECT(ADDRESS($M$42,$M$43)))/DSUM(Forespørgsel1[#All],\"\"&$W$5&\"\",$M$4:INDIRECT(ADDRESS($M$42,$M$43)))))),\"\")","v":""},{"$f":"IFERROR(IF(ISTEXT($B67)=TRUE,DSUM(Forespørgsel1[#All],\"\"&LEFT($C67,LEN($C67)-$A67)&\"\",$L$4:INDIRECT(ADDRESS($M$42,$M$43)))/DSUM(Forespørgsel1[#All],\"\"&$B67&\"\",$L$4:INDIRECT(ADDRESS($M$42,$M$43))),IF($B67=0,DAVERAGE(Forespørgsel1[#All],\"\"&LEFT($C67,LEN($C67)-$A67)&\"\",$L$4:INDIRECT(ADDRESS($M$42,$M$43))),IF($B67=1,DSUM(Forespørgsel1[#All],\"\"&LEFT($C67,LEN($C67)-$A67)&\"\",$L$4:INDIRECT(ADDRESS($M$42,$M$43)))/DSUM(Forespørgsel1[#All],\"\"&$V$5&\"\",$L$4:INDIRECT(ADDRESS($M$42,$M$43))),IF($B67=2,DSUM(Forespørgsel1[#All],\"\"&LEFT($C67,LEN($C67)-$A67)&\"\",$L$4:INDIRECT(ADDRESS($M$42,$M$43)))/DSUM(Forespørgsel1[#All],\"\"&$W$5&\"\",$L$4:INDIRECT(ADDRESS($M$42,$M$43))))))),\"\")","v":""}]
[null,"Antal Producerede kalve","Renteomk. af bundet kapital",{"$f":"IF(Choices!$A$1=2,Landsgennemsnit!$B68,IF(Choices!$A$1=3,Landsgennemsnit!$E68,\"\"))","v":-185.02867059001056},{"$f":"IF(Choices!$A$1=2,Landsgennemsnit!C68,IF(Choices!$A$1=3,Landsgennemsnit!F68,\"\"))","v":-192.2502151462995},{"$f":"IFERROR(IF(ISTEXT($B68)=TRUE,DSUM(Forespørgsel1[#All],\"\"&LEFT($C68,LEN($C68)-$A68)&\"\",$M$4:INDIRECT(ADDRESS($M$42,$M$43)))/DSUM(Forespørgsel1[#All],\"\"&$B68&\"\",$M$4:INDIRECT(ADDRESS($M$42,$M$43))),IF($B68=0,DAVERAGE(Forespørgsel1[#All],\"\"&LEFT($C68,LEN($C68)-$A68)&\"\",$M$4:INDIRECT(ADDRESS($M$42,$M$43))),IF($B68=1,DSUM(Forespørgsel1[#All],\"\"&LEFT($C68,LEN($C68)-$A68)&\"\",$M$4:INDIRECT(ADDRESS($M$42,$M$43)))/DSUM(Forespørgsel1[#All],\"\"&$V$5&\"\",$M$4:INDIRECT(ADDRESS($M$42,$M$43))),DSUM(Forespørgsel1[#All],\"\"&LEFT($C68,LEN($C68)-$A68)&\"\",$M$4:INDIRECT(ADDRESS($M$42,$M$43)))/DSUM(Forespørgsel1[#All],\"\"&$W$5&\"\",$M$4:INDIRECT(ADDRESS($M$42,$M$43)))))),\"\")","v":""},{"$f":"IFERROR(IF(ISTEXT($B68)=TRUE,DSUM(Forespørgsel1[#All],\"\"&LEFT($C68,LEN($C68)-$A68)&\"\",$L$4:INDIRECT(ADDRESS($M$42,$M$43)))/DSUM(Forespørgsel1[#All],\"\"&$B68&\"\",$L$4:INDIRECT(ADDRESS($M$42,$M$43))),IF($B68=0,DAVERAGE(Forespørgsel1[#All],\"\"&LEFT($C68,LEN($C68)-$A68)&\"\",$L$4:INDIRECT(ADDRESS($M$42,$M$43))),IF($B68=1,DSUM(Forespørgsel1[#All],\"\"&LEFT($C68,LEN($C68)-$A68)&\"\",$L$4:INDIRECT(ADDRESS($M$42,$M$43)))/DSUM(Forespørgsel1[#All],\"\"&$V$5&\"\",$L$4:INDIRECT(ADDRESS($M$42,$M$43))),IF($B68=2,DSUM(Forespørgsel1[#All],\"\"&LEFT($C68,LEN($C68)-$A68)&\"\",$L$4:INDIRECT(ADDRESS($M$42,$M$43)))/DSUM(Forespørgsel1[#All],\"\"&$W$5&\"\",$L$4:INDIRECT(ADDRESS($M$42,$M$43))))))),\"\")","v":""}]
[null,"Antal Producerede kalve","Kapitalomkostninger i alt",{"$f":"IF(Choices!$A$1=2,Landsgennemsnit!$B69,IF(Choices!$A$1=3,Landsgennemsnit!$E69,\"\"))","v":-608.91001458679148},{"$f":"IF(Choices!$A$1=2,Landsgennemsnit!C69,IF(Choices!$A$1=3,Landsgennemsnit!F69,\"\"))","v":-506.70998278829609},{"$f":"IFERROR(IF(ISTEXT($B69)=TRUE,DSUM(Forespørgsel1[#All],\"\"&LEFT($C69,LEN($C69)-$A69)&\"\",$M$4:INDIRECT(ADDRESS($M$42,$M$43)))/DSUM(Forespørgsel1[#All],\"\"&$B69&\"\",$M$4:INDIRECT(ADDRESS($M$42,$M$43))),IF($B69=0,DAVERAGE(Forespørgsel1[#All],\"\"&LEFT($C69,LEN($C69)-$A69)&\"\",$M$4:INDIRECT(ADDRESS($M$42,$M$43))),IF($B69=1,DSUM(Forespørgsel1[#All],\"\"&LEFT($C69,LEN($C69)-$A69)&\"\",$M$4:INDIRECT(ADDRESS($M$42,$M$43)))/DSUM(Forespørgsel1[#All],\"\"&$V$5&\"\",$M$4:INDIRECT(ADDRESS($M$42,$M$43))),DSUM(Forespørgsel1[#All],\"\"&LEFT($C69,LEN($C69)-$A69)&\"\",$M$4:INDIRECT(ADDRESS($M$42,$M$43)))/DSUM(Forespørgsel1[#All],\"\"&$W$5&\"\",$M$4:INDIRECT(ADDRESS($M$42,$M$43)))))),\"\")","v":""},{"$f":"IFERROR(IF(ISTEXT($B69)=TRUE,DSUM(Forespørgsel1[#All],\"\"&LEFT($C69,LEN($C69)-$A69)&\"\",$L$4:INDIRECT(ADDRESS($M$42,$M$43)))/DSUM(Forespørgsel1[#All],\"\"&$B69&\"\",$L$4:INDIRECT(ADDRESS($M$42,$M$43))),IF($B69=0,DAVERAGE(Forespørgsel1[#All],\"\"&LEFT($C69,LEN($C69)-$A69)&\"\",$L$4:INDIRECT(ADDRESS($M$42,$M$43))),IF($B69=1,DSUM(Forespørgsel1[#All],\"\"&LEFT($C69,LEN($C69)-$A69)&\"\",$L$4:INDIRECT(ADDRESS($M$42,$M$43)))/DSUM(Forespørgsel1[#All],\"\"&$V$5&\"\",$L$4:INDIRECT(ADDRESS($M$42,$M$43))),IF($B69=2,DSUM(Forespørgsel1[#All],\"\"&LEFT($C69,LEN($C69)-$A69)&\"\",$L$4:INDIRECT(ADDRESS($M$42,$M$43)))/DSUM(Forespørgsel1[#All],\"\"&$W$5&\"\",$L$4:INDIRECT(ADDRESS($M$42,$M$43))))))),\"\")","v":""}]
[null,null,0,{"$f":"IF(Choices!$A$1=2,Landsgennemsnit!$B70,IF(Choices!$A$1=3,Landsgennemsnit!$E70,\"\"))","v":""},{"$f":"IF(Choices!$A$1=2,Landsgennemsnit!C70,IF(Choices!$A$1=3,Landsgennemsnit!F70,\"\"))","v":""},{"$f":"IFERROR(IF(ISTEXT($B70)=TRUE,DSUM(Forespørgsel1[#All],\"\"&LEFT($C70,LEN($C70)-$A70)&\"\",$M$4:INDIRECT(ADDRESS($M$42,$M$43)))/DSUM(Forespørgsel1[#All],\"\"&$B70&\"\",$M$4:INDIRECT(ADDRESS($M$42,$M$43))),IF($B70=0,DAVERAGE(Forespørgsel1[#All],\"\"&LEFT($C70,LEN($C70)-$A70)&\"\",$M$4:INDIRECT(ADDRESS($M$42,$M$43))),IF($B70=1,DSUM(Forespørgsel1[#All],\"\"&LEFT($C70,LEN($C70)-$A70)&\"\",$M$4:INDIRECT(ADDRESS($M$42,$M$43)))/DSUM(Forespørgsel1[#All],\"\"&$V$5&\"\",$M$4:INDIRECT(ADDRESS($M$42,$M$43))),DSUM(Forespørgsel1[#All],\"\"&LEFT($C70,LEN($C70)-$A70)&\"\",$M$4:INDIRECT(ADDRESS($M$42,$M$43)))/DSUM(Forespørgsel1[#All],\"\"&$W$5&\"\",$M$4:INDIRECT(ADDRESS($M$42,$M$43)))))),\"\")","v":""},{"$f":"IFERROR(IF(ISTEXT($B70)=TRUE,DSUM(Forespørgsel1[#All],\"\"&LEFT($C70,LEN($C70)-$A70)&\"\",$L$4:INDIRECT(ADDRESS($M$42,$M$43)))/DSUM(Forespørgsel1[#All],\"\"&$B70&\"\",$L$4:INDIRECT(ADDRESS($M$42,$M$43))),IF($B70=0,DAVERAGE(Forespørgsel1[#All],\"\"&LEFT($C70,LEN($C70)-$A70)&\"\",$L$4:INDIRECT(ADDRESS($M$42,$M$43))),IF($B70=1,DSUM(Forespørgsel1[#All],\"\"&LEFT($C70,LEN($C70)-$A70)&\"\",$L$4:INDIRECT(ADDRESS($M$42,$M$43)))/DSUM(Forespørgsel1[#All],\"\"&$V$5&\"\",$L$4:INDIRECT(ADDRESS($M$42,$M$43))),IF($B70=2,DSUM(Forespørgsel1[#All],\"\"&LEFT($C70,LEN($C70)-$A70)&\"\",$L$4:INDIRECT(ADDRESS($M$42,$M$43)))/DSUM(Forespørgsel1[#All],\"\"&$W$5&\"\",$L$4:INDIRECT(ADDRESS($M$42,$M$43))))))),\"\")","v":""}]
[null,"Antal Producerede kalve","Årets resultat",{"$f":"IF(Choices!$A$1=2,Landsgennemsnit!$B71,IF(Choices!$A$1=3,Landsgennemsnit!$E71,\"\"))","v":279.91987324581214},{"$f":"IF(Choices!$A$1=2,Landsgennemsnit!C71,IF(Choices!$A$1=3,Landsgennemsnit!F71,\"\"))","v":929.76721170395842},{"$f":"IFERROR(IF(ISTEXT($B71)=TRUE,DSUM(Forespørgsel1[#All],\"\"&LEFT($C71,LEN($C71)-$A71)&\"\",$M$4:INDIRECT(ADDRESS($M$42,$M$43)))/DSUM(Forespørgsel1[#All],\"\"&$B71&\"\",$M$4:INDIRECT(ADDRESS($M$42,$M$43))),IF($B71=0,DAVERAGE(Forespørgsel1[#All],\"\"&LEFT($C71,LEN($C71)-$A71)&\"\",$M$4:INDIRECT(ADDRESS($M$42,$M$43))),IF($B71=1,DSUM(Forespørgsel1[#All],\"\"&LEFT($C71,LEN($C71)-$A71)&\"\",$M$4:INDIRECT(ADDRESS($M$42,$M$43)))/DSUM(Forespørgsel1[#All],\"\"&$V$5&\"\",$M$4:INDIRECT(ADDRESS($M$42,$M$43))),DSUM(Forespørgsel1[#All],\"\"&LEFT($C71,LEN($C71)-$A71)&\"\",$M$4:INDIRECT(ADDRESS($M$42,$M$43)))/DSUM(Forespørgsel1[#All],\"\"&$W$5&\"\",$M$4:INDIRECT(ADDRESS($M$42,$M$43)))))),\"\")","v":""},{"$f":"IFERROR(IF(ISTEXT($B71)=TRUE,DSUM(Forespørgsel1[#All],\"\"&LEFT($C71,LEN($C71)-$A71)&\"\",$L$4:INDIRECT(ADDRESS($M$42,$M$43)))/DSUM(Forespørgsel1[#All],\"\"&$B71&\"\",$L$4:INDIRECT(ADDRESS($M$42,$M$43))),IF($B71=0,DAVERAGE(Forespørgsel1[#All],\"\"&LEFT($C71,LEN($C71)-$A71)&\"\",$L$4:INDIRECT(ADDRESS($M$42,$M$43))),IF($B71=1,DSUM(Forespørgsel1[#All],\"\"&LEFT($C71,LEN($C71)-$A71)&\"\",$L$4:INDIRECT(ADDRESS($M$42,$M$43)))/DSUM(Forespørgsel1[#All],\"\"&$V$5&\"\",$L$4:INDIRECT(ADDRESS($M$42,$M$43))),IF($B71=2,DSUM(Forespørgsel1[#All],\"\"&LEFT($C71,LEN($C71)-$A71)&\"\",$L$4:INDIRECT(ADDRESS($M$42,$M$43)))/DSUM(Forespørgsel1[#All],\"\"&$W$5&\"\",$L$4:INDIRECT(ADDRESS($M$42,$M$43))))))),\"\")","v":""}]
[null,null,null,null,null,{"$f":"IFERROR(IF(ISTEXT($B72)=TRUE,DSUM(Forespørgsel1[#All],\"\"&LEFT($C72,LEN($C72)-$A72)&\"\",$M$4:INDIRECT(ADDRESS($M$42,$M$43)))/DSUM(Forespørgsel1[#All],\"\"&$B72&\"\",$M$4:INDIRECT(ADDRESS($M$42,$M$43))),IF($B72=0,DAVERAGE(Forespørgsel1[#All],\"\"&LEFT($C72,LEN($C72)-$A72)&\"\",$M$4:INDIRECT(ADDRESS($M$42,$M$43))),IF($B72=1,DSUM(Forespørgsel1[#All],\"\"&LEFT($C72,LEN($C72)-$A72)&\"\",$M$4:INDIRECT(ADDRESS($M$42,$M$43)))/DSUM(Forespørgsel1[#All],\"\"&$V$5&\"\",$M$4:INDIRECT(ADDRESS($M$42,$M$43))),DSUM(Forespørgsel1[#All],\"\"&LEFT($C72,LEN($C72)-$A72)&\"\",$M$4:INDIRECT(ADDRESS($M$42,$M$43)))/DSUM(Forespørgsel1[#All],\"\"&$W$5&\"\",$M$4:INDIRECT(ADDRESS($M$42,$M$43)))))),\"\")","v":""},{"$f":"IFERROR(IF(ISTEXT($B72)=TRUE,DSUM(Forespørgsel1[#All],\"\"&LEFT($C72,LEN($C72)-$A72)&\"\",$L$4:INDIRECT(ADDRESS($M$42,$M$43)))/DSUM(Forespørgsel1[#All],\"\"&$B72&\"\",$L$4:INDIRECT(ADDRESS($M$42,$M$43))),IF($B72=0,DAVERAGE(Forespørgsel1[#All],\"\"&LEFT($C72,LEN($C72)-$A72)&\"\",$L$4:INDIRECT(ADDRESS($M$42,$M$43))),IF($B72=1,DSUM(Forespørgsel1[#All],\"\"&LEFT($C72,LEN($C72)-$A72)&\"\",$L$4:INDIRECT(ADDRESS($M$42,$M$43)))/DSUM(Forespørgsel1[#All],\"\"&$V$5&\"\",$L$4:INDIRECT(ADDRESS($M$42,$M$43))),IF($B72=2,DSUM(Forespørgsel1[#All],\"\"&LEFT($C72,LEN($C72)-$A72)&\"\",$L$4:INDIRECT(ADDRESS($M$42,$M$43)))/DSUM(Forespørgsel1[#All],\"\"&$W$5&\"\",$L$4:INDIRECT(ADDRESS($M$42,$M$43))))))),\"\")","v":""}]
[null,null,null,null,null,{"$f":"IFERROR(IF(ISTEXT($B73)=TRUE,DSUM(Forespørgsel1[#All],\"\"&LEFT($C73,LEN($C73)-$A73)&\"\",$M$4:INDIRECT(ADDRESS($M$42,$M$43)))/DSUM(Forespørgsel1[#All],\"\"&$B73&\"\",$M$4:INDIRECT(ADDRESS($M$42,$M$43))),IF($B73=0,DAVERAGE(Forespørgsel1[#All],\"\"&LEFT($C73,LEN($C73)-$A73)&\"\",$M$4:INDIRECT(ADDRESS($M$42,$M$43))),IF($B73=1,DSUM(Forespørgsel1[#All],\"\"&LEFT($C73,LEN($C73)-$A73)&\"\",$M$4:INDIRECT(ADDRESS($M$42,$M$43)))/DSUM(Forespørgsel1[#All],\"\"&$V$5&\"\",$M$4:INDIRECT(ADDRESS($M$42,$M$43))),DSUM(Forespørgsel1[#All],\"\"&LEFT($C73,LEN($C73)-$A73)&\"\",$M$4:INDIRECT(ADDRESS($M$42,$M$43)))/DSUM(Forespørgsel1[#All],\"\"&$W$5&\"\",$M$4:INDIRECT(ADDRESS($M$42,$M$43)))))),\"\")","v":""},{"$f":"IFERROR(IF(ISTEXT($B73)=TRUE,DSUM(Forespørgsel1[#All],\"\"&LEFT($C73,LEN($C73)-$A73)&\"\",$L$4:INDIRECT(ADDRESS($M$42,$M$43)))/DSUM(Forespørgsel1[#All],\"\"&$B73&\"\",$L$4:INDIRECT(ADDRESS($M$42,$M$43))),IF($B73=0,DAVERAGE(Forespørgsel1[#All],\"\"&LEFT($C73,LEN($C73)-$A73)&\"\",$L$4:INDIRECT(ADDRESS($M$42,$M$43))),IF($B73=1,DSUM(Forespørgsel1[#All],\"\"&LEFT($C73,LEN($C73)-$A73)&\"\",$L$4:INDIRECT(ADDRESS($M$42,$M$43)))/DSUM(Forespørgsel1[#All],\"\"&$V$5&\"\",$L$4:INDIRECT(ADDRESS($M$42,$M$43))),IF($B73=2,DSUM(Forespørgsel1[#All],\"\"&LEFT($C73,LEN($C73)-$A73)&\"\",$L$4:INDIRECT(ADDRESS($M$42,$M$43)))/DSUM(Forespørgsel1[#All],\"\"&$W$5&\"\",$L$4:INDIRECT(ADDRESS($M$42,$M$43))))))),\"\")","v":""}]
[null,null,null,null,null,{"$f":"IFERROR(IF(ISTEXT($B74)=TRUE,DSUM(Forespørgsel1[#All],\"\"&LEFT($C74,LEN($C74)-$A74)&\"\",$M$4:INDIRECT(ADDRESS($M$42,$M$43)))/DSUM(Forespørgsel1[#All],\"\"&$B74&\"\",$M$4:INDIRECT(ADDRESS($M$42,$M$43))),IF($B74=0,DAVERAGE(Forespørgsel1[#All],\"\"&LEFT($C74,LEN($C74)-$A74)&\"\",$M$4:INDIRECT(ADDRESS($M$42,$M$43))),IF($B74=1,DSUM(Forespørgsel1[#All],\"\"&LEFT($C74,LEN($C74)-$A74)&\"\",$M$4:INDIRECT(ADDRESS($M$42,$M$43)))/DSUM(Forespørgsel1[#All],\"\"&$V$5&\"\",$M$4:INDIRECT(ADDRESS($M$42,$M$43))),DSUM(Forespørgsel1[#All],\"\"&LEFT($C74,LEN($C74)-$A74)&\"\",$M$4:INDIRECT(ADDRESS($M$42,$M$43)))/DSUM(Forespørgsel1[#All],\"\"&$W$5&\"\",$M$4:INDIRECT(ADDRESS($M$42,$M$43)))))),\"\")","v":""},{"$f":"IFERROR(IF(ISTEXT($B74)=TRUE,DSUM(Forespørgsel1[#All],\"\"&LEFT($C74,LEN($C74)-$A74)&\"\",$L$4:INDIRECT(ADDRESS($M$42,$M$43)))/DSUM(Forespørgsel1[#All],\"\"&$B74&\"\",$L$4:INDIRECT(ADDRESS($M$42,$M$43))),IF($B74=0,DAVERAGE(Forespørgsel1[#All],\"\"&LEFT($C74,LEN($C74)-$A74)&\"\",$L$4:INDIRECT(ADDRESS($M$42,$M$43))),IF($B74=1,DSUM(Forespørgsel1[#All],\"\"&LEFT($C74,LEN($C74)-$A74)&\"\",$L$4:INDIRECT(ADDRESS($M$42,$M$43)))/DSUM(Forespørgsel1[#All],\"\"&$V$5&\"\",$L$4:INDIRECT(ADDRESS($M$42,$M$43))),IF($B74=2,DSUM(Forespørgsel1[#All],\"\"&LEFT($C74,LEN($C74)-$A74)&\"\",$L$4:INDIRECT(ADDRESS($M$42,$M$43)))/DSUM(Forespørgsel1[#All],\"\"&$W$5&\"\",$L$4:INDIRECT(ADDRESS($M$42,$M$43))))))),\"\")","v":""}]
[null,null,null,null,null,{"$f":"IFERROR(IF(ISTEXT($B75)=TRUE,DSUM(Forespørgsel1[#All],\"\"&LEFT($C75,LEN($C75)-$A75)&\"\",$M$4:INDIRECT(ADDRESS($M$42,$M$43)))/DSUM(Forespørgsel1[#All],\"\"&$B75&\"\",$M$4:INDIRECT(ADDRESS($M$42,$M$43))),IF($B75=0,DAVERAGE(Forespørgsel1[#All],\"\"&LEFT($C75,LEN($C75)-$A75)&\"\",$M$4:INDIRECT(ADDRESS($M$42,$M$43))),IF($B75=1,DSUM(Forespørgsel1[#All],\"\"&LEFT($C75,LEN($C75)-$A75)&\"\",$M$4:INDIRECT(ADDRESS($M$42,$M$43)))/DSUM(Forespørgsel1[#All],\"\"&$V$5&\"\",$M$4:INDIRECT(ADDRESS($M$42,$M$43))),DSUM(Forespørgsel1[#All],\"\"&LEFT($C75,LEN($C75)-$A75)&\"\",$M$4:INDIRECT(ADDRESS($M$42,$M$43)))/DSUM(Forespørgsel1[#All],\"\"&$W$5&\"\",$M$4:INDIRECT(ADDRESS($M$42,$M$43)))))),\"\")","v":""},{"$f":"IFERROR(IF(ISTEXT($B75)=TRUE,DSUM(Forespørgsel1[#All],\"\"&LEFT($C75,LEN($C75)-$A75)&\"\",$L$4:INDIRECT(ADDRESS($M$42,$M$43)))/DSUM(Forespørgsel1[#All],\"\"&$B75&\"\",$L$4:INDIRECT(ADDRESS($M$42,$M$43))),IF($B75=0,DAVERAGE(Forespørgsel1[#All],\"\"&LEFT($C75,LEN($C75)-$A75)&\"\",$L$4:INDIRECT(ADDRESS($M$42,$M$43))),IF($B75=1,DSUM(Forespørgsel1[#All],\"\"&LEFT($C75,LEN($C75)-$A75)&\"\",$L$4:INDIRECT(ADDRESS($M$42,$M$43)))/DSUM(Forespørgsel1[#All],\"\"&$V$5&\"\",$L$4:INDIRECT(ADDRESS($M$42,$M$43))),IF($B75=2,DSUM(Forespørgsel1[#All],\"\"&LEFT($C75,LEN($C75)-$A75)&\"\",$L$4:INDIRECT(ADDRESS($M$42,$M$43)))/DSUM(Forespørgsel1[#All],\"\"&$W$5&\"\",$L$4:INDIRECT(ADDRESS($M$42,$M$43))))))),\"\")","v":""}]
[null,null,null,null,null,{"$f":"IFERROR(IF(ISTEXT($B76)=TRUE,DSUM(Forespørgsel1[#All],\"\"&LEFT($C76,LEN($C76)-$A76)&\"\",$M$4:INDIRECT(ADDRESS($M$42,$M$43)))/DSUM(Forespørgsel1[#All],\"\"&$B76&\"\",$M$4:INDIRECT(ADDRESS($M$42,$M$43))),IF($B76=0,DAVERAGE(Forespørgsel1[#All],\"\"&LEFT($C76,LEN($C76)-$A76)&\"\",$M$4:INDIRECT(ADDRESS($M$42,$M$43))),IF($B76=1,DSUM(Forespørgsel1[#All],\"\"&LEFT($C76,LEN($C76)-$A76)&\"\",$M$4:INDIRECT(ADDRESS($M$42,$M$43)))/DSUM(Forespørgsel1[#All],\"\"&$V$5&\"\",$M$4:INDIRECT(ADDRESS($M$42,$M$43))),DSUM(Forespørgsel1[#All],\"\"&LEFT($C76,LEN($C76)-$A76)&\"\",$M$4:INDIRECT(ADDRESS($M$42,$M$43)))/DSUM(Forespørgsel1[#All],\"\"&$W$5&\"\",$M$4:INDIRECT(ADDRESS($M$42,$M$43)))))),\"\")","v":""},{"$f":"IFERROR(IF(ISTEXT($B76)=TRUE,DSUM(Forespørgsel1[#All],\"\"&LEFT($C76,LEN($C76)-$A76)&\"\",$L$4:INDIRECT(ADDRESS($M$42,$M$43)))/DSUM(Forespørgsel1[#All],\"\"&$B76&\"\",$L$4:INDIRECT(ADDRESS($M$42,$M$43))),IF($B76=0,DAVERAGE(Forespørgsel1[#All],\"\"&LEFT($C76,LEN($C76)-$A76)&\"\",$L$4:INDIRECT(ADDRESS($M$42,$M$43))),IF($B76=1,DSUM(Forespørgsel1[#All],\"\"&LEFT($C76,LEN($C76)-$A76)&\"\",$L$4:INDIRECT(ADDRESS($M$42,$M$43)))/DSUM(Forespørgsel1[#All],\"\"&$V$5&\"\",$L$4:INDIRECT(ADDRESS($M$42,$M$43))),IF($B76=2,DSUM(Forespørgsel1[#All],\"\"&LEFT($C76,LEN($C76)-$A76)&\"\",$L$4:INDIRECT(ADDRESS($M$42,$M$43)))/DSUM(Forespørgsel1[#All],\"\"&$W$5&\"\",$L$4:INDIRECT(ADDRESS($M$42,$M$43))))))),\"\")","v":""}]
[null,null,null,null,null,{"$f":"IFERROR(IF(ISTEXT($B77)=TRUE,DSUM(Forespørgsel1[#All],\"\"&LEFT($C77,LEN($C77)-$A77)&\"\",$M$4:INDIRECT(ADDRESS($M$42,$M$43)))/DSUM(Forespørgsel1[#All],\"\"&$B77&\"\",$M$4:INDIRECT(ADDRESS($M$42,$M$43))),IF($B77=0,DAVERAGE(Forespørgsel1[#All],\"\"&LEFT($C77,LEN($C77)-$A77)&\"\",$M$4:INDIRECT(ADDRESS($M$42,$M$43))),IF($B77=1,DSUM(Forespørgsel1[#All],\"\"&LEFT($C77,LEN($C77)-$A77)&\"\",$M$4:INDIRECT(ADDRESS($M$42,$M$43)))/DSUM(Forespørgsel1[#All],\"\"&$V$5&\"\",$M$4:INDIRECT(ADDRESS($M$42,$M$43))),DSUM(Forespørgsel1[#All],\"\"&LEFT($C77,LEN($C77)-$A77)&\"\",$M$4:INDIRECT(ADDRESS($M$42,$M$43)))/DSUM(Forespørgsel1[#All],\"\"&$W$5&\"\",$M$4:INDIRECT(ADDRESS($M$42,$M$43)))))),\"\")","v":""},{"$f":"IFERROR(IF(ISTEXT($B77)=TRUE,DSUM(Forespørgsel1[#All],\"\"&LEFT($C77,LEN($C77)-$A77)&\"\",$L$4:INDIRECT(ADDRESS($M$42,$M$43)))/DSUM(Forespørgsel1[#All],\"\"&$B77&\"\",$L$4:INDIRECT(ADDRESS($M$42,$M$43))),IF($B77=0,DAVERAGE(Forespørgsel1[#All],\"\"&LEFT($C77,LEN($C77)-$A77)&\"\",$L$4:INDIRECT(ADDRESS($M$42,$M$43))),IF($B77=1,DSUM(Forespørgsel1[#All],\"\"&LEFT($C77,LEN($C77)-$A77)&\"\",$L$4:INDIRECT(ADDRESS($M$42,$M$43)))/DSUM(Forespørgsel1[#All],\"\"&$V$5&\"\",$L$4:INDIRECT(ADDRESS($M$42,$M$43))),IF($B77=2,DSUM(Forespørgsel1[#All],\"\"&LEFT($C77,LEN($C77)-$A77)&\"\",$L$4:INDIRECT(ADDRESS($M$42,$M$43)))/DSUM(Forespørgsel1[#All],\"\"&$W$5&\"\",$L$4:INDIRECT(ADDRESS($M$42,$M$43))))))),\"\")","v":""}]
[]
[]
[]
[null,null,"slagtekalve"]
[null,null,"Til formattering"]
[]
[null,null,{"$f":"C3","v":"Slagtekalve"},1,1]
[null,null,{"$f":"C4","v":"Antal producerede kalve"},1,1]
[null,null,"Slagtevægt",1,1]
[null,null,"Antal foderdage pr. produceret slagtekalv",1,1]
[null,null,"Kr. pr. kg slagtet, inkl. efterbetaling",1,1]
[null,null,0,9,1]
[null,null,"Fremstillingspris, kr. pr. kg slagtet vægt",1,1]
[null,null,0,9,1]
[null,null,"Nøgletal pr. foderdag",111,1]
[null,null,"Bruttoudbytte",1,1]
[null,null,"Foderomkostninger",1,1]
[null,null,"Dyrlæge og diverse",1,1]
[null,null,"Restbeløb",1,1]
[null,null,"Krav til restbeløb",1,1]
[null,null,"Årets resultat",111,1]
[null,null,0,9,1]
[null,null,"Nøgletal pr. produceret kalv",111,1]
[null,null,"Foderomkostninger",1,1]
[null,null,"Krav til dækningsbidrag",111,1]
[null,null,"Heraf afskrivninger",1,1]
[null,null,"Arbejdsomkostninger",1,1]
[null,null,"Bygninger",1,1]
[null,null,"Inventar inkl. energi",1,1]
[null,null,"Forrentning driftskapital",1,1]
[null,null,"Øvrige omkostninger",1,1]
[null,null,0,9,1]
[null,null,"Bundet kapital",1,1]
[null,null,"Anvendt rentesats, pct.",1,1]
[null,null,"Resultatkorrektion ved 4 pct. rente",1,1]
[null,null,"Afkastningsgrad",111,1]
[null,null,0,9,1]
[null,null,"Specifikation af resultat",101,1]
[null,null,"Salg af dyr, kvæg",1,1]
[null,null,"Køb af dyr, kvæg",1,1]
[null,null,"Besætningsforskydning",1,1]
[null,null,"Kvæg andet, inkl. slagtepræmie",1,1]
[null,null,"Andre landbrugsindtægter",1,1]
[null,null,"Bruttoudbytte i alt",113,1]
[null,null,0,9,1]
[null,null,"Korn",1,1]
[null,null,"Råvarer",1,1]
[null,null,"Kraftfoder, tilskudsfoder, færdigblanding mv.",1,1]
[null,null,"Mineraler og vitaminer",1,1]
[null,null,"Biprodukter mv.",1,1]
[null,null,"Grovfoder",1,1]
[null,null,"Dyrlæge og medicin",1,1]
[null,null,"Avl, Rådgivning og Kontrol",1,1]
[null,null,"Diverse stykomkostninger",1,1]
[null,null,"Stykomkostninger i alt",113,1]
[null,null,0,9,1]
[null,null,"Dækningsbidrag",113,1]
[null,null,0,9,1]
[null,null,"Energi",1,1]
[null,null,"Brændstof og maskinstation",1,1]
[null,null,"Vedligehold",1,1]
[null,null,"Lønomkostninger",1,1]
[null,null,"Ejeraflønning",1,1]
[null,null,"Forsikring",1,1]
[null,null,"Diverse kapacitetsomkostninger",1,1]
[null,null,"Kapacitetsomkostninger i alt",113,1]
[null,null,0,9,1]
[null,null,"Afskrivning, fast ejendom",1,1]
[null,null,"Afskrivning, staldinventar",1,1]
[null,null,"Leje af driftsbygninger",1,1]
[null,null,"Øvrige kapitalomkostninger",1,1]
[null,null,{"$f":"C68","v":"Renteomk. af bundet kapital"},1,1]
[null,null,"Kapitalomkostninger i alt",113,1]
[null,null,0,9,1]
[null,null,"Årets resultat",201,1]

{"sheet":"Data","index":1,"n_rows":125,"n_cols":316,"rows_kept":125,"cut":false,"hidden":false,"merged":[]}
["EjendomsIdent","Kredsnr","Ejendomsnr","RegnskabsAar","Prodgren","Godkendt","Økologisk_konventionel","norm_t_ejendom","Dyreomsætning og andre landbrugsindtægter ekskl. værdiændringer","Foderomkostninger","Dyrlæge og diverse","Bygninger","Inventar inkl. energi","Forrentning driftskapital","Øvrige omkostninger","Dækningsbidrag ekskl. værdiændringer","Værdiændring besætning og beholdninger","Krav til dækningsbidrag","Heraf afskrivninger","Arbejdsomkostninger","Bundet kapital","Anvendt rentesats, pct.","Resultatkorrektion ved 4 pct. rente","Afkastningsgrad","Bruttoudbytte i alt","Korn","Råvarer","Kraftfoder, tilskudsfoder, færdigblanding mv.","Mineraler og vitaminer","Biprodukter mv.","Grovfoder til kvæg","Grovfoder","Dyrlæge og medicin","Avl, rådgivning og kontrol","Diverse stykomkostninger","Stykomkostninger i alt","Dækningsbidrag","Besætningsforskydning","Energi","Brændstof og maskinstation","Vedligehold","Lønomkostninger","Ejeraflønning","Forsikring","Diverse kapacitetsomkostninger","Kapacitetsomkostninger i alt","Afskrivning bygninger","Afskrivning inventar","Afskrivning, øvrigt","Øvrige kapitalomkostninger","Leje af driftsbygninger","Renteomk. af bundet kapital","Renteomk. af bundet kapital (mink)","Kapitalomkostninger i alt","Slagtevægt_ialt","Kapitalomkostninger i alt (mink)","Antal producerede kalve","Slagtevægt","Kr. pr. kg slagtet, inkl. efterbetaling","Antal foderdage pr. produceret slagtekalv","Antal foderdage_fejl","Kalveblanding, kr pr. kg","Pris sojaskrå kr. pr. kg","Salg af dyr, kvæg","Køb af dyr, kvæg","Kvæg andet, inkl. slagtepræmie","husdyrgødning","Pasningsaftale husdyr","Andre landbrugsindtægter","Bruttoudbytte","EKSTRA","Restbeløb","Krav til restbeløb","Afskrivning, fast ejendom","Afskrivning, staldinventar","Besætningstype","Årets resultat pr. produceret kalv","Bundet kapital pr. produceret kalv","Årets resultat","Diverse vedr. husdyr","Driftsform","Fremstillingspris, kr. pr. kg slagtet vægt","Kolonne67","Kolonne1","Kolonne2","Kolonne3","Kolonne4","Kolonne5","Kolonne6","Kolonne7","Kolonne8","Kolonne9","Kolonne10","Kolonne11","Kolonne12","Kolonne13","Kolonne14","Kolonne15","Kolonne16","Kolonne17","Kolonne18","Kolonne19","Kolonne20","Kolonne21","Kolonne22","Kolonne23","Kolonne24","Kolonne25","Kolonne26","Kolonne27","Kolonne28","Kolonne29","Kolonne30","Kolonne31","Kolonne32","Kolonne33","Kolonne34","Kolonne35","Kolonne36","Kolonne37","Kolonne38","Kolonne39","Kolonne40","Kolonne41","Kolonne42","Kolonne43","Kolonne44","Kolonne45","Kolonne46","Kolonne47","Kolonne48","Kolonne49","Kolonne50","Kolonne51","Kolonne52","Kolonne53","Kolonne54","Kolonne55","Kolonne56","Kolonne57","Kolonne58","Kolonne59","Kolonne60","Kolonne61","Kolonne62","Kolonne63","Kolonne64"]
[]
[]
[]
[]
[]
[]
[]
[]
[]
[]
[]
[]
[]
[]
[]
[]
[]
[]
[]
[]
[]
[]
[]
[]
[]
[]
[]
[]
[]
[]
[]
[]
[]
[]
[]
[]
[]
[]
[]
[]
[]
[]
[]
[]
[]
[]
[]
[]
[]
[]
[]
[]
[]
[]
[]
[]
[]
[]
[]
[]
[]
[]
[]
[]
[]
[]
[]
[]
[]
[]
[]
[]
[]
[]
[]
[]
[]
[]
[]
[]
[]
[]
[]
[]
[]
[]
[]
[]
[]
[]
[]
[]
[]
[]
[]
[]
[]
[]
[]
[]
[]
[]
[]
[]
[]
[]
[]
[]
[]
[]
[]
[]
[]
[]
[]
[]
[]
[]
[]
[]
[]
[null,null,null,null,null,null,null,null,null,null,null,null,null,null,null,null,null,null,null,null,null,null,null,null,null,null,null,null,null,null,null,null,null,null,null,null,null,null,null,null,null,null,null,null,null,null,null,null,null,null,null,null,null,null,null,null,null,null,null,null,null,null,null,null,null,null,null,null,null,null,null,null,null,null,null,null,null,null,null,null,null,null,null,null,null,null,null,null,null,null,null,null,null,null,null,null,null,null,null,null,null,null,null,null,null,null,null,null,null,null,null,null,null,null,null,null,null,null,null,null,null,null,null,null,null,null,null,null,null,null,null,null,null,null,null,null,null,null,null,null,null,null,null,null,null,null,null,null,null,null,null,null,null,null,null,null,null,null,null,null,null,null,null,null,null,null,null,null,null,null,null,null,null,null,null,null,null,null,null,null,null,null,null,null,null,null,null,null,null,null,null,null,null,null,null,null,null,null,null,null,null,null,null,null,null,null,null,null,null,null,null,null,null,null,null,null,null,null,null,null,null,null,null,null,null,null,null,null,null,null,null,null,null,null,null,null,null,null,null,null,null,null,null,null,null,null,null,null,null,null,null,null,null,null,null,null,null,null,null,null,null,null,null,null,null,null,null,null,null,null,null,null,null,null,null,null,null,null,null,null,null,null,null,null,null,null,null,null,null,null,null,null,null,null,null,null,null,null,null,null,null,null,null,null,null,null,null,null,null,null,null,null,null,null,null,26960]
[null,null,null,null,null,null,null,null,null,null,null,null,null,null,null,null,null,null,null,null,null,null,null,null,null,null,null,null,null,null,null,null,null,null,null,null,null,null,null,null,null,null,null,null,null,null,null,null,null,null,null,null,null,null,null,null,null,null,null,null,null,null,null,null,null,null,null,null,null,null,null,null,null,null,null,null,null,null,null,null,null,null,null,null,null,null,null,null,null,null,null,null,null,null,null,null,null,null,null,null,null,null,null,null,null,null,null,null,null,null,null,null,null,null,null,null,null,null,null,null,null,null,null,null,null,null,null,null,null,null,null,null,null,null,null,null,null,null,null,null,null,null,null,null,null,null,null,null,null,null,null,null,null,null,null,null,null,null,null,null,null,null,null,null,null,null,null,null,null,null,null,null,null,null,null,null,null,null,null,null,null,null,null,null,null,null,null,null,null,null,null,null,null,null,null,null,null,null,null,null,null,null,null,null,null,null,null,null,null,null,null,null,null,null,null,null,null,null,null,null,null,null,null,null,null,null,null,null,null,null,null,null,null,null,null,null,null,null,null,null,null,null,null,null,null,null,null,null,null,null,null,null,null,null,null,null,null,null,null,null,null,null,null,null,null,null,null,null,null,null,null,null,null,null,null,null,null,null,null,null,null,null,null,null,null,null,null,null,null,null,null,null,null,null,null,null,null,null,null,null,null,null,null,null,null,null,null,null,null,null,null,null,null,null,null,146534]
[null,null,null,null,null,null,null,null,null,null,null,null,null,null,null,null,null,null,null,null,null,null,null,null,null,null,null,null,null,null,null,null,null,null,null,null,null,null,null,null,null,null,null,null,null,null,null,null,null,null,null,null,null,null,null,null,null,null,null,null,null,null,null,null,null,null,null,null,null,null,null,null,null,null,null,null,null,null,null,null,null,null,null,null,null,null,null,null,null,null,null,null,null,null,null,null,null,null,null,null,null,null,null,null,null,null,null,null,null,null,null,null,null,null,null,null,null,null,null,null,null,null,null,null,null,null,null,null,null,null,null,null,null,null,null,null,null,null,null,null,null,null,null,null,null,null,null,null,null,null,null,null,null,null,null,null,null,null,null,null,null,null,null,null,null,null,null,null,null,null,null,null,null,null,null,null,null,null,null,null,null,null,null,null,null,null,null,null,null,null,null,null,null,null,null,null,null,null,null,null,null,null,null,null,null,null,null,null,null,null,null,null,null,null,null,null,null,null,null,null,null,null,null,null,null,null,null,null,null,null,null,null,null,null,null,null,null,null,null,null,null,null,null,null,null,null,null,null,null,null,null,null,null,null,null,null,null,null,null,null,null,null,null,null,null,null,null,null,null,null,null,null,null,null,null,null,null,null,null,null,null,null,null,null,null,null,null,null,null,null,null,null,null,null,null,null,null,null,null,null,null,null,null,null,null,null,null,null,null,null,null,null,null,null,null,19580]

{"sheet":"Choices","index":2,"n_rows":12,"n_cols":2,"rows_kept":12,"cut":false,"hidden":true,"merged":[]}
[2,"Vælg"]
[null,"Dansk Kalv - kalve under 10 mdr. "]
[null,"Ungtyre - kalve over 10 mdr. "]
[]
[]
[]
[]
[]
[null,"FRAKTIL"]
[2,"Vælg"]
[null,"Dansk Kalv - kalve under 10 mdr. "]
[null,"Ungtyre - kalve over 10 mdr. "]

{"sheet":"Præsentation","index":3,"n_rows":124,"n_cols":20,"rows_kept":124,"cut":false,"hidden":false,"merged":[[9,10,9,14],[8,10,8,14],[10,9,11,9],[9,8,9,9],[10,6,11,6],[10,7,11,7],[10,8,11,8],[7,7,8,7]]}
[]
[]
[]
[null,null,null,null,null,null,{"$f":"IF(Choices!$A$1=4,\"Valget bestemmer hvilken gruppe, som gns./top 5 vises for\",\"\")","v":""}]
[]
[]
[null,null,null,null,null,{"$f":"IF(Choices!A1=2,\"Danske kalve - u. 10 mdr.\",IF(Choices!A1=3,\"Ungtyre - kalve o. 10 mdr.\",\"\"))","v":"Danske kalve - u. 10 mdr."}]
[null,null,null,null,null,null,null,{"$f":"IF(OR(Choices!$A$1=2,Choices!$A$1=3,Choices!$A$1=4),\"Top 5 sorteret efter\",\"\")","v":"Top 5 sorteret efter"}]
[null,null,null,null,null,null,null,null,null,null,{"$f":"IF(Choices!$A$1=4,\"D angiver 'Dansk Kalv (under 10 mdr.)'\",\"\")","v":""}]
[null,null,"Tegn (fra højre der skal væk så navnet passer med navnet i forespørgslen)","Divisor, til snit",null,null,null,{"$f":"IF(OR(Choices!$A$1=2,Choices!$A$1=3),\"årets resultat\",IF(Choices!$A$1=4,IF(Choices!$D$1=2,\"fremstillingspris\",IF(Choices!$D$1=3,\"rest til jordleje\",\"\")),\"\"))","v":"årets resultat"},{"$f":"IF(OR(Choices!$A$1=2,Choices!$A$1=3),\"Beregnet på samtlige ejd.\",\"\")","v":"Beregnet på samtlige ejd."},null,{"$f":"IF(Choices!$A$1=4,\"U angiver 'Ungtyre (over 10 mdr.)' \",\"\")","v":""}]
[1,1,null,null,null,null,"BC gns. gruppen","BC top 5",{"$f":"\"Gns. Kreds \"&Kredsudvælgelse!A2&CHAR(10)&\"\"","v":"Gns. Kreds \n"},{"$f":"\"Top 5 Kr. \"&Kredsudvælgelse!A2&CHAR(10)&\"\"","v":"Top 5 Kr. \n"},{"$f":"K12","v":"D1"},{"$f":"L12","v":"D4"},"D6","D7","D10","U6","U10","D23","U7","D5"]
[1,101,null,null,null,"Ejendomsnummer",null,null,null,null,"D1","D4","D6","D7","D10","U6","U10","D23","U7","D5"]
[1,{"$f":"Slagtekalve!D85","v":1},{"$f":"Slagtekalve!A4","v":0},{"$f":"Slagtekalve!B4","v":0},null,{"$f":"Slagtekalve!C4","v":"Antal producerede kalve"},{"$f":"IF(Choices!$A$1=2,Landsgennemsnit!B4,IF(Choices!$A$1=3,Landsgennemsnit!E4,\"\"))","v":736.33333333333337},{"$f":"IF(Choices!$A$1=2,Landsgennemsnit!C4,IF(Choices!$A$1=3,Landsgennemsnit!F4,\"\"))","v":929.6},{"$f":"IF(OR(Choices!$A$1=2,Choices!$A$1=3),Slagtekalve!F4,\"\")","v":""},{"$f":"IF(OR(Choices!$A$1=2,Choices!$A$1=3),Slagtekalve!G4,\"\")","v":""},{"$f":"IFERROR(IF(K$12=Kredsudvælgelse!$Q$20,\"\",IF(Kredsudvælgelse!AB$2=1,IF(ISTEXT(DGET(Forespørgsel1[#All],\"\"&LEFT($F13,LEN($F13)-$C13)&\"\",Kredsudvælgelse!$Q$2:$R$3))=TRUE,DGET(Forespørgsel1[#All],\"\"&LEFT($F13,LEN($F13)-$C13)&\"\",Kredsudvælgelse!$Q$2:$R$3),DGET(Forespørgsel1[#All],\"\"&LEFT($F13,LEN($F13)-$C13)&\"\",Kredsudvælgelse!$Q$2:$R$3)/IF(ISNONTEXT($D13)=TRUE,1,DGET(Forespørgsel1[#All],\"\"&$D13&\"\",Kredsudvælgelse!$Q$2:$R$3))),IF(ISBLANK(HLOOKUP(K$12,'Statiske ejendomme'!$B$3:$OF$80,'Statiske ejendomme'!$A6,FALSE))=FALSE,HLOOKUP(K$12,'Statiske ejendomme'!$B$3:$OF$80,'Statiske ejendomme'!$A6,FALSE),\"\"))),\"\")","v":"200-500"},{"$f":"IFERROR(IF(L$12=Kredsudvælgelse!$Q$20,\"\",IF(Kredsudvælgelse!AC$2=1,IF(ISTEXT(DGET(Forespørgsel1[#All],\"\"&LEFT($F13,LEN($F13)-$C13)&\"\",Kredsudvælgelse!$S$2:$T$3))=TRUE,DGET(Forespørgsel1[#All],\"\"&LEFT($F13,LEN($F13)-$C13)&\"\",Kredsudvælgelse!$S$2:$T$3),DGET(Forespørgsel1[#All],\"\"&LEFT($F13,LEN($F13)-$C13)&\"\",Kredsudvælgelse!$S$2:$T$3)/IF(ISNONTEXT($D13)=TRUE,1,DGET(Forespørgsel1[#All],\"\"&$D13&\"\",Kredsudvælgelse!$S$2:$T$3))),IF(ISBLANK(HLOOKUP(L$12,'Statiske ejendomme'!$B$3:$OF$80,'Statiske ejendomme'!$A6,FALSE))=FALSE,HLOOKUP(L$12,'Statiske ejendomme'!$B$3:$OF$80,'Statiske ejendomme'!$A6,FALSE),\"\"))),\"\")","v":"Over 500"},{"$f":"IFERROR(IF(M$12=Kredsudvælgelse!$Q$20,\"\",IF(Kredsudvælgelse!AD$2=1,IF(ISTEXT(DGET(Forespørgsel1[#All],\"\"&LEFT($F13,LEN($F13)-$C13)&\"\",Kredsudvælgelse!$U$2:$V$3))=TRUE,DGET(Forespørgsel1[#All],\"\"&LEFT($F13,LEN($F13)-$C13)&\"\",Kredsudvælgelse!$U$2:$V$3),DGET(Forespørgsel1[#All],\"\"&LEFT($F13,LEN($F13)-$C13)&\"\",Kredsudvælgelse!$U$2:$V$3)/IF(ISNONTEXT($D13)=TRUE,1,DGET(Forespørgsel1[#All],\"\"&$D13&\"\",Kredsudvælgelse!$U$2:$V$3))),IF(ISBLANK(HLOOKUP(M$12,'Statiske ejendomme'!$B$3:$OF$80,'Statiske ejendomme'!$A6,FALSE))=FALSE,HLOOKUP(M$12,'Statiske ejendomme'!$B$3:$OF$80,'Statiske ejendomme'!$A6,FALSE),\"\"))),\"\")","v":"100-200"},{"$f":"IFERROR(IF(N$12=Kredsudvælgelse!$Q$20,\"\",IF(Kredsudvælgelse!AE$2=1,IF(ISTEXT(DGET(Forespørgsel1[#All],\"\"&LEFT($F13,LEN($F13)-$C13)&\"\",Kredsudvælgelse!$W$2:$X$3))=TRUE,DGET(Forespørgsel1[#All],\"\"&LEFT($F13,LEN($F13)-$C13)&\"\",Kredsudvælgelse!$W$2:$X$3),DGET(Forespørgsel1[#All],\"\"&LEFT($F13,LEN($F13)-$C13)&\"\",Kredsudvælgelse!$W$2:$X$3)/IF(ISNONTEXT($D13)=TRUE,1,DGET(Forespørgsel1[#All],\"\"&$D13&\"\",Kredsudvælgelse!$W$2:$X$3))),IF(ISBLANK(HLOOKUP(N$12,'Statiske ejendomme'!$B$3:$OF$80,'Statiske ejendomme'!$A6,FALSE))=FALSE,HLOOKUP(N$12,'Statiske ejendomme'!$B$3:$OF$80,'Statiske ejendomme'!$A6,FALSE),\"\"))),\"\")","v":"Over 500"},{"$f":"IFERROR(IF(O$12=Kredsudvælgelse!$Q$20,\"\",IF(Kredsudvælgelse!AF$2=1,IF(ISTEXT(DGET(Forespørgsel1[#All],\"\"&LEFT($F13,LEN($F13)-$C13)&\"\",Kredsudvælgelse!$Y$2:$Z$3))=TRUE,DGET(Forespørgsel1[#All],\"\"&LEFT($F13,LEN($F13)-$C13)&\"\",Kredsudvælgelse!$Y$2:$Z$3),DGET(Forespørgsel1[#All],\"\"&LEFT($F13,LEN($F13)-$C13)&\"\",Kredsudvælgelse!$Y$2:$Z$3)/IF(ISNONTEXT($D13)=TRUE,1,DGET(Forespørgsel1[#All],\"\"&$D13&\"\",Kredsudvælgelse!$Y$2:$Z$3))),IF(ISBLANK(HLOOKUP(O$12,'Statiske ejendomme'!$B$3:$OF$80,'Statiske ejendomme'!$A6,FALSE))=FALSE,HLOOKUP(O$12,'Statiske ejendomme'!$B$3:$OF$80,'Statiske ejendomme'!$A6,FALSE),\"\"))),\"\")","v":"200-500"},{"$f":"IFERROR(IF(P$12=Kredsudvælgelse!$Q$20,\"\",IF(Kredsudvælgelse!AG$2=1,IF(ISTEXT(DGET(Forespørgsel1[#All],\"\"&LEFT($F13,LEN($F13)-$C13)&\"\",Kredsudvælgelse!$Q$6:$R$7))=TRUE,DGET(Forespørgsel1[#All],\"\"&LEFT($F13,LEN($F13)-$C13)&\"\",Kredsudvælgelse!$Q$6:$R$7),DGET(Forespørgsel1[#All],\"\"&LEFT($F13,LEN($F13)-$C13)&\"\",Kredsudvælgelse!$Q$6:$R$7)/IF(ISNONTEXT($D13)=TRUE,1,DGET(Forespørgsel1[#All],\"\"&$D13&\"\",Kredsudvælgelse!$Q$6:$R$7))),IF(ISBLANK(HLOOKUP(P$12,'Statiske ejendomme'!$B$3:$OF$80,'Statiske ejendomme'!$A6,FALSE))=FALSE,HLOOKUP(P$12,'Statiske ejendomme'!$B$3:$OF$80,'Statiske ejendomme'!$A6,FALSE),\"\"))),\"\")","v":"100-200"},{"$f":"IFERROR(IF(Q$12=Kredsudvælgelse!$Q$20,\"\",IF(Kredsudvælgelse!AH$2=1,IF(ISTEXT(DGET(Forespørgsel1[#All],\"\"&LEFT($F13,LEN($F13)-$C13)&\"\",Kredsudvælgelse!$S$6:$T$7))=TRUE,DGET(Forespørgsel1[#All],\"\"&LEFT($F13,LEN($F13)-$C13)&\"\",Kredsudvælgelse!$S$6:$T$7),DGET(Forespørgsel1[#All],\"\"&LEFT($F13,LEN($F13)-$C13)&\"\",Kredsudvælgelse!$S$6:$T$7)/IF(ISNONTEXT($D13)=TRUE,1,DGET(Forespørgsel1[#All],\"\"&$D13&\"\",Kredsudvælgelse!$S$6:$T$7))),IF(ISBLANK(HLOOKUP(Q$12,'Statiske ejendomme'!$B$3:$OF$80,'Statiske ejendomme'!$A6,FALSE))=FALSE,HLOOKUP(Q$12,'Statiske ejendomme'!$B$3:$OF$80,'Statiske ejendomme'!$A6,FALSE),\"\"))),\"\")","v":"100-200"},{"$f":"IFERROR(IF(R$12=Kredsudvælgelse!$Q$20,\"\",IF(Kredsudvælgelse!AI$2=1,IF(ISTEXT(DGET(Forespørgsel1[#All],\"\"&LEFT($F13,LEN($F13)-$C13)&\"\",Kredsudvælgelse!$U$6:$V$7))=TRUE,DGET(Forespørgsel1[#All],\"\"&LEFT($F13,LEN($F13)-$C13)&\"\",Kredsudvælgelse!$U$6:$V$7),DGET(Forespørgsel1[#All],\"\"&LEFT($F13,LEN($F13)-$C13)&\"\",Kredsudvælgelse!$U$6:$V$7)/IF(ISNONTEXT($D13)=TRUE,1,DGET(Forespørgsel1[#All],\"\"&$D13&\"\",Kredsudvælgelse!$U$6:$V$7))),IF(ISBLANK(HLOOKUP(R$12,'Statiske ejendomme'!$B$3:$OF$80,'Statiske ejendomme'!$A6,FALSE))=FALSE,HLOOKUP(R$12,'Statiske ejendomme'!$B$3:$OF$80,'Statiske ejendomme'!$A6,FALSE),\"\"))),\"\")","v":"Over 500"},{"$f":"IFERROR(IF(S$12=Kredsudvælgelse!$Q$20,\"\",IF(Kredsudvælgelse!AJ$2=1,IF(ISTEXT(DGET(Forespørgsel1[#All],\"\"&LEFT($F13,LEN($F13)-$C13)&\"\",Kredsudvælgelse!$W$6:$X$7))=TRUE,DGET(Forespørgsel1[#All],\"\"&LEFT($F13,LEN($F13)-$C13)&\"\",Kredsudvælgelse!$W$6:$X$7),DGET(Forespørgsel1[#All],\"\"&LEFT($F13,LEN($F13)-$C13)&\"\",Kredsudvælgelse!$W$6:$X$7)/IF(ISNONTEXT($D13)=TRUE,1,DGET(Forespørgsel1[#All],\"\"&$D13&\"\",Kredsudvælgelse!$W$6:$X$7))),IF(ISBLANK(HLOOKUP(S$12,'Statiske ejendomme'!$B$3:$OF$80,'Statiske ejendomme'!$A6,FALSE))=FALSE,HLOOKUP(S$12,'Statiske ejendomme'!$B$3:$OF$80,'Statiske ejendomme'!$A6,FALSE),\"\"))),\"\")","v":"100-200"},{"$f":"IFERROR(IF(T$12=Kredsudvælgelse!$Q$20,\"\",IF(Kredsudvælgelse!AK$2=1,IF(ISTEXT(DGET(Forespørgsel1[#All],\"\"&LEFT($F13,LEN($F13)-$C13)&\"\",Kredsudvælgelse!$Y$6:$Z$7))=TRUE,DGET(Forespørgsel1[#All],\"\"&LEFT($F13,LEN($F13)-$C13)&\"\",Kredsudvælgelse!$Y$6:$Z$7),DGET(Forespørgsel1[#All],\"\"&LEFT($F13,LEN($F13)-$C13)&\"\",Kredsudvælgelse!$Y$6:$Z$7)/IF(ISNONTEXT($D13)=TRUE,1,DGET(Forespørgsel1[#All],\"\"&$D13&\"\",Kredsudvælgelse!$Y$6:$Z$7))),IF(ISBLANK(HLOOKUP(T$12,'Statiske ejendomme'!$B$3:$OF$80,'Statiske ejendomme'!$A6,FALSE))=FALSE,HLOOKUP(T$12,'Statiske ejendomme'!$B$3:$OF$80,'Statiske ejendomme'!$A6,FALSE),\"\"))),\"\")","v":"Over 500"}]
[1,{"$f":"Slagtekalve!D86","v":1},{"$f":"Slagtekalve!A5","v":0},{"$f":"Slagtekalve!B5","v":0},null,{"$f":"Slagtekalve!C5","v":"Slagtevægt"},{"$f":"IF(Choices!$A$1=2,Landsgennemsnit!B5,IF(Choices!$A$1=3,Landsgennemsnit!E5,\"\"))","v":204.11111111111111},{"$f":"IF(Choices!$A$1=2,Landsgennemsnit!C5,IF(Choices!$A$1=3,Landsgennemsnit!F5,\"\"))","v":207.8},{"$f":"IF(OR(Choices!$A$1=2,Choices!$A$1=3),Slagtekalve!F5,\"\")","v":""},{"$f":"IF(OR(Choices!$A$1=2,Choices!$A$1=3),Slagtekalve!G5,\"\")","v":""},{"$f":"IFERROR(IF(K$12=Kredsudvælgelse!$Q$20,\"\",IF(Kredsudvælgelse!AB$2=1,IF(ISTEXT(DGET(Forespørgsel1[#All],\"\"&LEFT($F14,LEN($F14)-$C14)&\"\",Kredsudvælgelse!$Q$2:$R$3))=TRUE,DGET(Forespørgsel1[#All],\"\"&LEFT($F14,LEN($F14)-$C14)&\"\",Kredsudvælgelse!$Q$2:$R$3),DGET(Forespørgsel1[#All],\"\"&LEFT($F14,LEN($F14)-$C14)&\"\",Kredsudvælgelse!$Q$2:$R$3)/IF(ISNONTEXT($D14)=TRUE,1,DGET(Forespørgsel1[#All],\"\"&$D14&\"\",Kredsudvælgelse!$Q$2:$R$3))),IF(ISBLANK(HLOOKUP(K$12,'Statiske ejendomme'!$B$3:$OF$80,'Statiske ejendomme'!$A7,FALSE))=FALSE,HLOOKUP(K$12,'Statiske ejendomme'!$B$3:$OF$80,'Statiske ejendomme'!$A7,FALSE),\"\"))),\"\")","v":212},{"$f":"IFERROR(IF(L$12=Kredsudvælgelse!$Q$20,\"\",IF(Kredsudvælgelse!AC$2=1,IF(ISTEXT(DGET(Forespørgsel1[#All],\"\"&LEFT($F14,LEN($F14)-$C14)&\"\",Kredsudvælgelse!$S$2:$T$3))=TRUE,DGET(Forespørgsel1[#All],\"\"&LEFT($F14,LEN($F14)-$C14)&\"\",Kredsudvælgelse!$S$2:$T$3),DGET(Forespørgsel1[#All],\"\"&LEFT($F14,LEN($F14)-$C14)&\"\",Kredsudvælgelse!$S$2:$T$3)/IF(ISNONTEXT($D14)=TRUE,1,DGET(Forespørgsel1[#All],\"\"&$D14&\"\",Kredsudvælgelse!$S$2:$T$3))),IF(ISBLANK(HLOOKUP(L$12,'Statiske ejendomme'!$B$3:$OF$80,'Statiske ejendomme'!$A7,FALSE))=FALSE,HLOOKUP(L$12,'Statiske ejendomme'!$B$3:$OF$80,'Statiske ejendomme'!$A7,FALSE),\"\"))),\"\")","v":211},{"$f":"IFERROR(IF(M$12=Kredsudvælgelse!$Q$20,\"\",IF(Kredsudvælgelse!AD$2=1,IF(ISTEXT(DGET(Forespørgsel1[#All],\"\"&LEFT($F14,LEN($F14)-$C14)&\"\",Kredsudvælgelse!$U$2:$V$3))=TRUE,DGET(Forespørgsel1[#All],\"\"&LEFT($F14,LEN($F14)-$C14)&\"\",Kredsudvælgelse!$U$2:$V$3),DGET(Forespørgsel1[#All],\"\"&LEFT($F14,LEN($F14)-$C14)&\"\",Kredsudvælgelse!$U$2:$V$3)/IF(ISNONTEXT($D14)=TRUE,1,DGET(Forespørgsel1[#All],\"\"&$D14&\"\",Kredsudvælgelse!$U$2:$V$3))),IF(ISBLANK(HLOOKUP(M$12,'Statiske ejendomme'!$B$3:$OF$80,'Statiske ejendomme'!$A7,FALSE))=FALSE,HLOOKUP(M$12,'Statiske ejendomme'!$B$3:$OF$80,'Statiske ejendomme'!$A7,FALSE),\"\"))),\"\")","v":203},{"$f":"IFERROR(IF(N$12=Kredsudvælgelse!$Q$20,\"\",IF(Kredsudvælgelse!AE$2=1,IF(ISTEXT(DGET(Forespørgsel1[#All],\"\"&LEFT($F14,LEN($F14)-$C14)&\"\",Kredsudvælgelse!$W$2:$X$3))=TRUE,DGET(Forespørgsel1[#All],\"\"&LEFT($F14,LEN($F14)-$C14)&\"\",Kredsudvælgelse!$W$2:$X$3),DGET(Forespørgsel1[#All],\"\"&LEFT($F14,LEN($F14)-$C14)&\"\",Kredsudvælgelse!$W$2:$X$3)/IF(ISNONTEXT($D14)=TRUE,1,DGET(Forespørgsel1[#All],\"\"&$D14&\"\",Kredsudvælgelse!$W$2:$X$3))),IF(ISBLANK(HLOOKUP(N$12,'Statiske ejendomme'!$B$3:$OF$80,'Statiske ejendomme'!$A7,FALSE))=FALSE,HLOOKUP(N$12,'Statiske ejendomme'!$B$3:$OF$80,'Statiske ejendomme'!$A7,FALSE),\"\"))),\"\")","v":198},{"$f":"IFERROR(IF(O$12=Kredsudvælgelse!$Q$20,\"\",IF(Kredsudvælgelse!AF$2=1,IF(ISTEXT(DGET(Forespørgsel1[#All],\"\"&LEFT($F14,LEN($F14)-$C14)&\"\",Kredsudvælgelse!$Y$2:$Z$3))=TRUE,DGET(Forespørgsel1[#All],\"\"&LEFT($F14,LEN($F14)-$C14)&\"\",Kredsudvælgelse!$Y$2:$Z$3),DGET(Forespørgsel1[#All],\"\"&LEFT($F14,LEN($F14)-$C14)&\"\",Kredsudvælgelse!$Y$2:$Z$3)/IF(ISNONTEXT($D14)=TRUE,1,DGET(Forespørgsel1[#All],\"\"&$D14&\"\",Kredsudvælgelse!$Y$2:$Z$3))),IF(ISBLANK(HLOOKUP(O$12,'Statiske ejendomme'!$B$3:$OF$80,'Statiske ejendomme'!$A7,FALSE))=FALSE,HLOOKUP(O$12,'Statiske ejendomme'!$B$3:$OF$80,'Statiske ejendomme'!$A7,FALSE),\"\"))),\"\")","v":206},{"$f":"IFERROR(IF(P$12=Kredsudvælgelse!$Q$20,\"\",IF(Kredsudvælgelse!AG$2=1,IF(ISTEXT(DGET(Forespørgsel1[#All],\"\"&LEFT($F14,LEN($F14)-$C14)&\"\",Kredsudvælgelse!$Q$6:$R$7))=TRUE,DGET(Forespørgsel1[#All],\"\"&LEFT($F14,LEN($F14)-$C14)&\"\",Kredsudvælgelse!$Q$6:$R$7),DGET(Forespørgsel1[#All],\"\"&LEFT($F14,LEN($F14)-$C14)&\"\",Kredsudvælgelse!$Q$6:$R$7)/IF(ISNONTEXT($D14)=TRUE,1,DGET(Forespørgsel1[#All],\"\"&$D14&\"\",Kredsudvælgelse!$Q$6:$R$7))),IF(ISBLANK(HLOOKUP(P$12,'Statiske ejendomme'!$B$3:$OF$80,'Statiske ejendomme'!$A7,FALSE))=FALSE,HLOOKUP(P$12,'Statiske ejendomme'!$B$3:$OF$80,'Statiske ejendomme'!$A7,FALSE),\"\"))),\"\")","v":238},{"$f":"IFERROR(IF(Q$12=Kredsudvælgelse!$Q$20,\"\",IF(Kredsudvælgelse!AH$2=1,IF(ISTEXT(DGET(Forespørgsel1[#All],\"\"&LEFT($F14,LEN($F14)-$C14)&\"\",Kredsudvælgelse!$S$6:$T$7))=TRUE,DGET(Forespørgsel1[#All],\"\"&LEFT($F14,LEN($F14)-$C14)&\"\",Kredsudvælgelse!$S$6:$T$7),DGET(Forespørgsel1[#All],\"\"&LEFT($F14,LEN($F14)-$C14)&\"\",Kredsudvælgelse!$S$6:$T$7)/IF(ISNONTEXT($D14)=TRUE,1,DGET(Forespørgsel1[#All],\"\"&$D14&\"\",Kredsudvælgelse!$S$6:$T$7))),IF(ISBLANK(HLOOKUP(Q$12,'Statiske ejendomme'!$B$3:$OF$80,'Statiske ejendomme'!$A7,FALSE))=FALSE,HLOOKUP(Q$12,'Statiske ejendomme'!$B$3:$OF$80,'Statiske ejendomme'!$A7,FALSE),\"\"))),\"\")","v":211},{"$f":"IFERROR(IF(R$12=Kredsudvælgelse!$Q$20,\"\",IF(Kredsudvælgelse!AI$2=1,IF(ISTEXT(DGET(Forespørgsel1[#All],\"\"&LEFT($F14,LEN($F14)-$C14)&\"\",Kredsudvælgelse!$U$6:$V$7))=TRUE,DGET(Forespørgsel1[#All],\"\"&LEFT($F14,LEN($F14)-$C14)&\"\",Kredsudvælgelse!$U$6:$V$7),DGET(Forespørgsel1[#All],\"\"&LEFT($F14,LEN($F14)-$C14)&\"\",Kredsudvælgelse!$U$6:$V$7)/IF(ISNONTEXT($D14)=TRUE,1,DGET(Forespørgsel1[#All],\"\"&$D14&\"\",Kredsudvælgelse!$U$6:$V$7))),IF(ISBLANK(HLOOKUP(R$12,'Statiske ejendomme'!$B$3:$OF$80,'Statiske ejendomme'!$A7,FALSE))=FALSE,HLOOKUP(R$12,'Statiske ejendomme'!$B$3:$OF$80,'Statiske ejendomme'!$A7,FALSE),\"\"))),\"\")","v":200},{"$f":"IFERROR(IF(S$12=Kredsudvælgelse!$Q$20,\"\",IF(Kredsudvælgelse!AJ$2=1,IF(ISTEXT(DGET(Forespørgsel1[#All],\"\"&LEFT($F14,LEN($F14)-$C14)&\"\",Kredsudvælgelse!$W$6:$X$7))=TRUE,DGET(Forespørgsel1[#All],\"\"&LEFT($F14,LEN($F14)-$C14)&\"\",Kredsudvælgelse!$W$6:$X$7),DGET(Forespørgsel1[#All],\"\"&LEFT($F14,LEN($F14)-$C14)&\"\",Kredsudvælgelse!$W$6:$X$7)/IF(ISNONTEXT($D14)=TRUE,1,DGET(Forespørgsel1[#All],\"\"&$D14&\"\",Kredsudvælgelse!$W$6:$X$7))),IF(ISBLANK(HLOOKUP(S$12,'Statiske ejendomme'!$B$3:$OF$80,'Statiske ejendomme'!$A7,FALSE))=FALSE,HLOOKUP(S$12,'Statiske ejendomme'!$B$3:$OF$80,'Statiske ejendomme'!$A7,FALSE),\"\"))),\"\")","v":240},{"$f":"IFERROR(IF(T$12=Kredsudvælgelse!$Q$20,\"\",IF(Kredsudvælgelse!AK$2=1,IF(ISTEXT(DGET(Forespørgsel1[#All],\"\"&LEFT($F14,LEN($F14)-$C14)&\"\",Kredsudvælgelse!$Y$6:$Z$7))=TRUE,DGET(Forespørgsel1[#All],\"\"&LEFT($F14,LEN($F14)-$C14)&\"\",Kredsudvælgelse!$Y$6:$Z$7),DGET(Forespørgsel1[#All],\"\"&LEFT($F14,LEN($F14)-$C14)&\"\",Kredsudvælgelse!$Y$6:$Z$7)/IF(ISNONTEXT($D14)=TRUE,1,DGET(Forespørgsel1[#All],\"\"&$D14&\"\",Kredsudvælgelse!$Y$6:$Z$7))),IF(ISBLANK(HLOOKUP(T$12,'Statiske ejendomme'!$B$3:$OF$80,'Statiske ejendomme'!$A7,FALSE))=FALSE,HLOOKUP(T$12,'Statiske ejendomme'!$B$3:$OF$80,'Statiske ejendomme'!$A7,FALSE),\"\"))),\"\")","v":218}]
[1,{"$f":"Slagtekalve!D87","v":1},{"$f":"Slagtekalve!A6","v":0},{"$f":"Slagtekalve!B6","v":"Antal Producerede kalve"},null,{"$f":"Slagtekalve!C6","v":"Antal foderdage pr. produceret slagtekalv"},{"$f":"IF(Choices!$A$1=2,Landsgennemsnit!B6,IF(Choices!$A$1=3,Landsgennemsnit!E6,\"\"))","v":263.98734118691146},{"$f":"IF(Choices!$A$1=2,Landsgennemsnit!C6,IF(Choices!$A$1=3,Landsgennemsnit!F6,\"\"))","v":268.84918244406191},{"$f":"IF(OR(Choices!$A$1=2,Choices!$A$1=3),Slagtekalve!F6,\"\")","v":""},{"$f":"IF(OR(Choices!$A$1=2,Choices!$A$1=3),Slagtekalve!G6,\"\")","v":""},{"$f":"IFERROR(IF(K$12=Kredsudvælgelse!$Q$20,\"\",IF(Kredsudvælgelse!AB$2=1,IF(ISTEXT(DGET(Forespørgsel1[#All],\"\"&LEFT($F15,LEN($F15)-$C15)&\"\",Kredsudvælgelse!$Q$2:$R$3))=TRUE,DGET(Forespørgsel1[#All],\"\"&LEFT($F15,LEN($F15)-$C15)&\"\",Kredsudvælgelse!$Q$2:$R$3),DGET(Forespørgsel1[#All],\"\"&LEFT($F15,LEN($F15)-$C15)&\"\",Kredsudvælgelse!$Q$2:$R$3)/IF(ISNONTEXT($D15)=TRUE,1,DGET(Forespørgsel1[#All],\"\"&$D15&\"\",Kredsudvælgelse!$Q$2:$R$3))),IF(ISBLANK(HLOOKUP(K$12,'Statiske ejendomme'!$B$3:$OF$80,'Statiske ejendomme'!$A8,FALSE))=FALSE,HLOOKUP(K$12,'Statiske ejendomme'!$B$3:$OF$80,'Statiske ejendomme'!$A8,FALSE),\"\"))),\"\")","v":275.97640117994075},{"$f":"IFERROR(IF(L$12=Kredsudvælgelse!$Q$20,\"\",IF(Kredsudvælgelse!AC$2=1,IF(ISTEXT(DGET(Forespørgsel1[#All],\"\"&LEFT($F15,LEN($F15)-$C15)&\"\",Kredsudvælgelse!$S$2:$T$3))=TRUE,DGET(Forespørgsel1[#All],\"\"&LEFT($F15,LEN($F15)-$C15)&\"\",Kredsudvælgelse!$S$2:$T$3),DGET(Forespørgsel1[#All],\"\"&LEFT($F15,LEN($F15)-$C15)&\"\",Kredsudvælgelse!$S$2:$T$3)/IF(ISNONTEXT($D15)=TRUE,1,DGET(Forespørgsel1[#All],\"\"&$D15&\"\",Kredsudvælgelse!$S$2:$T$3))),IF(ISBLANK(HLOOKUP(L$12,'Statiske ejendomme'!$B$3:$OF$80,'Statiske ejendomme'!$A8,FALSE))=FALSE,HLOOKUP(L$12,'Statiske ejendomme'!$B$3:$OF$80,'Statiske ejendomme'!$A8,FALSE),\"\"))),\"\")","v":281.18189300411507},{"$f":"IFERROR(IF(M$12=Kredsudvælgelse!$Q$20,\"\",IF(Kredsudvælgelse!AD$2=1,IF(ISTEXT(DGET(Forespørgsel1[#All],\"\"&LEFT($F15,LEN($F15)-$C15)&\"\",Kredsudvælgelse!$U$2:$V$3))=TRUE,DGET(Forespørgsel1[#All],\"\"&LEFT($F15,LEN($F15)-$C15)&\"\",Kredsudvælgelse!$U$2:$V$3),DGET(Forespørgsel1[#All],\"\"&LEFT($F15,LEN($F15)-$C15)&\"\",Kredsudvælgelse!$U$2:$V$3)/IF(ISNONTEXT($D15)=TRUE,1,DGET(Forespørgsel1[#All],\"\"&$D15&\"\",Kredsudvælgelse!$U$2:$V$3))),IF(ISBLANK(HLOOKUP(M$12,'Statiske ejendomme'!$B$3:$OF$80,'Statiske ejendomme'!$A8,FALSE))=FALSE,HLOOKUP(M$12,'Statiske ejendomme'!$B$3:$OF$80,'Statiske ejendomme'!$A8,FALSE),\"\"))),\"\")","v":279.51704545454544},{"$f":"IFERROR(IF(N$12=Kredsudvælgelse!$Q$20,\"\",IF(Kredsudvælgelse!AE$2=1,IF(ISTEXT(DGET(Forespørgsel1[#All],\"\"&LEFT($F15,LEN($F15)-$C15)&\"\",Kredsudvælgelse!$W$2:$X$3))=TRUE,DGET(Forespørgsel1[#All],\"\"&LEFT($F15,LEN($F15)-$C15)&\"\",Kredsudvælgelse!$W$2:$X$3),DGET(Forespørgsel1[#All],\"\"&LEFT($F15,LEN($F15)-$C15)&\"\",Kredsudvælgelse!$W$2:$X$3)/IF(ISNONTEXT($D15)=TRUE,1,DGET(Forespørgsel1[#All],\"\"&$D15&\"\",Kredsudvælgelse!$W$2:$X$3))),IF(ISBLANK(HLOOKUP(N$12,'Statiske ejendomme'!$B$3:$OF$80,'Statiske ejendomme'!$A8,FALSE))=FALSE,HLOOKUP(N$12,'Statiske ejendomme'!$B$3:$OF$80,'Statiske ejendomme'!$A8,FALSE),\"\"))),\"\")","v":282.25780624499589},{"$f":"IFERROR(IF(O$12=Kredsudvælgelse!$Q$20,\"\",IF(Kredsudvælgelse!AF$2=1,IF(ISTEXT(DGET(Forespørgsel1[#All],\"\"&LEFT($F15,LEN($F15)-$C15)&\"\",Kredsudvælgelse!$Y$2:$Z$3))=TRUE,DGET(Forespørgsel1[#All],\"\"&LEFT($F15,LEN($F15)-$C15)&\"\",Kredsudvælgelse!$Y$2:$Z$3),DGET(Forespørgsel1[#All],\"\"&LEFT($F15,LEN($F15)-$C15)&\"\",Kredsudvælgelse!$Y$2:$Z$3)/IF(ISNONTEXT($D15)=TRUE,1,DGET(Forespørgsel1[#All],\"\"&$D15&\"\",Kredsudvælgelse!$Y$2:$Z$3))),IF(ISBLANK(HLOOKUP(O$12,'Statiske ejendomme'!$B$3:$OF$80,'Statiske ejendomme'!$A8,FALSE))=FALSE,HLOOKUP(O$12,'Statiske ejendomme'!$B$3:$OF$80,'Statiske ejendomme'!$A8,FALSE),\"\"))),\"\")","v":250.33663366336606},{"$f":"IFERROR(IF(P$12=Kredsudvælgelse!$Q$20,\"\",IF(Kredsudvælgelse!AG$2=1,IF(ISTEXT(DGET(Forespørgsel1[#All],\"\"&LEFT($F15,LEN($F15)-$C15)&\"\",Kredsudvælgelse!$Q$6:$R$7))=TRUE,DGET(Forespørgsel1[#All],\"\"&LEFT($F15,LEN($F15)-$C15)&\"\",Kredsudvælgelse!$Q$6:$R$7),DGET(Forespørgsel1[#All],\"\"&LEFT($F15,LEN($F15)-$C15)&\"\",Kredsudvælgelse!$Q$6:$R$7)/IF(ISNONTEXT($D15)=TRUE,1,DGET(Forespørgsel1[#All],\"\"&$D15&\"\",Kredsudvælgelse!$Q$6:$R$7))),IF(ISBLANK(HLOOKUP(P$12,'Statiske ejendomme'!$B$3:$OF$80,'Statiske ejendomme'!$A8,FALSE))=FALSE,HLOOKUP(P$12,'Statiske ejendomme'!$B$3:$OF$80,'Statiske ejendomme'!$A8,FALSE),\"\"))),\"\")","v":306.87898089171921},{"$f":"IFERROR(IF(Q$12=Kredsudvælgelse!$Q$20,\"\",IF(Kredsudvælgelse!AH$2=1,IF(ISTEXT(DGET(Forespørgsel1[#All],\"\"&LEFT($F15,LEN($F15)-$C15)&\"\",Kredsudvælgelse!$S$6:$T$7))=TRUE,DGET(Forespørgsel1[#All],\"\"&LEFT($F15,LEN($F15)-$C15)&\"\",Kredsudvælgelse!$S$6:$T$7),DGET(Forespørgsel1[#All],\"\"&LEFT($F15,LEN($F15)-$C15)&\"\",Kredsudvælgelse!$S$6:$T$7)/IF(ISNONTEXT($D15)=TRUE,1,DGET(Forespørgsel1[#All],\"\"&$D15&\"\",Kredsudvælgelse!$S$6:$T$7))),IF(ISBLANK(HLOOKUP(Q$12,'Statiske ejendomme'!$B$3:$OF$80,'Statiske ejendomme'!$A8,FALSE))=FALSE,HLOOKUP(Q$12,'Statiske ejendomme'!$B$3:$OF$80,'Statiske ejendomme'!$A8,FALSE),\"\"))),\"\")","v":321.18421052631669},{"$f":"IFERROR(IF(R$12=Kredsudvælgelse!$Q$20,\"\",IF(Kredsudvælgelse!AI$2=1,IF(ISTEXT(DGET(Forespørgsel1[#All],\"\"&LEFT($F15,LEN($F15)-$C15)&\"\",Kredsudvælgelse!$U$6:$V$7))=TRUE,DGET(Forespørgsel1[#All],\"\"&LEFT($F15,LEN($F15)-$C15)&\"\",Kredsudvælgelse!$U$6:$V$7),DGET(Forespørgsel1[#All],\"\"&LEFT($F15,LEN($F15)-$C15)&\"\",Kredsudvælgelse!$U$6:$V$7)/IF(ISNONTEXT($D15)=TRUE,1,DGET(Forespørgsel1[#All],\"\"&$D15&\"\",Kredsudvælgelse!$U$6:$V$7))),IF(ISBLANK(HLOOKUP(R$12,'Statiske ejendomme'!$B$3:$OF$80,'Statiske ejendomme'!$A8,FALSE))=FALSE,HLOOKUP(R$12,'Statiske ejendomme'!$B$3:$OF$80,'Statiske ejendomme'!$A8,FALSE),\"\"))),\"\")","v":252.06776715899207},{"$f":"IFERROR(IF(S$12=Kredsudvælgelse!$Q$20,\"\",IF(Kredsudvælgelse!AJ$2=1,IF(ISTEXT(DGET(Forespørgsel1[#All],\"\"&LEFT($F15,LEN($F15)-$C15)&\"\",Kredsudvælgelse!$W$6:$X$7))=TRUE,DGET(Forespørgsel1[#All],\"\"&LEFT($F15,LEN($F15)-$C15)&\"\",Kredsudvælgelse!$W$6:$X$7),DGET(Forespørgsel1[#All],\"\"&LEFT($F15,LEN($F15)-$C15)&\"\",Kredsudvælgelse!$W$6:$X$7)/IF(ISNONTEXT($D15)=TRUE,1,DGET(Forespørgsel1[#All],\"\"&$D15&\"\",Kredsudvælgelse!$W$6:$X$7))),IF(ISBLANK(HLOOKUP(S$12,'Statiske ejendomme'!$B$3:$OF$80,'Statiske ejendomme'!$A8,FALSE))=FALSE,HLOOKUP(S$12,'Statiske ejendomme'!$B$3:$OF$80,'Statiske ejendomme'!$A8,FALSE),\"\"))),\"\")","v":292.62676056338034},{"$f":"IFERROR(IF(T$12=Kredsudvælgelse!$Q$20,\"\",IF(Kredsudvælgelse!AK$2=1,IF(ISTEXT(DGET(Forespørgsel1[#All],\"\"&LEFT($F15,LEN($F15)-$C15)&\"\",Kredsudvælgelse!$Y$6:$Z$7))=TRUE,DGET(Forespørgsel1[#All],\"\"&LEFT($F15,LEN($F15)-$C15)&\"\",Kredsudvælgelse!$Y$6:$Z$7),DGET(Forespørgsel1[#All],\"\"&LEFT($F15,LEN($F15)-$C15)&\"\",Kredsudvælgelse!$Y$6:$Z$7)/IF(ISNONTEXT($D15)=TRUE,1,DGET(Forespørgsel1[#All],\"\"&$D15&\"\",Kredsudvælgelse!$Y$6:$Z$7))),IF(ISBLANK(HLOOKUP(T$12,'Statiske ejendomme'!$B$3:$OF$80,'Statiske ejendomme'!$A8,FALSE))=FALSE,HLOOKUP(T$12,'Statiske ejendomme'!$B$3:$OF$80,'Statiske ejendomme'!$A8,FALSE),\"\"))),\"\")","v":277.10049751243798}]
[1,{"$f":"Slagtekalve!D88","v":1},{"$f":"Slagtekalve!A7","v":0},{"$f":"Slagtekalve!B7","v":0},null,{"$f":"Slagtekalve!C7","v":"Kr. pr. kg slagtet, inkl. efterbetaling"},{"$f":"IF(Choices!$A$1=2,Landsgennemsnit!B7,IF(Choices!$A$1=3,Landsgennemsnit!E7,\"\"))","v":26.497037037037039},{"$f":"IF(Choices!$A$1=2,Landsgennemsnit!C7,IF(Choices!$A$1=3,Landsgennemsnit!F7,\"\"))","v":26.981999999999999},{"$f":"IF(OR(Choices!$A$1=2,Choices!$A$1=3),Slagtekalve!F7,\"\")","v":""},{"$f":"IF(OR(Choices!$A$1=2,Choices!$A$1=3),Slagtekalve!G7,\"\")","v":""},{"$f":"IFERROR(IF(K$12=Kredsudvælgelse!$Q$20,\"\",IF(Kredsudvælgelse!AB$2=1,IF(ISTEXT(DGET(Forespørgsel1[#All],\"\"&LEFT($F16,LEN($F16)-$C16)&\"\",Kredsudvælgelse!$Q$2:$R$3))=TRUE,DGET(Forespørgsel1[#All],\"\"&LEFT($F16,LEN($F16)-$C16)&\"\",Kredsudvælgelse!$Q$2:$R$3),DGET(Forespørgsel1[#All],\"\"&LEFT($F16,LEN($F16)-$C16)&\"\",Kredsudvælgelse!$Q$2:$R$3)/IF(ISNONTEXT($D16)=TRUE,1,DGET(Forespørgsel1[#All],\"\"&$D16&\"\",Kredsudvælgelse!$Q$2:$R$3))),IF(ISBLANK(HLOOKUP(K$12,'Statiske ejendomme'!$B$3:$OF$80,'Statiske ejendomme'!$A9,FALSE))=FALSE,HLOOKUP(K$12,'Statiske ejendomme'!$B$3:$OF$80,'Statiske ejendomme'!$A9,FALSE),\"\"))),\"\")","v":26.9},{"$f":"IFERROR(IF(L$12=Kredsudvælgelse!$Q$20,\"\",IF(Kredsudvælgelse!AC$2=1,IF(ISTEXT(DGET(Forespørgsel1[#All],\"\"&LEFT($F16,LEN($F16)-$C16)&\"\",Kredsudvælgelse!$S$2:$T$3))=TRUE,DGET(Forespørgsel1[#All],\"\"&LEFT($F16,LEN($F16)-$C16)&\"\",Kredsudvælgelse!$S$2:$T$3),DGET(Forespørgsel1[#All],\"\"&LEFT($F16,LEN($F16)-$C16)&\"\",Kredsudvælgelse!$S$2:$T$3)/IF(ISNONTEXT($D16)=TRUE,1,DGET(Forespørgsel1[#All],\"\"&$D16&\"\",Kredsudvælgelse!$S$2:$T$3))),IF(ISBLANK(HLOOKUP(L$12,'Statiske ejendomme'!$B$3:$OF$80,'Statiske ejendomme'!$A9,FALSE))=FALSE,HLOOKUP(L$12,'Statiske ejendomme'!$B$3:$OF$80,'Statiske ejendomme'!$A9,FALSE),\"\"))),\"\")","v":27.08},{"$f":"IFERROR(IF(M$12=Kredsudvælgelse!$Q$20,\"\",IF(Kredsudvælgelse!AD$2=1,IF(ISTEXT(DGET(Forespørgsel1[#All],\"\"&LEFT($F16,LEN($F16)-$C16)&\"\",Kredsudvælgelse!$U$2:$V$3))=TRUE,DGET(Forespørgsel1[#All],\"\"&LEFT($F16,LEN($F16)-$C16)&\"\",Kredsudvælgelse!$U$2:$V$3),DGET(Forespørgsel1[#All],\"\"&LEFT($F16,LEN($F16)-$C16)&\"\",Kredsudvælgelse!$U$2:$V$3)/IF(ISNONTEXT($D16)=TRUE,1,DGET(Forespørgsel1[#All],\"\"&$D16&\"\",Kredsudvælgelse!$U$2:$V$3))),IF(ISBLANK(HLOOKUP(M$12,'Statiske ejendomme'!$B$3:$OF$80,'Statiske ejendomme'!$A9,FALSE))=FALSE,HLOOKUP(M$12,'Statiske ejendomme'!$B$3:$OF$80,'Statiske ejendomme'!$A9,FALSE),\"\"))),\"\")","v":24.62},{"$f":"IFERROR(IF(N$12=Kredsudvælgelse!$Q$20,\"\",IF(Kredsudvælgelse!AE$2=1,IF(ISTEXT(DGET(Forespørgsel1[#All],\"\"&LEFT($F16,LEN($F16)-$C16)&\"\",Kredsudvælgelse!$W$2:$X$3))=TRUE,DGET(Forespørgsel1[#All],\"\"&LEFT($F16,LEN($F16)-$C16)&\"\",Kredsudvælgelse!$W$2:$X$3),DGET(Forespørgsel1[#All],\"\"&LEFT($F16,LEN($F16)-$C16)&\"\",Kredsudvælgelse!$W$2:$X$3)/IF(ISNONTEXT($D16)=TRUE,1,DGET(Forespørgsel1[#All],\"\"&$D16&\"\",Kredsudvælgelse!$W$2:$X$3))),IF(ISBLANK(HLOOKUP(N$12,'Statiske ejendomme'!$B$3:$OF$80,'Statiske ejendomme'!$A9,FALSE))=FALSE,HLOOKUP(N$12,'Statiske ejendomme'!$B$3:$OF$80,'Statiske ejendomme'!$A9,FALSE),\"\"))),\"\")","v":26.66},{"$f":"IFERROR(IF(O$12=Kredsudvælgelse!$Q$20,\"\",IF(Kredsudvælgelse!AF$2=1,IF(ISTEXT(DGET(Forespørgsel1[#All],\"\"&LEFT($F16,LEN($F16)-$C16)&\"\",Kredsudvælgelse!$Y$2:$Z$3))=TRUE,DGET(Forespørgsel1[#All],\"\"&LEFT($F16,LEN($F16)-$C16)&\"\",Kredsudvælgelse!$Y$2:$Z$3),DGET(Forespørgsel1[#All],\"\"&LEFT($F16,LEN($F16)-$C16)&\"\",Kredsudvælgelse!$Y$2:$Z$3)/IF(ISNONTEXT($D16)=TRUE,1,DGET(Forespørgsel1[#All],\"\"&$D16&\"\",Kredsudvælgelse!$Y$2:$Z$3))),IF(ISBLANK(HLOOKUP(O$12,'Statiske ejendomme'!$B$3:$OF$80,'Statiske ejendomme'!$A9,FALSE))=FALSE,HLOOKUP(O$12,'Statiske ejendomme'!$B$3:$OF$80,'Statiske ejendomme'!$A9,FALSE),\"\"))),\"\")","v":26.88},{"$f":"IFERROR(IF(P$12=Kredsudvælgelse!$Q$20,\"\",IF(Kredsudvælgelse!AG$2=1,IF(ISTEXT(DGET(Forespørgsel1[#All],\"\"&LEFT($F16,LEN($F16)-$C16)&\"\",Kredsudvælgelse!$Q$6:$R$7))=TRUE,DGET(Forespørgsel1[#All],\"\"&LEFT($F16,LEN($F16)-$C16)&\"\",Kredsudvælgelse!$Q$6:$R$7),DGET(Forespørgsel1[#All],\"\"&LEFT($F16,LEN($F16)-$C16)&\"\",Kredsudvælgelse!$Q$6:$R$7)/IF(ISNONTEXT($D16)=TRUE,1,DGET(Forespørgsel1[#All],\"\"&$D16&\"\",Kredsudvælgelse!$Q$6:$R$7))),IF(ISBLANK(HLOOKUP(P$12,'Statiske ejendomme'!$B$3:$OF$80,'Statiske ejendomme'!$A9,FALSE))=FALSE,HLOOKUP(P$12,'Statiske ejendomme'!$B$3:$OF$80,'Statiske ejendomme'!$A9,FALSE),\"\"))),\"\")","v":24.14},{"$f":"IFERROR(IF(Q$12=Kredsudvælgelse!$Q$20,\"\",IF(Kredsudvælgelse!AH$2=1,IF(ISTEXT(DGET(Forespørgsel1[#All],\"\"&LEFT($F16,LEN($F16)-$C16)&\"\",Kredsudvælgelse!$S$6:$T$7))=TRUE,DGET(Forespørgsel1[#All],\"\"&LEFT($F16,LEN($F16)-$C16)&\"\",Kredsudvælgelse!$S$6:$T$7),DGET(Forespørgsel1[#All],\"\"&LEFT($F16,LEN($F16)-$C16)&\"\",Kredsudvælgelse!$S$6:$T$7)/IF(ISNONTEXT($D16)=TRUE,1,DGET(Forespørgsel1[#All],\"\"&$D16&\"\",Kredsudvælgelse!$S$6:$T$7))),IF(ISBLANK(HLOOKUP(Q$12,'Statiske ejendomme'!$B$3:$OF$80,'Statiske ejendomme'!$A9,FALSE))=FALSE,HLOOKUP(Q$12,'Statiske ejendomme'!$B$3:$OF$80,'Statiske ejendomme'!$A9,FALSE),\"\"))),\"\")","v":26.2},{"$f":"IFERROR(IF(R$12=Kredsudvælgelse!$Q$20,\"\",IF(Kredsudvælgelse!AI$2=1,IF(ISTEXT(DGET(Forespørgsel1[#All],\"\"&LEFT($F16,LEN($F16)-$C16)&\"\",Kredsudvælgelse!$U$6:$V$7))=TRUE,DGET(Forespørgsel1[#All],\"\"&LEFT($F16,LEN($F16)-$C16)&\"\",Kredsudvælgelse!$U$6:$V$7),DGET(Forespørgsel1[#All],\"\"&LEFT($F16,LEN($F16)-$C16)&\"\",Kredsudvælgelse!$U$6:$V$7)/IF(ISNONTEXT($D16)=TRUE,1,DGET(Forespørgsel1[#All],\"\"&$D16&\"\",Kredsudvælgelse!$U$6:$V$7))),IF(ISBLANK(HLOOKUP(R$12,'Statiske ejendomme'!$B$3:$OF$80,'Statiske ejendomme'!$A9,FALSE))=FALSE,HLOOKUP(R$12,'Statiske ejendomme'!$B$3:$OF$80,'Statiske ejendomme'!$A9,FALSE),\"\"))),\"\")","v":27.01},{"$f":"IFERROR(IF(S$12=Kredsudvælgelse!$Q$20,\"\",IF(Kredsudvælgelse!AJ$2=1,IF(ISTEXT(DGET(Forespørgsel1[#All],\"\"&LEFT($F16,LEN($F16)-$C16)&\"\",Kredsudvælgelse!$W$6:$X$7))=TRUE,DGET(Forespørgsel1[#All],\"\"&LEFT($F16,LEN($F16)-$C16)&\"\",Kredsudvælgelse!$W$6:$X$7),DGET(Forespørgsel1[#All],\"\"&LEFT($F16,LEN($F16)-$C16)&\"\",Kredsudvælgelse!$W$6:$X$7)/IF(ISNONTEXT($D16)=TRUE,1,DGET(Forespørgsel1[#All],\"\"&$D16&\"\",Kredsudvælgelse!$W$6:$X$7))),IF(ISBLANK(HLOOKUP(S$12,'Statiske ejendomme'!$B$3:$OF$80,'Statiske ejendomme'!$A9,FALSE))=FALSE,HLOOKUP(S$12,'Statiske ejendomme'!$B$3:$OF$80,'Statiske ejendomme'!$A9,FALSE),\"\"))),\"\")","v":25.12},{"$f":"IFERROR(IF(T$12=Kredsudvælgelse!$Q$20,\"\",IF(Kredsudvælgelse!AK$2=1,IF(ISTEXT(DGET(Forespørgsel1[#All],\"\"&LEFT($F16,LEN($F16)-$C16)&\"\",Kredsudvælgelse!$Y$6:$Z$7))=TRUE,DGET(Forespørgsel1[#All],\"\"&LEFT($F16,LEN($F16)-$C16)&\"\",Kredsudvælgelse!$Y$6:$Z$7),DGET(Forespørgsel1[#All],\"\"&LEFT($F16,LEN($F16)-$C16)&\"\",Kredsudvælgelse!$Y$6:$Z$7)/IF(ISNONTEXT($D16)=TRUE,1,DGET(Forespørgsel1[#All],\"\"&$D16&\"\",Kredsudvælgelse!$Y$6:$Z$7))),IF(ISBLANK(HLOOKUP(T$12,'Statiske ejendomme'!$B$3:$OF$80,'Statiske ejendomme'!$A9,FALSE))=FALSE,HLOOKUP(T$12,'Statiske ejendomme'!$B$3:$OF$80,'Statiske ejendomme'!$A9,FALSE),\"\"))),\"\")","v":27.51}]
[1,{"$f":"Slagtekalve!D89","v":9},{"$f":"Slagtekalve!A8","v":0},{"$f":"Slagtekalve!B8","v":0},null,{"$f":"Slagtekalve!C8","v":0},{"$f":"IF(Choices!$A$1=2,Landsgennemsnit!B8,IF(Choices!$A$1=3,Landsgennemsnit!E8,\"\"))","v":0},{"$f":"IF(Choices!$A$1=2,Landsgennemsnit!C8,IF(Choices!$A$1=3,Landsgennemsnit!F8,\"\"))","v":0},{"$f":"IF(OR(Choices!$A$1=2,Choices!$A$1=3),Slagtekalve!F8,\"\")","v":""},{"$f":"IF(OR(Choices!$A$1=2,Choices!$A$1=3),Slagtekalve!G8,\"\")","v":""},{"$f":"IFERROR(IF(K$12=Kredsudvælgelse!$Q$20,\"\",IF(Kredsudvælgelse!AB$2=1,IF(ISTEXT(DGET(Forespørgsel1[#All],\"\"&LEFT($F17,LEN($F17)-$C17)&\"\",Kredsudvælgelse!$Q$2:$R$3))=TRUE,DGET(Forespørgsel1[#All],\"\"&LEFT($F17,LEN($F17)-$C17)&\"\",Kredsudvælgelse!$Q$2:$R$3),DGET(Forespørgsel1[#All],\"\"&LEFT($F17,LEN($F17)-$C17)&\"\",Kredsudvælgelse!$Q$2:$R$3)/IF(ISNONTEXT($D17)=TRUE,1,DGET(Forespørgsel1[#All],\"\"&$D17&\"\",Kredsudvælgelse!$Q$2:$R$3))),IF(ISBLANK(HLOOKUP(K$12,'Statiske ejendomme'!$B$3:$OF$80,'Statiske ejendomme'!$A10,FALSE))=FALSE,HLOOKUP(K$12,'Statiske ejendomme'!$B$3:$OF$80,'Statiske ejendomme'!$A10,FALSE),\"\"))),\"\")","v":""},{"$f":"IFERROR(IF(L$12=Kredsudvælgelse!$Q$20,\"\",IF(Kredsudvælgelse!AC$2=1,IF(ISTEXT(DGET(Forespørgsel1[#All],\"\"&LEFT($F17,LEN($F17)-$C17)&\"\",Kredsudvælgelse!$S$2:$T$3))=TRUE,DGET(Forespørgsel1[#All],\"\"&LEFT($F17,LEN($F17)-$C17)&\"\",Kredsudvælgelse!$S$2:$T$3),DGET(Forespørgsel1[#All],\"\"&LEFT($F17,LEN($F17)-$C17)&\"\",Kredsudvælgelse!$S$2:$T$3)/IF(ISNONTEXT($D17)=TRUE,1,DGET(Forespørgsel1[#All],\"\"&$D17&\"\",Kredsudvælgelse!$S$2:$T$3))),IF(ISBLANK(HLOOKUP(L$12,'Statiske ejendomme'!$B$3:$OF$80,'Statiske ejendomme'!$A10,FALSE))=FALSE,HLOOKUP(L$12,'Statiske ejendomme'!$B$3:$OF$80,'Statiske ejendomme'!$A10,FALSE),\"\"))),\"\")","v":""},{"$f":"IFERROR(IF(M$12=Kredsudvælgelse!$Q$20,\"\",IF(Kredsudvælgelse!AD$2=1,IF(ISTEXT(DGET(Forespørgsel1[#All],\"\"&LEFT($F17,LEN($F17)-$C17)&\"\",Kredsudvælgelse!$U$2:$V$3))=TRUE,DGET(Forespørgsel1[#All],\"\"&LEFT($F17,LEN($F17)-$C17)&\"\",Kredsudvælgelse!$U$2:$V$3),DGET(Forespørgsel1[#All],\"\"&LEFT($F17,LEN($F17)-$C17)&\"\",Kredsudvælgelse!$U$2:$V$3)/IF(ISNONTEXT($D17)=TRUE,1,DGET(Forespørgsel1[#All],\"\"&$D17&\"\",Kredsudvælgelse!$U$2:$V$3))),IF(ISBLANK(HLOOKUP(M$12,'Statiske ejendomme'!$B$3:$OF$80,'Statiske ejendomme'!$A10,FALSE))=FALSE,HLOOKUP(M$12,'Statiske ejendomme'!$B$3:$OF$80,'Statiske ejendomme'!$A10,FALSE),\"\"))),\"\")","v":""},{"$f":"IFERROR(IF(N$12=Kredsudvælgelse!$Q$20,\"\",IF(Kredsudvælgelse!AE$2=1,IF(ISTEXT(DGET(Forespørgsel1[#All],\"\"&LEFT($F17,LEN($F17)-$C17)&\"\",Kredsudvælgelse!$W$2:$X$3))=TRUE,DGET(Forespørgsel1[#All],\"\"&LEFT($F17,LEN($F17)-$C17)&\"\",Kredsudvælgelse!$W$2:$X$3),DGET(Forespørgsel1[#All],\"\"&LEFT($F17,LEN($F17)-$C17)&\"\",Kredsudvælgelse!$W$2:$X$3)/IF(ISNONTEXT($D17)=TRUE,1,DGET(Forespørgsel1[#All],\"\"&$D17&\"\",Kredsudvælgelse!$W$2:$X$3))),IF(ISBLANK(HLOOKUP(N$12,'Statiske ejendomme'!$B$3:$OF$80,'Statiske ejendomme'!$A10,FALSE))=FALSE,HLOOKUP(N$12,'Statiske ejendomme'!$B$3:$OF$80,'Statiske ejendomme'!$A10,FALSE),\"\"))),\"\")","v":""},{"$f":"IFERROR(IF(O$12=Kredsudvælgelse!$Q$20,\"\",IF(Kredsudvælgelse!AF$2=1,IF(ISTEXT(DGET(Forespørgsel1[#All],\"\"&LEFT($F17,LEN($F17)-$C17)&\"\",Kredsudvælgelse!$Y$2:$Z$3))=TRUE,DGET(Forespørgsel1[#All],\"\"&LEFT($F17,LEN($F17)-$C17)&\"\",Kredsudvælgelse!$Y$2:$Z$3),DGET(Forespørgsel1[#All],\"\"&LEFT($F17,LEN($F17)-$C17)&\"\",Kredsudvælgelse!$Y$2:$Z$3)/IF(ISNONTEXT($D17)=TRUE,1,DGET(Forespørgsel1[#All],\"\"&$D17&\"\",Kredsudvælgelse!$Y$2:$Z$3))),IF(ISBLANK(HLOOKUP(O$12,'Statiske ejendomme'!$B$3:$OF$80,'Statiske ejendomme'!$A10,FALSE))=FALSE,HLOOKUP(O$12,'Statiske ejendomme'!$B$3:$OF$80,'Statiske ejendomme'!$A10,FALSE),\"\"))),\"\")","v":""},{"$f":"IFERROR(IF(P$12=Kredsudvælgelse!$Q$20,\"\",IF(Kredsudvælgelse!AG$2=1,IF(ISTEXT(DGET(Forespørgsel1[#All],\"\"&LEFT($F17,LEN($F17)-$C17)&\"\",Kredsudvælgelse!$Q$6:$R$7))=TRUE,DGET(Forespørgsel1[#All],\"\"&LEFT($F17,LEN($F17)-$C17)&\"\",Kredsudvælgelse!$Q$6:$R$7),DGET(Forespørgsel1[#All],\"\"&LEFT($F17,LEN($F17)-$C17)&\"\",Kredsudvælgelse!$Q$6:$R$7)/IF(ISNONTEXT($D17)=TRUE,1,DGET(Forespørgsel1[#All],\"\"&$D17&\"\",Kredsudvælgelse!$Q$6:$R$7))),IF(ISBLANK(HLOOKUP(P$12,'Statiske ejendomme'!$B$3:$OF$80,'Statiske ejendomme'!$A10,FALSE))=FALSE,HLOOKUP(P$12,'Statiske ejendomme'!$B$3:$OF$80,'Statiske ejendomme'!$A10,FALSE),\"\"))),\"\")","v":""},{"$f":"IFERROR(IF(Q$12=Kredsudvælgelse!$Q$20,\"\",IF(Kredsudvælgelse!AH$2=1,IF(ISTEXT(DGET(Forespørgsel1[#All],\"\"&LEFT($F17,LEN($F17)-$C17)&\"\",Kredsudvælgelse!$S$6:$T$7))=TRUE,DGET(Forespørgsel1[#All],\"\"&LEFT($F17,LEN($F17)-$C17)&\"\",Kredsudvælgelse!$S$6:$T$7),DGET(Forespørgsel1[#All],\"\"&LEFT($F17,LEN($F17)-$C17)&\"\",Kredsudvælgelse!$S$6:$T$7)/IF(ISNONTEXT($D17)=TRUE,1,DGET(Forespørgsel1[#All],\"\"&$D17&\"\",Kredsudvælgelse!$S$6:$T$7))),IF(ISBLANK(HLOOKUP(Q$12,'Statiske ejendomme'!$B$3:$OF$80,'Statiske ejendomme'!$A10,FALSE))=FALSE,HLOOKUP(Q$12,'Statiske ejendomme'!$B$3:$OF$80,'Statiske ejendomme'!$A10,FALSE),\"\"))),\"\")","v":""},{"$f":"IFERROR(IF(R$12=Kredsudvælgelse!$Q$20,\"\",IF(Kredsudvælgelse!AI$2=1,IF(ISTEXT(DGET(Forespørgsel1[#All],\"\"&LEFT($F17,LEN($F17)-$C17)&\"\",Kredsudvælgelse!$U$6:$V$7))=TRUE,DGET(Forespørgsel1[#All],\"\"&LEFT($F17,LEN($F17)-$C17)&\"\",Kredsudvælgelse!$U$6:$V$7),DGET(Forespørgsel1[#All],\"\"&LEFT($F17,LEN($F17)-$C17)&\"\",Kredsudvælgelse!$U$6:$V$7)/IF(ISNONTEXT($D17)=TRUE,1,DGET(Forespørgsel1[#All],\"\"&$D17&\"\",Kredsudvælgelse!$U$6:$V$7))),IF(ISBLANK(HLOOKUP(R$12,'Statiske ejendomme'!$B$3:$OF$80,'Statiske ejendomme'!$A10,FALSE))=FALSE,HLOOKUP(R$12,'Statiske ejendomme'!$B$3:$OF$80,'Statiske ejendomme'!$A10,FALSE),\"\"))),\"\")","v":""},{"$f":"IFERROR(IF(S$12=Kredsudvælgelse!$Q$20,\"\",IF(Kredsudvælgelse!AJ$2=1,IF(ISTEXT(DGET(Forespørgsel1[#All],\"\"&LEFT($F17,LEN($F17)-$C17)&\"\",Kredsudvælgelse!$W$6:$X$7))=TRUE,DGET(Forespørgsel1[#All],\"\"&LEFT($F17,LEN($F17)-$C17)&\"\",Kredsudvælgelse!$W$6:$X$7),DGET(Forespørgsel1[#All],\"\"&LEFT($F17,LEN($F17)-$C17)&\"\",Kredsudvælgelse!$W$6:$X$7)/IF(ISNONTEXT($D17)=TRUE,1,DGET(Forespørgsel1[#All],\"\"&$D17&\"\",Kredsudvælgelse!$W$6:$X$7))),IF(ISBLANK(HLOOKUP(S$12,'Statiske ejendomme'!$B$3:$OF$80,'Statiske ejendomme'!$A10,FALSE))=FALSE,HLOOKUP(S$12,'Statiske ejendomme'!$B$3:$OF$80,'Statiske ejendomme'!$A10,FALSE),\"\"))),\"\")","v":""},{"$f":"IFERROR(IF(T$12=Kredsudvælgelse!$Q$20,\"\",IF(Kredsudvælgelse!AK$2=1,IF(ISTEXT(DGET(Forespørgsel1[#All],\"\"&LEFT($F17,LEN($F17)-$C17)&\"\",Kredsudvælgelse!$Y$6:$Z$7))=TRUE,DGET(Forespørgsel1[#All],\"\"&LEFT($F17,LEN($F17)-$C17)&\"\",Kredsudvælgelse!$Y$6:$Z$7),DGET(Forespørgsel1[#All],\"\"&LEFT($F17,LEN($F17)-$C17)&\"\",Kredsudvælgelse!$Y$6:$Z$7)/IF(ISNONTEXT($D17)=TRUE,1,DGET(Forespørgsel1[#All],\"\"&$D17&\"\",Kredsudvælgelse!$Y$6:$Z$7))),IF(ISBLANK(HLOOKUP(T$12,'Statiske ejendomme'!$B$3:$OF$80,'Statiske ejendomme'!$A10,FALSE))=FALSE,HLOOKUP(T$12,'Statiske ejendomme'!$B$3:$OF$80,'Statiske ejendomme'!$A10,FALSE),\"\"))),\"\")","v":""}]
[1,{"$f":"Slagtekalve!D90","v":1},{"$f":"Slagtekalve!A9","v":0},{"$f":"Slagtekalve!B9","v":"Slagtevægt_ialt"},null,{"$f":"Slagtekalve!C9","v":"Fremstillingspris, kr. pr. kg slagtet vægt"},{"$f":"IF(Choices!$A$1=2,Landsgennemsnit!B9,IF(Choices!$A$1=3,Landsgennemsnit!E9,\"\"))","v":25.720651626713931},{"$f":"IF(Choices!$A$1=2,Landsgennemsnit!C9,IF(Choices!$A$1=3,Landsgennemsnit!F9,\"\"))","v":23.17435642478916},{"$f":"IF(OR(Choices!$A$1=2,Choices!$A$1=3),Slagtekalve!F9,\"\")","v":""},{"$f":"IF(OR(Choices!$A$1=2,Choices!$A$1=3),Slagtekalve!G9,\"\")","v":""},{"$f":"IFERROR(IF(K$12=Kredsudvælgelse!$Q$20,\"\",IF(Kredsudvælgelse!AB$2=1,IF(ISTEXT(DGET(Forespørgsel1[#All],\"\"&LEFT($F18,LEN($F18)-$C18)&\"\",Kredsudvælgelse!$Q$2:$R$3))=TRUE,DGET(Forespørgsel1[#All],\"\"&LEFT($F18,LEN($F18)-$C18)&\"\",Kredsudvælgelse!$Q$2:$R$3),DGET(Forespørgsel1[#All],\"\"&LEFT($F18,LEN($F18)-$C18)&\"\",Kredsudvælgelse!$Q$2:$R$3)/IF(ISNONTEXT($D18)=TRUE,1,DGET(Forespørgsel1[#All],\"\"&$D18&\"\",Kredsudvælgelse!$Q$2:$R$3))),IF(ISBLANK(HLOOKUP(K$12,'Statiske ejendomme'!$B$3:$OF$80,'Statiske ejendomme'!$A11,FALSE))=FALSE,HLOOKUP(K$12,'Statiske ejendomme'!$B$3:$OF$80,'Statiske ejendomme'!$A11,FALSE),\"\"))),\"-\")","v":22.75},{"$f":"IFERROR(IF(L$12=Kredsudvælgelse!$Q$20,\"\",IF(Kredsudvælgelse!AC$2=1,IF(ISTEXT(DGET(Forespørgsel1[#All],\"\"&LEFT($F18,LEN($F18)-$C18)&\"\",Kredsudvælgelse!$S$2:$T$3))=TRUE,DGET(Forespørgsel1[#All],\"\"&LEFT($F18,LEN($F18)-$C18)&\"\",Kredsudvælgelse!$S$2:$T$3),DGET(Forespørgsel1[#All],\"\"&LEFT($F18,LEN($F18)-$C18)&\"\",Kredsudvælgelse!$S$2:$T$3)/IF(ISNONTEXT($D18)=TRUE,1,DGET(Forespørgsel1[#All],\"\"&$D18&\"\",Kredsudvælgelse!$S$2:$T$3))),IF(ISBLANK(HLOOKUP(L$12,'Statiske ejendomme'!$B$3:$OF$80,'Statiske ejendomme'!$A11,FALSE))=FALSE,HLOOKUP(L$12,'Statiske ejendomme'!$B$3:$OF$80,'Statiske ejendomme'!$A11,FALSE),\"\"))),\"-\")","v":23.644549763033176},{"$f":"IFERROR(IF(M$12=Kredsudvælgelse!$Q$20,\"\",IF(Kredsudvælgelse!AD$2=1,IF(ISTEXT(DGET(Forespørgsel1[#All],\"\"&LEFT($F18,LEN($F18)-$C18)&\"\",Kredsudvælgelse!$U$2:$V$3))=TRUE,DGET(Forespørgsel1[#All],\"\"&LEFT($F18,LEN($F18)-$C18)&\"\",Kredsudvælgelse!$U$2:$V$3),DGET(Forespørgsel1[#All],\"\"&LEFT($F18,LEN($F18)-$C18)&\"\",Kredsudvælgelse!$U$2:$V$3)/IF(ISNONTEXT($D18)=TRUE,1,DGET(Forespørgsel1[#All],\"\"&$D18&\"\",Kredsudvælgelse!$U$2:$V$3))),IF(ISBLANK(HLOOKUP(M$12,'Statiske ejendomme'!$B$3:$OF$80,'Statiske ejendomme'!$A11,FALSE))=FALSE,HLOOKUP(M$12,'Statiske ejendomme'!$B$3:$OF$80,'Statiske ejendomme'!$A11,FALSE),\"\"))),\"-\")","v":20.47783251231527},{"$f":"IFERROR(IF(N$12=Kredsudvælgelse!$Q$20,\"\",IF(Kredsudvælgelse!AE$2=1,IF(ISTEXT(DGET(Forespørgsel1[#All],\"\"&LEFT($F18,LEN($F18)-$C18)&\"\",Kredsudvælgelse!$W$2:$X$3))=TRUE,DGET(Forespørgsel1[#All],\"\"&LEFT($F18,LEN($F18)-$C18)&\"\",Kredsudvælgelse!$W$2:$X$3),DGET(Forespørgsel1[#All],\"\"&LEFT($F18,LEN($F18)-$C18)&\"\",Kredsudvælgelse!$W$2:$X$3)/IF(ISNONTEXT($D18)=TRUE,1,DGET(Forespørgsel1[#All],\"\"&$D18&\"\",Kredsudvælgelse!$W$2:$X$3))),IF(ISBLANK(HLOOKUP(N$12,'Statiske ejendomme'!$B$3:$OF$80,'Statiske ejendomme'!$A11,FALSE))=FALSE,HLOOKUP(N$12,'Statiske ejendomme'!$B$3:$OF$80,'Statiske ejendomme'!$A11,FALSE),\"\"))),\"-\")","v":26.277777777777779},{"$f":"IFERROR(IF(O$12=Kredsudvælgelse!$Q$20,\"\",IF(Kredsudvælgelse!AF$2=1,IF(ISTEXT(DGET(Forespørgsel1[#All],\"\"&LEFT($F18,LEN($F18)-$C18)&\"\",Kredsudvælgelse!$Y$2:$Z$3))=TRUE,DGET(Forespørgsel1[#All],\"\"&LEFT($F18,LEN($F18)-$C18)&\"\",Kredsudvælgelse!$Y$2:$Z$3),DGET(Forespørgsel1[#All],\"\"&LEFT($F18,LEN($F18)-$C18)&\"\",Kredsudvælgelse!$Y$2:$Z$3)/IF(ISNONTEXT($D18)=TRUE,1,DGET(Forespørgsel1[#All],\"\"&$D18&\"\",Kredsudvælgelse!$Y$2:$Z$3))),IF(ISBLANK(HLOOKUP(O$12,'Statiske ejendomme'!$B$3:$OF$80,'Statiske ejendomme'!$A11,FALSE))=FALSE,HLOOKUP(O$12,'Statiske ejendomme'!$B$3:$OF$80,'Statiske ejendomme'!$A11,FALSE),\"\"))),\"-\")","v":25.368932038834952},{"$f":"IFERROR(IF(P$12=Kredsudvælgelse!$Q$20,\"\",IF(Kredsudvælgelse!AG$2=1,IF(ISTEXT(DGET(Forespørgsel1[#All],\"\"&LEFT($F18,LEN($F18)-$C18)&\"\",Kredsudvælgelse!$Q$6:$R$7))=TRUE,DGET(Forespørgsel1[#All],\"\"&LEFT($F18,LEN($F18)-$C18)&\"\",Kredsudvælgelse!$Q$6:$R$7),DGET(Forespørgsel1[#All],\"\"&LEFT($F18,LEN($F18)-$C18)&\"\",Kredsudvælgelse!$Q$6:$R$7)/IF(ISNONTEXT($D18)=TRUE,1,DGET(Forespørgsel1[#All],\"\"&$D18&\"\",Kredsudvælgelse!$Q$6:$R$7))),IF(ISBLANK(HLOOKUP(P$12,'Statiske ejendomme'!$B$3:$OF$80,'Statiske ejendomme'!$A11,FALSE))=FALSE,HLOOKUP(P$12,'Statiske ejendomme'!$B$3:$OF$80,'Statiske ejendomme'!$A11,FALSE),\"\"))),\"\")","v":26.991596638655462},{"$f":"IFERROR(IF(Q$12=Kredsudvælgelse!$Q$20,\"\",IF(Kredsudvælgelse!AH$2=1,IF(ISTEXT(DGET(Forespørgsel1[#All],\"\"&LEFT($F18,LEN($F18)-$C18)&\"\",Kredsudvælgelse!$S$6:$T$7))=TRUE,DGET(Forespørgsel1[#All],\"\"&LEFT($F18,LEN($F18)-$C18)&\"\",Kredsudvælgelse!$S$6:$T$7),DGET(Forespørgsel1[#All],\"\"&LEFT($F18,LEN($F18)-$C18)&\"\",Kredsudvælgelse!$S$6:$T$7)/IF(ISNONTEXT($D18)=TRUE,1,DGET(Forespørgsel1[#All],\"\"&$D18&\"\",Kredsudvælgelse!$S$6:$T$7))),IF(ISBLANK(HLOOKUP(Q$12,'Statiske ejendomme'!$B$3:$OF$80,'Statiske ejendomme'!$A11,FALSE))=FALSE,HLOOKUP(Q$12,'Statiske ejendomme'!$B$3:$OF$80,'Statiske ejendomme'!$A11,FALSE),\"-\"))),\"\")","v":29.180094786729857},{"$f":"IFERROR(IF(R$12=Kredsudvælgelse!$Q$20,\"\",IF(Kredsudvælgelse!AI$2=1,IF(ISTEXT(DGET(Forespørgsel1[#All],\"\"&LEFT($F18,LEN($F18)-$C18)&\"\",Kredsudvælgelse!$U$6:$V$7))=TRUE,DGET(Forespørgsel1[#All],\"\"&LEFT($F18,LEN($F18)-$C18)&\"\",Kredsudvælgelse!$U$6:$V$7),DGET(Forespørgsel1[#All],\"\"&LEFT($F18,LEN($F18)-$C18)&\"\",Kredsudvælgelse!$U$6:$V$7)/IF(ISNONTEXT($D18)=TRUE,1,DGET(Forespørgsel1[#All],\"\"&$D18&\"\",Kredsudvælgelse!$U$6:$V$7))),IF(ISBLANK(HLOOKUP(R$12,'Statiske ejendomme'!$B$3:$OF$80,'Statiske ejendomme'!$A11,FALSE))=FALSE,HLOOKUP(R$12,'Statiske ejendomme'!$B$3:$OF$80,'Statiske ejendomme'!$A11,FALSE),\"\"))),\"\")","v":28.68},{"$f":"IFERROR(IF(S$12=Kredsudvælgelse!$Q$20,\"\",IF(Kredsudvælgelse!AJ$2=1,IF(ISTEXT(DGET(Forespørgsel1[#All],\"\"&LEFT($F18,LEN($F18)-$C18)&\"\",Kredsudvælgelse!$W$6:$X$7))=TRUE,DGET(Forespørgsel1[#All],\"\"&LEFT($F18,LEN($F18)-$C18)&\"\",Kredsudvælgelse!$W$6:$X$7),DGET(Forespørgsel1[#All],\"\"&LEFT($F18,LEN($F18)-$C18)&\"\",Kredsudvælgelse!$W$6:$X$7)/IF(ISNONTEXT($D18)=TRUE,1,DGET(Forespørgsel1[#All],\"\"&$D18&\"\",Kredsudvælgelse!$W$6:$X$7))),IF(ISBLANK(HLOOKUP(S$12,'Statiske ejendomme'!$B$3:$OF$80,'Statiske ejendomme'!$A11,FALSE))=FALSE,HLOOKUP(S$12,'Statiske ejendomme'!$B$3:$OF$80,'Statiske ejendomme'!$A11,FALSE),\"\"))),\"\")","v":24.354166666666668},{"$f":"IFERROR(IF(T$12=Kredsudvælgelse!$Q$20,\"\",IF(Kredsudvælgelse!AK$2=1,IF(ISTEXT(DGET(Forespørgsel1[#All],\"\"&LEFT($F18,LEN($F18)-$C18)&\"\",Kredsudvælgelse!$Y$6:$Z$7))=TRUE,DGET(Forespørgsel1[#All],\"\"&LEFT($F18,LEN($F18)-$C18)&\"\",Kredsudvælgelse!$Y$6:$Z$7),DGET(Forespørgsel1[#All],\"\"&LEFT($F18,LEN($F18)-$C18)&\"\",Kredsudvælgelse!$Y$6:$Z$7)/IF(ISNONTEXT($D18)=TRUE,1,DGET(Forespørgsel1[#All],\"\"&$D18&\"\",Kredsudvælgelse!$Y$6:$Z$7))),IF(ISBLANK(HLOOKUP(T$12,'Statiske ejendomme'!$B$3:$OF$80,'Statiske ejendomme'!$A11,FALSE))=FALSE,HLOOKUP(T$12,'Statiske ejendomme'!$B$3:$OF$80,'Statiske ejendomme'!$A11,FALSE),\"\"))),\"\")","v":24.403669724770641}]
[1,{"$f":"Slagtekalve!D91","v":9},{"$f":"Slagtekalve!A10","v":0},{"$f":"Slagtekalve!B10","v":0},null,{"$f":"Slagtekalve!C10","v":0},{"$f":"IF(Choices!$A$1=2,Landsgennemsnit!B10,IF(Choices!$A$1=3,Landsgennemsnit!E10,\"\"))","v":0},{"$f":"IF(Choices!$A$1=2,Landsgennemsnit!C10,IF(Choices!$A$1=3,Landsgennemsnit!F10,\"\"))","v":0},{"$f":"IF(OR(Choices!$A$1=2,Choices!$A$1=3),Slagtekalve!F10,\"\")","v":""},{"$f":"IF(OR(Choices!$A$1=2,Choices!$A$1=3),Slagtekalve!G10,\"\")","v":""},{"$f":"IFERROR(IF(K$12=Kredsudvælgelse!$Q$20,\"\",IF(Kredsudvælgelse!AB$2=1,IF(ISTEXT(DGET(Forespørgsel1[#All],\"\"&LEFT($F19,LEN($F19)-$C19)&\"\",Kredsudvælgelse!$Q$2:$R$3))=TRUE,DGET(Forespørgsel1[#All],\"\"&LEFT($F19,LEN($F19)-$C19)&\"\",Kredsudvælgelse!$Q$2:$R$3),DGET(Forespørgsel1[#All],\"\"&LEFT($F19,LEN($F19)-$C19)&\"\",Kredsudvælgelse!$Q$2:$R$3)/IF(ISNONTEXT($D19)=TRUE,1,DGET(Forespørgsel1[#All],\"\"&$D19&\"\",Kredsudvælgelse!$Q$2:$R$3))),IF(ISBLANK(HLOOKUP(K$12,'Statiske ejendomme'!$B$3:$OF$80,'Statiske ejendomme'!$A12,FALSE))=FALSE,HLOOKUP(K$12,'Statiske ejendomme'!$B$3:$OF$80,'Statiske ejendomme'!$A12,FALSE),\"\"))),\"\")","v":""},{"$f":"IFERROR(IF(L$12=Kredsudvælgelse!$Q$20,\"\",IF(Kredsudvælgelse!AC$2=1,IF(ISTEXT(DGET(Forespørgsel1[#All],\"\"&LEFT($F19,LEN($F19)-$C19)&\"\",Kredsudvælgelse!$S$2:$T$3))=TRUE,DGET(Forespørgsel1[#All],\"\"&LEFT($F19,LEN($F19)-$C19)&\"\",Kredsudvælgelse!$S$2:$T$3),DGET(Forespørgsel1[#All],\"\"&LEFT($F19,LEN($F19)-$C19)&\"\",Kredsudvælgelse!$S$2:$T$3)/IF(ISNONTEXT($D19)=TRUE,1,DGET(Forespørgsel1[#All],\"\"&$D19&\"\",Kredsudvælgelse!$S$2:$T$3))),IF(ISBLANK(HLOOKUP(L$12,'Statiske ejendomme'!$B$3:$OF$80,'Statiske ejendomme'!$A12,FALSE))=FALSE,HLOOKUP(L$12,'Statiske ejendomme'!$B$3:$OF$80,'Statiske ejendomme'!$A12,FALSE),\"\"))),\"\")","v":""},{"$f":"IFERROR(IF(M$12=Kredsudvælgelse!$Q$20,\"\",IF(Kredsudvælgelse!AD$2=1,IF(ISTEXT(DGET(Forespørgsel1[#All],\"\"&LEFT($F19,LEN($F19)-$C19)&\"\",Kredsudvælgelse!$U$2:$V$3))=TRUE,DGET(Forespørgsel1[#All],\"\"&LEFT($F19,LEN($F19)-$C19)&\"\",Kredsudvælgelse!$U$2:$V$3),DGET(Forespørgsel1[#All],\"\"&LEFT($F19,LEN($F19)-$C19)&\"\",Kredsudvælgelse!$U$2:$V$3)/IF(ISNONTEXT($D19)=TRUE,1,DGET(Forespørgsel1[#All],\"\"&$D19&\"\",Kredsudvælgelse!$U$2:$V$3))),IF(ISBLANK(HLOOKUP(M$12,'Statiske ejendomme'!$B$3:$OF$80,'Statiske ejendomme'!$A12,FALSE))=FALSE,HLOOKUP(M$12,'Statiske ejendomme'!$B$3:$OF$80,'Statiske ejendomme'!$A12,FALSE),\"\"))),\"\")","v":""},{"$f":"IFERROR(IF(N$12=Kredsudvælgelse!$Q$20,\"\",IF(Kredsudvælgelse!AE$2=1,IF(ISTEXT(DGET(Forespørgsel1[#All],\"\"&LEFT($F19,LEN($F19)-$C19)&\"\",Kredsudvælgelse!$W$2:$X$3))=TRUE,DGET(Forespørgsel1[#All],\"\"&LEFT($F19,LEN($F19)-$C19)&\"\",Kredsudvælgelse!$W$2:$X$3),DGET(Forespørgsel1[#All],\"\"&LEFT($F19,LEN($F19)-$C19)&\"\",Kredsudvælgelse!$W$2:$X$3)/IF(ISNONTEXT($D19)=TRUE,1,DGET(Forespørgsel1[#All],\"\"&$D19&\"\",Kredsudvælgelse!$W$2:$X$3))),IF(ISBLANK(HLOOKUP(N$12,'Statiske ejendomme'!$B$3:$OF$80,'Statiske ejendomme'!$A12,FALSE))=FALSE,HLOOKUP(N$12,'Statiske ejendomme'!$B$3:$OF$80,'Statiske ejendomme'!$A12,FALSE),\"\"))),\"\")","v":""},{"$f":"IFERROR(IF(O$12=Kredsudvælgelse!$Q$20,\"\",IF(Kredsudvælgelse!AF$2=1,IF(ISTEXT(DGET(Forespørgsel1[#All],\"\"&LEFT($F19,LEN($F19)-$C19)&\"\",Kredsudvælgelse!$Y$2:$Z$3))=TRUE,DGET(Forespørgsel1[#All],\"\"&LEFT($F19,LEN($F19)-$C19)&\"\",Kredsudvælgelse!$Y$2:$Z$3),DGET(Forespørgsel1[#All],\"\"&LEFT($F19,LEN($F19)-$C19)&\"\",Kredsudvælgelse!$Y$2:$Z$3)/IF(ISNONTEXT($D19)=TRUE,1,DGET(Forespørgsel1[#All],\"\"&$D19&\"\",Kredsudvælgelse!$Y$2:$Z$3))),IF(ISBLANK(HLOOKUP(O$12,'Statiske ejendomme'!$B$3:$OF$80,'Statiske ejendomme'!$A12,FALSE))=FALSE,HLOOKUP(O$12,'Statiske ejendomme'!$B$3:$OF$80,'Statiske ejendomme'!$A12,FALSE),\"\"))),\"\")","v":""},{"$f":"IFERROR(IF(P$12=Kredsudvælgelse!$Q$20,\"\",IF(Kredsudvælgelse!AG$2=1,IF(ISTEXT(DGET(Forespørgsel1[#All],\"\"&LEFT($F19,LEN($F19)-$C19)&\"\",Kredsudvælgelse!$Q$6:$R$7))=TRUE,DGET(Forespørgsel1[#All],\"\"&LEFT($F19,LEN($F19)-$C19)&\"\",Kredsudvælgelse!$Q$6:$R$7),DGET(Forespørgsel1[#All],\"\"&LEFT($F19,LEN($F19)-$C19)&\"\",Kredsudvælgelse!$Q$6:$R$7)/IF(ISNONTEXT($D19)=TRUE,1,DGET(Forespørgsel1[#All],\"\"&$D19&\"\",Kredsudvælgelse!$Q$6:$R$7))),IF(ISBLANK(HLOOKUP(P$12,'Statiske ejendomme'!$B$3:$OF$80,'Statiske ejendomme'!$A12,FALSE))=FALSE,HLOOKUP(P$12,'Statiske ejendomme'!$B$3:$OF$80,'Statiske ejendomme'!$A12,FALSE),\"\"))),\"\")","v":""},{"$f":"IFERROR(IF(Q$12=Kredsudvælgelse!$Q$20,\"\",IF(Kredsudvælgelse!AH$2=1,IF(ISTEXT(DGET(Forespørgsel1[#All],\"\"&LEFT($F19,LEN($F19)-$C19)&\"\",Kredsudvælgelse!$S$6:$T$7))=TRUE,DGET(Forespørgsel1[#All],\"\"&LEFT($F19,LEN($F19)-$C19)&\"\",Kredsudvælgelse!$S$6:$T$7),DGET(Forespørgsel1[#All],\"\"&LEFT($F19,LEN($F19)-$C19)&\"\",Kredsudvælgelse!$S$6:$T$7)/IF(ISNONTEXT($D19)=TRUE,1,DGET(Forespørgsel1[#All],\"\"&$D19&\"\",Kredsudvælgelse!$S$6:$T$7))),IF(ISBLANK(HLOOKUP(Q$12,'Statiske ejendomme'!$B$3:$OF$80,'Statiske ejendomme'!$A12,FALSE))=FALSE,HLOOKUP(Q$12,'Statiske ejendomme'!$B$3:$OF$80,'Statiske ejendomme'!$A12,FALSE),\"\"))),\"\")","v":""},{"$f":"IFERROR(IF(R$12=Kredsudvælgelse!$Q$20,\"\",IF(Kredsudvælgelse!AI$2=1,IF(ISTEXT(DGET(Forespørgsel1[#All],\"\"&LEFT($F19,LEN($F19)-$C19)&\"\",Kredsudvælgelse!$U$6:$V$7))=TRUE,DGET(Forespørgsel1[#All],\"\"&LEFT($F19,LEN($F19)-$C19)&\"\",Kredsudvælgelse!$U$6:$V$7),DGET(Forespørgsel1[#All],\"\"&LEFT($F19,LEN($F19)-$C19)&\"\",Kredsudvælgelse!$U$6:$V$7)/IF(ISNONTEXT($D19)=TRUE,1,DGET(Forespørgsel1[#All],\"\"&$D19&\"\",Kredsudvælgelse!$U$6:$V$7))),IF(ISBLANK(HLOOKUP(R$12,'Statiske ejendomme'!$B$3:$OF$80,'Statiske ejendomme'!$A12,FALSE))=FALSE,HLOOKUP(R$12,'Statiske ejendomme'!$B$3:$OF$80,'Statiske ejendomme'!$A12,FALSE),\"\"))),\"\")","v":""},{"$f":"IFERROR(IF(S$12=Kredsudvælgelse!$Q$20,\"\",IF(Kredsudvælgelse!AJ$2=1,IF(ISTEXT(DGET(Forespørgsel1[#All],\"\"&LEFT($F19,LEN($F19)-$C19)&\"\",Kredsudvælgelse!$W$6:$X$7))=TRUE,DGET(Forespørgsel1[#All],\"\"&LEFT($F19,LEN($F19)-$C19)&\"\",Kredsudvælgelse!$W$6:$X$7),DGET(Forespørgsel1[#All],\"\"&LEFT($F19,LEN($F19)-$C19)&\"\",Kredsudvælgelse!$W$6:$X$7)/IF(ISNONTEXT($D19)=TRUE,1,DGET(Forespørgsel1[#All],\"\"&$D19&\"\",Kredsudvælgelse!$W$6:$X$7))),IF(ISBLANK(HLOOKUP(S$12,'Statiske ejendomme'!$B$3:$OF$80,'Statiske ejendomme'!$A12,FALSE))=FALSE,HLOOKUP(S$12,'Statiske ejendomme'!$B$3:$OF$80,'Statiske ejendomme'!$A12,FALSE),\"\"))),\"\")","v":""},{"$f":"IFERROR(IF(T$12=Kredsudvælgelse!$Q$20,\"\",IF(Kredsudvælgelse!AK$2=1,IF(ISTEXT(DGET(Forespørgsel1[#All],\"\"&LEFT($F19,LEN($F19)-$C19)&\"\",Kredsudvælgelse!$Y$6:$Z$7))=TRUE,DGET(Forespørgsel1[#All],\"\"&LEFT($F19,LEN($F19)-$C19)&\"\",Kredsudvælgelse!$Y$6:$Z$7),DGET(Forespørgsel1[#All],\"\"&LEFT($F19,LEN($F19)-$C19)&\"\",Kredsudvælgelse!$Y$6:$Z$7)/IF(ISNONTEXT($D19)=TRUE,1,DGET(Forespørgsel1[#All],\"\"&$D19&\"\",Kredsudvælgelse!$Y$6:$Z$7))),IF(ISBLANK(HLOOKUP(T$12,'Statiske ejendomme'!$B$3:$OF$80,'Statiske ejendomme'!$A12,FALSE))=FALSE,HLOOKUP(T$12,'Statiske ejendomme'!$B$3:$OF$80,'Statiske ejendomme'!$A12,FALSE),\"\"))),\"\")","v":""}]
[1,{"$f":"Slagtekalve!D92","v":111},{"$f":"Slagtekalve!A11","v":0},{"$f":"Slagtekalve!B11","v":0},null,{"$f":"Slagtekalve!C11","v":"Nøgletal pr. foderdag"},{"$f":"IF(Choices!$A$1=2,Landsgennemsnit!B11,IF(Choices!$A$1=3,Landsgennemsnit!E11,\"\"))","v":0},{"$f":"IF(Choices!$A$1=2,Landsgennemsnit!C11,IF(Choices!$A$1=3,Landsgennemsnit!F11,\"\"))","v":0},{"$f":"IF(OR(Choices!$A$1=2,Choices!$A$1=3),Slagtekalve!F11,\"\")","v":""},{"$f":"IF(OR(Choices!$A$1=2,Choices!$A$1=3),Slagtekalve!G11,\"\")","v":""},{"$f":"IFERROR(IF(K$12=Kredsudvælgelse!$Q$20,\"\",IF(Kredsudvælgelse!AB$2=1,IF(ISTEXT(DGET(Forespørgsel1[#All],\"\"&LEFT($F20,LEN($F20)-$C20)&\"\",Kredsudvælgelse!$Q$2:$R$3))=TRUE,DGET(Forespørgsel1[#All],\"\"&LEFT($F20,LEN($F20)-$C20)&\"\",Kredsudvælgelse!$Q$2:$R$3),DGET(Forespørgsel1[#All],\"\"&LEFT($F20,LEN($F20)-$C20)&\"\",Kredsudvælgelse!$Q$2:$R$3)/IF(ISNONTEXT($D20)=TRUE,1,DGET(Forespørgsel1[#All],\"\"&$D20&\"\",Kredsudvælgelse!$Q$2:$R$3))),IF(ISBLANK(HLOOKUP(K$12,'Statiske ejendomme'!$B$3:$OF$80,'Statiske ejendomme'!$A13,FALSE))=FALSE,HLOOKUP(K$12,'Statiske ejendomme'!$B$3:$OF$80,'Statiske ejendomme'!$A13,FALSE),\"\"))),\"\")","v":""},{"$f":"IFERROR(IF(L$12=Kredsudvælgelse!$Q$20,\"\",IF(Kredsudvælgelse!AC$2=1,IF(ISTEXT(DGET(Forespørgsel1[#All],\"\"&LEFT($F20,LEN($F20)-$C20)&\"\",Kredsudvælgelse!$S$2:$T$3))=TRUE,DGET(Forespørgsel1[#All],\"\"&LEFT($F20,LEN($F20)-$C20)&\"\",Kredsudvælgelse!$S$2:$T$3),DGET(Forespørgsel1[#All],\"\"&LEFT($F20,LEN($F20)-$C20)&\"\",Kredsudvælgelse!$S$2:$T$3)/IF(ISNONTEXT($D20)=TRUE,1,DGET(Forespørgsel1[#All],\"\"&$D20&\"\",Kredsudvælgelse!$S$2:$T$3))),IF(ISBLANK(HLOOKUP(L$12,'Statiske ejendomme'!$B$3:$OF$80,'Statiske ejendomme'!$A13,FALSE))=FALSE,HLOOKUP(L$12,'Statiske ejendomme'!$B$3:$OF$80,'Statiske ejendomme'!$A13,FALSE),\"\"))),\"\")","v":""},{"$f":"IFERROR(IF(M$12=Kredsudvælgelse!$Q$20,\"\",IF(Kredsudvælgelse!AD$2=1,IF(ISTEXT(DGET(Forespørgsel1[#All],\"\"&LEFT($F20,LEN($F20)-$C20)&\"\",Kredsudvælgelse!$U$2:$V$3))=TRUE,DGET(Forespørgsel1[#All],\"\"&LEFT($F20,LEN($F20)-$C20)&\"\",Kredsudvælgelse!$U$2:$V$3),DGET(Forespørgsel1[#All],\"\"&LEFT($F20,LEN($F20)-$C20)&\"\",Kredsudvælgelse!$U$2:$V$3)/IF(ISNONTEXT($D20)=TRUE,1,DGET(Forespørgsel1[#All],\"\"&$D20&\"\",Kredsudvælgelse!$U$2:$V$3))),IF(ISBLANK(HLOOKUP(M$12,'Statiske ejendomme'!$B$3:$OF$80,'Statiske ejendomme'!$A13,FALSE))=FALSE,HLOOKUP(M$12,'Statiske ejendomme'!$B$3:$OF$80,'Statiske ejendomme'!$A13,FALSE),\"\"))),\"\")","v":""},{"$f":"IFERROR(IF(N$12=Kredsudvælgelse!$Q$20,\"\",IF(Kredsudvælgelse!AE$2=1,IF(ISTEXT(DGET(Forespørgsel1[#All],\"\"&LEFT($F20,LEN($F20)-$C20)&\"\",Kredsudvælgelse!$W$2:$X$3))=TRUE,DGET(Forespørgsel1[#All],\"\"&LEFT($F20,LEN($F20)-$C20)&\"\",Kredsudvælgelse!$W$2:$X$3),DGET(Forespørgsel1[#All],\"\"&LEFT($F20,LEN($F20)-$C20)&\"\",Kredsudvælgelse!$W$2:$X$3)/IF(ISNONTEXT($D20)=TRUE,1,DGET(Forespørgsel1[#All],\"\"&$D20&\"\",Kredsudvælgelse!$W$2:$X$3))),IF(ISBLANK(HLOOKUP(N$12,'Statiske ejendomme'!$B$3:$OF$80,'Statiske ejendomme'!$A13,FALSE))=FALSE,HLOOKUP(N$12,'Statiske ejendomme'!$B$3:$OF$80,'Statiske ejendomme'!$A13,FALSE),\"\"))),\"\")","v":""},{"$f":"IFERROR(IF(O$12=Kredsudvælgelse!$Q$20,\"\",IF(Kredsudvælgelse!AF$2=1,IF(ISTEXT(DGET(Forespørgsel1[#All],\"\"&LEFT($F20,LEN($F20)-$C20)&\"\",Kredsudvælgelse!$Y$2:$Z$3))=TRUE,DGET(Forespørgsel1[#All],\"\"&LEFT($F20,LEN($F20)-$C20)&\"\",Kredsudvælgelse!$Y$2:$Z$3),DGET(Forespørgsel1[#All],\"\"&LEFT($F20,LEN($F20)-$C20)&\"\",Kredsudvælgelse!$Y$2:$Z$3)/IF(ISNONTEXT($D20)=TRUE,1,DGET(Forespørgsel1[#All],\"\"&$D20&\"\",Kredsudvælgelse!$Y$2:$Z$3))),IF(ISBLANK(HLOOKUP(O$12,'Statiske ejendomme'!$B$3:$OF$80,'Statiske ejendomme'!$A13,FALSE))=FALSE,HLOOKUP(O$12,'Statiske ejendomme'!$B$3:$OF$80,'Statiske ejendomme'!$A13,FALSE),\"\"))),\"\")","v":""},{"$f":"IFERROR(IF(P$12=Kredsudvælgelse!$Q$20,\"\",IF(Kredsudvælgelse!AG$2=1,IF(ISTEXT(DGET(Forespørgsel1[#All],\"\"&LEFT($F20,LEN($F20)-$C20)&\"\",Kredsudvælgelse!$Q$6:$R$7))=TRUE,DGET(Forespørgsel1[#All],\"\"&LEFT($F20,LEN($F20)-$C20)&\"\",Kredsudvælgelse!$Q$6:$R$7),DGET(Forespørgsel1[#All],\"\"&LEFT($F20,LEN($F20)-$C20)&\"\",Kredsudvælgelse!$Q$6:$R$7)/IF(ISNONTEXT($D20)=TRUE,1,DGET(Forespørgsel1[#All],\"\"&$D20&\"\",Kredsudvælgelse!$Q$6:$R$7))),IF(ISBLANK(HLOOKUP(P$12,'Statiske ejendomme'!$B$3:$OF$80,'Statiske ejendomme'!$A13,FALSE))=FALSE,HLOOKUP(P$12,'Statiske ejendomme'!$B$3:$OF$80,'Statiske ejendomme'!$A13,FALSE),\"\"))),\"\")","v":""},{"$f":"IFERROR(IF(Q$12=Kredsudvælgelse!$Q$20,\"\",IF(Kredsudvælgelse!AH$2=1,IF(ISTEXT(DGET(Forespørgsel1[#All],\"\"&LEFT($F20,LEN($F20)-$C20)&\"\",Kredsudvælgelse!$S$6:$T$7))=TRUE,DGET(Forespørgsel1[#All],\"\"&LEFT($F20,LEN($F20)-$C20)&\"\",Kredsudvælgelse!$S$6:$T$7),DGET(Forespørgsel1[#All],\"\"&LEFT($F20,LEN($F20)-$C20)&\"\",Kredsudvælgelse!$S$6:$T$7)/IF(ISNONTEXT($D20)=TRUE,1,DGET(Forespørgsel1[#All],\"\"&$D20&\"\",Kredsudvælgelse!$S$6:$T$7))),IF(ISBLANK(HLOOKUP(Q$12,'Statiske ejendomme'!$B$3:$OF$80,'Statiske ejendomme'!$A13,FALSE))=FALSE,HLOOKUP(Q$12,'Statiske ejendomme'!$B$3:$OF$80,'Statiske ejendomme'!$A13,FALSE),\"\"))),\"\")","v":""},{"$f":"IFERROR(IF(R$12=Kredsudvælgelse!$Q$20,\"\",IF(Kredsudvælgelse!AI$2=1,IF(ISTEXT(DGET(Forespørgsel1[#All],\"\"&LEFT($F20,LEN($F20)-$C20)&\"\",Kredsudvælgelse!$U$6:$V$7))=TRUE,DGET(Forespørgsel1[#All],\"\"&LEFT($F20,LEN($F20)-$C20)&\"\",Kredsudvælgelse!$U$6:$V$7),DGET(Forespørgsel1[#All],\"\"&LEFT($F20,LEN($F20)-$C20)&\"\",Kredsudvælgelse!$U$6:$V$7)/IF(ISNONTEXT($D20)=TRUE,1,DGET(Forespørgsel1[#All],\"\"&$D20&\"\",Kredsudvælgelse!$U$6:$V$7))),IF(ISBLANK(HLOOKUP(R$12,'Statiske ejendomme'!$B$3:$OF$80,'Statiske ejendomme'!$A13,FALSE))=FALSE,HLOOKUP(R$12,'Statiske ejendomme'!$B$3:$OF$80,'Statiske ejendomme'!$A13,FALSE),\"\"))),\"\")","v":""},{"$f":"IFERROR(IF(S$12=Kredsudvælgelse!$Q$20,\"\",IF(Kredsudvælgelse!AJ$2=1,IF(ISTEXT(DGET(Forespørgsel1[#All],\"\"&LEFT($F20,LEN($F20)-$C20)&\"\",Kredsudvælgelse!$W$6:$X$7))=TRUE,DGET(Forespørgsel1[#All],\"\"&LEFT($F20,LEN($F20)-$C20)&\"\",Kredsudvælgelse!$W$6:$X$7),DGET(Forespørgsel1[#All],\"\"&LEFT($F20,LEN($F20)-$C20)&\"\",Kredsudvælgelse!$W$6:$X$7)/IF(ISNONTEXT($D20)=TRUE,1,DGET(Forespørgsel1[#All],\"\"&$D20&\"\",Kredsudvælgelse!$W$6:$X$7))),IF(ISBLANK(HLOOKUP(S$12,'Statiske ejendomme'!$B$3:$OF$80,'Statiske ejendomme'!$A13,FALSE))=FALSE,HLOOKUP(S$12,'Statiske ejendomme'!$B$3:$OF$80,'Statiske ejendomme'!$A13,FALSE),\"\"))),\"\")","v":""},{"$f":"IFERROR(IF(T$12=Kredsudvælgelse!$Q$20,\"\",IF(Kredsudvælgelse!AK$2=1,IF(ISTEXT(DGET(Forespørgsel1[#All],\"\"&LEFT($F20,LEN($F20)-$C20)&\"\",Kredsudvælgelse!$Y$6:$Z$7))=TRUE,DGET(Forespørgsel1[#All],\"\"&LEFT($F20,LEN($F20)-$C20)&\"\",Kredsudvælgelse!$Y$6:$Z$7),DGET(Forespørgsel1[#All],\"\"&LEFT($F20,LEN($F20)-$C20)&\"\",Kredsudvælgelse!$Y$6:$Z$7)/IF(ISNONTEXT($D20)=TRUE,1,DGET(Forespørgsel1[#All],\"\"&$D20&\"\",Kredsudvælgelse!$Y$6:$Z$7))),IF(ISBLANK(HLOOKUP(T$12,'Statiske ejendomme'!$B$3:$OF$80,'Statiske ejendomme'!$A13,FALSE))=FALSE,HLOOKUP(T$12,'Statiske ejendomme'!$B$3:$OF$80,'Statiske ejendomme'!$A13,FALSE),\"\"))),\"\")","v":""}]
[1,{"$f":"Slagtekalve!D93","v":1},{"$f":"Slagtekalve!A12","v":0},{"$f":"Slagtekalve!B12","v":"Antal foderdage pr. produceret slagtekalv"},null,{"$f":"Slagtekalve!C12","v":"Bruttoudbytte"},{"$f":"IF(Choices!$A$1=2,Landsgennemsnit!B12,IF(Choices!$A$1=3,Landsgennemsnit!E12,\"\"))","v":18.758028379215325},{"$f":"IF(Choices!$A$1=2,Landsgennemsnit!C12,IF(Choices!$A$1=3,Landsgennemsnit!F12,\"\"))","v":19.689904138305423},{"$f":"IF(OR(Choices!$A$1=2,Choices!$A$1=3),Slagtekalve!F12,\"\")","v":""},{"$f":"IF(OR(Choices!$A$1=2,Choices!$A$1=3),Slagtekalve!G12,\"\")","v":""},{"$f":"IFERROR(IF(K$12=Kredsudvælgelse!$Q$20,\"\",IF(Kredsudvælgelse!AB$2=1,IF(ISTEXT(DGET(Forespørgsel1[#All],\"\"&LEFT($F21,LEN($F21)-$C21)&\"\",Kredsudvælgelse!$Q$2:$R$3))=TRUE,DGET(Forespørgsel1[#All],\"\"&LEFT($F21,LEN($F21)-$C21)&\"\",Kredsudvælgelse!$Q$2:$R$3),DGET(Forespørgsel1[#All],\"\"&LEFT($F21,LEN($F21)-$C21)&\"\",Kredsudvælgelse!$Q$2:$R$3)/IF(ISNONTEXT($D21)=TRUE,1,DGET(Forespørgsel1[#All],\"\"&$D21&\"\",Kredsudvælgelse!$Q$2:$R$3))),IF(ISBLANK(HLOOKUP(K$12,'Statiske ejendomme'!$B$3:$OF$80,'Statiske ejendomme'!$A14,FALSE))=FALSE,HLOOKUP(K$12,'Statiske ejendomme'!$B$3:$OF$80,'Statiske ejendomme'!$A14,FALSE),\"\"))),\"-\")","v":20.078209842233548},{"$f":"IFERROR(IF(L$12=Kredsudvælgelse!$Q$20,\"\",IF(Kredsudvælgelse!AC$2=1,IF(ISTEXT(DGET(Forespørgsel1[#All],\"\"&LEFT($F21,LEN($F21)-$C21)&\"\",Kredsudvælgelse!$S$2:$T$3))=TRUE,DGET(Forespørgsel1[#All],\"\"&LEFT($F21,LEN($F21)-$C21)&\"\",Kredsudvælgelse!$S$2:$T$3),DGET(Forespørgsel1[#All],\"\"&LEFT($F21,LEN($F21)-$C21)&\"\",Kredsudvælgelse!$S$2:$T$3)/IF(ISNONTEXT($D21)=TRUE,1,DGET(Forespørgsel1[#All],\"\"&$D21&\"\",Kredsudvælgelse!$S$2:$T$3))),IF(ISBLANK(HLOOKUP(L$12,'Statiske ejendomme'!$B$3:$OF$80,'Statiske ejendomme'!$A14,FALSE))=FALSE,HLOOKUP(L$12,'Statiske ejendomme'!$B$3:$OF$80,'Statiske ejendomme'!$A14,FALSE),\"\"))),\"\")","v":19.956986383168061},{"$f":"IFERROR(IF(M$12=Kredsudvælgelse!$Q$20,\"\",IF(Kredsudvælgelse!AD$2=1,IF(ISTEXT(DGET(Forespørgsel1[#All],\"\"&LEFT($F21,LEN($F21)-$C21)&\"\",Kredsudvælgelse!$U$2:$V$3))=TRUE,DGET(Forespørgsel1[#All],\"\"&LEFT($F21,LEN($F21)-$C21)&\"\",Kredsudvælgelse!$U$2:$V$3),DGET(Forespørgsel1[#All],\"\"&LEFT($F21,LEN($F21)-$C21)&\"\",Kredsudvælgelse!$U$2:$V$3)/IF(ISNONTEXT($D21)=TRUE,1,DGET(Forespørgsel1[#All],\"\"&$D21&\"\",Kredsudvælgelse!$U$2:$V$3))),IF(ISBLANK(HLOOKUP(M$12,'Statiske ejendomme'!$B$3:$OF$80,'Statiske ejendomme'!$A14,FALSE))=FALSE,HLOOKUP(M$12,'Statiske ejendomme'!$B$3:$OF$80,'Statiske ejendomme'!$A14,FALSE),\"\"))),\"\")","v":16.945421282650678},{"$f":"IFERROR(IF(N$12=Kredsudvælgelse!$Q$20,\"\",IF(Kredsudvælgelse!AE$2=1,IF(ISTEXT(DGET(Forespørgsel1[#All],\"\"&LEFT($F21,LEN($F21)-$C21)&\"\",Kredsudvælgelse!$W$2:$X$3))=TRUE,DGET(Forespørgsel1[#All],\"\"&LEFT($F21,LEN($F21)-$C21)&\"\",Kredsudvælgelse!$W$2:$X$3),DGET(Forespørgsel1[#All],\"\"&LEFT($F21,LEN($F21)-$C21)&\"\",Kredsudvælgelse!$W$2:$X$3)/IF(ISNONTEXT($D21)=TRUE,1,DGET(Forespørgsel1[#All],\"\"&$D21&\"\",Kredsudvælgelse!$W$2:$X$3))),IF(ISBLANK(HLOOKUP(N$12,'Statiske ejendomme'!$B$3:$OF$80,'Statiske ejendomme'!$A14,FALSE))=FALSE,HLOOKUP(N$12,'Statiske ejendomme'!$B$3:$OF$80,'Statiske ejendomme'!$A14,FALSE),\"\"))),\"\")","v":18.766644919725429},{"$f":"IFERROR(IF(O$12=Kredsudvælgelse!$Q$20,\"\",IF(Kredsudvælgelse!AF$2=1,IF(ISTEXT(DGET(Forespørgsel1[#All],\"\"&LEFT($F21,LEN($F21)-$C21)&\"\",Kredsudvælgelse!$Y$2:$Z$3))=TRUE,DGET(Forespørgsel1[#All],\"\"&LEFT($F21,LEN($F21)-$C21)&\"\",Kredsudvælgelse!$Y$2:$Z$3),DGET(Forespørgsel1[#All],\"\"&LEFT($F21,LEN($F21)-$C21)&\"\",Kredsudvælgelse!$Y$2:$Z$3)/IF(ISNONTEXT($D21)=TRUE,1,DGET(Forespørgsel1[#All],\"\"&$D21&\"\",Kredsudvælgelse!$Y$2:$Z$3))),IF(ISBLANK(HLOOKUP(O$12,'Statiske ejendomme'!$B$3:$OF$80,'Statiske ejendomme'!$A14,FALSE))=FALSE,HLOOKUP(O$12,'Statiske ejendomme'!$B$3:$OF$80,'Statiske ejendomme'!$A14,FALSE),\"\"))),\"\")","v":20.831217370669219},{"$f":"IFERROR(IF(P$12=Kredsudvælgelse!$Q$20,\"\",IF(Kredsudvælgelse!AG$2=1,IF(ISTEXT(DGET(Forespørgsel1[#All],\"\"&LEFT($F21,LEN($F21)-$C21)&\"\",Kredsudvælgelse!$Q$6:$R$7))=TRUE,DGET(Forespørgsel1[#All],\"\"&LEFT($F21,LEN($F21)-$C21)&\"\",Kredsudvælgelse!$Q$6:$R$7),DGET(Forespørgsel1[#All],\"\"&LEFT($F21,LEN($F21)-$C21)&\"\",Kredsudvælgelse!$Q$6:$R$7)/IF(ISNONTEXT($D21)=TRUE,1,DGET(Forespørgsel1[#All],\"\"&$D21&\"\",Kredsudvælgelse!$Q$6:$R$7))),IF(ISBLANK(HLOOKUP(P$12,'Statiske ejendomme'!$B$3:$OF$80,'Statiske ejendomme'!$A14,FALSE))=FALSE,HLOOKUP(P$12,'Statiske ejendomme'!$B$3:$OF$80,'Statiske ejendomme'!$A14,FALSE),\"\"))),\"\")","v":19.746699875467034},{"$f":"IFERROR(IF(Q$12=Kredsudvælgelse!$Q$20,\"\",IF(Kredsudvælgelse!AH$2=1,IF(ISTEXT(DGET(Forespørgsel1[#All],\"\"&LEFT($F21,LEN($F21)-$C21)&\"\",Kredsudvælgelse!$S$6:$T$7))=TRUE,DGET(Forespørgsel1[#All],\"\"&LEFT($F21,LEN($F21)-$C21)&\"\",Kredsudvælgelse!$S$6:$T$7),DGET(Forespørgsel1[#All],\"\"&LEFT($F21,LEN($F21)-$C21)&\"\",Kredsudvælgelse!$S$6:$T$7)/IF(ISNONTEXT($D21)=TRUE,1,DGET(Forespørgsel1[#All],\"\"&$D21&\"\",Kredsudvælgelse!$S$6:$T$7))),IF(ISBLANK(HLOOKUP(Q$12,'Statiske ejendomme'!$B$3:$OF$80,'Statiske ejendomme'!$A14,FALSE))=FALSE,HLOOKUP(Q$12,'Statiske ejendomme'!$B$3:$OF$80,'Statiske ejendomme'!$A14,FALSE),\"\"))),\"\")","v":18.278055441758791},{"$f":"IFERROR(IF(R$12=Kredsudvælgelse!$Q$20,\"\",IF(Kredsudvælgelse!AI$2=1,IF(ISTEXT(DGET(Forespørgsel1[#All],\"\"&LEFT($F21,LEN($F21)-$C21)&\"\",Kredsudvælgelse!$U$6:$V$7))=TRUE,DGET(Forespørgsel1[#All],\"\"&LEFT($F21,LEN($F21)-$C21)&\"\",Kredsudvælgelse!$U$6:$V$7),DGET(Forespørgsel1[#All],\"\"&LEFT($F21,LEN($F21)-$C21)&\"\",Kredsudvælgelse!$U$6:$V$7)/IF(ISNONTEXT($D21)=TRUE,1,DGET(Forespørgsel1[#All],\"\"&$D21&\"\",Kredsudvælgelse!$U$6:$V$7))),IF(ISBLANK(HLOOKUP(R$12,'Statiske ejendomme'!$B$3:$OF$80,'Statiske ejendomme'!$A14,FALSE))=FALSE,HLOOKUP(R$12,'Statiske ejendomme'!$B$3:$OF$80,'Statiske ejendomme'!$A14,FALSE),\"\"))),\"\")","v":19.078199427842701},{"$f":"IFERROR(IF(S$12=Kredsudvælgelse!$Q$20,\"\",IF(Kredsudvælgelse!AJ$2=1,IF(ISTEXT(DGET(Forespørgsel1[#All],\"\"&LEFT($F21,LEN($F21)-$C21)&\"\",Kredsudvælgelse!$W$6:$X$7))=TRUE,DGET(Forespørgsel1[#All],\"\"&LEFT($F21,LEN($F21)-$C21)&\"\",Kredsudvælgelse!$W$6:$X$7),DGET(Forespørgsel1[#All],\"\"&LEFT($F21,LEN($F21)-$C21)&\"\",Kredsudvælgelse!$W$6:$X$7)/IF(ISNONTEXT($D21)=TRUE,1,DGET(Forespørgsel1[#All],\"\"&$D21&\"\",Kredsudvælgelse!$W$6:$X$7))),IF(ISBLANK(HLOOKUP(S$12,'Statiske ejendomme'!$B$3:$OF$80,'Statiske ejendomme'!$A14,FALSE))=FALSE,HLOOKUP(S$12,'Statiske ejendomme'!$B$3:$OF$80,'Statiske ejendomme'!$A14,FALSE),\"\"))),\"\")","v":19.017616056602407},{"$f":"IFERROR(IF(T$12=Kredsudvælgelse!$Q$20,\"\",IF(Kredsudvælgelse!AK$2=1,IF(ISTEXT(DGET(Forespørgsel1[#All],\"\"&LEFT($F21,LEN($F21)-$C21)&\"\",Kredsudvælgelse!$Y$6:$Z$7))=TRUE,DGET(Forespørgsel1[#All],\"\"&LEFT($F21,LEN($F21)-$C21)&\"\",Kredsudvælgelse!$Y$6:$Z$7),DGET(Forespørgsel1[#All],\"\"&LEFT($F21,LEN($F21)-$C21)&\"\",Kredsudvælgelse!$Y$6:$Z$7)/IF(ISNONTEXT($D21)=TRUE,1,DGET(Forespørgsel1[#All],\"\"&$D21&\"\",Kredsudvælgelse!$Y$6:$Z$7))),IF(ISBLANK(HLOOKUP(T$12,'Statiske ejendomme'!$B$3:$OF$80,'Statiske ejendomme'!$A14,FALSE))=FALSE,HLOOKUP(T$12,'Statiske ejendomme'!$B$3:$OF$80,'Statiske ejendomme'!$A14,FALSE),\"\"))),\"\")","v":20.383753581867655}]
[1,{"$f":"Slagtekalve!D94","v":1},{"$f":"Slagtekalve!A13","v":0},{"$f":"Slagtekalve!B13","v":"Antal foderdage pr. produceret slagtekalv"},null,{"$f":"Slagtekalve!C13","v":"Foderomkostninger"},{"$f":"IF(Choices!$A$1=2,Landsgennemsnit!B13,IF(Choices!$A$1=3,Landsgennemsnit!E13,\"\"))","v":10.839276188572086},{"$f":"IF(Choices!$A$1=2,Landsgennemsnit!C13,IF(Choices!$A$1=3,Landsgennemsnit!F13,\"\"))","v":10.285573031081139},{"$f":"IF(OR(Choices!$A$1=2,Choices!$A$1=3),Slagtekalve!F13,\"\")","v":""},{"$f":"IF(OR(Choices!$A$1=2,Choices!$A$1=3),Slagtekalve!G13,\"\")","v":""},{"$f":"IFERROR(IF(K$12=Kredsudvælgelse!$Q$20,\"\",IF(Kredsudvælgelse!AB$2=1,IF(ISTEXT(DGET(Forespørgsel1[#All],\"\"&LEFT($F22,LEN($F22)-$C22)&\"\",Kredsudvælgelse!$Q$2:$R$3))=TRUE,DGET(Forespørgsel1[#All],\"\"&LEFT($F22,LEN($F22)-$C22)&\"\",Kredsudvælgelse!$Q$2:$R$3),DGET(Forespørgsel1[#All],\"\"&LEFT($F22,LEN($F22)-$C22)&\"\",Kredsudvælgelse!$Q$2:$R$3)/IF(ISNONTEXT($D22)=TRUE,1,DGET(Forespørgsel1[#All],\"\"&$D22&\"\",Kredsudvælgelse!$Q$2:$R$3))),IF(ISBLANK(HLOOKUP(K$12,'Statiske ejendomme'!$B$3:$OF$80,'Statiske ejendomme'!$A15,FALSE))=FALSE,HLOOKUP(K$12,'Statiske ejendomme'!$B$3:$OF$80,'Statiske ejendomme'!$A15,FALSE),\"\"))),\"-\")","v":10.801113771431025},{"$f":"IFERROR(IF(L$12=Kredsudvælgelse!$Q$20,\"\",IF(Kredsudvælgelse!AC$2=1,IF(ISTEXT(DGET(Forespørgsel1[#All],\"\"&LEFT($F22,LEN($F22)-$C22)&\"\",Kredsudvælgelse!$S$2:$T$3))=TRUE,DGET(Forespørgsel1[#All],\"\"&LEFT($F22,LEN($F22)-$C22)&\"\",Kredsudvælgelse!$S$2:$T$3),DGET(Forespørgsel1[#All],\"\"&LEFT($F22,LEN($F22)-$C22)&\"\",Kredsudvælgelse!$S$2:$T$3)/IF(ISNONTEXT($D22)=TRUE,1,DGET(Forespørgsel1[#All],\"\"&$D22&\"\",Kredsudvælgelse!$S$2:$T$3))),IF(ISBLANK(HLOOKUP(L$12,'Statiske ejendomme'!$B$3:$OF$80,'Statiske ejendomme'!$A15,FALSE))=FALSE,HLOOKUP(L$12,'Statiske ejendomme'!$B$3:$OF$80,'Statiske ejendomme'!$A15,FALSE),\"\"))),\"\")","v":10.414224496247474},{"$f":"IFERROR(IF(M$12=Kredsudvælgelse!$Q$20,\"\",IF(Kredsudvælgelse!AD$2=1,IF(ISTEXT(DGET(Forespørgsel1[#All],\"\"&LEFT($F22,LEN($F22)-$C22)&\"\",Kredsudvælgelse!$U$2:$V$3))=TRUE,DGET(Forespørgsel1[#All],\"\"&LEFT($F22,LEN($F22)-$C22)&\"\",Kredsudvælgelse!$U$2:$V$3),DGET(Forespørgsel1[#All],\"\"&LEFT($F22,LEN($F22)-$C22)&\"\",Kredsudvælgelse!$U$2:$V$3)/IF(ISNONTEXT($D22)=TRUE,1,DGET(Forespørgsel1[#All],\"\"&$D22&\"\",Kredsudvælgelse!$U$2:$V$3))),IF(ISBLANK(HLOOKUP(M$12,'Statiske ejendomme'!$B$3:$OF$80,'Statiske ejendomme'!$A15,FALSE))=FALSE,HLOOKUP(M$12,'Statiske ejendomme'!$B$3:$OF$80,'Statiske ejendomme'!$A15,FALSE),\"\"))),\"\")","v":9.7668462242097771},{"$f":"IFERROR(IF(N$12=Kredsudvælgelse!$Q$20,\"\",IF(Kredsudvælgelse!AE$2=1,IF(ISTEXT(DGET(Forespørgsel1[#All],\"\"&LEFT($F22,LEN($F22)-$C22)&\"\",Kredsudvælgelse!$W$2:$X$3))=TRUE,DGET(Forespørgsel1[#All],\"\"&LEFT($F22,LEN($F22)-$C22)&\"\",Kredsudvælgelse!$W$2:$X$3),DGET(Forespørgsel1[#All],\"\"&LEFT($F22,LEN($F22)-$C22)&\"\",Kredsudvælgelse!$W$2:$X$3)/IF(ISNONTEXT($D22)=TRUE,1,DGET(Forespørgsel1[#All],\"\"&$D22&\"\",Kredsudvælgelse!$W$2:$X$3))),IF(ISBLANK(HLOOKUP(N$12,'Statiske ejendomme'!$B$3:$OF$80,'Statiske ejendomme'!$A15,FALSE))=FALSE,HLOOKUP(N$12,'Statiske ejendomme'!$B$3:$OF$80,'Statiske ejendomme'!$A15,FALSE),\"\"))),\"\")","v":9.9583763544562363},{"$f":"IFERROR(IF(O$12=Kredsudvælgelse!$Q$20,\"\",IF(Kredsudvælgelse!AF$2=1,IF(ISTEXT(DGET(Forespørgsel1[#All],\"\"&LEFT($F22,LEN($F22)-$C22)&\"\",Kredsudvælgelse!$Y$2:$Z$3))=TRUE,DGET(Forespørgsel1[#All],\"\"&LEFT($F22,LEN($F22)-$C22)&\"\",Kredsudvælgelse!$Y$2:$Z$3),DGET(Forespørgsel1[#All],\"\"&LEFT($F22,LEN($F22)-$C22)&\"\",Kredsudvælgelse!$Y$2:$Z$3)/IF(ISNONTEXT($D22)=TRUE,1,DGET(Forespørgsel1[#All],\"\"&$D22&\"\",Kredsudvælgelse!$Y$2:$Z$3))),IF(ISBLANK(HLOOKUP(O$12,'Statiske ejendomme'!$B$3:$OF$80,'Statiske ejendomme'!$A15,FALSE))=FALSE,HLOOKUP(O$12,'Statiske ejendomme'!$B$3:$OF$80,'Statiske ejendomme'!$A15,FALSE),\"\"))),\"\")","v":10.080643885461173},{"$f":"IFERROR(IF(P$12=Kredsudvælgelse!$Q$20,\"\",IF(Kredsudvælgelse!AG$2=1,IF(ISTEXT(DGET(Forespørgsel1[#All],\"\"&LEFT($F22,LEN($F22)-$C22)&\"\",Kredsudvælgelse!$Q$6:$R$7))=TRUE,DGET(Forespørgsel1[#All],\"\"&LEFT($F22,LEN($F22)-$C22)&\"\",Kredsudvælgelse!$Q$6:$R$7),DGET(Forespørgsel1[#All],\"\"&LEFT($F22,LEN($F22)-$C22)&\"\",Kredsudvælgelse!$Q$6:$R$7)/IF(ISNONTEXT($D22)=TRUE,1,DGET(Forespørgsel1[#All],\"\"&$D22&\"\",Kredsudvælgelse!$Q$6:$R$7))),IF(ISBLANK(HLOOKUP(P$12,'Statiske ejendomme'!$B$3:$OF$80,'Statiske ejendomme'!$A15,FALSE))=FALSE,HLOOKUP(P$12,'Statiske ejendomme'!$B$3:$OF$80,'Statiske ejendomme'!$A15,FALSE),\"\"))),\"\")","v":12.222021585720238},{"$f":"IFERROR(IF(Q$12=Kredsudvælgelse!$Q$20,\"\",IF(Kredsudvælgelse!AH$2=1,IF(ISTEXT(DGET(Forespørgsel1[#All],\"\"&LEFT($F22,LEN($F22)-$C22)&\"\",Kredsudvælgelse!$S$6:$T$7))=TRUE,DGET(Forespørgsel1[#All],\"\"&LEFT($F22,LEN($F22)-$C22)&\"\",Kredsudvælgelse!$S$6:$T$7),DGET(Forespørgsel1[#All],\"\"&LEFT($F22,LEN($F22)-$C22)&\"\",Kredsudvælgelse!$S$6:$T$7)/IF(ISNONTEXT($D22)=TRUE,1,DGET(Forespørgsel1[#All],\"\"&$D22&\"\",Kredsudvælgelse!$S$6:$T$7))),IF(ISBLANK(HLOOKUP(Q$12,'Statiske ejendomme'!$B$3:$OF$80,'Statiske ejendomme'!$A15,FALSE))=FALSE,HLOOKUP(Q$12,'Statiske ejendomme'!$B$3:$OF$80,'Statiske ejendomme'!$A15,FALSE),\"\"))),\"\")","v":10.655578314898236},{"$f":"IFERROR(IF(R$12=Kredsudvælgelse!$Q$20,\"\",IF(Kredsudvælgelse!AI$2=1,IF(ISTEXT(DGET(Forespørgsel1[#All],\"\"&LEFT($F22,LEN($F22)-$C22)&\"\",Kredsudvælgelse!$U$6:$V$7))=TRUE,DGET(Forespørgsel1[#All],\"\"&LEFT($F22,LEN($F22)-$C22)&\"\",Kredsudvælgelse!$U$6:$V$7),DGET(Forespørgsel1[#All],\"\"&LEFT($F22,LEN($F22)-$C22)&\"\",Kredsudvælgelse!$U$6:$V$7)/IF(ISNONTEXT($D22)=TRUE,1,DGET(Forespørgsel1[#All],\"\"&$D22&\"\",Kredsudvælgelse!$U$6:$V$7))),IF(ISBLANK(HLOOKUP(R$12,'Statiske ejendomme'!$B$3:$OF$80,'Statiske ejendomme'!$A15,FALSE))=FALSE,HLOOKUP(R$12,'Statiske ejendomme'!$B$3:$OF$80,'Statiske ejendomme'!$A15,FALSE),\"\"))),\"\")","v":11.752169717023408},{"$f":"IFERROR(IF(S$12=Kredsudvælgelse!$Q$20,\"\",IF(Kredsudvælgelse!AJ$2=1,IF(ISTEXT(DGET(Forespørgsel1[#All],\"\"&LEFT($F22,LEN($F22)-$C22)&\"\",Kredsudvælgelse!$W$6:$X$7))=TRUE,DGET(Forespørgsel1[#All],\"\"&LEFT($F22,LEN($F22)-$C22)&\"\",Kredsudvælgelse!$W$6:$X$7),DGET(Forespørgsel1[#All],\"\"&LEFT($F22,LEN($F22)-$C22)&\"\",Kredsudvælgelse!$W$6:$X$7)/IF(ISNONTEXT($D22)=TRUE,1,DGET(Forespørgsel1[#All],\"\"&$D22&\"\",Kredsudvælgelse!$W$6:$X$7))),IF(ISBLANK(HLOOKUP(S$12,'Statiske ejendomme'!$B$3:$OF$80,'Statiske ejendomme'!$A15,FALSE))=FALSE,HLOOKUP(S$12,'Statiske ejendomme'!$B$3:$OF$80,'Statiske ejendomme'!$A15,FALSE),\"\"))),\"\")","v":12.009746588693954},{"$f":"IFERROR(IF(T$12=Kredsudvælgelse!$Q$20,\"\",IF(Kredsudvælgelse!AK$2=1,IF(ISTEXT(DGET(Forespørgsel1[#All],\"\"&LEFT($F22,LEN($F22)-$C22)&\"\",Kredsudvælgelse!$Y$6:$Z$7))=TRUE,DGET(Forespørgsel1[#All],\"\"&LEFT($F22,LEN($F22)-$C22)&\"\",Kredsudvælgelse!$Y$6:$Z$7),DGET(Forespørgsel1[#All],\"\"&LEFT($F22,LEN($F22)-$C22)&\"\",Kredsudvælgelse!$Y$6:$Z$7)/IF(ISNONTEXT($D22)=TRUE,1,DGET(Forespørgsel1[#All],\"\"&$D22&\"\",Kredsudvælgelse!$Y$6:$Z$7))),IF(ISBLANK(HLOOKUP(T$12,'Statiske ejendomme'!$B$3:$OF$80,'Statiske ejendomme'!$A15,FALSE))=FALSE,HLOOKUP(T$12,'Statiske ejendomme'!$B$3:$OF$80,'Statiske ejendomme'!$A15,FALSE),\"\"))),\"\")","v":10.945451476914453}]
[1,{"$f":"Slagtekalve!D95","v":1},{"$f":"Slagtekalve!A14","v":0},{"$f":"Slagtekalve!B14","v":"Antal foderdage pr. produceret slagtekalv"},null,{"$f":"Slagtekalve!C14","v":"Dyrlæge og diverse"},{"$f":"IF(Choices!$A$1=2,Landsgennemsnit!B14,IF(Choices!$A$1=3,Landsgennemsnit!E14,\"\"))","v":0.78356888462417129},{"$f":"IF(Choices!$A$1=2,Landsgennemsnit!C14,IF(Choices!$A$1=3,Landsgennemsnit!F14,\"\"))","v":0.68467417643013817},{"$f":"IF(OR(Choices!$A$1=2,Choices!$A$1=3),Slagtekalve!F14,\"\")","v":""},{"$f":"IF(OR(Choices!$A$1=2,Choices!$A$1=3),Slagtekalve!G14,\"\")","v":""},{"$f":"IFERROR(IF(K$12=Kredsudvælgelse!$Q$20,\"\",IF(Kredsudvælgelse!AB$2=1,IF(ISTEXT(DGET(Forespørgsel1[#All],\"\"&LEFT($F23,LEN($F23)-$C23)&\"\",Kredsudvælgelse!$Q$2:$R$3))=TRUE,DGET(Forespørgsel1[#All],\"\"&LEFT($F23,LEN($F23)-$C23)&\"\",Kredsudvælgelse!$Q$2:$R$3),DGET(Forespørgsel1[#All],\"\"&LEFT($F23,LEN($F23)-$C23)&\"\",Kredsudvælgelse!$Q$2:$R$3)/IF(ISNONTEXT($D23)=TRUE,1,DGET(Forespørgsel1[#All],\"\"&$D23&\"\",Kredsudvælgelse!$Q$2:$R$3))),IF(ISBLANK(HLOOKUP(K$12,'Statiske ejendomme'!$B$3:$OF$80,'Statiske ejendomme'!$A16,FALSE))=FALSE,HLOOKUP(K$12,'Statiske ejendomme'!$B$3:$OF$80,'Statiske ejendomme'!$A16,FALSE),\"\"))),\"-\")","v":0.80246055838214614},{"$f":"IFERROR(IF(L$12=Kredsudvælgelse!$Q$20,\"\",IF(Kredsudvælgelse!AC$2=1,IF(ISTEXT(DGET(Forespørgsel1[#All],\"\"&LEFT($F23,LEN($F23)-$C23)&\"\",Kredsudvælgelse!$S$2:$T$3))=TRUE,DGET(Forespørgsel1[#All],\"\"&LEFT($F23,LEN($F23)-$C23)&\"\",Kredsudvælgelse!$S$2:$T$3),DGET(Forespørgsel1[#All],\"\"&LEFT($F23,LEN($F23)-$C23)&\"\",Kredsudvælgelse!$S$2:$T$3)/IF(ISNONTEXT($D23)=TRUE,1,DGET(Forespørgsel1[#All],\"\"&$D23&\"\",Kredsudvælgelse!$S$2:$T$3))),IF(ISBLANK(HLOOKUP(L$12,'Statiske ejendomme'!$B$3:$OF$80,'Statiske ejendomme'!$A16,FALSE))=FALSE,HLOOKUP(L$12,'Statiske ejendomme'!$B$3:$OF$80,'Statiske ejendomme'!$A16,FALSE),\"\"))),\"\")","v":0.48524745635705868},{"$f":"IFERROR(IF(M$12=Kredsudvælgelse!$Q$20,\"\",IF(Kredsudvælgelse!AD$2=1,IF(ISTEXT(DGET(Forespørgsel1[#All],\"\"&LEFT($F23,LEN($F23)-$C23)&\"\",Kredsudvælgelse!$U$2:$V$3))=TRUE,DGET(Forespørgsel1[#All],\"\"&LEFT($F23,LEN($F23)-$C23)&\"\",Kredsudvælgelse!$U$2:$V$3),DGET(Forespørgsel1[#All],\"\"&LEFT($F23,LEN($F23)-$C23)&\"\",Kredsudvælgelse!$U$2:$V$3)/IF(ISNONTEXT($D23)=TRUE,1,DGET(Forespørgsel1[#All],\"\"&$D23&\"\",Kredsudvælgelse!$U$2:$V$3))),IF(ISBLANK(HLOOKUP(M$12,'Statiske ejendomme'!$B$3:$OF$80,'Statiske ejendomme'!$A16,FALSE))=FALSE,HLOOKUP(M$12,'Statiske ejendomme'!$B$3:$OF$80,'Statiske ejendomme'!$A16,FALSE),\"\"))),\"\")","v":0.4471999186909239},{"$f":"IFERROR(IF(N$12=Kredsudvælgelse!$Q$20,\"\",IF(Kredsudvælgelse!AE$2=1,IF(ISTEXT(DGET(Forespørgsel1[#All],\"\"&LEFT($F23,LEN($F23)-$C23)&\"\",Kredsudvælgelse!$W$2:$X$3))=TRUE,DGET(Forespørgsel1[#All],\"\"&LEFT($F23,LEN($F23)-$C23)&\"\",Kredsudvælgelse!$W$2:$X$3),DGET(Forespørgsel1[#All],\"\"&LEFT($F23,LEN($F23)-$C23)&\"\",Kredsudvælgelse!$W$2:$X$3)/IF(ISNONTEXT($D23)=TRUE,1,DGET(Forespørgsel1[#All],\"\"&$D23&\"\",Kredsudvælgelse!$W$2:$X$3))),IF(ISBLANK(HLOOKUP(N$12,'Statiske ejendomme'!$B$3:$OF$80,'Statiske ejendomme'!$A16,FALSE))=FALSE,HLOOKUP(N$12,'Statiske ejendomme'!$B$3:$OF$80,'Statiske ejendomme'!$A16,FALSE),\"\"))),\"\")","v":0.86444375106370941},{"$f":"IFERROR(IF(O$12=Kredsudvælgelse!$Q$20,\"\",IF(Kredsudvælgelse!AF$2=1,IF(ISTEXT(DGET(Forespørgsel1[#All],\"\"&LEFT($F23,LEN($F23)-$C23)&\"\",Kredsudvælgelse!$Y$2:$Z$3))=TRUE,DGET(Forespørgsel1[#All],\"\"&LEFT($F23,LEN($F23)-$C23)&\"\",Kredsudvælgelse!$Y$2:$Z$3),DGET(Forespørgsel1[#All],\"\"&LEFT($F23,LEN($F23)-$C23)&\"\",Kredsudvælgelse!$Y$2:$Z$3)/IF(ISNONTEXT($D23)=TRUE,1,DGET(Forespørgsel1[#All],\"\"&$D23&\"\",Kredsudvælgelse!$Y$2:$Z$3))),IF(ISBLANK(HLOOKUP(O$12,'Statiske ejendomme'!$B$3:$OF$80,'Statiske ejendomme'!$A16,FALSE))=FALSE,HLOOKUP(O$12,'Statiske ejendomme'!$B$3:$OF$80,'Statiske ejendomme'!$A16,FALSE),\"\"))),\"\")","v":0.96773651320993614},{"$f":"IFERROR(IF(P$12=Kredsudvælgelse!$Q$20,\"\",IF(Kredsudvælgelse!AG$2=1,IF(ISTEXT(DGET(Forespørgsel1[#All],\"\"&LEFT($F23,LEN($F23)-$C23)&\"\",Kredsudvælgelse!$Q$6:$R$7))=TRUE,DGET(Forespørgsel1[#All],\"\"&LEFT($F23,LEN($F23)-$C23)&\"\",Kredsudvælgelse!$Q$6:$R$7),DGET(Forespørgsel1[#All],\"\"&LEFT($F23,LEN($F23)-$C23)&\"\",Kredsudvælgelse!$Q$6:$R$7)/IF(ISNONTEXT($D23)=TRUE,1,DGET(Forespørgsel1[#All],\"\"&$D23&\"\",Kredsudvælgelse!$Q$6:$R$7))),IF(ISBLANK(HLOOKUP(P$12,'Statiske ejendomme'!$B$3:$OF$80,'Statiske ejendomme'!$A16,FALSE))=FALSE,HLOOKUP(P$12,'Statiske ejendomme'!$B$3:$OF$80,'Statiske ejendomme'!$A16,FALSE),\"\"))),\"\")","v":0.815504358655045},{"$f":"IFERROR(IF(Q$12=Kredsudvælgelse!$Q$20,\"\",IF(Kredsudvælgelse!AH$2=1,IF(ISTEXT(DGET(Forespørgsel1[#All],\"\"&LEFT($F23,LEN($F23)-$C23)&\"\",Kredsudvælgelse!$S$6:$T$7))=TRUE,DGET(Forespørgsel1[#All],\"\"&LEFT($F23,LEN($F23)-$C23)&\"\",Kredsudvælgelse!$S$6:$T$7),DGET(Forespørgsel1[#All],\"\"&LEFT($F23,LEN($F23)-$C23)&\"\",Kredsudvælgelse!$S$6:$T$7)/IF(ISNONTEXT($D23)=TRUE,1,DGET(Forespørgsel1[#All],\"\"&$D23&\"\",Kredsudvælgelse!$S$6:$T$7))),IF(ISBLANK(HLOOKUP(Q$12,'Statiske ejendomme'!$B$3:$OF$80,'Statiske ejendomme'!$A16,FALSE))=FALSE,HLOOKUP(Q$12,'Statiske ejendomme'!$B$3:$OF$80,'Statiske ejendomme'!$A16,FALSE),\"\"))),\"\")","v":0.3891847603441202},{"$f":"IFERROR(IF(R$12=Kredsudvælgelse!$Q$20,\"\",IF(Kredsudvælgelse!AI$2=1,IF(ISTEXT(DGET(Forespørgsel1[#All],\"\"&LEFT($F23,LEN($F23)-$C23)&\"\",Kredsudvælgelse!$U$6:$V$7))=TRUE,DGET(Forespørgsel1[#All],\"\"&LEFT($F23,LEN($F23)-$C23)&\"\",Kredsudvælgelse!$U$6:$V$7),DGET(Forespørgsel1[#All],\"\"&LEFT($F23,LEN($F23)-$C23)&\"\",Kredsudvælgelse!$U$6:$V$7)/IF(ISNONTEXT($D23)=TRUE,1,DGET(Forespørgsel1[#All],\"\"&$D23&\"\",Kredsudvælgelse!$U$6:$V$7))),IF(ISBLANK(HLOOKUP(R$12,'Statiske ejendomme'!$B$3:$OF$80,'Statiske ejendomme'!$A16,FALSE))=FALSE,HLOOKUP(R$12,'Statiske ejendomme'!$B$3:$OF$80,'Statiske ejendomme'!$A16,FALSE),\"\"))),\"\")","v":0.85827732395822598},{"$f":"IFERROR(IF(S$12=Kredsudvælgelse!$Q$20,\"\",IF(Kredsudvælgelse!AJ$2=1,IF(ISTEXT(DGET(Forespørgsel1[#All],\"\"&LEFT($F23,LEN($F23)-$C23)&\"\",Kredsudvælgelse!$W$6:$X$7))=TRUE,DGET(Forespørgsel1[#All],\"\"&LEFT($F23,LEN($F23)-$C23)&\"\",Kredsudvælgelse!$W$6:$X$7),DGET(Forespørgsel1[#All],\"\"&LEFT($F23,LEN($F23)-$C23)&\"\",Kredsudvælgelse!$W$6:$X$7)/IF(ISNONTEXT($D23)=TRUE,1,DGET(Forespørgsel1[#All],\"\"&$D23&\"\",Kredsudvælgelse!$W$6:$X$7))),IF(ISBLANK(HLOOKUP(S$12,'Statiske ejendomme'!$B$3:$OF$80,'Statiske ejendomme'!$A16,FALSE))=FALSE,HLOOKUP(S$12,'Statiske ejendomme'!$B$3:$OF$80,'Statiske ejendomme'!$A16,FALSE),\"\"))),\"\")","v":0.91641999374293037},{"$f":"IFERROR(IF(T$12=Kredsudvælgelse!$Q$20,\"\",IF(Kredsudvælgelse!AK$2=1,IF(ISTEXT(DGET(Forespørgsel1[#All],\"\"&LEFT($F23,LEN($F23)-$C23)&\"\",Kredsudvælgelse!$Y$6:$Z$7))=TRUE,DGET(Forespørgsel1[#All],\"\"&LEFT($F23,LEN($F23)-$C23)&\"\",Kredsudvælgelse!$Y$6:$Z$7),DGET(Forespørgsel1[#All],\"\"&LEFT($F23,LEN($F23)-$C23)&\"\",Kredsudvælgelse!$Y$6:$Z$7)/IF(ISNONTEXT($D23)=TRUE,1,DGET(Forespørgsel1[#All],\"\"&$D23&\"\",Kredsudvælgelse!$Y$6:$Z$7))),IF(ISBLANK(HLOOKUP(T$12,'Statiske ejendomme'!$B$3:$OF$80,'Statiske ejendomme'!$A16,FALSE))=FALSE,HLOOKUP(T$12,'Statiske ejendomme'!$B$3:$OF$80,'Statiske ejendomme'!$A16,FALSE),\"\"))),\"\")","v":0.49461732367156669}]
[1,{"$f":"Slagtekalve!D96","v":1},{"$f":"Slagtekalve!A15","v":0},{"$f":"Slagtekalve!B15","v":"Antal foderdage pr. produceret slagtekalv"},null,{"$f":"Slagtekalve!C15","v":"Restbeløb"},{"$f":"IF(Choices!$A$1=2,Landsgennemsnit!B15,IF(Choices!$A$1=3,Landsgennemsnit!E15,\"\"))","v":7.1351833060190684},{"$f":"IF(Choices!$A$1=2,Landsgennemsnit!C15,IF(Choices!$A$1=3,Landsgennemsnit!F15,\"\"))","v":8.7196569307941463},{"$f":"IF(OR(Choices!$A$1=2,Choices!$A$1=3),Slagtekalve!F15,\"\")","v":""},{"$f":"IF(OR(Choices!$A$1=2,Choices!$A$1=3),Slagtekalve!G15,\"\")","v":""},{"$f":"IFERROR(IF(K$12=Kredsudvælgelse!$Q$20,\"\",IF(Kredsudvælgelse!AB$2=1,IF(ISTEXT(DGET(Forespørgsel1[#All],\"\"&LEFT($F24,LEN($F24)-$C24)&\"\",Kredsudvælgelse!$Q$2:$R$3))=TRUE,DGET(Forespørgsel1[#All],\"\"&LEFT($F24,LEN($F24)-$C24)&\"\",Kredsudvælgelse!$Q$2:$R$3),DGET(Forespørgsel1[#All],\"\"&LEFT($F24,LEN($F24)-$C24)&\"\",Kredsudvælgelse!$Q$2:$R$3)/IF(ISNONTEXT($D24)=TRUE,1,DGET(Forespørgsel1[#All],\"\"&$D24&\"\",Kredsudvælgelse!$Q$2:$R$3))),IF(ISBLANK(HLOOKUP(K$12,'Statiske ejendomme'!$B$3:$OF$80,'Statiske ejendomme'!$A17,FALSE))=FALSE,HLOOKUP(K$12,'Statiske ejendomme'!$B$3:$OF$80,'Statiske ejendomme'!$A17,FALSE),\"\"))),\"-\")","v":8.4746355124203774},{"$f":"IFERROR(IF(L$12=Kredsudvælgelse!$Q$20,\"\",IF(Kredsudvælgelse!AC$2=1,IF(ISTEXT(DGET(Forespørgsel1[#All],\"\"&LEFT($F24,LEN($F24)-$C24)&\"\",Kredsudvælgelse!$S$2:$T$3))=TRUE,DGET(Forespørgsel1[#All],\"\"&LEFT($F24,LEN($F24)-$C24)&\"\",Kredsudvælgelse!$S$2:$T$3),DGET(Forespørgsel1[#All],\"\"&LEFT($F24,LEN($F24)-$C24)&\"\",Kredsudvælgelse!$S$2:$T$3)/IF(ISNONTEXT($D24)=TRUE,1,DGET(Forespørgsel1[#All],\"\"&$D24&\"\",Kredsudvælgelse!$S$2:$T$3))),IF(ISBLANK(HLOOKUP(L$12,'Statiske ejendomme'!$B$3:$OF$80,'Statiske ejendomme'!$A17,FALSE))=FALSE,HLOOKUP(L$12,'Statiske ejendomme'!$B$3:$OF$80,'Statiske ejendomme'!$A17,FALSE),\"\"))),\"\")","v":9.0575144305635291},{"$f":"IFERROR(IF(M$12=Kredsudvælgelse!$Q$20,\"\",IF(Kredsudvælgelse!AD$2=1,IF(ISTEXT(DGET(Forespørgsel1[#All],\"\"&LEFT($F24,LEN($F24)-$C24)&\"\",Kredsudvælgelse!$U$2:$V$3))=TRUE,DGET(Forespørgsel1[#All],\"\"&LEFT($F24,LEN($F24)-$C24)&\"\",Kredsudvælgelse!$U$2:$V$3),DGET(Forespørgsel1[#All],\"\"&LEFT($F24,LEN($F24)-$C24)&\"\",Kredsudvælgelse!$U$2:$V$3)/IF(ISNONTEXT($D24)=TRUE,1,DGET(Forespørgsel1[#All],\"\"&$D24&\"\",Kredsudvælgelse!$U$2:$V$3))),IF(ISBLANK(HLOOKUP(M$12,'Statiske ejendomme'!$B$3:$OF$80,'Statiske ejendomme'!$A17,FALSE))=FALSE,HLOOKUP(M$12,'Statiske ejendomme'!$B$3:$OF$80,'Statiske ejendomme'!$A17,FALSE),\"\"))),\"\")","v":6.7313751397499768},{"$f":"IFERROR(IF(N$12=Kredsudvælgelse!$Q$20,\"\",IF(Kredsudvælgelse!AE$2=1,IF(ISTEXT(DGET(Forespørgsel1[#All],\"\"&LEFT($F24,LEN($F24)-$C24)&\"\",Kredsudvælgelse!$W$2:$X$3))=TRUE,DGET(Forespørgsel1[#All],\"\"&LEFT($F24,LEN($F24)-$C24)&\"\",Kredsudvælgelse!$W$2:$X$3),DGET(Forespørgsel1[#All],\"\"&LEFT($F24,LEN($F24)-$C24)&\"\",Kredsudvælgelse!$W$2:$X$3)/IF(ISNONTEXT($D24)=TRUE,1,DGET(Forespørgsel1[#All],\"\"&$D24&\"\",Kredsudvælgelse!$W$2:$X$3))),IF(ISBLANK(HLOOKUP(N$12,'Statiske ejendomme'!$B$3:$OF$80,'Statiske ejendomme'!$A17,FALSE))=FALSE,HLOOKUP(N$12,'Statiske ejendomme'!$B$3:$OF$80,'Statiske ejendomme'!$A17,FALSE),\"\"))),\"\")","v":7.9438248142054837},{"$f":"IFERROR(IF(O$12=Kredsudvælgelse!$Q$20,\"\",IF(Kredsudvælgelse!AF$2=1,IF(ISTEXT(DGET(Forespørgsel1[#All],\"\"&LEFT($F24,LEN($F24)-$C24)&\"\",Kredsudvælgelse!$Y$2:$Z$3))=TRUE,DGET(Forespørgsel1[#All],\"\"&LEFT($F24,LEN($F24)-$C24)&\"\",Kredsudvælgelse!$Y$2:$Z$3),DGET(Forespørgsel1[#All],\"\"&LEFT($F24,LEN($F24)-$C24)&\"\",Kredsudvælgelse!$Y$2:$Z$3)/IF(ISNONTEXT($D24)=TRUE,1,DGET(Forespørgsel1[#All],\"\"&$D24&\"\",Kredsudvælgelse!$Y$2:$Z$3))),IF(ISBLANK(HLOOKUP(O$12,'Statiske ejendomme'!$B$3:$OF$80,'Statiske ejendomme'!$A17,FALSE))=FALSE,HLOOKUP(O$12,'Statiske ejendomme'!$B$3:$OF$80,'Statiske ejendomme'!$A17,FALSE),\"\"))),\"\")","v":9.7828369719981101},{"$f":"IFERROR(IF(P$12=Kredsudvælgelse!$Q$20,\"\",IF(Kredsudvælgelse!AG$2=1,IF(ISTEXT(DGET(Forespørgsel1[#All],\"\"&LEFT($F24,LEN($F24)-$C24)&\"\",Kredsudvælgelse!$Q$6:$R$7))=TRUE,DGET(Forespørgsel1[#All],\"\"&LEFT($F24,LEN($F24)-$C24)&\"\",Kredsudvælgelse!$Q$6:$R$7),DGET(Forespørgsel1[#All],\"\"&LEFT($F24,LEN($F24)-$C24)&\"\",Kredsudvælgelse!$Q$6:$R$7)/IF(ISNONTEXT($D24)=TRUE,1,DGET(Forespørgsel1[#All],\"\"&$D24&\"\",Kredsudvælgelse!$Q$6:$R$7))),IF(ISBLANK(HLOOKUP(P$12,'Statiske ejendomme'!$B$3:$OF$80,'Statiske ejendomme'!$A17,FALSE))=FALSE,HLOOKUP(P$12,'Statiske ejendomme'!$B$3:$OF$80,'Statiske ejendomme'!$A17,FALSE),\"\"))),\"\")","v":6.7091739310917502},{"$f":"IFERROR(IF(Q$12=Kredsudvælgelse!$Q$20,\"\",IF(Kredsudvælgelse!AH$2=1,IF(ISTEXT(DGET(Forespørgsel1[#All],\"\"&LEFT($F24,LEN($F24)-$C24)&\"\",Kredsudvælgelse!$S$6:$T$7))=TRUE,DGET(Forespørgsel1[#All],\"\"&LEFT($F24,LEN($F24)-$C24)&\"\",Kredsudvælgelse!$S$6:$T$7),DGET(Forespørgsel1[#All],\"\"&LEFT($F24,LEN($F24)-$C24)&\"\",Kredsudvælgelse!$S$6:$T$7)/IF(ISNONTEXT($D24)=TRUE,1,DGET(Forespørgsel1[#All],\"\"&$D24&\"\",Kredsudvælgelse!$S$6:$T$7))),IF(ISBLANK(HLOOKUP(Q$12,'Statiske ejendomme'!$B$3:$OF$80,'Statiske ejendomme'!$A17,FALSE))=FALSE,HLOOKUP(Q$12,'Statiske ejendomme'!$B$3:$OF$80,'Statiske ejendomme'!$A17,FALSE),\"\"))),\"\")","v":7.2332923665164355},{"$f":"IFERROR(IF(R$12=Kredsudvælgelse!$Q$20,\"\",IF(Kredsudvælgelse!AI$2=1,IF(ISTEXT(DGET(Forespørgsel1[#All],\"\"&LEFT($F24,LEN($F24)-$C24)&\"\",Kredsudvælgelse!$U$6:$V$7))=TRUE,DGET(Forespørgsel1[#All],\"\"&LEFT($F24,LEN($F24)-$C24)&\"\",Kredsudvælgelse!$U$6:$V$7),DGET(Forespørgsel1[#All],\"\"&LEFT($F24,LEN($F24)-$C24)&\"\",Kredsudvælgelse!$U$6:$V$7)/IF(ISNONTEXT($D24)=TRUE,1,DGET(Forespørgsel1[#All],\"\"&$D24&\"\",Kredsudvælgelse!$U$6:$V$7))),IF(ISBLANK(HLOOKUP(R$12,'Statiske ejendomme'!$B$3:$OF$80,'Statiske ejendomme'!$A17,FALSE))=FALSE,HLOOKUP(R$12,'Statiske ejendomme'!$B$3:$OF$80,'Statiske ejendomme'!$A17,FALSE),\"\"))),\"\")","v":6.4677523868610676},{"$f":"IFERROR(IF(S$12=Kredsudvælgelse!$Q$20,\"\",IF(Kredsudvælgelse!AJ$2=1,IF(ISTEXT(DGET(Forespørgsel1[#All],\"\"&LEFT($F24,LEN($F24)-$C24)&\"\",Kredsudvælgelse!$W$6:$X$7))=TRUE,DGET(Forespørgsel1[#All],\"\"&LEFT($F24,LEN($F24)-$C24)&\"\",Kredsudvælgelse!$W$6:$X$7),DGET(Forespørgsel1[#All],\"\"&LEFT($F24,LEN($F24)-$C24)&\"\",Kredsudvælgelse!$W$6:$X$7)/IF(ISNONTEXT($D24)=TRUE,1,DGET(Forespørgsel1[#All],\"\"&$D24&\"\",Kredsudvælgelse!$W$6:$X$7))),IF(ISBLANK(HLOOKUP(S$12,'Statiske ejendomme'!$B$3:$OF$80,'Statiske ejendomme'!$A17,FALSE))=FALSE,HLOOKUP(S$12,'Statiske ejendomme'!$B$3:$OF$80,'Statiske ejendomme'!$A17,FALSE),\"\"))),\"\")","v":6.0914494741655227},{"$f":"IFERROR(IF(T$12=Kredsudvælgelse!$Q$20,\"\",IF(Kredsudvælgelse!AK$2=1,IF(ISTEXT(DGET(Forespørgsel1[#All],\"\"&LEFT($F24,LEN($F24)-$C24)&\"\",Kredsudvælgelse!$Y$6:$Z$7))=TRUE,DGET(Forespørgsel1[#All],\"\"&LEFT($F24,LEN($F24)-$C24)&\"\",Kredsudvælgelse!$Y$6:$Z$7),DGET(Forespørgsel1[#All],\"\"&LEFT($F24,LEN($F24)-$C24)&\"\",Kredsudvælgelse!$Y$6:$Z$7)/IF(ISNONTEXT($D24)=TRUE,1,DGET(Forespørgsel1[#All],\"\"&$D24&\"\",Kredsudvælgelse!$Y$6:$Z$7))),IF(ISBLANK(HLOOKUP(T$12,'Statiske ejendomme'!$B$3:$OF$80,'Statiske ejendomme'!$A17,FALSE))=FALSE,HLOOKUP(T$12,'Statiske ejendomme'!$B$3:$OF$80,'Statiske ejendomme'!$A17,FALSE),\"\"))),\"\")","v":8.943684781281636}]
[1,{"$f":"Slagtekalve!D97","v":1},{"$f":"Slagtekalve!A16","v":0},{"$f":"Slagtekalve!B16","v":"Antal foderdage pr. produceret slagtekalv"},null,{"$f":"Slagtekalve!C16","v":"Krav til restbeløb"},{"$f":"IF(Choices!$A$1=2,Landsgennemsnit!B16,IF(Choices!$A$1=3,Landsgennemsnit!E16,\"\"))","v":6.5657861812430109},{"$f":"IF(Choices!$A$1=2,Landsgennemsnit!C16,IF(Choices!$A$1=3,Landsgennemsnit!F16,\"\"))","v":5.2278186310004413},{"$f":"IF(OR(Choices!$A$1=2,Choices!$A$1=3),Slagtekalve!F16,\"\")","v":""},{"$f":"IF(OR(Choices!$A$1=2,Choices!$A$1=3),Slagtekalve!G16,\"\")","v":""},{"$f":"IFERROR(IF(K$12=Kredsudvælgelse!$Q$20,\"\",IF(Kredsudvælgelse!AB$2=1,IF(ISTEXT(DGET(Forespørgsel1[#All],\"\"&LEFT($F25,LEN($F25)-$C25)&\"\",Kredsudvælgelse!$Q$2:$R$3))=TRUE,DGET(Forespørgsel1[#All],\"\"&LEFT($F25,LEN($F25)-$C25)&\"\",Kredsudvælgelse!$Q$2:$R$3),DGET(Forespørgsel1[#All],\"\"&LEFT($F25,LEN($F25)-$C25)&\"\",Kredsudvælgelse!$Q$2:$R$3)/IF(ISNONTEXT($D25)=TRUE,1,DGET(Forespørgsel1[#All],\"\"&$D25&\"\",Kredsudvælgelse!$Q$2:$R$3))),IF(ISBLANK(HLOOKUP(K$12,'Statiske ejendomme'!$B$3:$OF$80,'Statiske ejendomme'!$A18,FALSE))=FALSE,HLOOKUP(K$12,'Statiske ejendomme'!$B$3:$OF$80,'Statiske ejendomme'!$A18,FALSE),\"\"))),\"-\")","v":4.2107080251400264},{"$f":"IFERROR(IF(L$12=Kredsudvælgelse!$Q$20,\"\",IF(Kredsudvælgelse!AC$2=1,IF(ISTEXT(DGET(Forespørgsel1[#All],\"\"&LEFT($F25,LEN($F25)-$C25)&\"\",Kredsudvælgelse!$S$2:$T$3))=TRUE,DGET(Forespørgsel1[#All],\"\"&LEFT($F25,LEN($F25)-$C25)&\"\",Kredsudvælgelse!$S$2:$T$3),DGET(Forespørgsel1[#All],\"\"&LEFT($F25,LEN($F25)-$C25)&\"\",Kredsudvælgelse!$S$2:$T$3)/IF(ISNONTEXT($D25)=TRUE,1,DGET(Forespørgsel1[#All],\"\"&$D25&\"\",Kredsudvælgelse!$S$2:$T$3))),IF(ISBLANK(HLOOKUP(L$12,'Statiske ejendomme'!$B$3:$OF$80,'Statiske ejendomme'!$A18,FALSE))=FALSE,HLOOKUP(L$12,'Statiske ejendomme'!$B$3:$OF$80,'Statiske ejendomme'!$A18,FALSE),\"\"))),\"\")","v":6.0666118324766742},{"$f":"IFERROR(IF(M$12=Kredsudvælgelse!$Q$20,\"\",IF(Kredsudvælgelse!AD$2=1,IF(ISTEXT(DGET(Forespørgsel1[#All],\"\"&LEFT($F25,LEN($F25)-$C25)&\"\",Kredsudvælgelse!$U$2:$V$3))=TRUE,DGET(Forespørgsel1[#All],\"\"&LEFT($F25,LEN($F25)-$C25)&\"\",Kredsudvælgelse!$U$2:$V$3),DGET(Forespørgsel1[#All],\"\"&LEFT($F25,LEN($F25)-$C25)&\"\",Kredsudvælgelse!$U$2:$V$3)/IF(ISNONTEXT($D25)=TRUE,1,DGET(Forespørgsel1[#All],\"\"&$D25&\"\",Kredsudvælgelse!$U$2:$V$3))),IF(ISBLANK(HLOOKUP(M$12,'Statiske ejendomme'!$B$3:$OF$80,'Statiske ejendomme'!$A18,FALSE))=FALSE,HLOOKUP(M$12,'Statiske ejendomme'!$B$3:$OF$80,'Statiske ejendomme'!$A18,FALSE),\"\"))),\"\")","v":3.9374733204593961},{"$f":"IFERROR(IF(N$12=Kredsudvælgelse!$Q$20,\"\",IF(Kredsudvælgelse!AE$2=1,IF(ISTEXT(DGET(Forespørgsel1[#All],\"\"&LEFT($F25,LEN($F25)-$C25)&\"\",Kredsudvælgelse!$W$2:$X$3))=TRUE,DGET(Forespørgsel1[#All],\"\"&LEFT($F25,LEN($F25)-$C25)&\"\",Kredsudvælgelse!$W$2:$X$3),DGET(Forespørgsel1[#All],\"\"&LEFT($F25,LEN($F25)-$C25)&\"\",Kredsudvælgelse!$W$2:$X$3)/IF(ISNONTEXT($D25)=TRUE,1,DGET(Forespørgsel1[#All],\"\"&$D25&\"\",Kredsudvælgelse!$W$2:$X$3))),IF(ISBLANK(HLOOKUP(N$12,'Statiske ejendomme'!$B$3:$OF$80,'Statiske ejendomme'!$A18,FALSE))=FALSE,HLOOKUP(N$12,'Statiske ejendomme'!$B$3:$OF$80,'Statiske ejendomme'!$A18,FALSE),\"\"))),\"\")","v":5.4776450899188767},{"$f":"IFERROR(IF(O$12=Kredsudvælgelse!$Q$20,\"\",IF(Kredsudvælgelse!AF$2=1,IF(ISTEXT(DGET(Forespørgsel1[#All],\"\"&LEFT($F25,LEN($F25)-$C25)&\"\",Kredsudvælgelse!$Y$2:$Z$3))=TRUE,DGET(Forespørgsel1[#All],\"\"&LEFT($F25,LEN($F25)-$C25)&\"\",Kredsudvælgelse!$Y$2:$Z$3),DGET(Forespørgsel1[#All],\"\"&LEFT($F25,LEN($F25)-$C25)&\"\",Kredsudvælgelse!$Y$2:$Z$3)/IF(ISNONTEXT($D25)=TRUE,1,DGET(Forespørgsel1[#All],\"\"&$D25&\"\",Kredsudvælgelse!$Y$2:$Z$3))),IF(ISBLANK(HLOOKUP(O$12,'Statiske ejendomme'!$B$3:$OF$80,'Statiske ejendomme'!$A18,FALSE))=FALSE,HLOOKUP(O$12,'Statiske ejendomme'!$B$3:$OF$80,'Statiske ejendomme'!$A18,FALSE),\"\"))),\"\")","v":8.3684444708115908},{"$f":"IFERROR(IF(P$12=Kredsudvælgelse!$Q$20,\"\",IF(Kredsudvælgelse!AG$2=1,IF(ISTEXT(DGET(Forespørgsel1[#All],\"\"&LEFT($F25,LEN($F25)-$C25)&\"\",Kredsudvælgelse!$Q$6:$R$7))=TRUE,DGET(Forespørgsel1[#All],\"\"&LEFT($F25,LEN($F25)-$C25)&\"\",Kredsudvælgelse!$Q$6:$R$7),DGET(Forespørgsel1[#All],\"\"&LEFT($F25,LEN($F25)-$C25)&\"\",Kredsudvælgelse!$Q$6:$R$7)/IF(ISNONTEXT($D25)=TRUE,1,DGET(Forespørgsel1[#All],\"\"&$D25&\"\",Kredsudvælgelse!$Q$6:$R$7))),IF(ISBLANK(HLOOKUP(P$12,'Statiske ejendomme'!$B$3:$OF$80,'Statiske ejendomme'!$A18,FALSE))=FALSE,HLOOKUP(P$12,'Statiske ejendomme'!$B$3:$OF$80,'Statiske ejendomme'!$A18,FALSE),\"\"))),\"\")","v":6.1176214196762251},{"$f":"IFERROR(IF(Q$12=Kredsudvælgelse!$Q$20,\"\",IF(Kredsudvælgelse!AH$2=1,IF(ISTEXT(DGET(Forespørgsel1[#All],\"\"&LEFT($F25,LEN($F25)-$C25)&\"\",Kredsudvælgelse!$S$6:$T$7))=TRUE,DGET(Forespørgsel1[#All],\"\"&LEFT($F25,LEN($F25)-$C25)&\"\",Kredsudvælgelse!$S$6:$T$7),DGET(Forespørgsel1[#All],\"\"&LEFT($F25,LEN($F25)-$C25)&\"\",Kredsudvælgelse!$S$6:$T$7)/IF(ISNONTEXT($D25)=TRUE,1,DGET(Forespørgsel1[#All],\"\"&$D25&\"\",Kredsudvælgelse!$S$6:$T$7))),IF(ISBLANK(HLOOKUP(Q$12,'Statiske ejendomme'!$B$3:$OF$80,'Statiske ejendomme'!$A18,FALSE))=FALSE,HLOOKUP(Q$12,'Statiske ejendomme'!$B$3:$OF$80,'Statiske ejendomme'!$A18,FALSE),\"\"))),\"\")","v":7.3499112385634104},{"$f":"IFERROR(IF(R$12=Kredsudvælgelse!$Q$20,\"\",IF(Kredsudvælgelse!AI$2=1,IF(ISTEXT(DGET(Forespørgsel1[#All],\"\"&LEFT($F25,LEN($F25)-$C25)&\"\",Kredsudvælgelse!$U$6:$V$7))=TRUE,DGET(Forespørgsel1[#All],\"\"&LEFT($F25,LEN($F25)-$C25)&\"\",Kredsudvælgelse!$U$6:$V$7),DGET(Forespørgsel1[#All],\"\"&LEFT($F25,LEN($F25)-$C25)&\"\",Kredsudvælgelse!$U$6:$V$7)/IF(ISNONTEXT($D25)=TRUE,1,DGET(Forespørgsel1[#All],\"\"&$D25&\"\",Kredsudvælgelse!$U$6:$V$7))),IF(ISBLANK(HLOOKUP(R$12,'Statiske ejendomme'!$B$3:$OF$80,'Statiske ejendomme'!$A18,FALSE))=FALSE,HLOOKUP(R$12,'Statiske ejendomme'!$B$3:$OF$80,'Statiske ejendomme'!$A18,FALSE),\"\"))),\"\")","v":7.9378485506497123},{"$f":"IFERROR(IF(S$12=Kredsudvælgelse!$Q$20,\"\",IF(Kredsudvælgelse!AJ$2=1,IF(ISTEXT(DGET(Forespørgsel1[#All],\"\"&LEFT($F25,LEN($F25)-$C25)&\"\",Kredsudvælgelse!$W$6:$X$7))=TRUE,DGET(Forespørgsel1[#All],\"\"&LEFT($F25,LEN($F25)-$C25)&\"\",Kredsudvælgelse!$W$6:$X$7),DGET(Forespørgsel1[#All],\"\"&LEFT($F25,LEN($F25)-$C25)&\"\",Kredsudvælgelse!$W$6:$X$7)/IF(ISNONTEXT($D25)=TRUE,1,DGET(Forespørgsel1[#All],\"\"&$D25&\"\",Kredsudvælgelse!$W$6:$X$7))),IF(ISBLANK(HLOOKUP(S$12,'Statiske ejendomme'!$B$3:$OF$80,'Statiske ejendomme'!$A18,FALSE))=FALSE,HLOOKUP(S$12,'Statiske ejendomme'!$B$3:$OF$80,'Statiske ejendomme'!$A18,FALSE),\"\"))),\"\")","v":5.722835896325174},{"$f":"IFERROR(IF(T$12=Kredsudvælgelse!$Q$20,\"\",IF(Kredsudvælgelse!AK$2=1,IF(ISTEXT(DGET(Forespørgsel1[#All],\"\"&LEFT($F25,LEN($F25)-$C25)&\"\",Kredsudvælgelse!$Y$6:$Z$7))=TRUE,DGET(Forespørgsel1[#All],\"\"&LEFT($F25,LEN($F25)-$C25)&\"\",Kredsudvælgelse!$Y$6:$Z$7),DGET(Forespørgsel1[#All],\"\"&LEFT($F25,LEN($F25)-$C25)&\"\",Kredsudvælgelse!$Y$6:$Z$7)/IF(ISNONTEXT($D25)=TRUE,1,DGET(Forespørgsel1[#All],\"\"&$D25&\"\",Kredsudvælgelse!$Y$6:$Z$7))),IF(ISBLANK(HLOOKUP(T$12,'Statiske ejendomme'!$B$3:$OF$80,'Statiske ejendomme'!$A18,FALSE))=FALSE,HLOOKUP(T$12,'Statiske ejendomme'!$B$3:$OF$80,'Statiske ejendomme'!$A18,FALSE),\"\"))),\"\")","v":6.0239114354042895}]
[1,{"$f":"Slagtekalve!D98","v":111},{"$f":"Slagtekalve!A17","v":0},{"$f":"Slagtekalve!B17","v":"Antal foderdage pr. produceret slagtekalv"},null,{"$f":"Slagtekalve!C17","v":"Årets resultat"},{"$f":"IF(Choices!$A$1=2,Landsgennemsnit!B17,IF(Choices!$A$1=3,Landsgennemsnit!E17,\"\"))","v":0.56939712477605742},{"$f":"IF(Choices!$A$1=2,Landsgennemsnit!C17,IF(Choices!$A$1=3,Landsgennemsnit!F17,\"\"))","v":3.491838299793705},{"$f":"IF(OR(Choices!$A$1=2,Choices!$A$1=3),Slagtekalve!F17,\"\")","v":""},{"$f":"IF(OR(Choices!$A$1=2,Choices!$A$1=3),Slagtekalve!G17,\"\")","v":""},{"$f":"IFERROR(IF(K$12=Kredsudvælgelse!$Q$20,\"\",IF(Kredsudvælgelse!AB$2=1,IF(ISTEXT(DGET(Forespørgsel1[#All],\"\"&LEFT($F26,LEN($F26)-$C26)&\"\",Kredsudvælgelse!$Q$2:$R$3))=TRUE,DGET(Forespørgsel1[#All],\"\"&LEFT($F26,LEN($F26)-$C26)&\"\",Kredsudvælgelse!$Q$2:$R$3),DGET(Forespørgsel1[#All],\"\"&LEFT($F26,LEN($F26)-$C26)&\"\",Kredsudvælgelse!$Q$2:$R$3)/IF(ISNONTEXT($D26)=TRUE,1,DGET(Forespørgsel1[#All],\"\"&$D26&\"\",Kredsudvælgelse!$Q$2:$R$3))),IF(ISBLANK(HLOOKUP(K$12,'Statiske ejendomme'!$B$3:$OF$80,'Statiske ejendomme'!$A19,FALSE))=FALSE,HLOOKUP(K$12,'Statiske ejendomme'!$B$3:$OF$80,'Statiske ejendomme'!$A19,FALSE),\"\"))),\"-\")","v":4.263927487280351},{"$f":"IFERROR(IF(L$12=Kredsudvælgelse!$Q$20,\"\",IF(Kredsudvælgelse!AC$2=1,IF(ISTEXT(DGET(Forespørgsel1[#All],\"\"&LEFT($F26,LEN($F26)-$C26)&\"\",Kredsudvælgelse!$S$2:$T$3))=TRUE,DGET(Forespørgsel1[#All],\"\"&LEFT($F26,LEN($F26)-$C26)&\"\",Kredsudvælgelse!$S$2:$T$3),DGET(Forespørgsel1[#All],\"\"&LEFT($F26,LEN($F26)-$C26)&\"\",Kredsudvælgelse!$S$2:$T$3)/IF(ISNONTEXT($D26)=TRUE,1,DGET(Forespørgsel1[#All],\"\"&$D26&\"\",Kredsudvælgelse!$S$2:$T$3))),IF(ISBLANK(HLOOKUP(L$12,'Statiske ejendomme'!$B$3:$OF$80,'Statiske ejendomme'!$A19,FALSE))=FALSE,HLOOKUP(L$12,'Statiske ejendomme'!$B$3:$OF$80,'Statiske ejendomme'!$A19,FALSE),\"\"))),\"\")","v":2.9909025980868549},{"$f":"IFERROR(IF(M$12=Kredsudvælgelse!$Q$20,\"\",IF(Kredsudvælgelse!AD$2=1,IF(ISTEXT(DGET(Forespørgsel1[#All],\"\"&LEFT($F26,LEN($F26)-$C26)&\"\",Kredsudvælgelse!$U$2:$V$3))=TRUE,DGET(Forespørgsel1[#All],\"\"&LEFT($F26,LEN($F26)-$C26)&\"\",Kredsudvælgelse!$U$2:$V$3),DGET(Forespørgsel1[#All],\"\"&LEFT($F26,LEN($F26)-$C26)&\"\",Kredsudvælgelse!$U$2:$V$3)/IF(ISNONTEXT($D26)=TRUE,1,DGET(Forespørgsel1[#All],\"\"&$D26&\"\",Kredsudvælgelse!$U$2:$V$3))),IF(ISBLANK(HLOOKUP(M$12,'Statiske ejendomme'!$B$3:$OF$80,'Statiske ejendomme'!$A19,FALSE))=FALSE,HLOOKUP(M$12,'Statiske ejendomme'!$B$3:$OF$80,'Statiske ejendomme'!$A19,FALSE),\"\"))),\"\")","v":2.7939018192905807},{"$f":"IFERROR(IF(N$12=Kredsudvælgelse!$Q$20,\"\",IF(Kredsudvælgelse!AE$2=1,IF(ISTEXT(DGET(Forespørgsel1[#All],\"\"&LEFT($F26,LEN($F26)-$C26)&\"\",Kredsudvælgelse!$W$2:$X$3))=TRUE,DGET(Forespørgsel1[#All],\"\"&LEFT($F26,LEN($F26)-$C26)&\"\",Kredsudvælgelse!$W$2:$X$3),DGET(Forespørgsel1[#All],\"\"&LEFT($F26,LEN($F26)-$C26)&\"\",Kredsudvælgelse!$W$2:$X$3)/IF(ISNONTEXT($D26)=TRUE,1,DGET(Forespørgsel1[#All],\"\"&$D26&\"\",Kredsudvælgelse!$W$2:$X$3))),IF(ISBLANK(HLOOKUP(N$12,'Statiske ejendomme'!$B$3:$OF$80,'Statiske ejendomme'!$A19,FALSE))=FALSE,HLOOKUP(N$12,'Statiske ejendomme'!$B$3:$OF$80,'Statiske ejendomme'!$A19,FALSE),\"\"))),\"\")","v":2.466179724286607},{"$f":"IFERROR(IF(O$12=Kredsudvælgelse!$Q$20,\"\",IF(Kredsudvælgelse!AF$2=1,IF(ISTEXT(DGET(Forespørgsel1[#All],\"\"&LEFT($F26,LEN($F26)-$C26)&\"\",Kredsudvælgelse!$Y$2:$Z$3))=TRUE,DGET(Forespørgsel1[#All],\"\"&LEFT($F26,LEN($F26)-$C26)&\"\",Kredsudvælgelse!$Y$2:$Z$3),DGET(Forespørgsel1[#All],\"\"&LEFT($F26,LEN($F26)-$C26)&\"\",Kredsudvælgelse!$Y$2:$Z$3)/IF(ISNONTEXT($D26)=TRUE,1,DGET(Forespørgsel1[#All],\"\"&$D26&\"\",Kredsudvælgelse!$Y$2:$Z$3))),IF(ISBLANK(HLOOKUP(O$12,'Statiske ejendomme'!$B$3:$OF$80,'Statiske ejendomme'!$A19,FALSE))=FALSE,HLOOKUP(O$12,'Statiske ejendomme'!$B$3:$OF$80,'Statiske ejendomme'!$A19,FALSE),\"\"))),\"\")","v":1.4143925011865193},{"$f":"IFERROR(IF(P$12=Kredsudvælgelse!$Q$20,\"\",IF(Kredsudvælgelse!AG$2=1,IF(ISTEXT(DGET(Forespørgsel1[#All],\"\"&LEFT($F26,LEN($F26)-$C26)&\"\",Kredsudvælgelse!$Q$6:$R$7))=TRUE,DGET(Forespørgsel1[#All],\"\"&LEFT($F26,LEN($F26)-$C26)&\"\",Kredsudvælgelse!$Q$6:$R$7),DGET(Forespørgsel1[#All],\"\"&LEFT($F26,LEN($F26)-$C26)&\"\",Kredsudvælgelse!$Q$6:$R$7)/IF(ISNONTEXT($D26)=TRUE,1,DGET(Forespørgsel1[#All],\"\"&$D26&\"\",Kredsudvælgelse!$Q$6:$R$7))),IF(ISBLANK(HLOOKUP(P$12,'Statiske ejendomme'!$B$3:$OF$80,'Statiske ejendomme'!$A19,FALSE))=FALSE,HLOOKUP(P$12,'Statiske ejendomme'!$B$3:$OF$80,'Statiske ejendomme'!$A19,FALSE),\"\"))),\"\")","v":0.59155251141552512},{"$f":"IFERROR(IF(Q$12=Kredsudvælgelse!$Q$20,\"\",IF(Kredsudvælgelse!AH$2=1,IF(ISTEXT(DGET(Forespørgsel1[#All],\"\"&LEFT($F26,LEN($F26)-$C26)&\"\",Kredsudvælgelse!$S$6:$T$7))=TRUE,DGET(Forespørgsel1[#All],\"\"&LEFT($F26,LEN($F26)-$C26)&\"\",Kredsudvælgelse!$S$6:$T$7),DGET(Forespørgsel1[#All],\"\"&LEFT($F26,LEN($F26)-$C26)&\"\",Kredsudvælgelse!$S$6:$T$7)/IF(ISNONTEXT($D26)=TRUE,1,DGET(Forespørgsel1[#All],\"\"&$D26&\"\",Kredsudvælgelse!$S$6:$T$7))),IF(ISBLANK(HLOOKUP(Q$12,'Statiske ejendomme'!$B$3:$OF$80,'Statiske ejendomme'!$A19,FALSE))=FALSE,HLOOKUP(Q$12,'Statiske ejendomme'!$B$3:$OF$80,'Statiske ejendomme'!$A19,FALSE),\"\"))),\"\")","v":-0.11661887204697496},{"$f":"IFERROR(IF(R$12=Kredsudvælgelse!$Q$20,\"\",IF(Kredsudvælgelse!AI$2=1,IF(ISTEXT(DGET(Forespørgsel1[#All],\"\"&LEFT($F26,LEN($F26)-$C26)&\"\",Kredsudvælgelse!$U$6:$V$7))=TRUE,DGET(Forespørgsel1[#All],\"\"&LEFT($F26,LEN($F26)-$C26)&\"\",Kredsudvælgelse!$U$6:$V$7),DGET(Forespørgsel1[#All],\"\"&LEFT($F26,LEN($F26)-$C26)&\"\",Kredsudvælgelse!$U$6:$V$7)/IF(ISNONTEXT($D26)=TRUE,1,DGET(Forespørgsel1[#All],\"\"&$D26&\"\",Kredsudvælgelse!$U$6:$V$7))),IF(ISBLANK(HLOOKUP(R$12,'Statiske ejendomme'!$B$3:$OF$80,'Statiske ejendomme'!$A19,FALSE))=FALSE,HLOOKUP(R$12,'Statiske ejendomme'!$B$3:$OF$80,'Statiske ejendomme'!$A19,FALSE),\"\"))),\"\")","v":-1.4700961637886447},{"$f":"IFERROR(IF(S$12=Kredsudvælgelse!$Q$20,\"\",IF(Kredsudvælgelse!AJ$2=1,IF(ISTEXT(DGET(Forespørgsel1[#All],\"\"&LEFT($F26,LEN($F26)-$C26)&\"\",Kredsudvælgelse!$W$6:$X$7))=TRUE,DGET(Forespørgsel1[#All],\"\"&LEFT($F26,LEN($F26)-$C26)&\"\",Kredsudvælgelse!$W$6:$X$7),DGET(Forespørgsel1[#All],\"\"&LEFT($F26,LEN($F26)-$C26)&\"\",Kredsudvælgelse!$W$6:$X$7)/IF(ISNONTEXT($D26)=TRUE,1,DGET(Forespørgsel1[#All],\"\"&$D26&\"\",Kredsudvælgelse!$W$6:$X$7))),IF(ISBLANK(HLOOKUP(S$12,'Statiske ejendomme'!$B$3:$OF$80,'Statiske ejendomme'!$A19,FALSE))=FALSE,HLOOKUP(S$12,'Statiske ejendomme'!$B$3:$OF$80,'Statiske ejendomme'!$A19,FALSE),\"\"))),\"\")","v":0.36861357784034876},{"$f":"IFERROR(IF(T$12=Kredsudvælgelse!$Q$20,\"\",IF(Kredsudvælgelse!AK$2=1,IF(ISTEXT(DGET(Forespørgsel1[#All],\"\"&LEFT($F26,LEN($F26)-$C26)&\"\",Kredsudvælgelse!$Y$6:$Z$7))=TRUE,DGET(Forespørgsel1[#All],\"\"&LEFT($F26,LEN($F26)-$C26)&\"\",Kredsudvælgelse!$Y$6:$Z$7),DGET(Forespørgsel1[#All],\"\"&LEFT($F26,LEN($F26)-$C26)&\"\",Kredsudvælgelse!$Y$6:$Z$7)/IF(ISNONTEXT($D26)=TRUE,1,DGET(Forespørgsel1[#All],\"\"&$D26&\"\",Kredsudvælgelse!$Y$6:$Z$7))),IF(ISBLANK(HLOOKUP(T$12,'Statiske ejendomme'!$B$3:$OF$80,'Statiske ejendomme'!$A19,FALSE))=FALSE,HLOOKUP(T$12,'Statiske ejendomme'!$B$3:$OF$80,'Statiske ejendomme'!$A19,FALSE),\"\"))),\"\")","v":2.9197733458773465}]
[1,{"$f":"Slagtekalve!D99","v":9},{"$f":"Slagtekalve!A18","v":0},{"$f":"Slagtekalve!B18","v":0},null,{"$f":"Slagtekalve!C18","v":0},{"$f":"IF(Choices!$A$1=2,Landsgennemsnit!B18,IF(Choices!$A$1=3,Landsgennemsnit!E18,\"\"))","v":0},{"$f":"IF(Choices!$A$1=2,Landsgennemsnit!C18,IF(Choices!$A$1=3,Landsgennemsnit!F18,\"\"))","v":0},{"$f":"IF(OR(Choices!$A$1=2,Choices!$A$1=3),Slagtekalve!F18,\"\")","v":""},{"$f":"IF(OR(Choices!$A$1=2,Choices!$A$1=3),Slagtekalve!G18,\"\")","v":""},{"$f":"IFERROR(IF(K$12=Kredsudvælgelse!$Q$20,\"\",IF(Kredsudvælgelse!AB$2=1,IF(ISTEXT(DGET(Forespørgsel1[#All],\"\"&LEFT($F27,LEN($F27)-$C27)&\"\",Kredsudvælgelse!$Q$2:$R$3))=TRUE,DGET(Forespørgsel1[#All],\"\"&LEFT($F27,LEN($F27)-$C27)&\"\",Kredsudvælgelse!$Q$2:$R$3),DGET(Forespørgsel1[#All],\"\"&LEFT($F27,LEN($F27)-$C27)&\"\",Kredsudvælgelse!$Q$2:$R$3)/IF(ISNONTEXT($D27)=TRUE,1,DGET(Forespørgsel1[#All],\"\"&$D27&\"\",Kredsudvælgelse!$Q$2:$R$3))),IF(ISBLANK(HLOOKUP(K$12,'Statiske ejendomme'!$B$3:$OF$80,'Statiske ejendomme'!$A20,FALSE))=FALSE,HLOOKUP(K$12,'Statiske ejendomme'!$B$3:$OF$80,'Statiske ejendomme'!$A20,FALSE),\"\"))),\"\")","v":""},{"$f":"IFERROR(IF(L$12=Kredsudvælgelse!$Q$20,\"\",IF(Kredsudvælgelse!AC$2=1,IF(ISTEXT(DGET(Forespørgsel1[#All],\"\"&LEFT($F27,LEN($F27)-$C27)&\"\",Kredsudvælgelse!$S$2:$T$3))=TRUE,DGET(Forespørgsel1[#All],\"\"&LEFT($F27,LEN($F27)-$C27)&\"\",Kredsudvælgelse!$S$2:$T$3),DGET(Forespørgsel1[#All],\"\"&LEFT($F27,LEN($F27)-$C27)&\"\",Kredsudvælgelse!$S$2:$T$3)/IF(ISNONTEXT($D27)=TRUE,1,DGET(Forespørgsel1[#All],\"\"&$D27&\"\",Kredsudvælgelse!$S$2:$T$3))),IF(ISBLANK(HLOOKUP(L$12,'Statiske ejendomme'!$B$3:$OF$80,'Statiske ejendomme'!$A20,FALSE))=FALSE,HLOOKUP(L$12,'Statiske ejendomme'!$B$3:$OF$80,'Statiske ejendomme'!$A20,FALSE),\"\"))),\"\")","v":""},{"$f":"IFERROR(IF(M$12=Kredsudvælgelse!$Q$20,\"\",IF(Kredsudvælgelse!AD$2=1,IF(ISTEXT(DGET(Forespørgsel1[#All],\"\"&LEFT($F27,LEN($F27)-$C27)&\"\",Kredsudvælgelse!$U$2:$V$3))=TRUE,DGET(Forespørgsel1[#All],\"\"&LEFT($F27,LEN($F27)-$C27)&\"\",Kredsudvælgelse!$U$2:$V$3),DGET(Forespørgsel1[#All],\"\"&LEFT($F27,LEN($F27)-$C27)&\"\",Kredsudvælgelse!$U$2:$V$3)/IF(ISNONTEXT($D27)=TRUE,1,DGET(Forespørgsel1[#All],\"\"&$D27&\"\",Kredsudvælgelse!$U$2:$V$3))),IF(ISBLANK(HLOOKUP(M$12,'Statiske ejendomme'!$B$3:$OF$80,'Statiske ejendomme'!$A20,FALSE))=FALSE,HLOOKUP(M$12,'Statiske ejendomme'!$B$3:$OF$80,'Statiske ejendomme'!$A20,FALSE),\"\"))),\"\")","v":""},{"$f":"IFERROR(IF(N$12=Kredsudvælgelse!$Q$20,\"\",IF(Kredsudvælgelse!AE$2=1,IF(ISTEXT(DGET(Forespørgsel1[#All],\"\"&LEFT($F27,LEN($F27)-$C27)&\"\",Kredsudvælgelse!$W$2:$X$3))=TRUE,DGET(Forespørgsel1[#All],\"\"&LEFT($F27,LEN($F27)-$C27)&\"\",Kredsudvælgelse!$W$2:$X$3),DGET(Forespørgsel1[#All],\"\"&LEFT($F27,LEN($F27)-$C27)&\"\",Kredsudvælgelse!$W$2:$X$3)/IF(ISNONTEXT($D27)=TRUE,1,DGET(Forespørgsel1[#All],\"\"&$D27&\"\",Kredsudvælgelse!$W$2:$X$3))),IF(ISBLANK(HLOOKUP(N$12,'Statiske ejendomme'!$B$3:$OF$80,'Statiske ejendomme'!$A20,FALSE))=FALSE,HLOOKUP(N$12,'Statiske ejendomme'!$B$3:$OF$80,'Statiske ejendomme'!$A20,FALSE),\"\"))),\"\")","v":""},{"$f":"IFERROR(IF(O$12=Kredsudvælgelse!$Q$20,\"\",IF(Kredsudvælgelse!AF$2=1,IF(ISTEXT(DGET(Forespørgsel1[#All],\"\"&LEFT($F27,LEN($F27)-$C27)&\"\",Kredsudvælgelse!$Y$2:$Z$3))=TRUE,DGET(Forespørgsel1[#All],\"\"&LEFT($F27,LEN($F27)-$C27)&\"\",Kredsudvælgelse!$Y$2:$Z$3),DGET(Forespørgsel1[#All],\"\"&LEFT($F27,LEN($F27)-$C27)&\"\",Kredsudvælgelse!$Y$2:$Z$3)/IF(ISNONTEXT($D27)=TRUE,1,DGET(Forespørgsel1[#All],\"\"&$D27&\"\",Kredsudvælgelse!$Y$2:$Z$3))),IF(ISBLANK(HLOOKUP(O$12,'Statiske ejendomme'!$B$3:$OF$80,'Statiske ejendomme'!$A20,FALSE))=FALSE,HLOOKUP(O$12,'Statiske ejendomme'!$B$3:$OF$80,'Statiske ejendomme'!$A20,FALSE),\"\"))),\"\")","v":""},{"$f":"IFERROR(IF(P$12=Kredsudvælgelse!$Q$20,\"\",IF(Kredsudvælgelse!AG$2=1,IF(ISTEXT(DGET(Forespørgsel1[#All],\"\"&LEFT($F27,LEN($F27)-$C27)&\"\",Kredsudvælgelse!$Q$6:$R$7))=TRUE,DGET(Forespørgsel1[#All],\"\"&LEFT($F27,LEN($F27)-$C27)&\"\",Kredsudvælgelse!$Q$6:$R$7),DGET(Forespørgsel1[#All],\"\"&LEFT($F27,LEN($F27)-$C27)&\"\",Kredsudvælgelse!$Q$6:$R$7)/IF(ISNONTEXT($D27)=TRUE,1,DGET(Forespørgsel1[#All],\"\"&$D27&\"\",Kredsudvælgelse!$Q$6:$R$7))),IF(ISBLANK(HLOOKUP(P$12,'Statiske ejendomme'!$B$3:$OF$80,'Statiske ejendomme'!$A20,FALSE))=FALSE,HLOOKUP(P$12,'Statiske ejendomme'!$B$3:$OF$80,'Statiske ejendomme'!$A20,FALSE),\"\"))),\"\")","v":""},{"$f":"IFERROR(IF(Q$12=Kredsudvælgelse!$Q$20,\"\",IF(Kredsudvælgelse!AH$2=1,IF(ISTEXT(DGET(Forespørgsel1[#All],\"\"&LEFT($F27,LEN($F27)-$C27)&\"\",Kredsudvælgelse!$S$6:$T$7))=TRUE,DGET(Forespørgsel1[#All],\"\"&LEFT($F27,LEN($F27)-$C27)&\"\",Kredsudvælgelse!$S$6:$T$7),DGET(Forespørgsel1[#All],\"\"&LEFT($F27,LEN($F27)-$C27)&\"\",Kredsudvælgelse!$S$6:$T$7)/IF(ISNONTEXT($D27)=TRUE,1,DGET(Forespørgsel1[#All],\"\"&$D27&\"\",Kredsudvælgelse!$S$6:$T$7))),IF(ISBLANK(HLOOKUP(Q$12,'Statiske ejendomme'!$B$3:$OF$80,'Statiske ejendomme'!$A20,FALSE))=FALSE,HLOOKUP(Q$12,'Statiske ejendomme'!$B$3:$OF$80,'Statiske ejendomme'!$A20,FALSE),\"\"))),\"\")","v":""},{"$f":"IFERROR(IF(R$12=Kredsudvælgelse!$Q$20,\"\",IF(Kredsudvælgelse!AI$2=1,IF(ISTEXT(DGET(Forespørgsel1[#All],\"\"&LEFT($F27,LEN($F27)-$C27)&\"\",Kredsudvælgelse!$U$6:$V$7))=TRUE,DGET(Forespørgsel1[#All],\"\"&LEFT($F27,LEN($F27)-$C27)&\"\",Kredsudvælgelse!$U$6:$V$7),DGET(Forespørgsel1[#All],\"\"&LEFT($F27,LEN($F27)-$C27)&\"\",Kredsudvælgelse!$U$6:$V$7)/IF(ISNONTEXT($D27)=TRUE,1,DGET(Forespørgsel1[#All],\"\"&$D27&\"\",Kredsudvælgelse!$U$6:$V$7))),IF(ISBLANK(HLOOKUP(R$12,'Statiske ejendomme'!$B$3:$OF$80,'Statiske ejendomme'!$A20,FALSE))=FALSE,HLOOKUP(R$12,'Statiske ejendomme'!$B$3:$OF$80,'Statiske ejendomme'!$A20,FALSE),\"\"))),\"\")","v":""},{"$f":"IFERROR(IF(S$12=Kredsudvælgelse!$Q$20,\"\",IF(Kredsudvælgelse!AJ$2=1,IF(ISTEXT(DGET(Forespørgsel1[#All],\"\"&LEFT($F27,LEN($F27)-$C27)&\"\",Kredsudvælgelse!$W$6:$X$7))=TRUE,DGET(Forespørgsel1[#All],\"\"&LEFT($F27,LEN($F27)-$C27)&\"\",Kredsudvælgelse!$W$6:$X$7),DGET(Forespørgsel1[#All],\"\"&LEFT($F27,LEN($F27)-$C27)&\"\",Kredsudvælgelse!$W$6:$X$7)/IF(ISNONTEXT($D27)=TRUE,1,DGET(Forespørgsel1[#All],\"\"&$D27&\"\",Kredsudvælgelse!$W$6:$X$7))),IF(ISBLANK(HLOOKUP(S$12,'Statiske ejendomme'!$B$3:$OF$80,'Statiske ejendomme'!$A20,FALSE))=FALSE,HLOOKUP(S$12,'Statiske ejendomme'!$B$3:$OF$80,'Statiske ejendomme'!$A20,FALSE),\"\"))),\"\")","v":""},{"$f":"IFERROR(IF(T$12=Kredsudvælgelse!$Q$20,\"\",IF(Kredsudvælgelse!AK$2=1,IF(ISTEXT(DGET(Forespørgsel1[#All],\"\"&LEFT($F27,LEN($F27)-$C27)&\"\",Kredsudvælgelse!$Y$6:$Z$7))=TRUE,DGET(Forespørgsel1[#All],\"\"&LEFT($F27,LEN($F27)-$C27)&\"\",Kredsudvælgelse!$Y$6:$Z$7),DGET(Forespørgsel1[#All],\"\"&LEFT($F27,LEN($F27)-$C27)&\"\",Kredsudvælgelse!$Y$6:$Z$7)/IF(ISNONTEXT($D27)=TRUE,1,DGET(Forespørgsel1[#All],\"\"&$D27&\"\",Kredsudvælgelse!$Y$6:$Z$7))),IF(ISBLANK(HLOOKUP(T$12,'Statiske ejendomme'!$B$3:$OF$80,'Statiske ejendomme'!$A20,FALSE))=FALSE,HLOOKUP(T$12,'Statiske ejendomme'!$B$3:$OF$80,'Statiske ejendomme'!$A20,FALSE),\"\"))),\"\")","v":""}]
[1,{"$f":"Slagtekalve!D100","v":111},{"$f":"Slagtekalve!A19","v":0},{"$f":"Slagtekalve!B19","v":0},null,{"$f":"Slagtekalve!C19","v":"Nøgletal pr. produceret kalv"},{"$f":"IF(Choices!$A$1=2,Landsgennemsnit!B19,IF(Choices!$A$1=3,Landsgennemsnit!E19,\"\"))","v":0},{"$f":"IF(Choices!$A$1=2,Landsgennemsnit!C19,IF(Choices!$A$1=3,Landsgennemsnit!F19,\"\"))","v":0},{"$f":"IF(OR(Choices!$A$1=2,Choices!$A$1=3),Slagtekalve!F19,\"\")","v":""},{"$f":"IF(OR(Choices!$A$1=2,Choices!$A$1=3),Slagtekalve!G19,\"\")","v":""},{"$f":"IFERROR(IF(K$12=Kredsudvælgelse!$Q$20,\"\",IF(Kredsudvælgelse!AB$2=1,IF(ISTEXT(DGET(Forespørgsel1[#All],\"\"&LEFT($F28,LEN($F28)-$C28)&\"\",Kredsudvælgelse!$Q$2:$R$3))=TRUE,DGET(Forespørgsel1[#All],\"\"&LEFT($F28,LEN($F28)-$C28)&\"\",Kredsudvælgelse!$Q$2:$R$3),DGET(Forespørgsel1[#All],\"\"&LEFT($F28,LEN($F28)-$C28)&\"\",Kredsudvælgelse!$Q$2:$R$3)/IF(ISNONTEXT($D28)=TRUE,1,DGET(Forespørgsel1[#All],\"\"&$D28&\"\",Kredsudvælgelse!$Q$2:$R$3))),IF(ISBLANK(HLOOKUP(K$12,'Statiske ejendomme'!$B$3:$OF$80,'Statiske ejendomme'!$A21,FALSE))=FALSE,HLOOKUP(K$12,'Statiske ejendomme'!$B$3:$OF$80,'Statiske ejendomme'!$A21,FALSE),\"\"))),\"\")","v":""},{"$f":"IFERROR(IF(L$12=Kredsudvælgelse!$Q$20,\"\",IF(Kredsudvælgelse!AC$2=1,IF(ISTEXT(DGET(Forespørgsel1[#All],\"\"&LEFT($F28,LEN($F28)-$C28)&\"\",Kredsudvælgelse!$S$2:$T$3))=TRUE,DGET(Forespørgsel1[#All],\"\"&LEFT($F28,LEN($F28)-$C28)&\"\",Kredsudvælgelse!$S$2:$T$3),DGET(Forespørgsel1[#All],\"\"&LEFT($F28,LEN($F28)-$C28)&\"\",Kredsudvælgelse!$S$2:$T$3)/IF(ISNONTEXT($D28)=TRUE,1,DGET(Forespørgsel1[#All],\"\"&$D28&\"\",Kredsudvælgelse!$S$2:$T$3))),IF(ISBLANK(HLOOKUP(L$12,'Statiske ejendomme'!$B$3:$OF$80,'Statiske ejendomme'!$A21,FALSE))=FALSE,HLOOKUP(L$12,'Statiske ejendomme'!$B$3:$OF$80,'Statiske ejendomme'!$A21,FALSE),\"\"))),\"\")","v":""},{"$f":"IFERROR(IF(M$12=Kredsudvælgelse!$Q$20,\"\",IF(Kredsudvælgelse!AD$2=1,IF(ISTEXT(DGET(Forespørgsel1[#All],\"\"&LEFT($F28,LEN($F28)-$C28)&\"\",Kredsudvælgelse!$U$2:$V$3))=TRUE,DGET(Forespørgsel1[#All],\"\"&LEFT($F28,LEN($F28)-$C28)&\"\",Kredsudvælgelse!$U$2:$V$3),DGET(Forespørgsel1[#All],\"\"&LEFT($F28,LEN($F28)-$C28)&\"\",Kredsudvælgelse!$U$2:$V$3)/IF(ISNONTEXT($D28)=TRUE,1,DGET(Forespørgsel1[#All],\"\"&$D28&\"\",Kredsudvælgelse!$U$2:$V$3))),IF(ISBLANK(HLOOKUP(M$12,'Statiske ejendomme'!$B$3:$OF$80,'Statiske ejendomme'!$A21,FALSE))=FALSE,HLOOKUP(M$12,'Statiske ejendomme'!$B$3:$OF$80,'Statiske ejendomme'!$A21,FALSE),\"\"))),\"\")","v":""},{"$f":"IFERROR(IF(N$12=Kredsudvælgelse!$Q$20,\"\",IF(Kredsudvælgelse!AE$2=1,IF(ISTEXT(DGET(Forespørgsel1[#All],\"\"&LEFT($F28,LEN($F28)-$C28)&\"\",Kredsudvælgelse!$W$2:$X$3))=TRUE,DGET(Forespørgsel1[#All],\"\"&LEFT($F28,LEN($F28)-$C28)&\"\",Kredsudvælgelse!$W$2:$X$3),DGET(Forespørgsel1[#All],\"\"&LEFT($F28,LEN($F28)-$C28)&\"\",Kredsudvælgelse!$W$2:$X$3)/IF(ISNONTEXT($D28)=TRUE,1,DGET(Forespørgsel1[#All],\"\"&$D28&\"\",Kredsudvælgelse!$W$2:$X$3))),IF(ISBLANK(HLOOKUP(N$12,'Statiske ejendomme'!$B$3:$OF$80,'Statiske ejendomme'!$A21,FALSE))=FALSE,HLOOKUP(N$12,'Statiske ejendomme'!$B$3:$OF$80,'Statiske ejendomme'!$A21,FALSE),\"\"))),\"\")","v":""},{"$f":"IFERROR(IF(O$12=Kredsudvælgelse!$Q$20,\"\",IF(Kredsudvælgelse!AF$2=1,IF(ISTEXT(DGET(Forespørgsel1[#All],\"\"&LEFT($F28,LEN($F28)-$C28)&\"\",Kredsudvælgelse!$Y$2:$Z$3))=TRUE,DGET(Forespørgsel1[#All],\"\"&LEFT($F28,LEN($F28)-$C28)&\"\",Kredsudvælgelse!$Y$2:$Z$3),DGET(Forespørgsel1[#All],\"\"&LEFT($F28,LEN($F28)-$C28)&\"\",Kredsudvælgelse!$Y$2:$Z$3)/IF(ISNONTEXT($D28)=TRUE,1,DGET(Forespørgsel1[#All],\"\"&$D28&\"\",Kredsudvælgelse!$Y$2:$Z$3))),IF(ISBLANK(HLOOKUP(O$12,'Statiske ejendomme'!$B$3:$OF$80,'Statiske ejendomme'!$A21,FALSE))=FALSE,HLOOKUP(O$12,'Statiske ejendomme'!$B$3:$OF$80,'Statiske ejendomme'!$A21,FALSE),\"\"))),\"\")","v":""},{"$f":"IFERROR(IF(P$12=Kredsudvælgelse!$Q$20,\"\",IF(Kredsudvælgelse!AG$2=1,IF(ISTEXT(DGET(Forespørgsel1[#All],\"\"&LEFT($F28,LEN($F28)-$C28)&\"\",Kredsudvælgelse!$Q$6:$R$7))=TRUE,DGET(Forespørgsel1[#All],\"\"&LEFT($F28,LEN($F28)-$C28)&\"\",Kredsudvælgelse!$Q$6:$R$7),DGET(Forespørgsel1[#All],\"\"&LEFT($F28,LEN($F28)-$C28)&\"\",Kredsudvælgelse!$Q$6:$R$7)/IF(ISNONTEXT($D28)=TRUE,1,DGET(Forespørgsel1[#All],\"\"&$D28&\"\",Kredsudvælgelse!$Q$6:$R$7))),IF(ISBLANK(HLOOKUP(P$12,'Statiske ejendomme'!$B$3:$OF$80,'Statiske ejendomme'!$A21,FALSE))=FALSE,HLOOKUP(P$12,'Statiske ejendomme'!$B$3:$OF$80,'Statiske ejendomme'!$A21,FALSE),\"\"))),\"\")","v":""},{"$f":"IFERROR(IF(Q$12=Kredsudvælgelse!$Q$20,\"\",IF(Kredsudvælgelse!AH$2=1,IF(ISTEXT(DGET(Forespørgsel1[#All],\"\"&LEFT($F28,LEN($F28)-$C28)&\"\",Kredsudvælgelse!$S$6:$T$7))=TRUE,DGET(Forespørgsel1[#All],\"\"&LEFT($F28,LEN($F28)-$C28)&\"\",Kredsudvælgelse!$S$6:$T$7),DGET(Forespørgsel1[#All],\"\"&LEFT($F28,LEN($F28)-$C28)&\"\",Kredsudvælgelse!$S$6:$T$7)/IF(ISNONTEXT($D28)=TRUE,1,DGET(Forespørgsel1[#All],\"\"&$D28&\"\",Kredsudvælgelse!$S$6:$T$7))),IF(ISBLANK(HLOOKUP(Q$12,'Statiske ejendomme'!$B$3:$OF$80,'Statiske ejendomme'!$A21,FALSE))=FALSE,HLOOKUP(Q$12,'Statiske ejendomme'!$B$3:$OF$80,'Statiske ejendomme'!$A21,FALSE),\"\"))),\"\")","v":""},{"$f":"IFERROR(IF(R$12=Kredsudvælgelse!$Q$20,\"\",IF(Kredsudvælgelse!AI$2=1,IF(ISTEXT(DGET(Forespørgsel1[#All],\"\"&LEFT($F28,LEN($F28)-$C28)&\"\",Kredsudvælgelse!$U$6:$V$7))=TRUE,DGET(Forespørgsel1[#All],\"\"&LEFT($F28,LEN($F28)-$C28)&\"\",Kredsudvælgelse!$U$6:$V$7),DGET(Forespørgsel1[#All],\"\"&LEFT($F28,LEN($F28)-$C28)&\"\",Kredsudvælgelse!$U$6:$V$7)/IF(ISNONTEXT($D28)=TRUE,1,DGET(Forespørgsel1[#All],\"\"&$D28&\"\",Kredsudvælgelse!$U$6:$V$7))),IF(ISBLANK(HLOOKUP(R$12,'Statiske ejendomme'!$B$3:$OF$80,'Statiske ejendomme'!$A21,FALSE))=FALSE,HLOOKUP(R$12,'Statiske ejendomme'!$B$3:$OF$80,'Statiske ejendomme'!$A21,FALSE),\"\"))),\"\")","v":""},{"$f":"IFERROR(IF(S$12=Kredsudvælgelse!$Q$20,\"\",IF(Kredsudvælgelse!AJ$2=1,IF(ISTEXT(DGET(Forespørgsel1[#All],\"\"&LEFT($F28,LEN($F28)-$C28)&\"\",Kredsudvælgelse!$W$6:$X$7))=TRUE,DGET(Forespørgsel1[#All],\"\"&LEFT($F28,LEN($F28)-$C28)&\"\",Kredsudvælgelse!$W$6:$X$7),DGET(Forespørgsel1[#All],\"\"&LEFT($F28,LEN($F28)-$C28)&\"\",Kredsudvælgelse!$W$6:$X$7)/IF(ISNONTEXT($D28)=TRUE,1,DGET(Forespørgsel1[#All],\"\"&$D28&\"\",Kredsudvælgelse!$W$6:$X$7))),IF(ISBLANK(HLOOKUP(S$12,'Statiske ejendomme'!$B$3:$OF$80,'Statiske ejendomme'!$A21,FALSE))=FALSE,HLOOKUP(S$12,'Statiske ejendomme'!$B$3:$OF$80,'Statiske ejendomme'!$A21,FALSE),\"\"))),\"\")","v":""},{"$f":"IFERROR(IF(T$12=Kredsudvælgelse!$Q$20,\"\",IF(Kredsudvælgelse!AK$2=1,IF(ISTEXT(DGET(Forespørgsel1[#All],\"\"&LEFT($F28,LEN($F28)-$C28)&\"\",Kredsudvælgelse!$Y$6:$Z$7))=TRUE,DGET(Forespørgsel1[#All],\"\"&LEFT($F28,LEN($F28)-$C28)&\"\",Kredsudvælgelse!$Y$6:$Z$7),DGET(Forespørgsel1[#All],\"\"&LEFT($F28,LEN($F28)-$C28)&\"\",Kredsudvælgelse!$Y$6:$Z$7)/IF(ISNONTEXT($D28)=TRUE,1,DGET(Forespørgsel1[#All],\"\"&$D28&\"\",Kredsudvælgelse!$Y$6:$Z$7))),IF(ISBLANK(HLOOKUP(T$12,'Statiske ejendomme'!$B$3:$OF$80,'Statiske ejendomme'!$A21,FALSE))=FALSE,HLOOKUP(T$12,'Statiske ejendomme'!$B$3:$OF$80,'Statiske ejendomme'!$A21,FALSE),\"\"))),\"\")","v":""}]
[1,{"$f":"Slagtekalve!D101","v":1},{"$f":"Slagtekalve!A20","v":0},{"$f":"Slagtekalve!B20","v":"Antal Producerede kalve"},null,{"$f":"Slagtekalve!C20","v":"Foderomkostninger"},{"$f":"IF(Choices!$A$1=2,Landsgennemsnit!B20,IF(Choices!$A$1=3,Landsgennemsnit!E20,\"\"))","v":2856.1293194507321},{"$f":"IF(Choices!$A$1=2,Landsgennemsnit!C20,IF(Choices!$A$1=3,Landsgennemsnit!F20,\"\"))","v":2764.5346385542171},{"$f":"IF(OR(Choices!$A$1=2,Choices!$A$1=3),Slagtekalve!F20,\"\")","v":""},{"$f":"IF(OR(Choices!$A$1=2,Choices!$A$1=3),Slagtekalve!G20,\"\")","v":""},{"$f":"IFERROR(IF(K$12=Kredsudvælgelse!$Q$20,\"\",IF(Kredsudvælgelse!AB$2=1,IF(ISTEXT(DGET(Forespørgsel1[#All],\"\"&LEFT($F29,LEN($F29)-$C29)&\"\",Kredsudvælgelse!$Q$2:$R$3))=TRUE,DGET(Forespørgsel1[#All],\"\"&LEFT($F29,LEN($F29)-$C29)&\"\",Kredsudvælgelse!$Q$2:$R$3),DGET(Forespørgsel1[#All],\"\"&LEFT($F29,LEN($F29)-$C29)&\"\",Kredsudvælgelse!$Q$2:$R$3)/IF(ISNONTEXT($D29)=TRUE,1,DGET(Forespørgsel1[#All],\"\"&$D29&\"\",Kredsudvælgelse!$Q$2:$R$3))),IF(ISBLANK(HLOOKUP(K$12,'Statiske ejendomme'!$B$3:$OF$80,'Statiske ejendomme'!$A22,FALSE))=FALSE,HLOOKUP(K$12,'Statiske ejendomme'!$B$3:$OF$80,'Statiske ejendomme'!$A22,FALSE),\"\"))),\"\")","v":2980.8525073746314},{"$f":"IFERROR(IF(L$12=Kredsudvælgelse!$Q$20,\"\",IF(Kredsudvælgelse!AC$2=1,IF(ISTEXT(DGET(Forespørgsel1[#All],\"\"&LEFT($F29,LEN($F29)-$C29)&\"\",Kredsudvælgelse!$S$2:$T$3))=TRUE,DGET(Forespørgsel1[#All],\"\"&LEFT($F29,LEN($F29)-$C29)&\"\",Kredsudvælgelse!$S$2:$T$3),DGET(Forespørgsel1[#All],\"\"&LEFT($F29,LEN($F29)-$C29)&\"\",Kredsudvælgelse!$S$2:$T$3)/IF(ISNONTEXT($D29)=TRUE,1,DGET(Forespørgsel1[#All],\"\"&$D29&\"\",Kredsudvælgelse!$S$2:$T$3))),IF(ISBLANK(HLOOKUP(L$12,'Statiske ejendomme'!$B$3:$OF$80,'Statiske ejendomme'!$A22,FALSE))=FALSE,HLOOKUP(L$12,'Statiske ejendomme'!$B$3:$OF$80,'Statiske ejendomme'!$A22,FALSE),\"\"))),\"\")","v":2928.2913580246914},{"$f":"IFERROR(IF(M$12=Kredsudvælgelse!$Q$20,\"\",IF(Kredsudvælgelse!AD$2=1,IF(ISTEXT(DGET(Forespørgsel1[#All],\"\"&LEFT($F29,LEN($F29)-$C29)&\"\",Kredsudvælgelse!$U$2:$V$3))=TRUE,DGET(Forespørgsel1[#All],\"\"&LEFT($F29,LEN($F29)-$C29)&\"\",Kredsudvælgelse!$U$2:$V$3),DGET(Forespørgsel1[#All],\"\"&LEFT($F29,LEN($F29)-$C29)&\"\",Kredsudvælgelse!$U$2:$V$3)/IF(ISNONTEXT($D29)=TRUE,1,DGET(Forespørgsel1[#All],\"\"&$D29&\"\",Kredsudvælgelse!$U$2:$V$3))),IF(ISBLANK(HLOOKUP(M$12,'Statiske ejendomme'!$B$3:$OF$80,'Statiske ejendomme'!$A22,FALSE))=FALSE,HLOOKUP(M$12,'Statiske ejendomme'!$B$3:$OF$80,'Statiske ejendomme'!$A22,FALSE),\"\"))),\"\")","v":2730},{"$f":"IFERROR(IF(N$12=Kredsudvælgelse!$Q$20,\"\",IF(Kredsudvælgelse!AE$2=1,IF(ISTEXT(DGET(Forespørgsel1[#All],\"\"&LEFT($F29,LEN($F29)-$C29)&\"\",Kredsudvælgelse!$W$2:$X$3))=TRUE,DGET(Forespørgsel1[#All],\"\"&LEFT($F29,LEN($F29)-$C29)&\"\",Kredsudvælgelse!$W$2:$X$3),DGET(Forespørgsel1[#All],\"\"&LEFT($F29,LEN($F29)-$C29)&\"\",Kredsudvælgelse!$W$2:$X$3)/IF(ISNONTEXT($D29)=TRUE,1,DGET(Forespørgsel1[#All],\"\"&$D29&\"\",Kredsudvælgelse!$W$2:$X$3))),IF(ISBLANK(HLOOKUP(N$12,'Statiske ejendomme'!$B$3:$OF$80,'Statiske ejendomme'!$A22,FALSE))=FALSE,HLOOKUP(N$12,'Statiske ejendomme'!$B$3:$OF$80,'Statiske ejendomme'!$A22,FALSE),\"\"))),\"\")","v":2810.8294635708567},{"$f":"IFERROR(IF(O$12=Kredsudvælgelse!$Q$20,\"\",IF(Kredsudvælgelse!AF$2=1,IF(ISTEXT(DGET(Forespørgsel1[#All],\"\"&LEFT($F29,LEN($F29)-$C29)&\"\",Kredsudvælgelse!$Y$2:$Z$3))=TRUE,DGET(Forespørgsel1[#All],\"\"&LEFT($F29,LEN($F29)-$C29)&\"\",Kredsudvælgelse!$Y$2:$Z$3),DGET(Forespørgsel1[#All],\"\"&LEFT($F29,LEN($F29)-$C29)&\"\",Kredsudvælgelse!$Y$2:$Z$3)/IF(ISNONTEXT($D29)=TRUE,1,DGET(Forespørgsel1[#All],\"\"&$D29&\"\",Kredsudvælgelse!$Y$2:$Z$3))),IF(ISBLANK(HLOOKUP(O$12,'Statiske ejendomme'!$B$3:$OF$80,'Statiske ejendomme'!$A22,FALSE))=FALSE,HLOOKUP(O$12,'Statiske ejendomme'!$B$3:$OF$80,'Statiske ejendomme'!$A22,FALSE),\"\"))),\"\")","v":2523.5544554455446},{"$f":"IFERROR(IF(P$12=Kredsudvælgelse!$Q$20,\"\",IF(Kredsudvælgelse!AG$2=1,IF(ISTEXT(DGET(Forespørgsel1[#All],\"\"&LEFT($F29,LEN($F29)-$C29)&\"\",Kredsudvælgelse!$Q$6:$R$7))=TRUE,DGET(Forespørgsel1[#All],\"\"&LEFT($F29,LEN($F29)-$C29)&\"\",Kredsudvælgelse!$Q$6:$R$7),DGET(Forespørgsel1[#All],\"\"&LEFT($F29,LEN($F29)-$C29)&\"\",Kredsudvælgelse!$Q$6:$R$7)/IF(ISNONTEXT($D29)=TRUE,1,DGET(Forespørgsel1[#All],\"\"&$D29&\"\",Kredsudvælgelse!$Q$6:$R$7))),IF(ISBLANK(HLOOKUP(P$12,'Statiske ejendomme'!$B$3:$OF$80,'Statiske ejendomme'!$A22,FALSE))=FALSE,HLOOKUP(P$12,'Statiske ejendomme'!$B$3:$OF$80,'Statiske ejendomme'!$A22,FALSE),\"\"))),\"\")","v":3750.6815286624205},{"$f":"IFERROR(IF(Q$12=Kredsudvælgelse!$Q$20,\"\",IF(Kredsudvælgelse!AH$2=1,IF(ISTEXT(DGET(Forespørgsel1[#All],\"\"&LEFT($F29,LEN($F29)-$C29)&\"\",Kredsudvælgelse!$S$6:$T$7))=TRUE,DGET(Forespørgsel1[#All],\"\"&LEFT($F29,LEN($F29)-$C29)&\"\",Kredsudvælgelse!$S$6:$T$7),DGET(Forespørgsel1[#All],\"\"&LEFT($F29,LEN($F29)-$C29)&\"\",Kredsudvælgelse!$S$6:$T$7)/IF(ISNONTEXT($D29)=TRUE,1,DGET(Forespørgsel1[#All],\"\"&$D29&\"\",Kredsudvælgelse!$S$6:$T$7))),IF(ISBLANK(HLOOKUP(Q$12,'Statiske ejendomme'!$B$3:$OF$80,'Statiske ejendomme'!$A22,FALSE))=FALSE,HLOOKUP(Q$12,'Statiske ejendomme'!$B$3:$OF$80,'Statiske ejendomme'!$A22,FALSE),\"\"))),\"\")","v":3422.4035087719299},{"$f":"IFERROR(IF(R$12=Kredsudvælgelse!$Q$20,\"\",IF(Kredsudvælgelse!AI$2=1,IF(ISTEXT(DGET(Forespørgsel1[#All],\"\"&LEFT($F29,LEN($F29)-$C29)&\"\",Kredsudvælgelse!$U$6:$V$7))=TRUE,DGET(Forespørgsel1[#All],\"\"&LEFT($F29,LEN($F29)-$C29)&\"\",Kredsudvælgelse!$U$6:$V$7),DGET(Forespørgsel1[#All],\"\"&LEFT($F29,LEN($F29)-$C29)&\"\",Kredsudvælgelse!$U$6:$V$7)/IF(ISNONTEXT($D29)=TRUE,1,DGET(Forespørgsel1[#All],\"\"&$D29&\"\",Kredsudvælgelse!$U$6:$V$7))),IF(ISBLANK(HLOOKUP(R$12,'Statiske ejendomme'!$B$3:$OF$80,'Statiske ejendomme'!$A22,FALSE))=FALSE,HLOOKUP(R$12,'Statiske ejendomme'!$B$3:$OF$80,'Statiske ejendomme'!$A22,FALSE),\"\"))),\"\")","v":2962.3431798436141},{"$f":"IFERROR(IF(S$12=Kredsudvælgelse!$Q$20,\"\",IF(Kredsudvælgelse!AJ$2=1,IF(ISTEXT(DGET(Forespørgsel1[#All],\"\"&LEFT($F29,LEN($F29)-$C29)&\"\",Kredsudvælgelse!$W$6:$X$7))=TRUE,DGET(Forespørgsel1[#All],\"\"&LEFT($F29,LEN($F29)-$C29)&\"\",Kredsudvælgelse!$W$6:$X$7),DGET(Forespørgsel1[#All],\"\"&LEFT($F29,LEN($F29)-$C29)&\"\",Kredsudvælgelse!$W$6:$X$7)/IF(ISNONTEXT($D29)=TRUE,1,DGET(Forespørgsel1[#All],\"\"&$D29&\"\",Kredsudvælgelse!$W$6:$X$7))),IF(ISBLANK(HLOOKUP(S$12,'Statiske ejendomme'!$B$3:$OF$80,'Statiske ejendomme'!$A22,FALSE))=FALSE,HLOOKUP(S$12,'Statiske ejendomme'!$B$3:$OF$80,'Statiske ejendomme'!$A22,FALSE),\"\"))),\"\")","v":3514.3732394366198},{"$f":"IFERROR(IF(T$12=Kredsudvælgelse!$Q$20,\"\",IF(Kredsudvælgelse!AK$2=1,IF(ISTEXT(DGET(Forespørgsel1[#All],\"\"&LEFT($F29,LEN($F29)-$C29)&\"\",Kredsudvælgelse!$Y$6:$Z$7))=TRUE,DGET(Forespørgsel1[#All],\"\"&LEFT($F29,LEN($F29)-$C29)&\"\",Kredsudvælgelse!$Y$6:$Z$7),DGET(Forespørgsel1[#All],\"\"&LEFT($F29,LEN($F29)-$C29)&\"\",Kredsudvælgelse!$Y$6:$Z$7)/IF(ISNONTEXT($D29)=TRUE,1,DGET(Forespørgsel1[#All],\"\"&$D29&\"\",Kredsudvælgelse!$Y$6:$Z$7))),IF(ISBLANK(HLOOKUP(T$12,'Statiske ejendomme'!$B$3:$OF$80,'Statiske ejendomme'!$A22,FALSE))=FALSE,HLOOKUP(T$12,'Statiske ejendomme'!$B$3:$OF$80,'Statiske ejendomme'!$A22,FALSE),\"\"))),\"\")","v":3032.990049751244}]
[1,{"$f":"Slagtekalve!D102","v":111},{"$f":"Slagtekalve!A21","v":0},{"$f":"Slagtekalve!B21","v":"Antal Producerede kalve"},null,{"$f":"Slagtekalve!C21","v":"Krav til dækningsbidrag"},{"$f":"IF(Choices!$A$1=2,Landsgennemsnit!B21,IF(Choices!$A$1=3,Landsgennemsnit!E21,\"\"))","v":1669.8008651476284},{"$f":"IF(Choices!$A$1=2,Landsgennemsnit!C21,IF(Choices!$A$1=3,Landsgennemsnit!F21,\"\"))","v":1493.0165662650602},{"$f":"IF(OR(Choices!$A$1=2,Choices!$A$1=3),Slagtekalve!F21,\"\")","v":""},{"$f":"IF(OR(Choices!$A$1=2,Choices!$A$1=3),Slagtekalve!G21,\"\")","v":""},{"$f":"IFERROR(IF(K$12=Kredsudvælgelse!$Q$20,\"\",IF(Kredsudvælgelse!AB$2=1,IF(ISTEXT(DGET(Forespørgsel1[#All],\"\"&LEFT($F30,LEN($F30)-$C30)&\"\",Kredsudvælgelse!$Q$2:$R$3))=TRUE,DGET(Forespørgsel1[#All],\"\"&LEFT($F30,LEN($F30)-$C30)&\"\",Kredsudvælgelse!$Q$2:$R$3),DGET(Forespørgsel1[#All],\"\"&LEFT($F30,LEN($F30)-$C30)&\"\",Kredsudvælgelse!$Q$2:$R$3)/IF(ISNONTEXT($D30)=TRUE,1,DGET(Forespørgsel1[#All],\"\"&$D30&\"\",Kredsudvælgelse!$Q$2:$R$3))),IF(ISBLANK(HLOOKUP(K$12,'Statiske ejendomme'!$B$3:$OF$80,'Statiske ejendomme'!$A23,FALSE))=FALSE,HLOOKUP(K$12,'Statiske ejendomme'!$B$3:$OF$80,'Statiske ejendomme'!$A23,FALSE),\"\"))),\"\")","v":1162.0560471976401},{"$f":"IFERROR(IF(L$12=Kredsudvælgelse!$Q$20,\"\",IF(Kredsudvælgelse!AC$2=1,IF(ISTEXT(DGET(Forespørgsel1[#All],\"\"&LEFT($F30,LEN($F30)-$C30)&\"\",Kredsudvælgelse!$S$2:$T$3))=TRUE,DGET(Forespørgsel1[#All],\"\"&LEFT($F30,LEN($F30)-$C30)&\"\",Kredsudvælgelse!$S$2:$T$3),DGET(Forespørgsel1[#All],\"\"&LEFT($F30,LEN($F30)-$C30)&\"\",Kredsudvælgelse!$S$2:$T$3)/IF(ISNONTEXT($D30)=TRUE,1,DGET(Forespørgsel1[#All],\"\"&$D30&\"\",Kredsudvælgelse!$S$2:$T$3))),IF(ISBLANK(HLOOKUP(L$12,'Statiske ejendomme'!$B$3:$OF$80,'Statiske ejendomme'!$A23,FALSE))=FALSE,HLOOKUP(L$12,'Statiske ejendomme'!$B$3:$OF$80,'Statiske ejendomme'!$A23,FALSE),\"\"))),\"\")","v":1705.8213991769546},{"$f":"IFERROR(IF(M$12=Kredsudvælgelse!$Q$20,\"\",IF(Kredsudvælgelse!AD$2=1,IF(ISTEXT(DGET(Forespørgsel1[#All],\"\"&LEFT($F30,LEN($F30)-$C30)&\"\",Kredsudvælgelse!$U$2:$V$3))=TRUE,DGET(Forespørgsel1[#All],\"\"&LEFT($F30,LEN($F30)-$C30)&\"\",Kredsudvælgelse!$U$2:$V$3),DGET(Forespørgsel1[#All],\"\"&LEFT($F30,LEN($F30)-$C30)&\"\",Kredsudvælgelse!$U$2:$V$3)/IF(ISNONTEXT($D30)=TRUE,1,DGET(Forespørgsel1[#All],\"\"&$D30&\"\",Kredsudvælgelse!$U$2:$V$3))),IF(ISBLANK(HLOOKUP(M$12,'Statiske ejendomme'!$B$3:$OF$80,'Statiske ejendomme'!$A23,FALSE))=FALSE,HLOOKUP(M$12,'Statiske ejendomme'!$B$3:$OF$80,'Statiske ejendomme'!$A23,FALSE),\"\"))),\"\")","v":1100.590909090909},{"$f":"IFERROR(IF(N$12=Kredsudvælgelse!$Q$20,\"\",IF(Kredsudvælgelse!AE$2=1,IF(ISTEXT(DGET(Forespørgsel1[#All],\"\"&LEFT($F30,LEN($F30)-$C30)&\"\",Kredsudvælgelse!$W$2:$X$3))=TRUE,DGET(Forespørgsel1[#All],\"\"&LEFT($F30,LEN($F30)-$C30)&\"\",Kredsudvælgelse!$W$2:$X$3),DGET(Forespørgsel1[#All],\"\"&LEFT($F30,LEN($F30)-$C30)&\"\",Kredsudvælgelse!$W$2:$X$3)/IF(ISNONTEXT($D30)=TRUE,1,DGET(Forespørgsel1[#All],\"\"&$D30&\"\",Kredsudvælgelse!$W$2:$X$3))),IF(ISBLANK(HLOOKUP(N$12,'Statiske ejendomme'!$B$3:$OF$80,'Statiske ejendomme'!$A23,FALSE))=FALSE,HLOOKUP(N$12,'Statiske ejendomme'!$B$3:$OF$80,'Statiske ejendomme'!$A23,FALSE),\"\"))),\"\")","v":1546.1080864691753},{"$f":"IFERROR(IF(O$12=Kredsudvælgelse!$Q$20,\"\",IF(Kredsudvælgelse!AF$2=1,IF(ISTEXT(DGET(Forespørgsel1[#All],\"\"&LEFT($F30,LEN($F30)-$C30)&\"\",Kredsudvælgelse!$Y$2:$Z$3))=TRUE,DGET(Forespørgsel1[#All],\"\"&LEFT($F30,LEN($F30)-$C30)&\"\",Kredsudvælgelse!$Y$2:$Z$3),DGET(Forespørgsel1[#All],\"\"&LEFT($F30,LEN($F30)-$C30)&\"\",Kredsudvælgelse!$Y$2:$Z$3)/IF(ISNONTEXT($D30)=TRUE,1,DGET(Forespørgsel1[#All],\"\"&$D30&\"\",Kredsudvælgelse!$Y$2:$Z$3))),IF(ISBLANK(HLOOKUP(O$12,'Statiske ejendomme'!$B$3:$OF$80,'Statiske ejendomme'!$A23,FALSE))=FALSE,HLOOKUP(O$12,'Statiske ejendomme'!$B$3:$OF$80,'Statiske ejendomme'!$A23,FALSE),\"\"))),\"\")","v":2094.9282178217823},{"$f":"IFERROR(IF(P$12=Kredsudvælgelse!$Q$20,\"\",IF(Kredsudvælgelse!AG$2=1,IF(ISTEXT(DGET(Forespørgsel1[#All],\"\"&LEFT($F30,LEN($F30)-$C30)&\"\",Kredsudvælgelse!$Q$6:$R$7))=TRUE,DGET(Forespørgsel1[#All],\"\"&LEFT($F30,LEN($F30)-$C30)&\"\",Kredsudvælgelse!$Q$6:$R$7),DGET(Forespørgsel1[#All],\"\"&LEFT($F30,LEN($F30)-$C30)&\"\",Kredsudvælgelse!$Q$6:$R$7)/IF(ISNONTEXT($D30)=TRUE,1,DGET(Forespørgsel1[#All],\"\"&$D30&\"\",Kredsudvælgelse!$Q$6:$R$7))),IF(ISBLANK(HLOOKUP(P$12,'Statiske ejendomme'!$B$3:$OF$80,'Statiske ejendomme'!$A23,FALSE))=FALSE,HLOOKUP(P$12,'Statiske ejendomme'!$B$3:$OF$80,'Statiske ejendomme'!$A23,FALSE),\"\"))),\"\")","v":1877.3694267515923},{"$f":"IFERROR(IF(Q$12=Kredsudvælgelse!$Q$20,\"\",IF(Kredsudvælgelse!AH$2=1,IF(ISTEXT(DGET(Forespørgsel1[#All],\"\"&LEFT($F30,LEN($F30)-$C30)&\"\",Kredsudvælgelse!$S$6:$T$7))=TRUE,DGET(Forespørgsel1[#All],\"\"&LEFT($F30,LEN($F30)-$C30)&\"\",Kredsudvælgelse!$S$6:$T$7),DGET(Forespørgsel1[#All],\"\"&LEFT($F30,LEN($F30)-$C30)&\"\",Kredsudvælgelse!$S$6:$T$7)/IF(ISNONTEXT($D30)=TRUE,1,DGET(Forespørgsel1[#All],\"\"&$D30&\"\",Kredsudvælgelse!$S$6:$T$7))),IF(ISBLANK(HLOOKUP(Q$12,'Statiske ejendomme'!$B$3:$OF$80,'Statiske ejendomme'!$A23,FALSE))=FALSE,HLOOKUP(Q$12,'Statiske ejendomme'!$B$3:$OF$80,'Statiske ejendomme'!$A23,FALSE),\"\"))),\"\")","v":2360.6754385964914},{"$f":"IFERROR(IF(R$12=Kredsudvælgelse!$Q$20,\"\",IF(Kredsudvælgelse!AI$2=1,IF(ISTEXT(DGET(Forespørgsel1[#All],\"\"&LEFT($F30,LEN($F30)-$C30)&\"\",Kredsudvælgelse!$U$6:$V$7))=TRUE,DGET(Forespørgsel1[#All],\"\"&LEFT($F30,LEN($F30)-$C30)&\"\",Kredsudvælgelse!$U$6:$V$7),DGET(Forespørgsel1[#All],\"\"&LEFT($F30,LEN($F30)-$C30)&\"\",Kredsudvælgelse!$U$6:$V$7)/IF(ISNONTEXT($D30)=TRUE,1,DGET(Forespørgsel1[#All],\"\"&$D30&\"\",Kredsudvælgelse!$U$6:$V$7))),IF(ISBLANK(HLOOKUP(R$12,'Statiske ejendomme'!$B$3:$OF$80,'Statiske ejendomme'!$A23,FALSE))=FALSE,HLOOKUP(R$12,'Statiske ejendomme'!$B$3:$OF$80,'Statiske ejendomme'!$A23,FALSE),\"\"))),\"\")","v":2000.8757602085143},{"$f":"IFERROR(IF(S$12=Kredsudvælgelse!$Q$20,\"\",IF(Kredsudvælgelse!AJ$2=1,IF(ISTEXT(DGET(Forespørgsel1[#All],\"\"&LEFT($F30,LEN($F30)-$C30)&\"\",Kredsudvælgelse!$W$6:$X$7))=TRUE,DGET(Forespørgsel1[#All],\"\"&LEFT($F30,LEN($F30)-$C30)&\"\",Kredsudvælgelse!$W$6:$X$7),DGET(Forespørgsel1[#All],\"\"&LEFT($F30,LEN($F30)-$C30)&\"\",Kredsudvælgelse!$W$6:$X$7)/IF(ISNONTEXT($D30)=TRUE,1,DGET(Forespørgsel1[#All],\"\"&$D30&\"\",Kredsudvælgelse!$W$6:$X$7))),IF(ISBLANK(HLOOKUP(S$12,'Statiske ejendomme'!$B$3:$OF$80,'Statiske ejendomme'!$A23,FALSE))=FALSE,HLOOKUP(S$12,'Statiske ejendomme'!$B$3:$OF$80,'Statiske ejendomme'!$A23,FALSE),\"\"))),\"\")","v":1674.6549295774648},{"$f":"IFERROR(IF(T$12=Kredsudvælgelse!$Q$20,\"\",IF(Kredsudvælgelse!AK$2=1,IF(ISTEXT(DGET(Forespørgsel1[#All],\"\"&LEFT($F30,LEN($F30)-$C30)&\"\",Kredsudvælgelse!$Y$6:$Z$7))=TRUE,DGET(Forespørgsel1[#All],\"\"&LEFT($F30,LEN($F30)-$C30)&\"\",Kredsudvælgelse!$Y$6:$Z$7),DGET(Forespørgsel1[#All],\"\"&LEFT($F30,LEN($F30)-$C30)&\"\",Kredsudvælgelse!$Y$6:$Z$7)/IF(ISNONTEXT($D30)=TRUE,1,DGET(Forespørgsel1[#All],\"\"&$D30&\"\",Kredsudvælgelse!$Y$6:$Z$7))),IF(ISBLANK(HLOOKUP(T$12,'Statiske ejendomme'!$B$3:$OF$80,'Statiske ejendomme'!$A23,FALSE))=FALSE,HLOOKUP(T$12,'Statiske ejendomme'!$B$3:$OF$80,'Statiske ejendomme'!$A23,FALSE),\"\"))),\"\")","v":1669.2288557213931}]
[1,{"$f":"Slagtekalve!D103","v":1},{"$f":"Slagtekalve!A22","v":0},{"$f":"Slagtekalve!B22","v":"Antal Producerede kalve"},null,{"$f":"Slagtekalve!C22","v":"Heraf afskrivninger"},{"$f":"IF(Choices!$A$1=2,Landsgennemsnit!B22,IF(Choices!$A$1=3,Landsgennemsnit!E22,\"\"))","v":326.61923444494744},{"$f":"IF(Choices!$A$1=2,Landsgennemsnit!C22,IF(Choices!$A$1=3,Landsgennemsnit!F22,\"\"))","v":314.50494836488815},{"$f":"IF(OR(Choices!$A$1=2,Choices!$A$1=3),Slagtekalve!F22,\"\")","v":""},{"$f":"IF(OR(Choices!$A$1=2,Choices!$A$1=3),Slagtekalve!G22,\"\")","v":""},{"$f":"IFERROR(IF(K$12=Kredsudvælgelse!$Q$20,\"\",IF(Kredsudvælgelse!AB$2=1,IF(ISTEXT(DGET(Forespørgsel1[#All],\"\"&LEFT($F31,LEN($F31)-$C31)&\"\",Kredsudvælgelse!$Q$2:$R$3))=TRUE,DGET(Forespørgsel1[#All],\"\"&LEFT($F31,LEN($F31)-$C31)&\"\",Kredsudvælgelse!$Q$2:$R$3),DGET(Forespørgsel1[#All],\"\"&LEFT($F31,LEN($F31)-$C31)&\"\",Kredsudvælgelse!$Q$2:$R$3)/IF(ISNONTEXT($D31)=TRUE,1,DGET(Forespørgsel1[#All],\"\"&$D31&\"\",Kredsudvælgelse!$Q$2:$R$3))),IF(ISBLANK(HLOOKUP(K$12,'Statiske ejendomme'!$B$3:$OF$80,'Statiske ejendomme'!$A24,FALSE))=FALSE,HLOOKUP(K$12,'Statiske ejendomme'!$B$3:$OF$80,'Statiske ejendomme'!$A24,FALSE),\"\"))),\"\")","v":206.12684365781712},{"$f":"IFERROR(IF(L$12=Kredsudvælgelse!$Q$20,\"\",IF(Kredsudvælgelse!AC$2=1,IF(ISTEXT(DGET(Forespørgsel1[#All],\"\"&LEFT($F31,LEN($F31)-$C31)&\"\",Kredsudvælgelse!$S$2:$T$3))=TRUE,DGET(Forespørgsel1[#All],\"\"&LEFT($F31,LEN($F31)-$C31)&\"\",Kredsudvælgelse!$S$2:$T$3),DGET(Forespørgsel1[#All],\"\"&LEFT($F31,LEN($F31)-$C31)&\"\",Kredsudvælgelse!$S$2:$T$3)/IF(ISNONTEXT($D31)=TRUE,1,DGET(Forespørgsel1[#All],\"\"&$D31&\"\",Kredsudvælgelse!$S$2:$T$3))),IF(ISBLANK(HLOOKUP(L$12,'Statiske ejendomme'!$B$3:$OF$80,'Statiske ejendomme'!$A24,FALSE))=FALSE,HLOOKUP(L$12,'Statiske ejendomme'!$B$3:$OF$80,'Statiske ejendomme'!$A24,FALSE),\"\"))),\"\")","v":422.69053497942389},{"$f":"IFERROR(IF(M$12=Kredsudvælgelse!$Q$20,\"\",IF(Kredsudvælgelse!AD$2=1,IF(ISTEXT(DGET(Forespørgsel1[#All],\"\"&LEFT($F31,LEN($F31)-$C31)&\"\",Kredsudvælgelse!$U$2:$V$3))=TRUE,DGET(Forespørgsel1[#All],\"\"&LEFT($F31,LEN($F31)-$C31)&\"\",Kredsudvælgelse!$U$2:$V$3),DGET(Forespørgsel1[#All],\"\"&LEFT($F31,LEN($F31)-$C31)&\"\",Kredsudvælgelse!$U$2:$V$3)/IF(ISNONTEXT($D31)=TRUE,1,DGET(Forespørgsel1[#All],\"\"&$D31&\"\",Kredsudvælgelse!$U$2:$V$3))),IF(ISBLANK(HLOOKUP(M$12,'Statiske ejendomme'!$B$3:$OF$80,'Statiske ejendomme'!$A24,FALSE))=FALSE,HLOOKUP(M$12,'Statiske ejendomme'!$B$3:$OF$80,'Statiske ejendomme'!$A24,FALSE),\"\"))),\"\")","v":125},{"$f":"IFERROR(IF(N$12=Kredsudvælgelse!$Q$20,\"\",IF(Kredsudvælgelse!AE$2=1,IF(ISTEXT(DGET(Forespørgsel1[#All],\"\"&LEFT($F31,LEN($F31)-$C31)&\"\",Kredsudvælgelse!$W$2:$X$3))=TRUE,DGET(Forespørgsel1[#All],\"\"&LEFT($F31,LEN($F31)-$C31)&\"\",Kredsudvælgelse!$W$2:$X$3),DGET(Forespørgsel1[#All],\"\"&LEFT($F31,LEN($F31)-$C31)&\"\",Kredsudvælgelse!$W$2:$X$3)/IF(ISNONTEXT($D31)=TRUE,1,DGET(Forespørgsel1[#All],\"\"&$D31&\"\",Kredsudvælgelse!$W$2:$X$3))),IF(ISBLANK(HLOOKUP(N$12,'Statiske ejendomme'!$B$3:$OF$80,'Statiske ejendomme'!$A24,FALSE))=FALSE,HLOOKUP(N$12,'Statiske ejendomme'!$B$3:$OF$80,'Statiske ejendomme'!$A24,FALSE),\"\"))),\"\")","v":426.2570056044836},{"$f":"IFERROR(IF(O$12=Kredsudvælgelse!$Q$20,\"\",IF(Kredsudvælgelse!AF$2=1,IF(ISTEXT(DGET(Forespørgsel1[#All],\"\"&LEFT($F31,LEN($F31)-$C31)&\"\",Kredsudvælgelse!$Y$2:$Z$3))=TRUE,DGET(Forespørgsel1[#All],\"\"&LEFT($F31,LEN($F31)-$C31)&\"\",Kredsudvælgelse!$Y$2:$Z$3),DGET(Forespørgsel1[#All],\"\"&LEFT($F31,LEN($F31)-$C31)&\"\",Kredsudvælgelse!$Y$2:$Z$3)/IF(ISNONTEXT($D31)=TRUE,1,DGET(Forespørgsel1[#All],\"\"&$D31&\"\",Kredsudvælgelse!$Y$2:$Z$3))),IF(ISBLANK(HLOOKUP(O$12,'Statiske ejendomme'!$B$3:$OF$80,'Statiske ejendomme'!$A24,FALSE))=FALSE,HLOOKUP(O$12,'Statiske ejendomme'!$B$3:$OF$80,'Statiske ejendomme'!$A24,FALSE),\"\"))),\"\")","v":789.02475247524751},{"$f":"IFERROR(IF(P$12=Kredsudvælgelse!$Q$20,\"\",IF(Kredsudvælgelse!AG$2=1,IF(ISTEXT(DGET(Forespørgsel1[#All],\"\"&LEFT($F31,LEN($F31)-$C31)&\"\",Kredsudvælgelse!$Q$6:$R$7))=TRUE,DGET(Forespørgsel1[#All],\"\"&LEFT($F31,LEN($F31)-$C31)&\"\",Kredsudvælgelse!$Q$6:$R$7),DGET(Forespørgsel1[#All],\"\"&LEFT($F31,LEN($F31)-$C31)&\"\",Kredsudvælgelse!$Q$6:$R$7)/IF(ISNONTEXT($D31)=TRUE,1,DGET(Forespørgsel1[#All],\"\"&$D31&\"\",Kredsudvælgelse!$Q$6:$R$7))),IF(ISBLANK(HLOOKUP(P$12,'Statiske ejendomme'!$B$3:$OF$80,'Statiske ejendomme'!$A24,FALSE))=FALSE,HLOOKUP(P$12,'Statiske ejendomme'!$B$3:$OF$80,'Statiske ejendomme'!$A24,FALSE),\"\"))),\"\")","v":360.03821656050957},{"$f":"IFERROR(IF(Q$12=Kredsudvælgelse!$Q$20,\"\",IF(Kredsudvælgelse!AH$2=1,IF(ISTEXT(DGET(Forespørgsel1[#All],\"\"&LEFT($F31,LEN($F31)-$C31)&\"\",Kredsudvælgelse!$S$6:$T$7))=TRUE,DGET(Forespørgsel1[#All],\"\"&LEFT($F31,LEN($F31)-$C31)&\"\",Kredsudvælgelse!$S$6:$T$7),DGET(Forespørgsel1[#All],\"\"&LEFT($F31,LEN($F31)-$C31)&\"\",Kredsudvælgelse!$S$6:$T$7)/IF(ISNONTEXT($D31)=TRUE,1,DGET(Forespørgsel1[#All],\"\"&$D31&\"\",Kredsudvælgelse!$S$6:$T$7))),IF(ISBLANK(HLOOKUP(Q$12,'Statiske ejendomme'!$B$3:$OF$80,'Statiske ejendomme'!$A24,FALSE))=FALSE,HLOOKUP(Q$12,'Statiske ejendomme'!$B$3:$OF$80,'Statiske ejendomme'!$A24,FALSE),\"\"))),\"\")","v":815.30701754385962},{"$f":"IFERROR(IF(R$12=Kredsudvælgelse!$Q$20,\"\",IF(Kredsudvælgelse!AI$2=1,IF(ISTEXT(DGET(Forespørgsel1[#All],\"\"&LEFT($F31,LEN($F31)-$C31)&\"\",Kredsudvælgelse!$U$6:$V$7))=TRUE,DGET(Forespørgsel1[#All],\"\"&LEFT($F31,LEN($F31)-$C31)&\"\",Kredsudvælgelse!$U$6:$V$7),DGET(Forespørgsel1[#All],\"\"&LEFT($F31,LEN($F31)-$C31)&\"\",Kredsudvælgelse!$U$6:$V$7)/IF(ISNONTEXT($D31)=TRUE,1,DGET(Forespørgsel1[#All],\"\"&$D31&\"\",Kredsudvælgelse!$U$6:$V$7))),IF(ISBLANK(HLOOKUP(R$12,'Statiske ejendomme'!$B$3:$OF$80,'Statiske ejendomme'!$A24,FALSE))=FALSE,HLOOKUP(R$12,'Statiske ejendomme'!$B$3:$OF$80,'Statiske ejendomme'!$A24,FALSE),\"\"))),\"\")","v":555.65942658557776},{"$f":"IFERROR(IF(S$12=Kredsudvælgelse!$Q$20,\"\",IF(Kredsudvælgelse!AJ$2=1,IF(ISTEXT(DGET(Forespørgsel1[#All],\"\"&LEFT($F31,LEN($F31)-$C31)&\"\",Kredsudvælgelse!$W$6:$X$7))=TRUE,DGET(Forespørgsel1[#All],\"\"&LEFT($F31,LEN($F31)-$C31)&\"\",Kredsudvælgelse!$W$6:$X$7),DGET(Forespørgsel1[#All],\"\"&LEFT($F31,LEN($F31)-$C31)&\"\",Kredsudvælgelse!$W$6:$X$7)/IF(ISNONTEXT($D31)=TRUE,1,DGET(Forespørgsel1[#All],\"\"&$D31&\"\",Kredsudvælgelse!$W$6:$X$7))),IF(ISBLANK(HLOOKUP(S$12,'Statiske ejendomme'!$B$3:$OF$80,'Statiske ejendomme'!$A24,FALSE))=FALSE,HLOOKUP(S$12,'Statiske ejendomme'!$B$3:$OF$80,'Statiske ejendomme'!$A24,FALSE),\"\"))),\"\")","v":157.31690140845072},{"$f":"IFERROR(IF(T$12=Kredsudvælgelse!$Q$20,\"\",IF(Kredsudvælgelse!AK$2=1,IF(ISTEXT(DGET(Forespørgsel1[#All],\"\"&LEFT($F31,LEN($F31)-$C31)&\"\",Kredsudvælgelse!$Y$6:$Z$7))=TRUE,DGET(Forespørgsel1[#All],\"\"&LEFT($F31,LEN($F31)-$C31)&\"\",Kredsudvælgelse!$Y$6:$Z$7),DGET(Forespørgsel1[#All],\"\"&LEFT($F31,LEN($F31)-$C31)&\"\",Kredsudvælgelse!$Y$6:$Z$7)/IF(ISNONTEXT($D31)=TRUE,1,DGET(Forespørgsel1[#All],\"\"&$D31&\"\",Kredsudvælgelse!$Y$6:$Z$7))),IF(ISBLANK(HLOOKUP(T$12,'Statiske ejendomme'!$B$3:$OF$80,'Statiske ejendomme'!$A24,FALSE))=FALSE,HLOOKUP(T$12,'Statiske ejendomme'!$B$3:$OF$80,'Statiske ejendomme'!$A24,FALSE),\"\"))),\"\")","v":245.75621890547265}]
[1,{"$f":"Slagtekalve!D104","v":1},{"$f":"Slagtekalve!A23","v":0},{"$f":"Slagtekalve!B23","v":"Antal Producerede kalve"},null,{"$f":"Slagtekalve!C23","v":"Arbejdsomkostninger"},{"$f":"IF(Choices!$A$1=2,Landsgennemsnit!B23,IF(Choices!$A$1=3,Landsgennemsnit!E23,\"\"))","v":641.38519189175599},{"$f":"IF(Choices!$A$1=2,Landsgennemsnit!C23,IF(Choices!$A$1=3,Landsgennemsnit!F23,\"\"))","v":629.63403614457832},{"$f":"IF(OR(Choices!$A$1=2,Choices!$A$1=3),Slagtekalve!F23,\"\")","v":""},{"$f":"IF(OR(Choices!$A$1=2,Choices!$A$1=3),Slagtekalve!G23,\"\")","v":""},{"$f":"IFERROR(IF(K$12=Kredsudvælgelse!$Q$20,\"\",IF(Kredsudvælgelse!AB$2=1,IF(ISTEXT(DGET(Forespørgsel1[#All],\"\"&LEFT($F32,LEN($F32)-$C32)&\"\",Kredsudvælgelse!$Q$2:$R$3))=TRUE,DGET(Forespørgsel1[#All],\"\"&LEFT($F32,LEN($F32)-$C32)&\"\",Kredsudvælgelse!$Q$2:$R$3),DGET(Forespørgsel1[#All],\"\"&LEFT($F32,LEN($F32)-$C32)&\"\",Kredsudvælgelse!$Q$2:$R$3)/IF(ISNONTEXT($D32)=TRUE,1,DGET(Forespørgsel1[#All],\"\"&$D32&\"\",Kredsudvælgelse!$Q$2:$R$3))),IF(ISBLANK(HLOOKUP(K$12,'Statiske ejendomme'!$B$3:$OF$80,'Statiske ejendomme'!$A25,FALSE))=FALSE,HLOOKUP(K$12,'Statiske ejendomme'!$B$3:$OF$80,'Statiske ejendomme'!$A25,FALSE),\"\"))),\"\")","v":522.41887905604722},{"$f":"IFERROR(IF(L$12=Kredsudvælgelse!$Q$20,\"\",IF(Kredsudvælgelse!AC$2=1,IF(ISTEXT(DGET(Forespørgsel1[#All],\"\"&LEFT($F32,LEN($F32)-$C32)&\"\",Kredsudvælgelse!$S$2:$T$3))=TRUE,DGET(Forespørgsel1[#All],\"\"&LEFT($F32,LEN($F32)-$C32)&\"\",Kredsudvælgelse!$S$2:$T$3),DGET(Forespørgsel1[#All],\"\"&LEFT($F32,LEN($F32)-$C32)&\"\",Kredsudvælgelse!$S$2:$T$3)/IF(ISNONTEXT($D32)=TRUE,1,DGET(Forespørgsel1[#All],\"\"&$D32&\"\",Kredsudvælgelse!$S$2:$T$3))),IF(ISBLANK(HLOOKUP(L$12,'Statiske ejendomme'!$B$3:$OF$80,'Statiske ejendomme'!$A25,FALSE))=FALSE,HLOOKUP(L$12,'Statiske ejendomme'!$B$3:$OF$80,'Statiske ejendomme'!$A25,FALSE),\"\"))),\"\")","v":754.28724279835387},{"$f":"IFERROR(IF(M$12=Kredsudvælgelse!$Q$20,\"\",IF(Kredsudvælgelse!AD$2=1,IF(ISTEXT(DGET(Forespørgsel1[#All],\"\"&LEFT($F32,LEN($F32)-$C32)&\"\",Kredsudvælgelse!$U$2:$V$3))=TRUE,DGET(Forespørgsel1[#All],\"\"&LEFT($F32,LEN($F32)-$C32)&\"\",Kredsudvælgelse!$U$2:$V$3),DGET(Forespørgsel1[#All],\"\"&LEFT($F32,LEN($F32)-$C32)&\"\",Kredsudvælgelse!$U$2:$V$3)/IF(ISNONTEXT($D32)=TRUE,1,DGET(Forespørgsel1[#All],\"\"&$D32&\"\",Kredsudvælgelse!$U$2:$V$3))),IF(ISBLANK(HLOOKUP(M$12,'Statiske ejendomme'!$B$3:$OF$80,'Statiske ejendomme'!$A25,FALSE))=FALSE,HLOOKUP(M$12,'Statiske ejendomme'!$B$3:$OF$80,'Statiske ejendomme'!$A25,FALSE),\"\"))),\"\")","v":426.13636363636363},{"$f":"IFERROR(IF(N$12=Kredsudvælgelse!$Q$20,\"\",IF(Kredsudvælgelse!AE$2=1,IF(ISTEXT(DGET(Forespørgsel1[#All],\"\"&LEFT($F32,LEN($F32)-$C32)&\"\",Kredsudvælgelse!$W$2:$X$3))=TRUE,DGET(Forespørgsel1[#All],\"\"&LEFT($F32,LEN($F32)-$C32)&\"\",Kredsudvælgelse!$W$2:$X$3),DGET(Forespørgsel1[#All],\"\"&LEFT($F32,LEN($F32)-$C32)&\"\",Kredsudvælgelse!$W$2:$X$3)/IF(ISNONTEXT($D32)=TRUE,1,DGET(Forespørgsel1[#All],\"\"&$D32&\"\",Kredsudvælgelse!$W$2:$X$3))),IF(ISBLANK(HLOOKUP(N$12,'Statiske ejendomme'!$B$3:$OF$80,'Statiske ejendomme'!$A25,FALSE))=FALSE,HLOOKUP(N$12,'Statiske ejendomme'!$B$3:$OF$80,'Statiske ejendomme'!$A25,FALSE),\"\"))),\"\")","v":575.59967974379504},{"$f":"IFERROR(IF(O$12=Kredsudvælgelse!$Q$20,\"\",IF(Kredsudvælgelse!AF$2=1,IF(ISTEXT(DGET(Forespørgsel1[#All],\"\"&LEFT($F32,LEN($F32)-$C32)&\"\",Kredsudvælgelse!$Y$2:$Z$3))=TRUE,DGET(Forespørgsel1[#All],\"\"&LEFT($F32,LEN($F32)-$C32)&\"\",Kredsudvælgelse!$Y$2:$Z$3),DGET(Forespørgsel1[#All],\"\"&LEFT($F32,LEN($F32)-$C32)&\"\",Kredsudvælgelse!$Y$2:$Z$3)/IF(ISNONTEXT($D32)=TRUE,1,DGET(Forespørgsel1[#All],\"\"&$D32&\"\",Kredsudvælgelse!$Y$2:$Z$3))),IF(ISBLANK(HLOOKUP(O$12,'Statiske ejendomme'!$B$3:$OF$80,'Statiske ejendomme'!$A25,FALSE))=FALSE,HLOOKUP(O$12,'Statiske ejendomme'!$B$3:$OF$80,'Statiske ejendomme'!$A25,FALSE),\"\"))),\"\")","v":495.04950495049508},{"$f":"IFERROR(IF(P$12=Kredsudvælgelse!$Q$20,\"\",IF(Kredsudvælgelse!AG$2=1,IF(ISTEXT(DGET(Forespørgsel1[#All],\"\"&LEFT($F32,LEN($F32)-$C32)&\"\",Kredsudvælgelse!$Q$6:$R$7))=TRUE,DGET(Forespørgsel1[#All],\"\"&LEFT($F32,LEN($F32)-$C32)&\"\",Kredsudvælgelse!$Q$6:$R$7),DGET(Forespørgsel1[#All],\"\"&LEFT($F32,LEN($F32)-$C32)&\"\",Kredsudvælgelse!$Q$6:$R$7)/IF(ISNONTEXT($D32)=TRUE,1,DGET(Forespørgsel1[#All],\"\"&$D32&\"\",Kredsudvælgelse!$Q$6:$R$7))),IF(ISBLANK(HLOOKUP(P$12,'Statiske ejendomme'!$B$3:$OF$80,'Statiske ejendomme'!$A25,FALSE))=FALSE,HLOOKUP(P$12,'Statiske ejendomme'!$B$3:$OF$80,'Statiske ejendomme'!$A25,FALSE),\"\"))),\"\")","v":700.63694267515928},{"$f":"IFERROR(IF(Q$12=Kredsudvælgelse!$Q$20,\"\",IF(Kredsudvælgelse!AH$2=1,IF(ISTEXT(DGET(Forespørgsel1[#All],\"\"&LEFT($F32,LEN($F32)-$C32)&\"\",Kredsudvælgelse!$S$6:$T$7))=TRUE,DGET(Forespørgsel1[#All],\"\"&LEFT($F32,LEN($F32)-$C32)&\"\",Kredsudvælgelse!$S$6:$T$7),DGET(Forespørgsel1[#All],\"\"&LEFT($F32,LEN($F32)-$C32)&\"\",Kredsudvælgelse!$S$6:$T$7)/IF(ISNONTEXT($D32)=TRUE,1,DGET(Forespørgsel1[#All],\"\"&$D32&\"\",Kredsudvælgelse!$S$6:$T$7))),IF(ISBLANK(HLOOKUP(Q$12,'Statiske ejendomme'!$B$3:$OF$80,'Statiske ejendomme'!$A25,FALSE))=FALSE,HLOOKUP(Q$12,'Statiske ejendomme'!$B$3:$OF$80,'Statiske ejendomme'!$A25,FALSE),\"\"))),\"\")","v":657.89473684210532},{"$f":"IFERROR(IF(R$12=Kredsudvælgelse!$Q$20,\"\",IF(Kredsudvælgelse!AI$2=1,IF(ISTEXT(DGET(Forespørgsel1[#All],\"\"&LEFT($F32,LEN($F32)-$C32)&\"\",Kredsudvælgelse!$U$6:$V$7))=TRUE,DGET(Forespørgsel1[#All],\"\"&LEFT($F32,LEN($F32)-$C32)&\"\",Kredsudvælgelse!$U$6:$V$7),DGET(Forespørgsel1[#All],\"\"&LEFT($F32,LEN($F32)-$C32)&\"\",Kredsudvælgelse!$U$6:$V$7)/IF(ISNONTEXT($D32)=TRUE,1,DGET(Forespørgsel1[#All],\"\"&$D32&\"\",Kredsudvælgelse!$U$6:$V$7))),IF(ISBLANK(HLOOKUP(R$12,'Statiske ejendomme'!$B$3:$OF$80,'Statiske ejendomme'!$A25,FALSE))=FALSE,HLOOKUP(R$12,'Statiske ejendomme'!$B$3:$OF$80,'Statiske ejendomme'!$A25,FALSE),\"\"))),\"\")","v":525.62988705473504},{"$f":"IFERROR(IF(S$12=Kredsudvælgelse!$Q$20,\"\",IF(Kredsudvælgelse!AJ$2=1,IF(ISTEXT(DGET(Forespørgsel1[#All],\"\"&LEFT($F32,LEN($F32)-$C32)&\"\",Kredsudvælgelse!$W$6:$X$7))=TRUE,DGET(Forespørgsel1[#All],\"\"&LEFT($F32,LEN($F32)-$C32)&\"\",Kredsudvælgelse!$W$6:$X$7),DGET(Forespørgsel1[#All],\"\"&LEFT($F32,LEN($F32)-$C32)&\"\",Kredsudvælgelse!$W$6:$X$7)/IF(ISNONTEXT($D32)=TRUE,1,DGET(Forespørgsel1[#All],\"\"&$D32&\"\",Kredsudvælgelse!$W$6:$X$7))),IF(ISBLANK(HLOOKUP(S$12,'Statiske ejendomme'!$B$3:$OF$80,'Statiske ejendomme'!$A25,FALSE))=FALSE,HLOOKUP(S$12,'Statiske ejendomme'!$B$3:$OF$80,'Statiske ejendomme'!$A25,FALSE),\"\"))),\"\")","v":528.16901408450701},{"$f":"IFERROR(IF(T$12=Kredsudvælgelse!$Q$20,\"\",IF(Kredsudvælgelse!AK$2=1,IF(ISTEXT(DGET(Forespørgsel1[#All],\"\"&LEFT($F32,LEN($F32)-$C32)&\"\",Kredsudvælgelse!$Y$6:$Z$7))=TRUE,DGET(Forespørgsel1[#All],\"\"&LEFT($F32,LEN($F32)-$C32)&\"\",Kredsudvælgelse!$Y$6:$Z$7),DGET(Forespørgsel1[#All],\"\"&LEFT($F32,LEN($F32)-$C32)&\"\",Kredsudvælgelse!$Y$6:$Z$7)/IF(ISNONTEXT($D32)=TRUE,1,DGET(Forespørgsel1[#All],\"\"&$D32&\"\",Kredsudvælgelse!$Y$6:$Z$7))),IF(ISBLANK(HLOOKUP(T$12,'Statiske ejendomme'!$B$3:$OF$80,'Statiske ejendomme'!$A25,FALSE))=FALSE,HLOOKUP(T$12,'Statiske ejendomme'!$B$3:$OF$80,'Statiske ejendomme'!$A25,FALSE),\"\"))),\"\")","v":665.08258706467666}]
[1,{"$f":"Slagtekalve!D105","v":1},{"$f":"Slagtekalve!A24","v":0},{"$f":"Slagtekalve!B24","v":"Antal Producerede kalve"},null,{"$f":"Slagtekalve!C24","v":"Bygninger"},{"$f":"IF(Choices!$A$1=2,Landsgennemsnit!B24,IF(Choices!$A$1=3,Landsgennemsnit!E24,\"\"))","v":462.65363915296012},{"$f":"IF(Choices!$A$1=2,Landsgennemsnit!C24,IF(Choices!$A$1=3,Landsgennemsnit!F24,\"\"))","v":387.34251290877796},{"$f":"IF(OR(Choices!$A$1=2,Choices!$A$1=3),Slagtekalve!F24,\"\")","v":""},{"$f":"IF(OR(Choices!$A$1=2,Choices!$A$1=3),Slagtekalve!G24,\"\")","v":""},{"$f":"IFERROR(IF(K$12=Kredsudvælgelse!$Q$20,\"\",IF(Kredsudvælgelse!AB$2=1,IF(ISTEXT(DGET(Forespørgsel1[#All],\"\"&LEFT($F33,LEN($F33)-$C33)&\"\",Kredsudvælgelse!$Q$2:$R$3))=TRUE,DGET(Forespørgsel1[#All],\"\"&LEFT($F33,LEN($F33)-$C33)&\"\",Kredsudvælgelse!$Q$2:$R$3),DGET(Forespørgsel1[#All],\"\"&LEFT($F33,LEN($F33)-$C33)&\"\",Kredsudvælgelse!$Q$2:$R$3)/IF(ISNONTEXT($D33)=TRUE,1,DGET(Forespørgsel1[#All],\"\"&$D33&\"\",Kredsudvælgelse!$Q$2:$R$3))),IF(ISBLANK(HLOOKUP(K$12,'Statiske ejendomme'!$B$3:$OF$80,'Statiske ejendomme'!$A26,FALSE))=FALSE,HLOOKUP(K$12,'Statiske ejendomme'!$B$3:$OF$80,'Statiske ejendomme'!$A26,FALSE),\"\"))),\"\")","v":293.15044247787608},{"$f":"IFERROR(IF(L$12=Kredsudvælgelse!$Q$20,\"\",IF(Kredsudvælgelse!AC$2=1,IF(ISTEXT(DGET(Forespørgsel1[#All],\"\"&LEFT($F33,LEN($F33)-$C33)&\"\",Kredsudvælgelse!$S$2:$T$3))=TRUE,DGET(Forespørgsel1[#All],\"\"&LEFT($F33,LEN($F33)-$C33)&\"\",Kredsudvælgelse!$S$2:$T$3),DGET(Forespørgsel1[#All],\"\"&LEFT($F33,LEN($F33)-$C33)&\"\",Kredsudvælgelse!$S$2:$T$3)/IF(ISNONTEXT($D33)=TRUE,1,DGET(Forespørgsel1[#All],\"\"&$D33&\"\",Kredsudvælgelse!$S$2:$T$3))),IF(ISBLANK(HLOOKUP(L$12,'Statiske ejendomme'!$B$3:$OF$80,'Statiske ejendomme'!$A26,FALSE))=FALSE,HLOOKUP(L$12,'Statiske ejendomme'!$B$3:$OF$80,'Statiske ejendomme'!$A26,FALSE),\"\"))),\"\")","v":487.51687242798351},{"$f":"IFERROR(IF(M$12=Kredsudvælgelse!$Q$20,\"\",IF(Kredsudvælgelse!AD$2=1,IF(ISTEXT(DGET(Forespørgsel1[#All],\"\"&LEFT($F33,LEN($F33)-$C33)&\"\",Kredsudvælgelse!$U$2:$V$3))=TRUE,DGET(Forespørgsel1[#All],\"\"&LEFT($F33,LEN($F33)-$C33)&\"\",Kredsudvælgelse!$U$2:$V$3),DGET(Forespørgsel1[#All],\"\"&LEFT($F33,LEN($F33)-$C33)&\"\",Kredsudvælgelse!$U$2:$V$3)/IF(ISNONTEXT($D33)=TRUE,1,DGET(Forespørgsel1[#All],\"\"&$D33&\"\",Kredsudvælgelse!$U$2:$V$3))),IF(ISBLANK(HLOOKUP(M$12,'Statiske ejendomme'!$B$3:$OF$80,'Statiske ejendomme'!$A26,FALSE))=FALSE,HLOOKUP(M$12,'Statiske ejendomme'!$B$3:$OF$80,'Statiske ejendomme'!$A26,FALSE),\"\"))),\"\")","v":211.36363636363637},{"$f":"IFERROR(IF(N$12=Kredsudvælgelse!$Q$20,\"\",IF(Kredsudvælgelse!AE$2=1,IF(ISTEXT(DGET(Forespørgsel1[#All],\"\"&LEFT($F33,LEN($F33)-$C33)&\"\",Kredsudvælgelse!$W$2:$X$3))=TRUE,DGET(Forespørgsel1[#All],\"\"&LEFT($F33,LEN($F33)-$C33)&\"\",Kredsudvælgelse!$W$2:$X$3),DGET(Forespørgsel1[#All],\"\"&LEFT($F33,LEN($F33)-$C33)&\"\",Kredsudvælgelse!$W$2:$X$3)/IF(ISNONTEXT($D33)=TRUE,1,DGET(Forespørgsel1[#All],\"\"&$D33&\"\",Kredsudvælgelse!$W$2:$X$3))),IF(ISBLANK(HLOOKUP(N$12,'Statiske ejendomme'!$B$3:$OF$80,'Statiske ejendomme'!$A26,FALSE))=FALSE,HLOOKUP(N$12,'Statiske ejendomme'!$B$3:$OF$80,'Statiske ejendomme'!$A26,FALSE),\"\"))),\"\")","v":431.04963971176943},{"$f":"IFERROR(IF(O$12=Kredsudvælgelse!$Q$20,\"\",IF(Kredsudvælgelse!AF$2=1,IF(ISTEXT(DGET(Forespørgsel1[#All],\"\"&LEFT($F33,LEN($F33)-$C33)&\"\",Kredsudvælgelse!$Y$2:$Z$3))=TRUE,DGET(Forespørgsel1[#All],\"\"&LEFT($F33,LEN($F33)-$C33)&\"\",Kredsudvælgelse!$Y$2:$Z$3),DGET(Forespørgsel1[#All],\"\"&LEFT($F33,LEN($F33)-$C33)&\"\",Kredsudvælgelse!$Y$2:$Z$3)/IF(ISNONTEXT($D33)=TRUE,1,DGET(Forespørgsel1[#All],\"\"&$D33&\"\",Kredsudvælgelse!$Y$2:$Z$3))),IF(ISBLANK(HLOOKUP(O$12,'Statiske ejendomme'!$B$3:$OF$80,'Statiske ejendomme'!$A26,FALSE))=FALSE,HLOOKUP(O$12,'Statiske ejendomme'!$B$3:$OF$80,'Statiske ejendomme'!$A26,FALSE),\"\"))),\"\")","v":840.07673267326732},{"$f":"IFERROR(IF(P$12=Kredsudvælgelse!$Q$20,\"\",IF(Kredsudvælgelse!AG$2=1,IF(ISTEXT(DGET(Forespørgsel1[#All],\"\"&LEFT($F33,LEN($F33)-$C33)&\"\",Kredsudvælgelse!$Q$6:$R$7))=TRUE,DGET(Forespørgsel1[#All],\"\"&LEFT($F33,LEN($F33)-$C33)&\"\",Kredsudvælgelse!$Q$6:$R$7),DGET(Forespørgsel1[#All],\"\"&LEFT($F33,LEN($F33)-$C33)&\"\",Kredsudvælgelse!$Q$6:$R$7)/IF(ISNONTEXT($D33)=TRUE,1,DGET(Forespørgsel1[#All],\"\"&$D33&\"\",Kredsudvælgelse!$Q$6:$R$7))),IF(ISBLANK(HLOOKUP(P$12,'Statiske ejendomme'!$B$3:$OF$80,'Statiske ejendomme'!$A26,FALSE))=FALSE,HLOOKUP(P$12,'Statiske ejendomme'!$B$3:$OF$80,'Statiske ejendomme'!$A26,FALSE),\"\"))),\"\")","v":302.91719745222929},{"$f":"IFERROR(IF(Q$12=Kredsudvælgelse!$Q$20,\"\",IF(Kredsudvælgelse!AH$2=1,IF(ISTEXT(DGET(Forespørgsel1[#All],\"\"&LEFT($F33,LEN($F33)-$C33)&\"\",Kredsudvælgelse!$S$6:$T$7))=TRUE,DGET(Forespørgsel1[#All],\"\"&LEFT($F33,LEN($F33)-$C33)&\"\",Kredsudvælgelse!$S$6:$T$7),DGET(Forespørgsel1[#All],\"\"&LEFT($F33,LEN($F33)-$C33)&\"\",Kredsudvælgelse!$S$6:$T$7)/IF(ISNONTEXT($D33)=TRUE,1,DGET(Forespørgsel1[#All],\"\"&$D33&\"\",Kredsudvælgelse!$S$6:$T$7))),IF(ISBLANK(HLOOKUP(Q$12,'Statiske ejendomme'!$B$3:$OF$80,'Statiske ejendomme'!$A26,FALSE))=FALSE,HLOOKUP(Q$12,'Statiske ejendomme'!$B$3:$OF$80,'Statiske ejendomme'!$A26,FALSE),\"\"))),\"\")","v":980.97368421052636},{"$f":"IFERROR(IF(R$12=Kredsudvælgelse!$Q$20,\"\",IF(Kredsudvælgelse!AI$2=1,IF(ISTEXT(DGET(Forespørgsel1[#All],\"\"&LEFT($F33,LEN($F33)-$C33)&\"\",Kredsudvælgelse!$U$6:$V$7))=TRUE,DGET(Forespørgsel1[#All],\"\"&LEFT($F33,LEN($F33)-$C33)&\"\",Kredsudvælgelse!$U$6:$V$7),DGET(Forespørgsel1[#All],\"\"&LEFT($F33,LEN($F33)-$C33)&\"\",Kredsudvælgelse!$U$6:$V$7)/IF(ISNONTEXT($D33)=TRUE,1,DGET(Forespørgsel1[#All],\"\"&$D33&\"\",Kredsudvælgelse!$U$6:$V$7))),IF(ISBLANK(HLOOKUP(R$12,'Statiske ejendomme'!$B$3:$OF$80,'Statiske ejendomme'!$A26,FALSE))=FALSE,HLOOKUP(R$12,'Statiske ejendomme'!$B$3:$OF$80,'Statiske ejendomme'!$A26,FALSE),\"\"))),\"\")","v":686.75760208514339},{"$f":"IFERROR(IF(S$12=Kredsudvælgelse!$Q$20,\"\",IF(Kredsudvælgelse!AJ$2=1,IF(ISTEXT(DGET(Forespørgsel1[#All],\"\"&LEFT($F33,LEN($F33)-$C33)&\"\",Kredsudvælgelse!$W$6:$X$7))=TRUE,DGET(Forespørgsel1[#All],\"\"&LEFT($F33,LEN($F33)-$C33)&\"\",Kredsudvælgelse!$W$6:$X$7),DGET(Forespørgsel1[#All],\"\"&LEFT($F33,LEN($F33)-$C33)&\"\",Kredsudvælgelse!$W$6:$X$7)/IF(ISNONTEXT($D33)=TRUE,1,DGET(Forespørgsel1[#All],\"\"&$D33&\"\",Kredsudvælgelse!$W$6:$X$7))),IF(ISBLANK(HLOOKUP(S$12,'Statiske ejendomme'!$B$3:$OF$80,'Statiske ejendomme'!$A26,FALSE))=FALSE,HLOOKUP(S$12,'Statiske ejendomme'!$B$3:$OF$80,'Statiske ejendomme'!$A26,FALSE),\"\"))),\"\")","v":467.8098591549296},{"$f":"IFERROR(IF(T$12=Kredsudvælgelse!$Q$20,\"\",IF(Kredsudvælgelse!AK$2=1,IF(ISTEXT(DGET(Forespørgsel1[#All],\"\"&LEFT($F33,LEN($F33)-$C33)&\"\",Kredsudvælgelse!$Y$6:$Z$7))=TRUE,DGET(Forespørgsel1[#All],\"\"&LEFT($F33,LEN($F33)-$C33)&\"\",Kredsudvælgelse!$Y$6:$Z$7),DGET(Forespørgsel1[#All],\"\"&LEFT($F33,LEN($F33)-$C33)&\"\",Kredsudvælgelse!$Y$6:$Z$7)/IF(ISNONTEXT($D33)=TRUE,1,DGET(Forespørgsel1[#All],\"\"&$D33&\"\",Kredsudvælgelse!$Y$6:$Z$7))),IF(ISBLANK(HLOOKUP(T$12,'Statiske ejendomme'!$B$3:$OF$80,'Statiske ejendomme'!$A26,FALSE))=FALSE,HLOOKUP(T$12,'Statiske ejendomme'!$B$3:$OF$80,'Statiske ejendomme'!$A26,FALSE),\"\"))),\"\")","v":361.49950248756221}]
[1,{"$f":"Slagtekalve!D106","v":1},{"$f":"Slagtekalve!A25","v":0},{"$f":"Slagtekalve!B25","v":"Antal Producerede kalve"},null,{"$f":"Slagtekalve!C25","v":"Inventar inkl. energi"},{"$f":"IF(Choices!$A$1=2,Landsgennemsnit!B25,IF(Choices!$A$1=3,Landsgennemsnit!E25,\"\"))","v":344.39811880690104},{"$f":"IF(Choices!$A$1=2,Landsgennemsnit!C25,IF(Choices!$A$1=3,Landsgennemsnit!F25,\"\"))","v":318.18222891566268},{"$f":"IF(OR(Choices!$A$1=2,Choices!$A$1=3),Slagtekalve!F25,\"\")","v":""},{"$f":"IF(OR(Choices!$A$1=2,Choices!$A$1=3),Slagtekalve!G25,\"\")","v":""},{"$f":"IFERROR(IF(K$12=Kredsudvælgelse!$Q$20,\"\",IF(Kredsudvælgelse!AB$2=1,IF(ISTEXT(DGET(Forespørgsel1[#All],\"\"&LEFT($F34,LEN($F34)-$C34)&\"\",Kredsudvælgelse!$Q$2:$R$3))=TRUE,DGET(Forespørgsel1[#All],\"\"&LEFT($F34,LEN($F34)-$C34)&\"\",Kredsudvælgelse!$Q$2:$R$3),DGET(Forespørgsel1[#All],\"\"&LEFT($F34,LEN($F34)-$C34)&\"\",Kredsudvælgelse!$Q$2:$R$3)/IF(ISNONTEXT($D34)=TRUE,1,DGET(Forespørgsel1[#All],\"\"&$D34&\"\",Kredsudvælgelse!$Q$2:$R$3))),IF(ISBLANK(HLOOKUP(K$12,'Statiske ejendomme'!$B$3:$OF$80,'Statiske ejendomme'!$A27,FALSE))=FALSE,HLOOKUP(K$12,'Statiske ejendomme'!$B$3:$OF$80,'Statiske ejendomme'!$A27,FALSE),\"\"))),\"\")","v":160.01179941002951},{"$f":"IFERROR(IF(L$12=Kredsudvælgelse!$Q$20,\"\",IF(Kredsudvælgelse!AC$2=1,IF(ISTEXT(DGET(Forespørgsel1[#All],\"\"&LEFT($F34,LEN($F34)-$C34)&\"\",Kredsudvælgelse!$S$2:$T$3))=TRUE,DGET(Forespørgsel1[#All],\"\"&LEFT($F34,LEN($F34)-$C34)&\"\",Kredsudvælgelse!$S$2:$T$3),DGET(Forespørgsel1[#All],\"\"&LEFT($F34,LEN($F34)-$C34)&\"\",Kredsudvælgelse!$S$2:$T$3)/IF(ISNONTEXT($D34)=TRUE,1,DGET(Forespørgsel1[#All],\"\"&$D34&\"\",Kredsudvælgelse!$S$2:$T$3))),IF(ISBLANK(HLOOKUP(L$12,'Statiske ejendomme'!$B$3:$OF$80,'Statiske ejendomme'!$A27,FALSE))=FALSE,HLOOKUP(L$12,'Statiske ejendomme'!$B$3:$OF$80,'Statiske ejendomme'!$A27,FALSE),\"\"))),\"\")","v":332.87242798353907},{"$f":"IFERROR(IF(M$12=Kredsudvælgelse!$Q$20,\"\",IF(Kredsudvælgelse!AD$2=1,IF(ISTEXT(DGET(Forespørgsel1[#All],\"\"&LEFT($F34,LEN($F34)-$C34)&\"\",Kredsudvælgelse!$U$2:$V$3))=TRUE,DGET(Forespørgsel1[#All],\"\"&LEFT($F34,LEN($F34)-$C34)&\"\",Kredsudvælgelse!$U$2:$V$3),DGET(Forespørgsel1[#All],\"\"&LEFT($F34,LEN($F34)-$C34)&\"\",Kredsudvælgelse!$U$2:$V$3)/IF(ISNONTEXT($D34)=TRUE,1,DGET(Forespørgsel1[#All],\"\"&$D34&\"\",Kredsudvælgelse!$U$2:$V$3))),IF(ISBLANK(HLOOKUP(M$12,'Statiske ejendomme'!$B$3:$OF$80,'Statiske ejendomme'!$A27,FALSE))=FALSE,HLOOKUP(M$12,'Statiske ejendomme'!$B$3:$OF$80,'Statiske ejendomme'!$A27,FALSE),\"\"))),\"\")","v":273.86931818181819},{"$f":"IFERROR(IF(N$12=Kredsudvælgelse!$Q$20,\"\",IF(Kredsudvælgelse!AE$2=1,IF(ISTEXT(DGET(Forespørgsel1[#All],\"\"&LEFT($F34,LEN($F34)-$C34)&\"\",Kredsudvælgelse!$W$2:$X$3))=TRUE,DGET(Forespørgsel1[#All],\"\"&LEFT($F34,LEN($F34)-$C34)&\"\",Kredsudvælgelse!$W$2:$X$3),DGET(Forespørgsel1[#All],\"\"&LEFT($F34,LEN($F34)-$C34)&\"\",Kredsudvælgelse!$W$2:$X$3)/IF(ISNONTEXT($D34)=TRUE,1,DGET(Forespørgsel1[#All],\"\"&$D34&\"\",Kredsudvælgelse!$W$2:$X$3))),IF(ISBLANK(HLOOKUP(N$12,'Statiske ejendomme'!$B$3:$OF$80,'Statiske ejendomme'!$A27,FALSE))=FALSE,HLOOKUP(N$12,'Statiske ejendomme'!$B$3:$OF$80,'Statiske ejendomme'!$A27,FALSE),\"\"))),\"\")","v":260.03442754203365},{"$f":"IFERROR(IF(O$12=Kredsudvælgelse!$Q$20,\"\",IF(Kredsudvælgelse!AF$2=1,IF(ISTEXT(DGET(Forespørgsel1[#All],\"\"&LEFT($F34,LEN($F34)-$C34)&\"\",Kredsudvælgelse!$Y$2:$Z$3))=TRUE,DGET(Forespørgsel1[#All],\"\"&LEFT($F34,LEN($F34)-$C34)&\"\",Kredsudvælgelse!$Y$2:$Z$3),DGET(Forespørgsel1[#All],\"\"&LEFT($F34,LEN($F34)-$C34)&\"\",Kredsudvælgelse!$Y$2:$Z$3)/IF(ISNONTEXT($D34)=TRUE,1,DGET(Forespørgsel1[#All],\"\"&$D34&\"\",Kredsudvælgelse!$Y$2:$Z$3))),IF(ISBLANK(HLOOKUP(O$12,'Statiske ejendomme'!$B$3:$OF$80,'Statiske ejendomme'!$A27,FALSE))=FALSE,HLOOKUP(O$12,'Statiske ejendomme'!$B$3:$OF$80,'Statiske ejendomme'!$A27,FALSE),\"\"))),\"\")","v":551.26732673267327},{"$f":"IFERROR(IF(P$12=Kredsudvælgelse!$Q$20,\"\",IF(Kredsudvælgelse!AG$2=1,IF(ISTEXT(DGET(Forespørgsel1[#All],\"\"&LEFT($F34,LEN($F34)-$C34)&\"\",Kredsudvælgelse!$Q$6:$R$7))=TRUE,DGET(Forespørgsel1[#All],\"\"&LEFT($F34,LEN($F34)-$C34)&\"\",Kredsudvælgelse!$Q$6:$R$7),DGET(Forespørgsel1[#All],\"\"&LEFT($F34,LEN($F34)-$C34)&\"\",Kredsudvælgelse!$Q$6:$R$7)/IF(ISNONTEXT($D34)=TRUE,1,DGET(Forespørgsel1[#All],\"\"&$D34&\"\",Kredsudvælgelse!$Q$6:$R$7))),IF(ISBLANK(HLOOKUP(P$12,'Statiske ejendomme'!$B$3:$OF$80,'Statiske ejendomme'!$A27,FALSE))=FALSE,HLOOKUP(P$12,'Statiske ejendomme'!$B$3:$OF$80,'Statiske ejendomme'!$A27,FALSE),\"\"))),\"\")","v":468.91082802547771},{"$f":"IFERROR(IF(Q$12=Kredsudvælgelse!$Q$20,\"\",IF(Kredsudvælgelse!AH$2=1,IF(ISTEXT(DGET(Forespørgsel1[#All],\"\"&LEFT($F34,LEN($F34)-$C34)&\"\",Kredsudvælgelse!$S$6:$T$7))=TRUE,DGET(Forespørgsel1[#All],\"\"&LEFT($F34,LEN($F34)-$C34)&\"\",Kredsudvælgelse!$S$6:$T$7),DGET(Forespørgsel1[#All],\"\"&LEFT($F34,LEN($F34)-$C34)&\"\",Kredsudvælgelse!$S$6:$T$7)/IF(ISNONTEXT($D34)=TRUE,1,DGET(Forespørgsel1[#All],\"\"&$D34&\"\",Kredsudvælgelse!$S$6:$T$7))),IF(ISBLANK(HLOOKUP(Q$12,'Statiske ejendomme'!$B$3:$OF$80,'Statiske ejendomme'!$A27,FALSE))=FALSE,HLOOKUP(Q$12,'Statiske ejendomme'!$B$3:$OF$80,'Statiske ejendomme'!$A27,FALSE),\"\"))),\"\")","v":523.41228070175441},{"$f":"IFERROR(IF(R$12=Kredsudvælgelse!$Q$20,\"\",IF(Kredsudvælgelse!AI$2=1,IF(ISTEXT(DGET(Forespørgsel1[#All],\"\"&LEFT($F34,LEN($F34)-$C34)&\"\",Kredsudvælgelse!$U$6:$V$7))=TRUE,DGET(Forespørgsel1[#All],\"\"&LEFT($F34,LEN($F34)-$C34)&\"\",Kredsudvælgelse!$U$6:$V$7),DGET(Forespørgsel1[#All],\"\"&LEFT($F34,LEN($F34)-$C34)&\"\",Kredsudvælgelse!$U$6:$V$7)/IF(ISNONTEXT($D34)=TRUE,1,DGET(Forespørgsel1[#All],\"\"&$D34&\"\",Kredsudvælgelse!$U$6:$V$7))),IF(ISBLANK(HLOOKUP(R$12,'Statiske ejendomme'!$B$3:$OF$80,'Statiske ejendomme'!$A27,FALSE))=FALSE,HLOOKUP(R$12,'Statiske ejendomme'!$B$3:$OF$80,'Statiske ejendomme'!$A27,FALSE),\"\"))),\"\")","v":530.78279756733275},{"$f":"IFERROR(IF(S$12=Kredsudvælgelse!$Q$20,\"\",IF(Kredsudvælgelse!AJ$2=1,IF(ISTEXT(DGET(Forespørgsel1[#All],\"\"&LEFT($F34,LEN($F34)-$C34)&\"\",Kredsudvælgelse!$W$6:$X$7))=TRUE,DGET(Forespørgsel1[#All],\"\"&LEFT($F34,LEN($F34)-$C34)&\"\",Kredsudvælgelse!$W$6:$X$7),DGET(Forespørgsel1[#All],\"\"&LEFT($F34,LEN($F34)-$C34)&\"\",Kredsudvælgelse!$W$6:$X$7)/IF(ISNONTEXT($D34)=TRUE,1,DGET(Forespørgsel1[#All],\"\"&$D34&\"\",Kredsudvælgelse!$W$6:$X$7))),IF(ISBLANK(HLOOKUP(S$12,'Statiske ejendomme'!$B$3:$OF$80,'Statiske ejendomme'!$A27,FALSE))=FALSE,HLOOKUP(S$12,'Statiske ejendomme'!$B$3:$OF$80,'Statiske ejendomme'!$A27,FALSE),\"\"))),\"\")","v":348.92253521126759},{"$f":"IFERROR(IF(T$12=Kredsudvælgelse!$Q$20,\"\",IF(Kredsudvælgelse!AK$2=1,IF(ISTEXT(DGET(Forespørgsel1[#All],\"\"&LEFT($F34,LEN($F34)-$C34)&\"\",Kredsudvælgelse!$Y$6:$Z$7))=TRUE,DGET(Forespørgsel1[#All],\"\"&LEFT($F34,LEN($F34)-$C34)&\"\",Kredsudvælgelse!$Y$6:$Z$7),DGET(Forespørgsel1[#All],\"\"&LEFT($F34,LEN($F34)-$C34)&\"\",Kredsudvælgelse!$Y$6:$Z$7)/IF(ISNONTEXT($D34)=TRUE,1,DGET(Forespørgsel1[#All],\"\"&$D34&\"\",Kredsudvælgelse!$Y$6:$Z$7))),IF(ISBLANK(HLOOKUP(T$12,'Statiske ejendomme'!$B$3:$OF$80,'Statiske ejendomme'!$A27,FALSE))=FALSE,HLOOKUP(T$12,'Statiske ejendomme'!$B$3:$OF$80,'Statiske ejendomme'!$A27,FALSE),\"\"))),\"\")","v":401.14726368159205}]
[1,{"$f":"Slagtekalve!D107","v":1},{"$f":"Slagtekalve!A26","v":0},{"$f":"Slagtekalve!B26","v":"Antal Producerede kalve"},null,{"$f":"Slagtekalve!C26","v":"Forrentning driftskapital"},{"$f":"IF(Choices!$A$1=2,Landsgennemsnit!B26,IF(Choices!$A$1=3,Landsgennemsnit!E26,\"\"))","v":81.707358784769383},{"$f":"IF(Choices!$A$1=2,Landsgennemsnit!C26,IF(Choices!$A$1=3,Landsgennemsnit!F26,\"\"))","v":64.059810671256457},{"$f":"IF(OR(Choices!$A$1=2,Choices!$A$1=3),Slagtekalve!F26,\"\")","v":""},{"$f":"IF(OR(Choices!$A$1=2,Choices!$A$1=3),Slagtekalve!G26,\"\")","v":""},{"$f":"IFERROR(IF(K$12=Kredsudvælgelse!$Q$20,\"\",IF(Kredsudvælgelse!AB$2=1,IF(ISTEXT(DGET(Forespørgsel1[#All],\"\"&LEFT($F35,LEN($F35)-$C35)&\"\",Kredsudvælgelse!$Q$2:$R$3))=TRUE,DGET(Forespørgsel1[#All],\"\"&LEFT($F35,LEN($F35)-$C35)&\"\",Kredsudvælgelse!$Q$2:$R$3),DGET(Forespørgsel1[#All],\"\"&LEFT($F35,LEN($F35)-$C35)&\"\",Kredsudvælgelse!$Q$2:$R$3)/IF(ISNONTEXT($D35)=TRUE,1,DGET(Forespørgsel1[#All],\"\"&$D35&\"\",Kredsudvælgelse!$Q$2:$R$3))),IF(ISBLANK(HLOOKUP(K$12,'Statiske ejendomme'!$B$3:$OF$80,'Statiske ejendomme'!$A28,FALSE))=FALSE,HLOOKUP(K$12,'Statiske ejendomme'!$B$3:$OF$80,'Statiske ejendomme'!$A28,FALSE),\"\"))),\"\")","v":68.097345132743357},{"$f":"IFERROR(IF(L$12=Kredsudvælgelse!$Q$20,\"\",IF(Kredsudvælgelse!AC$2=1,IF(ISTEXT(DGET(Forespørgsel1[#All],\"\"&LEFT($F35,LEN($F35)-$C35)&\"\",Kredsudvælgelse!$S$2:$T$3))=TRUE,DGET(Forespørgsel1[#All],\"\"&LEFT($F35,LEN($F35)-$C35)&\"\",Kredsudvælgelse!$S$2:$T$3),DGET(Forespørgsel1[#All],\"\"&LEFT($F35,LEN($F35)-$C35)&\"\",Kredsudvælgelse!$S$2:$T$3)/IF(ISNONTEXT($D35)=TRUE,1,DGET(Forespørgsel1[#All],\"\"&$D35&\"\",Kredsudvælgelse!$S$2:$T$3))),IF(ISBLANK(HLOOKUP(L$12,'Statiske ejendomme'!$B$3:$OF$80,'Statiske ejendomme'!$A28,FALSE))=FALSE,HLOOKUP(L$12,'Statiske ejendomme'!$B$3:$OF$80,'Statiske ejendomme'!$A28,FALSE),\"\"))),\"\")","v":65.394238683127568},{"$f":"IFERROR(IF(M$12=Kredsudvælgelse!$Q$20,\"\",IF(Kredsudvælgelse!AD$2=1,IF(ISTEXT(DGET(Forespørgsel1[#All],\"\"&LEFT($F35,LEN($F35)-$C35)&\"\",Kredsudvælgelse!$U$2:$V$3))=TRUE,DGET(Forespørgsel1[#All],\"\"&LEFT($F35,LEN($F35)-$C35)&\"\",Kredsudvælgelse!$U$2:$V$3),DGET(Forespørgsel1[#All],\"\"&LEFT($F35,LEN($F35)-$C35)&\"\",Kredsudvælgelse!$U$2:$V$3)/IF(ISNONTEXT($D35)=TRUE,1,DGET(Forespørgsel1[#All],\"\"&$D35&\"\",Kredsudvælgelse!$U$2:$V$3))),IF(ISBLANK(HLOOKUP(M$12,'Statiske ejendomme'!$B$3:$OF$80,'Statiske ejendomme'!$A28,FALSE))=FALSE,HLOOKUP(M$12,'Statiske ejendomme'!$B$3:$OF$80,'Statiske ejendomme'!$A28,FALSE),\"\"))),\"\")","v":82.914772727272734},{"$f":"IFERROR(IF(N$12=Kredsudvælgelse!$Q$20,\"\",IF(Kredsudvælgelse!AE$2=1,IF(ISTEXT(DGET(Forespørgsel1[#All],\"\"&LEFT($F35,LEN($F35)-$C35)&\"\",Kredsudvælgelse!$W$2:$X$3))=TRUE,DGET(Forespørgsel1[#All],\"\"&LEFT($F35,LEN($F35)-$C35)&\"\",Kredsudvælgelse!$W$2:$X$3),DGET(Forespørgsel1[#All],\"\"&LEFT($F35,LEN($F35)-$C35)&\"\",Kredsudvælgelse!$W$2:$X$3)/IF(ISNONTEXT($D35)=TRUE,1,DGET(Forespørgsel1[#All],\"\"&$D35&\"\",Kredsudvælgelse!$W$2:$X$3))),IF(ISBLANK(HLOOKUP(N$12,'Statiske ejendomme'!$B$3:$OF$80,'Statiske ejendomme'!$A28,FALSE))=FALSE,HLOOKUP(N$12,'Statiske ejendomme'!$B$3:$OF$80,'Statiske ejendomme'!$A28,FALSE),\"\"))),\"\")","v":78.0408326661329},{"$f":"IFERROR(IF(O$12=Kredsudvælgelse!$Q$20,\"\",IF(Kredsudvælgelse!AF$2=1,IF(ISTEXT(DGET(Forespørgsel1[#All],\"\"&LEFT($F35,LEN($F35)-$C35)&\"\",Kredsudvælgelse!$Y$2:$Z$3))=TRUE,DGET(Forespørgsel1[#All],\"\"&LEFT($F35,LEN($F35)-$C35)&\"\",Kredsudvælgelse!$Y$2:$Z$3),DGET(Forespørgsel1[#All],\"\"&LEFT($F35,LEN($F35)-$C35)&\"\",Kredsudvælgelse!$Y$2:$Z$3)/IF(ISNONTEXT($D35)=TRUE,1,DGET(Forespørgsel1[#All],\"\"&$D35&\"\",Kredsudvælgelse!$Y$2:$Z$3))),IF(ISBLANK(HLOOKUP(O$12,'Statiske ejendomme'!$B$3:$OF$80,'Statiske ejendomme'!$A28,FALSE))=FALSE,HLOOKUP(O$12,'Statiske ejendomme'!$B$3:$OF$80,'Statiske ejendomme'!$A28,FALSE),\"\"))),\"\")","v":55.534653465346537},{"$f":"IFERROR(IF(P$12=Kredsudvælgelse!$Q$20,\"\",IF(Kredsudvælgelse!AG$2=1,IF(ISTEXT(DGET(Forespørgsel1[#All],\"\"&LEFT($F35,LEN($F35)-$C35)&\"\",Kredsudvælgelse!$Q$6:$R$7))=TRUE,DGET(Forespørgsel1[#All],\"\"&LEFT($F35,LEN($F35)-$C35)&\"\",Kredsudvælgelse!$Q$6:$R$7),DGET(Forespørgsel1[#All],\"\"&LEFT($F35,LEN($F35)-$C35)&\"\",Kredsudvælgelse!$Q$6:$R$7)/IF(ISNONTEXT($D35)=TRUE,1,DGET(Forespørgsel1[#All],\"\"&$D35&\"\",Kredsudvælgelse!$Q$6:$R$7))),IF(ISBLANK(HLOOKUP(P$12,'Statiske ejendomme'!$B$3:$OF$80,'Statiske ejendomme'!$A28,FALSE))=FALSE,HLOOKUP(P$12,'Statiske ejendomme'!$B$3:$OF$80,'Statiske ejendomme'!$A28,FALSE),\"\"))),\"\")","v":115.8407643312102},{"$f":"IFERROR(IF(Q$12=Kredsudvælgelse!$Q$20,\"\",IF(Kredsudvælgelse!AH$2=1,IF(ISTEXT(DGET(Forespørgsel1[#All],\"\"&LEFT($F35,LEN($F35)-$C35)&\"\",Kredsudvælgelse!$S$6:$T$7))=TRUE,DGET(Forespørgsel1[#All],\"\"&LEFT($F35,LEN($F35)-$C35)&\"\",Kredsudvælgelse!$S$6:$T$7),DGET(Forespørgsel1[#All],\"\"&LEFT($F35,LEN($F35)-$C35)&\"\",Kredsudvælgelse!$S$6:$T$7)/IF(ISNONTEXT($D35)=TRUE,1,DGET(Forespørgsel1[#All],\"\"&$D35&\"\",Kredsudvælgelse!$S$6:$T$7))),IF(ISBLANK(HLOOKUP(Q$12,'Statiske ejendomme'!$B$3:$OF$80,'Statiske ejendomme'!$A28,FALSE))=FALSE,HLOOKUP(Q$12,'Statiske ejendomme'!$B$3:$OF$80,'Statiske ejendomme'!$A28,FALSE),\"\"))),\"\")","v":85.096491228070178},{"$f":"IFERROR(IF(R$12=Kredsudvælgelse!$Q$20,\"\",IF(Kredsudvælgelse!AI$2=1,IF(ISTEXT(DGET(Forespørgsel1[#All],\"\"&LEFT($F35,LEN($F35)-$C35)&\"\",Kredsudvælgelse!$U$6:$V$7))=TRUE,DGET(Forespørgsel1[#All],\"\"&LEFT($F35,LEN($F35)-$C35)&\"\",Kredsudvælgelse!$U$6:$V$7),DGET(Forespørgsel1[#All],\"\"&LEFT($F35,LEN($F35)-$C35)&\"\",Kredsudvælgelse!$U$6:$V$7)/IF(ISNONTEXT($D35)=TRUE,1,DGET(Forespørgsel1[#All],\"\"&$D35&\"\",Kredsudvælgelse!$U$6:$V$7))),IF(ISBLANK(HLOOKUP(R$12,'Statiske ejendomme'!$B$3:$OF$80,'Statiske ejendomme'!$A28,FALSE))=FALSE,HLOOKUP(R$12,'Statiske ejendomme'!$B$3:$OF$80,'Statiske ejendomme'!$A28,FALSE),\"\"))),\"\")","v":98.072980017376196},{"$f":"IFERROR(IF(S$12=Kredsudvælgelse!$Q$20,\"\",IF(Kredsudvælgelse!AJ$2=1,IF(ISTEXT(DGET(Forespørgsel1[#All],\"\"&LEFT($F35,LEN($F35)-$C35)&\"\",Kredsudvælgelse!$W$6:$X$7))=TRUE,DGET(Forespørgsel1[#All],\"\"&LEFT($F35,LEN($F35)-$C35)&\"\",Kredsudvælgelse!$W$6:$X$7),DGET(Forespørgsel1[#All],\"\"&LEFT($F35,LEN($F35)-$C35)&\"\",Kredsudvælgelse!$W$6:$X$7)/IF(ISNONTEXT($D35)=TRUE,1,DGET(Forespørgsel1[#All],\"\"&$D35&\"\",Kredsudvælgelse!$W$6:$X$7))),IF(ISBLANK(HLOOKUP(S$12,'Statiske ejendomme'!$B$3:$OF$80,'Statiske ejendomme'!$A28,FALSE))=FALSE,HLOOKUP(S$12,'Statiske ejendomme'!$B$3:$OF$80,'Statiske ejendomme'!$A28,FALSE),\"\"))),\"\")","v":50.007042253521128},{"$f":"IFERROR(IF(T$12=Kredsudvælgelse!$Q$20,\"\",IF(Kredsudvælgelse!AK$2=1,IF(ISTEXT(DGET(Forespørgsel1[#All],\"\"&LEFT($F35,LEN($F35)-$C35)&\"\",Kredsudvælgelse!$Y$6:$Z$7))=TRUE,DGET(Forespørgsel1[#All],\"\"&LEFT($F35,LEN($F35)-$C35)&\"\",Kredsudvælgelse!$Y$6:$Z$7),DGET(Forespørgsel1[#All],\"\"&LEFT($F35,LEN($F35)-$C35)&\"\",Kredsudvælgelse!$Y$6:$Z$7)/IF(ISNONTEXT($D35)=TRUE,1,DGET(Forespørgsel1[#All],\"\"&$D35&\"\",Kredsudvælgelse!$Y$6:$Z$7))),IF(ISBLANK(HLOOKUP(T$12,'Statiske ejendomme'!$B$3:$OF$80,'Statiske ejendomme'!$A28,FALSE))=FALSE,HLOOKUP(T$12,'Statiske ejendomme'!$B$3:$OF$80,'Statiske ejendomme'!$A28,FALSE),\"\"))),\"\")","v":93.870646766169159}]
[1,{"$f":"Slagtekalve!D108","v":1},{"$f":"Slagtekalve!A27","v":0},{"$f":"Slagtekalve!B27","v":"Antal Producerede kalve"},null,{"$f":"Slagtekalve!C27","v":"Øvrige omkostninger"},{"$f":"IF(Choices!$A$1=2,Landsgennemsnit!B27,IF(Choices!$A$1=3,Landsgennemsnit!E27,\"\"))","v":139.59136864342841},{"$f":"IF(Choices!$A$1=2,Landsgennemsnit!C27,IF(Choices!$A$1=3,Landsgennemsnit!F27,\"\"))","v":91.793244406196209},{"$f":"IF(OR(Choices!$A$1=2,Choices!$A$1=3),Slagtekalve!F27,\"\")","v":""},{"$f":"IF(OR(Choices!$A$1=2,Choices!$A$1=3),Slagtekalve!G27,\"\")","v":""},{"$f":"IFERROR(IF(K$12=Kredsudvælgelse!$Q$20,\"\",IF(Kredsudvælgelse!AB$2=1,IF(ISTEXT(DGET(Forespørgsel1[#All],\"\"&LEFT($F36,LEN($F36)-$C36)&\"\",Kredsudvælgelse!$Q$2:$R$3))=TRUE,DGET(Forespørgsel1[#All],\"\"&LEFT($F36,LEN($F36)-$C36)&\"\",Kredsudvælgelse!$Q$2:$R$3),DGET(Forespørgsel1[#All],\"\"&LEFT($F36,LEN($F36)-$C36)&\"\",Kredsudvælgelse!$Q$2:$R$3)/IF(ISNONTEXT($D36)=TRUE,1,DGET(Forespørgsel1[#All],\"\"&$D36&\"\",Kredsudvælgelse!$Q$2:$R$3))),IF(ISBLANK(HLOOKUP(K$12,'Statiske ejendomme'!$B$3:$OF$80,'Statiske ejendomme'!$A29,FALSE))=FALSE,HLOOKUP(K$12,'Statiske ejendomme'!$B$3:$OF$80,'Statiske ejendomme'!$A29,FALSE),\"\"))),\"\")","v":117.36283185840708},{"$f":"IFERROR(IF(L$12=Kredsudvælgelse!$Q$20,\"\",IF(Kredsudvælgelse!AC$2=1,IF(ISTEXT(DGET(Forespørgsel1[#All],\"\"&LEFT($F36,LEN($F36)-$C36)&\"\",Kredsudvælgelse!$S$2:$T$3))=TRUE,DGET(Forespørgsel1[#All],\"\"&LEFT($F36,LEN($F36)-$C36)&\"\",Kredsudvælgelse!$S$2:$T$3),DGET(Forespørgsel1[#All],\"\"&LEFT($F36,LEN($F36)-$C36)&\"\",Kredsudvælgelse!$S$2:$T$3)/IF(ISNONTEXT($D36)=TRUE,1,DGET(Forespørgsel1[#All],\"\"&$D36&\"\",Kredsudvælgelse!$S$2:$T$3))),IF(ISBLANK(HLOOKUP(L$12,'Statiske ejendomme'!$B$3:$OF$80,'Statiske ejendomme'!$A29,FALSE))=FALSE,HLOOKUP(L$12,'Statiske ejendomme'!$B$3:$OF$80,'Statiske ejendomme'!$A29,FALSE),\"\"))),\"\")","v":68.967078189300409},{"$f":"IFERROR(IF(M$12=Kredsudvælgelse!$Q$20,\"\",IF(Kredsudvælgelse!AD$2=1,IF(ISTEXT(DGET(Forespørgsel1[#All],\"\"&LEFT($F36,LEN($F36)-$C36)&\"\",Kredsudvælgelse!$U$2:$V$3))=TRUE,DGET(Forespørgsel1[#All],\"\"&LEFT($F36,LEN($F36)-$C36)&\"\",Kredsudvælgelse!$U$2:$V$3),DGET(Forespørgsel1[#All],\"\"&LEFT($F36,LEN($F36)-$C36)&\"\",Kredsudvælgelse!$U$2:$V$3)/IF(ISNONTEXT($D36)=TRUE,1,DGET(Forespørgsel1[#All],\"\"&$D36&\"\",Kredsudvælgelse!$U$2:$V$3))),IF(ISBLANK(HLOOKUP(M$12,'Statiske ejendomme'!$B$3:$OF$80,'Statiske ejendomme'!$A29,FALSE))=FALSE,HLOOKUP(M$12,'Statiske ejendomme'!$B$3:$OF$80,'Statiske ejendomme'!$A29,FALSE),\"\"))),\"\")","v":107.375},{"$f":"IFERROR(IF(N$12=Kredsudvælgelse!$Q$20,\"\",IF(Kredsudvælgelse!AE$2=1,IF(ISTEXT(DGET(Forespørgsel1[#All],\"\"&LEFT($F36,LEN($F36)-$C36)&\"\",Kredsudvælgelse!$W$2:$X$3))=TRUE,DGET(Forespørgsel1[#All],\"\"&LEFT($F36,LEN($F36)-$C36)&\"\",Kredsudvælgelse!$W$2:$X$3),DGET(Forespørgsel1[#All],\"\"&LEFT($F36,LEN($F36)-$C36)&\"\",Kredsudvælgelse!$W$2:$X$3)/IF(ISNONTEXT($D36)=TRUE,1,DGET(Forespørgsel1[#All],\"\"&$D36&\"\",Kredsudvælgelse!$W$2:$X$3))),IF(ISBLANK(HLOOKUP(N$12,'Statiske ejendomme'!$B$3:$OF$80,'Statiske ejendomme'!$A29,FALSE))=FALSE,HLOOKUP(N$12,'Statiske ejendomme'!$B$3:$OF$80,'Statiske ejendomme'!$A29,FALSE),\"\"))),\"\")","v":199.78142514011208},{"$f":"IFERROR(IF(O$12=Kredsudvælgelse!$Q$20,\"\",IF(Kredsudvælgelse!AF$2=1,IF(ISTEXT(DGET(Forespørgsel1[#All],\"\"&LEFT($F36,LEN($F36)-$C36)&\"\",Kredsudvælgelse!$Y$2:$Z$3))=TRUE,DGET(Forespørgsel1[#All],\"\"&LEFT($F36,LEN($F36)-$C36)&\"\",Kredsudvælgelse!$Y$2:$Z$3),DGET(Forespørgsel1[#All],\"\"&LEFT($F36,LEN($F36)-$C36)&\"\",Kredsudvælgelse!$Y$2:$Z$3)/IF(ISNONTEXT($D36)=TRUE,1,DGET(Forespørgsel1[#All],\"\"&$D36&\"\",Kredsudvælgelse!$Y$2:$Z$3))),IF(ISBLANK(HLOOKUP(O$12,'Statiske ejendomme'!$B$3:$OF$80,'Statiske ejendomme'!$A29,FALSE))=FALSE,HLOOKUP(O$12,'Statiske ejendomme'!$B$3:$OF$80,'Statiske ejendomme'!$A29,FALSE),\"\"))),\"\")","v":155.6881188118812},{"$f":"IFERROR(IF(P$12=Kredsudvælgelse!$Q$20,\"\",IF(Kredsudvælgelse!AG$2=1,IF(ISTEXT(DGET(Forespørgsel1[#All],\"\"&LEFT($F36,LEN($F36)-$C36)&\"\",Kredsudvælgelse!$Q$6:$R$7))=TRUE,DGET(Forespørgsel1[#All],\"\"&LEFT($F36,LEN($F36)-$C36)&\"\",Kredsudvælgelse!$Q$6:$R$7),DGET(Forespørgsel1[#All],\"\"&LEFT($F36,LEN($F36)-$C36)&\"\",Kredsudvælgelse!$Q$6:$R$7)/IF(ISNONTEXT($D36)=TRUE,1,DGET(Forespørgsel1[#All],\"\"&$D36&\"\",Kredsudvælgelse!$Q$6:$R$7))),IF(ISBLANK(HLOOKUP(P$12,'Statiske ejendomme'!$B$3:$OF$80,'Statiske ejendomme'!$A29,FALSE))=FALSE,HLOOKUP(P$12,'Statiske ejendomme'!$B$3:$OF$80,'Statiske ejendomme'!$A29,FALSE),\"\"))),\"\")","v":284.81528662420385},{"$f":"IFERROR(IF(Q$12=Kredsudvælgelse!$Q$20,\"\",IF(Kredsudvælgelse!AH$2=1,IF(ISTEXT(DGET(Forespørgsel1[#All],\"\"&LEFT($F36,LEN($F36)-$C36)&\"\",Kredsudvælgelse!$S$6:$T$7))=TRUE,DGET(Forespørgsel1[#All],\"\"&LEFT($F36,LEN($F36)-$C36)&\"\",Kredsudvælgelse!$S$6:$T$7),DGET(Forespørgsel1[#All],\"\"&LEFT($F36,LEN($F36)-$C36)&\"\",Kredsudvælgelse!$S$6:$T$7)/IF(ISNONTEXT($D36)=TRUE,1,DGET(Forespørgsel1[#All],\"\"&$D36&\"\",Kredsudvælgelse!$S$6:$T$7))),IF(ISBLANK(HLOOKUP(Q$12,'Statiske ejendomme'!$B$3:$OF$80,'Statiske ejendomme'!$A29,FALSE))=FALSE,HLOOKUP(Q$12,'Statiske ejendomme'!$B$3:$OF$80,'Statiske ejendomme'!$A29,FALSE),\"\"))),\"\")","v":114.03508771929825},{"$f":"IFERROR(IF(R$12=Kredsudvælgelse!$Q$20,\"\",IF(Kredsudvælgelse!AI$2=1,IF(ISTEXT(DGET(Forespørgsel1[#All],\"\"&LEFT($F36,LEN($F36)-$C36)&\"\",Kredsudvælgelse!$U$6:$V$7))=TRUE,DGET(Forespørgsel1[#All],\"\"&LEFT($F36,LEN($F36)-$C36)&\"\",Kredsudvælgelse!$U$6:$V$7),DGET(Forespørgsel1[#All],\"\"&LEFT($F36,LEN($F36)-$C36)&\"\",Kredsudvælgelse!$U$6:$V$7)/IF(ISNONTEXT($D36)=TRUE,1,DGET(Forespørgsel1[#All],\"\"&$D36&\"\",Kredsudvælgelse!$U$6:$V$7))),IF(ISBLANK(HLOOKUP(R$12,'Statiske ejendomme'!$B$3:$OF$80,'Statiske ejendomme'!$A29,FALSE))=FALSE,HLOOKUP(R$12,'Statiske ejendomme'!$B$3:$OF$80,'Statiske ejendomme'!$A29,FALSE),\"\"))),\"\")","v":164.80538662033015},{"$f":"IFERROR(IF(S$12=Kredsudvælgelse!$Q$20,\"\",IF(Kredsudvælgelse!AJ$2=1,IF(ISTEXT(DGET(Forespørgsel1[#All],\"\"&LEFT($F36,LEN($F36)-$C36)&\"\",Kredsudvælgelse!$W$6:$X$7))=TRUE,DGET(Forespørgsel1[#All],\"\"&LEFT($F36,LEN($F36)-$C36)&\"\",Kredsudvælgelse!$W$6:$X$7),DGET(Forespørgsel1[#All],\"\"&LEFT($F36,LEN($F36)-$C36)&\"\",Kredsudvælgelse!$W$6:$X$7)/IF(ISNONTEXT($D36)=TRUE,1,DGET(Forespørgsel1[#All],\"\"&$D36&\"\",Kredsudvælgelse!$W$6:$X$7))),IF(ISBLANK(HLOOKUP(S$12,'Statiske ejendomme'!$B$3:$OF$80,'Statiske ejendomme'!$A29,FALSE))=FALSE,HLOOKUP(S$12,'Statiske ejendomme'!$B$3:$OF$80,'Statiske ejendomme'!$A29,FALSE),\"\"))),\"\")","v":281.6901408450704},{"$f":"IFERROR(IF(T$12=Kredsudvælgelse!$Q$20,\"\",IF(Kredsudvælgelse!AK$2=1,IF(ISTEXT(DGET(Forespørgsel1[#All],\"\"&LEFT($F36,LEN($F36)-$C36)&\"\",Kredsudvælgelse!$Y$6:$Z$7))=TRUE,DGET(Forespørgsel1[#All],\"\"&LEFT($F36,LEN($F36)-$C36)&\"\",Kredsudvælgelse!$Y$6:$Z$7),DGET(Forespørgsel1[#All],\"\"&LEFT($F36,LEN($F36)-$C36)&\"\",Kredsudvælgelse!$Y$6:$Z$7)/IF(ISNONTEXT($D36)=TRUE,1,DGET(Forespørgsel1[#All],\"\"&$D36&\"\",Kredsudvælgelse!$Y$6:$Z$7))),IF(ISBLANK(HLOOKUP(T$12,'Statiske ejendomme'!$B$3:$OF$80,'Statiske ejendomme'!$A29,FALSE))=FALSE,HLOOKUP(T$12,'Statiske ejendomme'!$B$3:$OF$80,'Statiske ejendomme'!$A29,FALSE),\"\"))),\"\")","v":145.29850746268656}]
[1,{"$f":"Slagtekalve!D109","v":9},{"$f":"Slagtekalve!A28","v":0},{"$f":"Slagtekalve!B28","v":0},null,{"$f":"Slagtekalve!C28","v":0},{"$f":"IF(Choices!$A$1=2,Landsgennemsnit!B28,IF(Choices!$A$1=3,Landsgennemsnit!E28,\"\"))","v":""},{"$f":"IF(Choices!$A$1=2,Landsgennemsnit!C28,IF(Choices!$A$1=3,Landsgennemsnit!F28,\"\"))","v":""},{"$f":"IF(OR(Choices!$A$1=2,Choices!$A$1=3),Slagtekalve!F28,\"\")","v":""},{"$f":"IF(OR(Choices!$A$1=2,Choices!$A$1=3),Slagtekalve!G28,\"\")","v":""},{"$f":"IFERROR(IF(K$12=Kredsudvælgelse!$Q$20,\"\",IF(Kredsudvælgelse!AB$2=1,IF(ISTEXT(DGET(Forespørgsel1[#All],\"\"&LEFT($F37,LEN($F37)-$C37)&\"\",Kredsudvælgelse!$Q$2:$R$3))=TRUE,DGET(Forespørgsel1[#All],\"\"&LEFT($F37,LEN($F37)-$C37)&\"\",Kredsudvælgelse!$Q$2:$R$3),DGET(Forespørgsel1[#All],\"\"&LEFT($F37,LEN($F37)-$C37)&\"\",Kredsudvælgelse!$Q$2:$R$3)/IF(ISNONTEXT($D37)=TRUE,1,DGET(Forespørgsel1[#All],\"\"&$D37&\"\",Kredsudvælgelse!$Q$2:$R$3))),IF(ISBLANK(HLOOKUP(K$12,'Statiske ejendomme'!$B$3:$OF$80,'Statiske ejendomme'!$A30,FALSE))=FALSE,HLOOKUP(K$12,'Statiske ejendomme'!$B$3:$OF$80,'Statiske ejendomme'!$A30,FALSE),\"\"))),\"\")","v":""},{"$f":"IFERROR(IF(L$12=Kredsudvælgelse!$Q$20,\"\",IF(Kredsudvælgelse!AC$2=1,IF(ISTEXT(DGET(Forespørgsel1[#All],\"\"&LEFT($F37,LEN($F37)-$C37)&\"\",Kredsudvælgelse!$S$2:$T$3))=TRUE,DGET(Forespørgsel1[#All],\"\"&LEFT($F37,LEN($F37)-$C37)&\"\",Kredsudvælgelse!$S$2:$T$3),DGET(Forespørgsel1[#All],\"\"&LEFT($F37,LEN($F37)-$C37)&\"\",Kredsudvælgelse!$S$2:$T$3)/IF(ISNONTEXT($D37)=TRUE,1,DGET(Forespørgsel1[#All],\"\"&$D37&\"\",Kredsudvælgelse!$S$2:$T$3))),IF(ISBLANK(HLOOKUP(L$12,'Statiske ejendomme'!$B$3:$OF$80,'Statiske ejendomme'!$A30,FALSE))=FALSE,HLOOKUP(L$12,'Statiske ejendomme'!$B$3:$OF$80,'Statiske ejendomme'!$A30,FALSE),\"\"))),\"\")","v":""},{"$f":"IFERROR(IF(M$12=Kredsudvælgelse!$Q$20,\"\",IF(Kredsudvælgelse!AD$2=1,IF(ISTEXT(DGET(Forespørgsel1[#All],\"\"&LEFT($F37,LEN($F37)-$C37)&\"\",Kredsudvælgelse!$U$2:$V$3))=TRUE,DGET(Forespørgsel1[#All],\"\"&LEFT($F37,LEN($F37)-$C37)&\"\",Kredsudvælgelse!$U$2:$V$3),DGET(Forespørgsel1[#All],\"\"&LEFT($F37,LEN($F37)-$C37)&\"\",Kredsudvælgelse!$U$2:$V$3)/IF(ISNONTEXT($D37)=TRUE,1,DGET(Forespørgsel1[#All],\"\"&$D37&\"\",Kredsudvælgelse!$U$2:$V$3))),IF(ISBLANK(HLOOKUP(M$12,'Statiske ejendomme'!$B$3:$OF$80,'Statiske ejendomme'!$A30,FALSE))=FALSE,HLOOKUP(M$12,'Statiske ejendomme'!$B$3:$OF$80,'Statiske ejendomme'!$A30,FALSE),\"\"))),\"\")","v":""},{"$f":"IFERROR(IF(N$12=Kredsudvælgelse!$Q$20,\"\",IF(Kredsudvælgelse!AE$2=1,IF(ISTEXT(DGET(Forespørgsel1[#All],\"\"&LEFT($F37,LEN($F37)-$C37)&\"\",Kredsudvælgelse!$W$2:$X$3))=TRUE,DGET(Forespørgsel1[#All],\"\"&LEFT($F37,LEN($F37)-$C37)&\"\",Kredsudvælgelse!$W$2:$X$3),DGET(Forespørgsel1[#All],\"\"&LEFT($F37,LEN($F37)-$C37)&\"\",Kredsudvælgelse!$W$2:$X$3)/IF(ISNONTEXT($D37)=TRUE,1,DGET(Forespørgsel1[#All],\"\"&$D37&\"\",Kredsudvælgelse!$W$2:$X$3))),IF(ISBLANK(HLOOKUP(N$12,'Statiske ejendomme'!$B$3:$OF$80,'Statiske ejendomme'!$A30,FALSE))=FALSE,HLOOKUP(N$12,'Statiske ejendomme'!$B$3:$OF$80,'Statiske ejendomme'!$A30,FALSE),\"\"))),\"\")","v":""},{"$f":"IFERROR(IF(O$12=Kredsudvælgelse!$Q$20,\"\",IF(Kredsudvælgelse!AF$2=1,IF(ISTEXT(DGET(Forespørgsel1[#All],\"\"&LEFT($F37,LEN($F37)-$C37)&\"\",Kredsudvælgelse!$Y$2:$Z$3))=TRUE,DGET(Forespørgsel1[#All],\"\"&LEFT($F37,LEN($F37)-$C37)&\"\",Kredsudvælgelse!$Y$2:$Z$3),DGET(Forespørgsel1[#All],\"\"&LEFT($F37,LEN($F37)-$C37)&\"\",Kredsudvælgelse!$Y$2:$Z$3)/IF(ISNONTEXT($D37)=TRUE,1,DGET(Forespørgsel1[#All],\"\"&$D37&\"\",Kredsudvælgelse!$Y$2:$Z$3))),IF(ISBLANK(HLOOKUP(O$12,'Statiske ejendomme'!$B$3:$OF$80,'Statiske ejendomme'!$A30,FALSE))=FALSE,HLOOKUP(O$12,'Statiske ejendomme'!$B$3:$OF$80,'Statiske ejendomme'!$A30,FALSE),\"\"))),\"\")","v":""},{"$f":"IFERROR(IF(P$12=Kredsudvælgelse!$Q$20,\"\",IF(Kredsudvælgelse!AG$2=1,IF(ISTEXT(DGET(Forespørgsel1[#All],\"\"&LEFT($F37,LEN($F37)-$C37)&\"\",Kredsudvælgelse!$Q$6:$R$7))=TRUE,DGET(Forespørgsel1[#All],\"\"&LEFT($F37,LEN($F37)-$C37)&\"\",Kredsudvælgelse!$Q$6:$R$7),DGET(Forespørgsel1[#All],\"\"&LEFT($F37,LEN($F37)-$C37)&\"\",Kredsudvælgelse!$Q$6:$R$7)/IF(ISNONTEXT($D37)=TRUE,1,DGET(Forespørgsel1[#All],\"\"&$D37&\"\",Kredsudvælgelse!$Q$6:$R$7))),IF(ISBLANK(HLOOKUP(P$12,'Statiske ejendomme'!$B$3:$OF$80,'Statiske ejendomme'!$A30,FALSE))=FALSE,HLOOKUP(P$12,'Statiske ejendomme'!$B$3:$OF$80,'Statiske ejendomme'!$A30,FALSE),\"\"))),\"\")","v":""},{"$f":"IFERROR(IF(Q$12=Kredsudvælgelse!$Q$20,\"\",IF(Kredsudvælgelse!AH$2=1,IF(ISTEXT(DGET(Forespørgsel1[#All],\"\"&LEFT($F37,LEN($F37)-$C37)&\"\",Kredsudvælgelse!$S$6:$T$7))=TRUE,DGET(Forespørgsel1[#All],\"\"&LEFT($F37,LEN($F37)-$C37)&\"\",Kredsudvælgelse!$S$6:$T$7),DGET(Forespørgsel1[#All],\"\"&LEFT($F37,LEN($F37)-$C37)&\"\",Kredsudvælgelse!$S$6:$T$7)/IF(ISNONTEXT($D37)=TRUE,1,DGET(Forespørgsel1[#All],\"\"&$D37&\"\",Kredsudvælgelse!$S$6:$T$7))),IF(ISBLANK(HLOOKUP(Q$12,'Statiske ejendomme'!$B$3:$OF$80,'Statiske ejendomme'!$A30,FALSE))=FALSE,HLOOKUP(Q$12,'Statiske ejendomme'!$B$3:$OF$80,'Statiske ejendomme'!$A30,FALSE),\"\"))),\"\")","v":""},{"$f":"IFERROR(IF(R$12=Kredsudvælgelse!$Q$20,\"\",IF(Kredsudvælgelse!AI$2=1,IF(ISTEXT(DGET(Forespørgsel1[#All],\"\"&LEFT($F37,LEN($F37)-$C37)&\"\",Kredsudvælgelse!$U$6:$V$7))=TRUE,DGET(Forespørgsel1[#All],\"\"&LEFT($F37,LEN($F37)-$C37)&\"\",Kredsudvælgelse!$U$6:$V$7),DGET(Forespørgsel1[#All],\"\"&LEFT($F37,LEN($F37)-$C37)&\"\",Kredsudvælgelse!$U$6:$V$7)/IF(ISNONTEXT($D37)=TRUE,1,DGET(Forespørgsel1[#All],\"\"&$D37&\"\",Kredsudvælgelse!$U$6:$V$7))),IF(ISBLANK(HLOOKUP(R$12,'Statiske ejendomme'!$B$3:$OF$80,'Statiske ejendomme'!$A30,FALSE))=FALSE,HLOOKUP(R$12,'Statiske ejendomme'!$B$3:$OF$80,'Statiske ejendomme'!$A30,FALSE),\"\"))),\"\")","v":""},{"$f":"IFERROR(IF(S$12=Kredsudvælgelse!$Q$20,\"\",IF(Kredsudvælgelse!AJ$2=1,IF(ISTEXT(DGET(Forespørgsel1[#All],\"\"&LEFT($F37,LEN($F37)-$C37)&\"\",Kredsudvælgelse!$W$6:$X$7))=TRUE,DGET(Forespørgsel1[#All],\"\"&LEFT($F37,LEN($F37)-$C37)&\"\",Kredsudvælgelse!$W$6:$X$7),DGET(Forespørgsel1[#All],\"\"&LEFT($F37,LEN($F37)-$C37)&\"\",Kredsudvælgelse!$W$6:$X$7)/IF(ISNONTEXT($D37)=TRUE,1,DGET(Forespørgsel1[#All],\"\"&$D37&\"\",Kredsudvælgelse!$W$6:$X$7))),IF(ISBLANK(HLOOKUP(S$12,'Statiske ejendomme'!$B$3:$OF$80,'Statiske ejendomme'!$A30,FALSE))=FALSE,HLOOKUP(S$12,'Statiske ejendomme'!$B$3:$OF$80,'Statiske ejendomme'!$A30,FALSE),\"\"))),\"\")","v":""},{"$f":"IFERROR(IF(T$12=Kredsudvælgelse!$Q$20,\"\",IF(Kredsudvælgelse!AK$2=1,IF(ISTEXT(DGET(Forespørgsel1[#All],\"\"&LEFT($F37,LEN($F37)-$C37)&\"\",Kredsudvælgelse!$Y$6:$Z$7))=TRUE,DGET(Forespørgsel1[#All],\"\"&LEFT($F37,LEN($F37)-$C37)&\"\",Kredsudvælgelse!$Y$6:$Z$7),DGET(Forespørgsel1[#All],\"\"&LEFT($F37,LEN($F37)-$C37)&\"\",Kredsudvælgelse!$Y$6:$Z$7)/IF(ISNONTEXT($D37)=TRUE,1,DGET(Forespørgsel1[#All],\"\"&$D37&\"\",Kredsudvælgelse!$Y$6:$Z$7))),IF(ISBLANK(HLOOKUP(T$12,'Statiske ejendomme'!$B$3:$OF$80,'Statiske ejendomme'!$A30,FALSE))=FALSE,HLOOKUP(T$12,'Statiske ejendomme'!$B$3:$OF$80,'Statiske ejendomme'!$A30,FALSE),\"\"))),\"\")","v":""}]
[1,{"$f":"Slagtekalve!D110","v":1},{"$f":"Slagtekalve!A29","v":0},{"$f":"Slagtekalve!B29","v":"Antal Producerede kalve"},null,{"$f":"Slagtekalve!C29","v":"Bundet kapital"},{"$f":"IF(Choices!$A$1=2,Landsgennemsnit!B29,IF(Choices!$A$1=3,Landsgennemsnit!E29,\"\"))","v":7346.9254061666916},{"$f":"IF(Choices!$A$1=2,Landsgennemsnit!C29,IF(Choices!$A$1=3,Landsgennemsnit!F29,\"\"))","v":8466.6454388984512},{"$f":"IF(OR(Choices!$A$1=2,Choices!$A$1=3),Slagtekalve!F29,\"\")","v":""},{"$f":"IF(OR(Choices!$A$1=2,Choices!$A$1=3),Slagtekalve!G29,\"\")","v":""},{"$f":"IFERROR(IF(K$12=Kredsudvælgelse!$Q$20,\"\",IF(Kredsudvælgelse!AB$2=1,IF(ISTEXT(DGET(Forespørgsel1[#All],\"\"&LEFT($F38,LEN($F38)-$C38)&\"\",Kredsudvælgelse!$Q$2:$R$3))=TRUE,DGET(Forespørgsel1[#All],\"\"&LEFT($F38,LEN($F38)-$C38)&\"\",Kredsudvælgelse!$Q$2:$R$3),DGET(Forespørgsel1[#All],\"\"&LEFT($F38,LEN($F38)-$C38)&\"\",Kredsudvælgelse!$Q$2:$R$3)/IF(ISNONTEXT($D38)=TRUE,1,DGET(Forespørgsel1[#All],\"\"&$D38&\"\",Kredsudvælgelse!$Q$2:$R$3))),IF(ISBLANK(HLOOKUP(K$12,'Statiske ejendomme'!$B$3:$OF$80,'Statiske ejendomme'!$A31,FALSE))=FALSE,HLOOKUP(K$12,'Statiske ejendomme'!$B$3:$OF$80,'Statiske ejendomme'!$A31,FALSE),\"\"))),\"\")","v":7347.3628318584069},{"$f":"IFERROR(IF(L$12=Kredsudvælgelse!$Q$20,\"\",IF(Kredsudvælgelse!AC$2=1,IF(ISTEXT(DGET(Forespørgsel1[#All],\"\"&LEFT($F38,LEN($F38)-$C38)&\"\",Kredsudvælgelse!$S$2:$T$3))=TRUE,DGET(Forespørgsel1[#All],\"\"&LEFT($F38,LEN($F38)-$C38)&\"\",Kredsudvælgelse!$S$2:$T$3),DGET(Forespørgsel1[#All],\"\"&LEFT($F38,LEN($F38)-$C38)&\"\",Kredsudvælgelse!$S$2:$T$3)/IF(ISNONTEXT($D38)=TRUE,1,DGET(Forespørgsel1[#All],\"\"&$D38&\"\",Kredsudvælgelse!$S$2:$T$3))),IF(ISBLANK(HLOOKUP(L$12,'Statiske ejendomme'!$B$3:$OF$80,'Statiske ejendomme'!$A31,FALSE))=FALSE,HLOOKUP(L$12,'Statiske ejendomme'!$B$3:$OF$80,'Statiske ejendomme'!$A31,FALSE),\"\"))),\"\")","v":9616.3292181069955},{"$f":"IFERROR(IF(M$12=Kredsudvælgelse!$Q$20,\"\",IF(Kredsudvælgelse!AD$2=1,IF(ISTEXT(DGET(Forespørgsel1[#All],\"\"&LEFT($F38,LEN($F38)-$C38)&\"\",Kredsudvælgelse!$U$2:$V$3))=TRUE,DGET(Forespørgsel1[#All],\"\"&LEFT($F38,LEN($F38)-$C38)&\"\",Kredsudvælgelse!$U$2:$V$3),DGET(Forespørgsel1[#All],\"\"&LEFT($F38,LEN($F38)-$C38)&\"\",Kredsudvælgelse!$U$2:$V$3)/IF(ISNONTEXT($D38)=TRUE,1,DGET(Forespørgsel1[#All],\"\"&$D38&\"\",Kredsudvælgelse!$U$2:$V$3))),IF(ISBLANK(HLOOKUP(M$12,'Statiske ejendomme'!$B$3:$OF$80,'Statiske ejendomme'!$A31,FALSE))=FALSE,HLOOKUP(M$12,'Statiske ejendomme'!$B$3:$OF$80,'Statiske ejendomme'!$A31,FALSE),\"\"))),\"\")","v":5362.784090909091},{"$f":"IFERROR(IF(N$12=Kredsudvælgelse!$Q$20,\"\",IF(Kredsudvælgelse!AE$2=1,IF(ISTEXT(DGET(Forespørgsel1[#All],\"\"&LEFT($F38,LEN($F38)-$C38)&\"\",Kredsudvælgelse!$W$2:$X$3))=TRUE,DGET(Forespørgsel1[#All],\"\"&LEFT($F38,LEN($F38)-$C38)&\"\",Kredsudvælgelse!$W$2:$X$3),DGET(Forespørgsel1[#All],\"\"&LEFT($F38,LEN($F38)-$C38)&\"\",Kredsudvælgelse!$W$2:$X$3)/IF(ISNONTEXT($D38)=TRUE,1,DGET(Forespørgsel1[#All],\"\"&$D38&\"\",Kredsudvælgelse!$W$2:$X$3))),IF(ISBLANK(HLOOKUP(N$12,'Statiske ejendomme'!$B$3:$OF$80,'Statiske ejendomme'!$A31,FALSE))=FALSE,HLOOKUP(N$12,'Statiske ejendomme'!$B$3:$OF$80,'Statiske ejendomme'!$A31,FALSE),\"\"))),\"\")","v":8437.4755804643719},{"$f":"IFERROR(IF(O$12=Kredsudvælgelse!$Q$20,\"\",IF(Kredsudvælgelse!AF$2=1,IF(ISTEXT(DGET(Forespørgsel1[#All],\"\"&LEFT($F38,LEN($F38)-$C38)&\"\",Kredsudvælgelse!$Y$2:$Z$3))=TRUE,DGET(Forespørgsel1[#All],\"\"&LEFT($F38,LEN($F38)-$C38)&\"\",Kredsudvælgelse!$Y$2:$Z$3),DGET(Forespørgsel1[#All],\"\"&LEFT($F38,LEN($F38)-$C38)&\"\",Kredsudvælgelse!$Y$2:$Z$3)/IF(ISNONTEXT($D38)=TRUE,1,DGET(Forespørgsel1[#All],\"\"&$D38&\"\",Kredsudvælgelse!$Y$2:$Z$3))),IF(ISBLANK(HLOOKUP(O$12,'Statiske ejendomme'!$B$3:$OF$80,'Statiske ejendomme'!$A31,FALSE))=FALSE,HLOOKUP(O$12,'Statiske ejendomme'!$B$3:$OF$80,'Statiske ejendomme'!$A31,FALSE),\"\"))),\"\")","v":7404.3638613861385},{"$f":"IFERROR(IF(P$12=Kredsudvælgelse!$Q$20,\"\",IF(Kredsudvælgelse!AG$2=1,IF(ISTEXT(DGET(Forespørgsel1[#All],\"\"&LEFT($F38,LEN($F38)-$C38)&\"\",Kredsudvælgelse!$Q$6:$R$7))=TRUE,DGET(Forespørgsel1[#All],\"\"&LEFT($F38,LEN($F38)-$C38)&\"\",Kredsudvælgelse!$Q$6:$R$7),DGET(Forespørgsel1[#All],\"\"&LEFT($F38,LEN($F38)-$C38)&\"\",Kredsudvælgelse!$Q$6:$R$7)/IF(ISNONTEXT($D38)=TRUE,1,DGET(Forespørgsel1[#All],\"\"&$D38&\"\",Kredsudvælgelse!$Q$6:$R$7))),IF(ISBLANK(HLOOKUP(P$12,'Statiske ejendomme'!$B$3:$OF$80,'Statiske ejendomme'!$A31,FALSE))=FALSE,HLOOKUP(P$12,'Statiske ejendomme'!$B$3:$OF$80,'Statiske ejendomme'!$A31,FALSE),\"\"))),\"\")","v":9235.7261146496821},{"$f":"IFERROR(IF(Q$12=Kredsudvælgelse!$Q$20,\"\",IF(Kredsudvælgelse!AH$2=1,IF(ISTEXT(DGET(Forespørgsel1[#All],\"\"&LEFT($F38,LEN($F38)-$C38)&\"\",Kredsudvælgelse!$S$6:$T$7))=TRUE,DGET(Forespørgsel1[#All],\"\"&LEFT($F38,LEN($F38)-$C38)&\"\",Kredsudvælgelse!$S$6:$T$7),DGET(Forespørgsel1[#All],\"\"&LEFT($F38,LEN($F38)-$C38)&\"\",Kredsudvælgelse!$S$6:$T$7)/IF(ISNONTEXT($D38)=TRUE,1,DGET(Forespørgsel1[#All],\"\"&$D38&\"\",Kredsudvælgelse!$S$6:$T$7))),IF(ISBLANK(HLOOKUP(Q$12,'Statiske ejendomme'!$B$3:$OF$80,'Statiske ejendomme'!$A31,FALSE))=FALSE,HLOOKUP(Q$12,'Statiske ejendomme'!$B$3:$OF$80,'Statiske ejendomme'!$A31,FALSE),\"\"))),\"\")","v":14293.921052631578},{"$f":"IFERROR(IF(R$12=Kredsudvælgelse!$Q$20,\"\",IF(Kredsudvælgelse!AI$2=1,IF(ISTEXT(DGET(Forespørgsel1[#All],\"\"&LEFT($F38,LEN($F38)-$C38)&\"\",Kredsudvælgelse!$U$6:$V$7))=TRUE,DGET(Forespørgsel1[#All],\"\"&LEFT($F38,LEN($F38)-$C38)&\"\",Kredsudvælgelse!$U$6:$V$7),DGET(Forespørgsel1[#All],\"\"&LEFT($F38,LEN($F38)-$C38)&\"\",Kredsudvælgelse!$U$6:$V$7)/IF(ISNONTEXT($D38)=TRUE,1,DGET(Forespørgsel1[#All],\"\"&$D38&\"\",Kredsudvælgelse!$U$6:$V$7))),IF(ISBLANK(HLOOKUP(R$12,'Statiske ejendomme'!$B$3:$OF$80,'Statiske ejendomme'!$A31,FALSE))=FALSE,HLOOKUP(R$12,'Statiske ejendomme'!$B$3:$OF$80,'Statiske ejendomme'!$A31,FALSE),\"\"))),\"\")","v":10511.320590790618},{"$f":"IFERROR(IF(S$12=Kredsudvælgelse!$Q$20,\"\",IF(Kredsudvælgelse!AJ$2=1,IF(ISTEXT(DGET(Forespørgsel1[#All],\"\"&LEFT($F38,LEN($F38)-$C38)&\"\",Kredsudvælgelse!$W$6:$X$7))=TRUE,DGET(Forespørgsel1[#All],\"\"&LEFT($F38,LEN($F38)-$C38)&\"\",Kredsudvælgelse!$W$6:$X$7),DGET(Forespørgsel1[#All],\"\"&LEFT($F38,LEN($F38)-$C38)&\"\",Kredsudvælgelse!$W$6:$X$7)/IF(ISNONTEXT($D38)=TRUE,1,DGET(Forespørgsel1[#All],\"\"&$D38&\"\",Kredsudvælgelse!$W$6:$X$7))),IF(ISBLANK(HLOOKUP(S$12,'Statiske ejendomme'!$B$3:$OF$80,'Statiske ejendomme'!$A31,FALSE))=FALSE,HLOOKUP(S$12,'Statiske ejendomme'!$B$3:$OF$80,'Statiske ejendomme'!$A31,FALSE),\"\"))),\"\")","v":5702.9929577464791},{"$f":"IFERROR(IF(T$12=Kredsudvælgelse!$Q$20,\"\",IF(Kredsudvælgelse!AK$2=1,IF(ISTEXT(DGET(Forespørgsel1[#All],\"\"&LEFT($F38,LEN($F38)-$C38)&\"\",Kredsudvælgelse!$Y$6:$Z$7))=TRUE,DGET(Forespørgsel1[#All],\"\"&LEFT($F38,LEN($F38)-$C38)&\"\",Kredsudvælgelse!$Y$6:$Z$7),DGET(Forespørgsel1[#All],\"\"&LEFT($F38,LEN($F38)-$C38)&\"\",Kredsudvælgelse!$Y$6:$Z$7)/IF(ISNONTEXT($D38)=TRUE,1,DGET(Forespørgsel1[#All],\"\"&$D38&\"\",Kredsudvælgelse!$Y$6:$Z$7))),IF(ISBLANK(HLOOKUP(T$12,'Statiske ejendomme'!$B$3:$OF$80,'Statiske ejendomme'!$A31,FALSE))=FALSE,HLOOKUP(T$12,'Statiske ejendomme'!$B$3:$OF$80,'Statiske ejendomme'!$A31,FALSE),\"\"))),\"\")","v":7490.4885572139301}]
[1,{"$f":"Slagtekalve!D111","v":1},{"$f":"Slagtekalve!A30","v":0},{"$f":"Slagtekalve!B30","v":"Antal Producerede kalve"},null,{"$f":"Slagtekalve!C30","v":"Anvendt rentesats, pct."},{"$f":"IF(Choices!$A$1=2,Landsgennemsnit!B30,IF(Choices!$A$1=3,Landsgennemsnit!E30,\"\"))","v":2.6111111111111112},{"$f":"IF(Choices!$A$1=2,Landsgennemsnit!C30,IF(Choices!$A$1=3,Landsgennemsnit!F30,\"\"))","v":2.1399999999999997},{"$f":"IF(OR(Choices!$A$1=2,Choices!$A$1=3),Slagtekalve!F30,\"\")","v":""},{"$f":"IF(OR(Choices!$A$1=2,Choices!$A$1=3),Slagtekalve!G30,\"\")","v":""},{"$f":"IFERROR(IF(K$12=Kredsudvælgelse!$Q$20,\"\",IF(Kredsudvælgelse!AB$2=1,IF(ISTEXT(DGET(Forespørgsel1[#All],\"\"&LEFT($F39,LEN($F39)-$C39)&\"\",Kredsudvælgelse!$Q$2:$R$3))=TRUE,DGET(Forespørgsel1[#All],\"\"&LEFT($F39,LEN($F39)-$C39)&\"\",Kredsudvælgelse!$Q$2:$R$3),DGET(Forespørgsel1[#All],\"\"&LEFT($F39,LEN($F39)-$C39)&\"\",Kredsudvælgelse!$Q$2:$R$3)/IF(ISNONTEXT($D39)=TRUE,1,DGET(Forespørgsel1[#All],\"\"&$D39&\"\",Kredsudvælgelse!$Q$2:$R$3))),IF(ISBLANK(HLOOKUP(K$12,'Statiske ejendomme'!$B$3:$OF$80,'Statiske ejendomme'!$A32,FALSE))=FALSE,HLOOKUP(K$12,'Statiske ejendomme'!$B$3:$OF$80,'Statiske ejendomme'!$A32,FALSE),\"\"))),\"\")","v":1.9},{"$f":"IFERROR(IF(L$12=Kredsudvælgelse!$Q$20,\"\",IF(Kredsudvælgelse!AC$2=1,IF(ISTEXT(DGET(Forespørgsel1[#All],\"\"&LEFT($F39,LEN($F39)-$C39)&\"\",Kredsudvælgelse!$S$2:$T$3))=TRUE,DGET(Forespørgsel1[#All],\"\"&LEFT($F39,LEN($F39)-$C39)&\"\",Kredsudvælgelse!$S$2:$T$3),DGET(Forespørgsel1[#All],\"\"&LEFT($F39,LEN($F39)-$C39)&\"\",Kredsudvælgelse!$S$2:$T$3)/IF(ISNONTEXT($D39)=TRUE,1,DGET(Forespørgsel1[#All],\"\"&$D39&\"\",Kredsudvælgelse!$S$2:$T$3))),IF(ISBLANK(HLOOKUP(L$12,'Statiske ejendomme'!$B$3:$OF$80,'Statiske ejendomme'!$A32,FALSE))=FALSE,HLOOKUP(L$12,'Statiske ejendomme'!$B$3:$OF$80,'Statiske ejendomme'!$A32,FALSE),\"\"))),\"\")","v":2.2999999999999998},{"$f":"IFERROR(IF(M$12=Kredsudvælgelse!$Q$20,\"\",IF(Kredsudvælgelse!AD$2=1,IF(ISTEXT(DGET(Forespørgsel1[#All],\"\"&LEFT($F39,LEN($F39)-$C39)&\"\",Kredsudvælgelse!$U$2:$V$3))=TRUE,DGET(Forespørgsel1[#All],\"\"&LEFT($F39,LEN($F39)-$C39)&\"\",Kredsudvælgelse!$U$2:$V$3),DGET(Forespørgsel1[#All],\"\"&LEFT($F39,LEN($F39)-$C39)&\"\",Kredsudvælgelse!$U$2:$V$3)/IF(ISNONTEXT($D39)=TRUE,1,DGET(Forespørgsel1[#All],\"\"&$D39&\"\",Kredsudvælgelse!$U$2:$V$3))),IF(ISBLANK(HLOOKUP(M$12,'Statiske ejendomme'!$B$3:$OF$80,'Statiske ejendomme'!$A32,FALSE))=FALSE,HLOOKUP(M$12,'Statiske ejendomme'!$B$3:$OF$80,'Statiske ejendomme'!$A32,FALSE),\"\"))),\"\")","v":3.4},{"$f":"IFERROR(IF(N$12=Kredsudvælgelse!$Q$20,\"\",IF(Kredsudvælgelse!AE$2=1,IF(ISTEXT(DGET(Forespørgsel1[#All],\"\"&LEFT($F39,LEN($F39)-$C39)&\"\",Kredsudvælgelse!$W$2:$X$3))=TRUE,DGET(Forespørgsel1[#All],\"\"&LEFT($F39,LEN($F39)-$C39)&\"\",Kredsudvælgelse!$W$2:$X$3),DGET(Forespørgsel1[#All],\"\"&LEFT($F39,LEN($F39)-$C39)&\"\",Kredsudvælgelse!$W$2:$X$3)/IF(ISNONTEXT($D39)=TRUE,1,DGET(Forespørgsel1[#All],\"\"&$D39&\"\",Kredsudvælgelse!$W$2:$X$3))),IF(ISBLANK(HLOOKUP(N$12,'Statiske ejendomme'!$B$3:$OF$80,'Statiske ejendomme'!$A32,FALSE))=FALSE,HLOOKUP(N$12,'Statiske ejendomme'!$B$3:$OF$80,'Statiske ejendomme'!$A32,FALSE),\"\"))),\"\")","v":1.8},{"$f":"IFERROR(IF(O$12=Kredsudvælgelse!$Q$20,\"\",IF(Kredsudvælgelse!AF$2=1,IF(ISTEXT(DGET(Forespørgsel1[#All],\"\"&LEFT($F39,LEN($F39)-$C39)&\"\",Kredsudvælgelse!$Y$2:$Z$3))=TRUE,DGET(Forespørgsel1[#All],\"\"&LEFT($F39,LEN($F39)-$C39)&\"\",Kredsudvælgelse!$Y$2:$Z$3),DGET(Forespørgsel1[#All],\"\"&LEFT($F39,LEN($F39)-$C39)&\"\",Kredsudvælgelse!$Y$2:$Z$3)/IF(ISNONTEXT($D39)=TRUE,1,DGET(Forespørgsel1[#All],\"\"&$D39&\"\",Kredsudvælgelse!$Y$2:$Z$3))),IF(ISBLANK(HLOOKUP(O$12,'Statiske ejendomme'!$B$3:$OF$80,'Statiske ejendomme'!$A32,FALSE))=FALSE,HLOOKUP(O$12,'Statiske ejendomme'!$B$3:$OF$80,'Statiske ejendomme'!$A32,FALSE),\"\"))),\"\")","v":1.8},{"$f":"IFERROR(IF(P$12=Kredsudvælgelse!$Q$20,\"\",IF(Kredsudvælgelse!AG$2=1,IF(ISTEXT(DGET(Forespørgsel1[#All],\"\"&LEFT($F39,LEN($F39)-$C39)&\"\",Kredsudvælgelse!$Q$6:$R$7))=TRUE,DGET(Forespørgsel1[#All],\"\"&LEFT($F39,LEN($F39)-$C39)&\"\",Kredsudvælgelse!$Q$6:$R$7),DGET(Forespørgsel1[#All],\"\"&LEFT($F39,LEN($F39)-$C39)&\"\",Kredsudvælgelse!$Q$6:$R$7)/IF(ISNONTEXT($D39)=TRUE,1,DGET(Forespørgsel1[#All],\"\"&$D39&\"\",Kredsudvælgelse!$Q$6:$R$7))),IF(ISBLANK(HLOOKUP(P$12,'Statiske ejendomme'!$B$3:$OF$80,'Statiske ejendomme'!$A32,FALSE))=FALSE,HLOOKUP(P$12,'Statiske ejendomme'!$B$3:$OF$80,'Statiske ejendomme'!$A32,FALSE),\"\"))),\"\")","v":2.4},{"$f":"IFERROR(IF(Q$12=Kredsudvælgelse!$Q$20,\"\",IF(Kredsudvælgelse!AH$2=1,IF(ISTEXT(DGET(Forespørgsel1[#All],\"\"&LEFT($F39,LEN($F39)-$C39)&\"\",Kredsudvælgelse!$S$6:$T$7))=TRUE,DGET(Forespørgsel1[#All],\"\"&LEFT($F39,LEN($F39)-$C39)&\"\",Kredsudvælgelse!$S$6:$T$7),DGET(Forespørgsel1[#All],\"\"&LEFT($F39,LEN($F39)-$C39)&\"\",Kredsudvælgelse!$S$6:$T$7)/IF(ISNONTEXT($D39)=TRUE,1,DGET(Forespørgsel1[#All],\"\"&$D39&\"\",Kredsudvælgelse!$S$6:$T$7))),IF(ISBLANK(HLOOKUP(Q$12,'Statiske ejendomme'!$B$3:$OF$80,'Statiske ejendomme'!$A32,FALSE))=FALSE,HLOOKUP(Q$12,'Statiske ejendomme'!$B$3:$OF$80,'Statiske ejendomme'!$A32,FALSE),\"\"))),\"\")","v":2.9},{"$f":"IFERROR(IF(R$12=Kredsudvælgelse!$Q$20,\"\",IF(Kredsudvælgelse!AI$2=1,IF(ISTEXT(DGET(Forespørgsel1[#All],\"\"&LEFT($F39,LEN($F39)-$C39)&\"\",Kredsudvælgelse!$U$6:$V$7))=TRUE,DGET(Forespørgsel1[#All],\"\"&LEFT($F39,LEN($F39)-$C39)&\"\",Kredsudvælgelse!$U$6:$V$7),DGET(Forespørgsel1[#All],\"\"&LEFT($F39,LEN($F39)-$C39)&\"\",Kredsudvælgelse!$U$6:$V$7)/IF(ISNONTEXT($D39)=TRUE,1,DGET(Forespørgsel1[#All],\"\"&$D39&\"\",Kredsudvælgelse!$U$6:$V$7))),IF(ISBLANK(HLOOKUP(R$12,'Statiske ejendomme'!$B$3:$OF$80,'Statiske ejendomme'!$A32,FALSE))=FALSE,HLOOKUP(R$12,'Statiske ejendomme'!$B$3:$OF$80,'Statiske ejendomme'!$A32,FALSE),\"\"))),\"\")","v":3.9},{"$f":"IFERROR(IF(S$12=Kredsudvælgelse!$Q$20,\"\",IF(Kredsudvælgelse!AJ$2=1,IF(ISTEXT(DGET(Forespørgsel1[#All],\"\"&LEFT($F39,LEN($F39)-$C39)&\"\",Kredsudvælgelse!$W$6:$X$7))=TRUE,DGET(Forespørgsel1[#All],\"\"&LEFT($F39,LEN($F39)-$C39)&\"\",Kredsudvælgelse!$W$6:$X$7),DGET(Forespørgsel1[#All],\"\"&LEFT($F39,LEN($F39)-$C39)&\"\",Kredsudvælgelse!$W$6:$X$7)/IF(ISNONTEXT($D39)=TRUE,1,DGET(Forespørgsel1[#All],\"\"&$D39&\"\",Kredsudvælgelse!$W$6:$X$7))),IF(ISBLANK(HLOOKUP(S$12,'Statiske ejendomme'!$B$3:$OF$80,'Statiske ejendomme'!$A32,FALSE))=FALSE,HLOOKUP(S$12,'Statiske ejendomme'!$B$3:$OF$80,'Statiske ejendomme'!$A32,FALSE),\"\"))),\"\")","v":1.5},{"$f":"IFERROR(IF(T$12=Kredsudvælgelse!$Q$20,\"\",IF(Kredsudvælgelse!AK$2=1,IF(ISTEXT(DGET(Forespørgsel1[#All],\"\"&LEFT($F39,LEN($F39)-$C39)&\"\",Kredsudvælgelse!$Y$6:$Z$7))=TRUE,DGET(Forespørgsel1[#All],\"\"&LEFT($F39,LEN($F39)-$C39)&\"\",Kredsudvælgelse!$Y$6:$Z$7),DGET(Forespørgsel1[#All],\"\"&LEFT($F39,LEN($F39)-$C39)&\"\",Kredsudvælgelse!$Y$6:$Z$7)/IF(ISNONTEXT($D39)=TRUE,1,DGET(Forespørgsel1[#All],\"\"&$D39&\"\",Kredsudvælgelse!$Y$6:$Z$7))),IF(ISBLANK(HLOOKUP(T$12,'Statiske ejendomme'!$B$3:$OF$80,'Statiske ejendomme'!$A32,FALSE))=FALSE,HLOOKUP(T$12,'Statiske ejendomme'!$B$3:$OF$80,'Statiske ejendomme'!$A32,FALSE),\"\"))),\"\")","v":3.3}]
[1,{"$f":"Slagtekalve!D112","v":1},{"$f":"Slagtekalve!A31","v":0},{"$f":"Slagtekalve!B31","v":"Antal Producerede kalve"},null,{"$f":"Slagtekalve!C31","v":"Resultatkorrektion ved 4 pct. rente"},{"$f":"IF(Choices!$A$1=2,Landsgennemsnit!B31,IF(Choices!$A$1=3,Landsgennemsnit!E31,\"\"))","v":-108.83064232181479},{"$f":"IF(Choices!$A$1=2,Landsgennemsnit!C31,IF(Choices!$A$1=3,Landsgennemsnit!F31,\"\"))","v":-146.6540447504303},{"$f":"IF(OR(Choices!$A$1=2,Choices!$A$1=3),Slagtekalve!F31,\"\")","v":""},{"$f":"IF(OR(Choices!$A$1=2,Choices!$A$1=3),Slagtekalve!G31,\"\")","v":""},{"$f":"IFERROR(IF(K$12=Kredsudvælgelse!$Q$20,\"\",IF(Kredsudvælgelse!AB$2=1,IF(ISTEXT(DGET(Forespørgsel1[#All],\"\"&LEFT($F40,LEN($F40)-$C40)&\"\",Kredsudvælgelse!$Q$2:$R$3))=TRUE,DGET(Forespørgsel1[#All],\"\"&LEFT($F40,LEN($F40)-$C40)&\"\",Kredsudvælgelse!$Q$2:$R$3),DGET(Forespørgsel1[#All],\"\"&LEFT($F40,LEN($F40)-$C40)&\"\",Kredsudvælgelse!$Q$2:$R$3)/IF(ISNONTEXT($D40)=TRUE,1,DGET(Forespørgsel1[#All],\"\"&$D40&\"\",Kredsudvælgelse!$Q$2:$R$3))),IF(ISBLANK(HLOOKUP(K$12,'Statiske ejendomme'!$B$3:$OF$80,'Statiske ejendomme'!$A33,FALSE))=FALSE,HLOOKUP(K$12,'Statiske ejendomme'!$B$3:$OF$80,'Statiske ejendomme'!$A33,FALSE),\"\"))),\"\")","v":-154.29498525073745},{"$f":"IFERROR(IF(L$12=Kredsudvælgelse!$Q$20,\"\",IF(Kredsudvælgelse!AC$2=1,IF(ISTEXT(DGET(Forespørgsel1[#All],\"\"&LEFT($F40,LEN($F40)-$C40)&\"\",Kredsudvælgelse!$S$2:$T$3))=TRUE,DGET(Forespørgsel1[#All],\"\"&LEFT($F40,LEN($F40)-$C40)&\"\",Kredsudvælgelse!$S$2:$T$3),DGET(Forespørgsel1[#All],\"\"&LEFT($F40,LEN($F40)-$C40)&\"\",Kredsudvælgelse!$S$2:$T$3)/IF(ISNONTEXT($D40)=TRUE,1,DGET(Forespørgsel1[#All],\"\"&$D40&\"\",Kredsudvælgelse!$S$2:$T$3))),IF(ISBLANK(HLOOKUP(L$12,'Statiske ejendomme'!$B$3:$OF$80,'Statiske ejendomme'!$A33,FALSE))=FALSE,HLOOKUP(L$12,'Statiske ejendomme'!$B$3:$OF$80,'Statiske ejendomme'!$A33,FALSE),\"\"))),\"\")","v":-163.47736625514403},{"$f":"IFERROR(IF(M$12=Kredsudvælgelse!$Q$20,\"\",IF(Kredsudvælgelse!AD$2=1,IF(ISTEXT(DGET(Forespørgsel1[#All],\"\"&LEFT($F40,LEN($F40)-$C40)&\"\",Kredsudvælgelse!$U$2:$V$3))=TRUE,DGET(Forespørgsel1[#All],\"\"&LEFT($F40,LEN($F40)-$C40)&\"\",Kredsudvælgelse!$U$2:$V$3),DGET(Forespørgsel1[#All],\"\"&LEFT($F40,LEN($F40)-$C40)&\"\",Kredsudvælgelse!$U$2:$V$3)/IF(ISNONTEXT($D40)=TRUE,1,DGET(Forespørgsel1[#All],\"\"&$D40&\"\",Kredsudvælgelse!$U$2:$V$3))),IF(ISBLANK(HLOOKUP(M$12,'Statiske ejendomme'!$B$3:$OF$80,'Statiske ejendomme'!$A33,FALSE))=FALSE,HLOOKUP(M$12,'Statiske ejendomme'!$B$3:$OF$80,'Statiske ejendomme'!$A33,FALSE),\"\"))),\"\")","v":-32.176136363636367},{"$f":"IFERROR(IF(N$12=Kredsudvælgelse!$Q$20,\"\",IF(Kredsudvælgelse!AE$2=1,IF(ISTEXT(DGET(Forespørgsel1[#All],\"\"&LEFT($F40,LEN($F40)-$C40)&\"\",Kredsudvælgelse!$W$2:$X$3))=TRUE,DGET(Forespørgsel1[#All],\"\"&LEFT($F40,LEN($F40)-$C40)&\"\",Kredsudvælgelse!$W$2:$X$3),DGET(Forespørgsel1[#All],\"\"&LEFT($F40,LEN($F40)-$C40)&\"\",Kredsudvælgelse!$W$2:$X$3)/IF(ISNONTEXT($D40)=TRUE,1,DGET(Forespørgsel1[#All],\"\"&$D40&\"\",Kredsudvælgelse!$W$2:$X$3))),IF(ISBLANK(HLOOKUP(N$12,'Statiske ejendomme'!$B$3:$OF$80,'Statiske ejendomme'!$A33,FALSE))=FALSE,HLOOKUP(N$12,'Statiske ejendomme'!$B$3:$OF$80,'Statiske ejendomme'!$A33,FALSE),\"\"))),\"\")","v":-185.62449959967975},{"$f":"IFERROR(IF(O$12=Kredsudvælgelse!$Q$20,\"\",IF(Kredsudvælgelse!AF$2=1,IF(ISTEXT(DGET(Forespørgsel1[#All],\"\"&LEFT($F40,LEN($F40)-$C40)&\"\",Kredsudvælgelse!$Y$2:$Z$3))=TRUE,DGET(Forespørgsel1[#All],\"\"&LEFT($F40,LEN($F40)-$C40)&\"\",Kredsudvælgelse!$Y$2:$Z$3),DGET(Forespørgsel1[#All],\"\"&LEFT($F40,LEN($F40)-$C40)&\"\",Kredsudvælgelse!$Y$2:$Z$3)/IF(ISNONTEXT($D40)=TRUE,1,DGET(Forespørgsel1[#All],\"\"&$D40&\"\",Kredsudvælgelse!$Y$2:$Z$3))),IF(ISBLANK(HLOOKUP(O$12,'Statiske ejendomme'!$B$3:$OF$80,'Statiske ejendomme'!$A33,FALSE))=FALSE,HLOOKUP(O$12,'Statiske ejendomme'!$B$3:$OF$80,'Statiske ejendomme'!$A33,FALSE),\"\"))),\"\")","v":-162.89603960396039},{"$f":"IFERROR(IF(P$12=Kredsudvælgelse!$Q$20,\"\",IF(Kredsudvælgelse!AG$2=1,IF(ISTEXT(DGET(Forespørgsel1[#All],\"\"&LEFT($F40,LEN($F40)-$C40)&\"\",Kredsudvælgelse!$Q$6:$R$7))=TRUE,DGET(Forespørgsel1[#All],\"\"&LEFT($F40,LEN($F40)-$C40)&\"\",Kredsudvælgelse!$Q$6:$R$7),DGET(Forespørgsel1[#All],\"\"&LEFT($F40,LEN($F40)-$C40)&\"\",Kredsudvælgelse!$Q$6:$R$7)/IF(ISNONTEXT($D40)=TRUE,1,DGET(Forespørgsel1[#All],\"\"&$D40&\"\",Kredsudvælgelse!$Q$6:$R$7))),IF(ISBLANK(HLOOKUP(P$12,'Statiske ejendomme'!$B$3:$OF$80,'Statiske ejendomme'!$A33,FALSE))=FALSE,HLOOKUP(P$12,'Statiske ejendomme'!$B$3:$OF$80,'Statiske ejendomme'!$A33,FALSE),\"\"))),\"\")","v":-147.77070063694268},{"$f":"IFERROR(IF(Q$12=Kredsudvælgelse!$Q$20,\"\",IF(Kredsudvælgelse!AH$2=1,IF(ISTEXT(DGET(Forespørgsel1[#All],\"\"&LEFT($F40,LEN($F40)-$C40)&\"\",Kredsudvælgelse!$S$6:$T$7))=TRUE,DGET(Forespørgsel1[#All],\"\"&LEFT($F40,LEN($F40)-$C40)&\"\",Kredsudvælgelse!$S$6:$T$7),DGET(Forespørgsel1[#All],\"\"&LEFT($F40,LEN($F40)-$C40)&\"\",Kredsudvælgelse!$S$6:$T$7)/IF(ISNONTEXT($D40)=TRUE,1,DGET(Forespørgsel1[#All],\"\"&$D40&\"\",Kredsudvælgelse!$S$6:$T$7))),IF(ISBLANK(HLOOKUP(Q$12,'Statiske ejendomme'!$B$3:$OF$80,'Statiske ejendomme'!$A33,FALSE))=FALSE,HLOOKUP(Q$12,'Statiske ejendomme'!$B$3:$OF$80,'Statiske ejendomme'!$A33,FALSE),\"\"))),\"\")","v":-157.23684210526315},{"$f":"IFERROR(IF(R$12=Kredsudvælgelse!$Q$20,\"\",IF(Kredsudvælgelse!AI$2=1,IF(ISTEXT(DGET(Forespørgsel1[#All],\"\"&LEFT($F40,LEN($F40)-$C40)&\"\",Kredsudvælgelse!$U$6:$V$7))=TRUE,DGET(Forespørgsel1[#All],\"\"&LEFT($F40,LEN($F40)-$C40)&\"\",Kredsudvælgelse!$U$6:$V$7),DGET(Forespørgsel1[#All],\"\"&LEFT($F40,LEN($F40)-$C40)&\"\",Kredsudvælgelse!$U$6:$V$7)/IF(ISNONTEXT($D40)=TRUE,1,DGET(Forespørgsel1[#All],\"\"&$D40&\"\",Kredsudvælgelse!$U$6:$V$7))),IF(ISBLANK(HLOOKUP(R$12,'Statiske ejendomme'!$B$3:$OF$80,'Statiske ejendomme'!$A33,FALSE))=FALSE,HLOOKUP(R$12,'Statiske ejendomme'!$B$3:$OF$80,'Statiske ejendomme'!$A33,FALSE),\"\"))),\"\")","v":-10.511728931364031},{"$f":"IFERROR(IF(S$12=Kredsudvælgelse!$Q$20,\"\",IF(Kredsudvælgelse!AJ$2=1,IF(ISTEXT(DGET(Forespørgsel1[#All],\"\"&LEFT($F40,LEN($F40)-$C40)&\"\",Kredsudvælgelse!$W$6:$X$7))=TRUE,DGET(Forespørgsel1[#All],\"\"&LEFT($F40,LEN($F40)-$C40)&\"\",Kredsudvælgelse!$W$6:$X$7),DGET(Forespørgsel1[#All],\"\"&LEFT($F40,LEN($F40)-$C40)&\"\",Kredsudvælgelse!$W$6:$X$7)/IF(ISNONTEXT($D40)=TRUE,1,DGET(Forespørgsel1[#All],\"\"&$D40&\"\",Kredsudvælgelse!$W$6:$X$7))),IF(ISBLANK(HLOOKUP(S$12,'Statiske ejendomme'!$B$3:$OF$80,'Statiske ejendomme'!$A33,FALSE))=FALSE,HLOOKUP(S$12,'Statiske ejendomme'!$B$3:$OF$80,'Statiske ejendomme'!$A33,FALSE),\"\"))),\"\")","v":-142.57746478873239},{"$f":"IFERROR(IF(T$12=Kredsudvælgelse!$Q$20,\"\",IF(Kredsudvælgelse!AK$2=1,IF(ISTEXT(DGET(Forespørgsel1[#All],\"\"&LEFT($F40,LEN($F40)-$C40)&\"\",Kredsudvælgelse!$Y$6:$Z$7))=TRUE,DGET(Forespørgsel1[#All],\"\"&LEFT($F40,LEN($F40)-$C40)&\"\",Kredsudvælgelse!$Y$6:$Z$7),DGET(Forespørgsel1[#All],\"\"&LEFT($F40,LEN($F40)-$C40)&\"\",Kredsudvælgelse!$Y$6:$Z$7)/IF(ISNONTEXT($D40)=TRUE,1,DGET(Forespørgsel1[#All],\"\"&$D40&\"\",Kredsudvælgelse!$Y$6:$Z$7))),IF(ISBLANK(HLOOKUP(T$12,'Statiske ejendomme'!$B$3:$OF$80,'Statiske ejendomme'!$A33,FALSE))=FALSE,HLOOKUP(T$12,'Statiske ejendomme'!$B$3:$OF$80,'Statiske ejendomme'!$A33,FALSE),\"\"))),\"\")","v":-52.433830845771148}]
[1,{"$f":"Slagtekalve!D113","v":111},{"$f":"Slagtekalve!A32","v":0},{"$f":"Slagtekalve!B32","v":0},null,{"$f":"Slagtekalve!C32","v":"Afkastningsgrad"},{"$f":"IF(Choices!$A$1=2,Landsgennemsnit!B32,IF(Choices!$A$1=3,Landsgennemsnit!E32,\"\"))","v":4.0669554718510383},{"$f":"IF(Choices!$A$1=2,Landsgennemsnit!C32,IF(Choices!$A$1=3,Landsgennemsnit!F32,\"\"))","v":13.713999999999999},{"$f":"IF(OR(Choices!$A$1=2,Choices!$A$1=3),Slagtekalve!F32,\"\")","v":""},{"$f":"IF(OR(Choices!$A$1=2,Choices!$A$1=3),Slagtekalve!G32,\"\")","v":""},{"$f":"IFERROR(IF(K$12=Kredsudvælgelse!$Q$20,\"\",IF(Kredsudvælgelse!AB$2=1,IF(ISTEXT(DGET(Forespørgsel1[#All],\"\"&LEFT($F41,LEN($F41)-$C41)&\"\",Kredsudvælgelse!$Q$2:$R$3))=TRUE,DGET(Forespørgsel1[#All],\"\"&LEFT($F41,LEN($F41)-$C41)&\"\",Kredsudvælgelse!$Q$2:$R$3),DGET(Forespørgsel1[#All],\"\"&LEFT($F41,LEN($F41)-$C41)&\"\",Kredsudvælgelse!$Q$2:$R$3)/IF(ISNONTEXT($D41)=TRUE,1,DGET(Forespørgsel1[#All],\"\"&$D41&\"\",Kredsudvælgelse!$Q$2:$R$3))),IF(ISBLANK(HLOOKUP(K$12,'Statiske ejendomme'!$B$3:$OF$80,'Statiske ejendomme'!$A34,FALSE))=FALSE,HLOOKUP(K$12,'Statiske ejendomme'!$B$3:$OF$80,'Statiske ejendomme'!$A34,FALSE),\"\"))),\"\")","v":17.93},{"$f":"IFERROR(IF(L$12=Kredsudvælgelse!$Q$20,\"\",IF(Kredsudvælgelse!AC$2=1,IF(ISTEXT(DGET(Forespørgsel1[#All],\"\"&LEFT($F41,LEN($F41)-$C41)&\"\",Kredsudvælgelse!$S$2:$T$3))=TRUE,DGET(Forespørgsel1[#All],\"\"&LEFT($F41,LEN($F41)-$C41)&\"\",Kredsudvælgelse!$S$2:$T$3),DGET(Forespørgsel1[#All],\"\"&LEFT($F41,LEN($F41)-$C41)&\"\",Kredsudvælgelse!$S$2:$T$3)/IF(ISNONTEXT($D41)=TRUE,1,DGET(Forespørgsel1[#All],\"\"&$D41&\"\",Kredsudvælgelse!$S$2:$T$3))),IF(ISBLANK(HLOOKUP(L$12,'Statiske ejendomme'!$B$3:$OF$80,'Statiske ejendomme'!$A34,FALSE))=FALSE,HLOOKUP(L$12,'Statiske ejendomme'!$B$3:$OF$80,'Statiske ejendomme'!$A34,FALSE),\"\"))),\"\")","v":11.01},{"$f":"IFERROR(IF(M$12=Kredsudvælgelse!$Q$20,\"\",IF(Kredsudvælgelse!AD$2=1,IF(ISTEXT(DGET(Forespørgsel1[#All],\"\"&LEFT($F41,LEN($F41)-$C41)&\"\",Kredsudvælgelse!$U$2:$V$3))=TRUE,DGET(Forespørgsel1[#All],\"\"&LEFT($F41,LEN($F41)-$C41)&\"\",Kredsudvælgelse!$U$2:$V$3),DGET(Forespørgsel1[#All],\"\"&LEFT($F41,LEN($F41)-$C41)&\"\",Kredsudvælgelse!$U$2:$V$3)/IF(ISNONTEXT($D41)=TRUE,1,DGET(Forespørgsel1[#All],\"\"&$D41&\"\",Kredsudvælgelse!$U$2:$V$3))),IF(ISBLANK(HLOOKUP(M$12,'Statiske ejendomme'!$B$3:$OF$80,'Statiske ejendomme'!$A34,FALSE))=FALSE,HLOOKUP(M$12,'Statiske ejendomme'!$B$3:$OF$80,'Statiske ejendomme'!$A34,FALSE),\"\"))),\"\")","v":17.940000000000001},{"$f":"IFERROR(IF(N$12=Kredsudvælgelse!$Q$20,\"\",IF(Kredsudvælgelse!AE$2=1,IF(ISTEXT(DGET(Forespørgsel1[#All],\"\"&LEFT($F41,LEN($F41)-$C41)&\"\",Kredsudvælgelse!$W$2:$X$3))=TRUE,DGET(Forespørgsel1[#All],\"\"&LEFT($F41,LEN($F41)-$C41)&\"\",Kredsudvælgelse!$W$2:$X$3),DGET(Forespørgsel1[#All],\"\"&LEFT($F41,LEN($F41)-$C41)&\"\",Kredsudvælgelse!$W$2:$X$3)/IF(ISNONTEXT($D41)=TRUE,1,DGET(Forespørgsel1[#All],\"\"&$D41&\"\",Kredsudvælgelse!$W$2:$X$3))),IF(ISBLANK(HLOOKUP(N$12,'Statiske ejendomme'!$B$3:$OF$80,'Statiske ejendomme'!$A34,FALSE))=FALSE,HLOOKUP(N$12,'Statiske ejendomme'!$B$3:$OF$80,'Statiske ejendomme'!$A34,FALSE),\"\"))),\"\")","v":10.07},{"$f":"IFERROR(IF(O$12=Kredsudvælgelse!$Q$20,\"\",IF(Kredsudvælgelse!AF$2=1,IF(ISTEXT(DGET(Forespørgsel1[#All],\"\"&LEFT($F41,LEN($F41)-$C41)&\"\",Kredsudvælgelse!$Y$2:$Z$3))=TRUE,DGET(Forespørgsel1[#All],\"\"&LEFT($F41,LEN($F41)-$C41)&\"\",Kredsudvælgelse!$Y$2:$Z$3),DGET(Forespørgsel1[#All],\"\"&LEFT($F41,LEN($F41)-$C41)&\"\",Kredsudvælgelse!$Y$2:$Z$3)/IF(ISNONTEXT($D41)=TRUE,1,DGET(Forespørgsel1[#All],\"\"&$D41&\"\",Kredsudvælgelse!$Y$2:$Z$3))),IF(ISBLANK(HLOOKUP(O$12,'Statiske ejendomme'!$B$3:$OF$80,'Statiske ejendomme'!$A34,FALSE))=FALSE,HLOOKUP(O$12,'Statiske ejendomme'!$B$3:$OF$80,'Statiske ejendomme'!$A34,FALSE),\"\"))),\"\")","v":6.55},{"$f":"IFERROR(IF(P$12=Kredsudvælgelse!$Q$20,\"\",IF(Kredsudvælgelse!AG$2=1,IF(ISTEXT(DGET(Forespørgsel1[#All],\"\"&LEFT($F41,LEN($F41)-$C41)&\"\",Kredsudvælgelse!$Q$6:$R$7))=TRUE,DGET(Forespørgsel1[#All],\"\"&LEFT($F41,LEN($F41)-$C41)&\"\",Kredsudvælgelse!$Q$6:$R$7),DGET(Forespørgsel1[#All],\"\"&LEFT($F41,LEN($F41)-$C41)&\"\",Kredsudvælgelse!$Q$6:$R$7)/IF(ISNONTEXT($D41)=TRUE,1,DGET(Forespørgsel1[#All],\"\"&$D41&\"\",Kredsudvælgelse!$Q$6:$R$7))),IF(ISBLANK(HLOOKUP(P$12,'Statiske ejendomme'!$B$3:$OF$80,'Statiske ejendomme'!$A34,FALSE))=FALSE,HLOOKUP(P$12,'Statiske ejendomme'!$B$3:$OF$80,'Statiske ejendomme'!$A34,FALSE),\"\"))),\"\")","v":4.41},{"$f":"IFERROR(IF(Q$12=Kredsudvælgelse!$Q$20,\"\",IF(Kredsudvælgelse!AH$2=1,IF(ISTEXT(DGET(Forespørgsel1[#All],\"\"&LEFT($F41,LEN($F41)-$C41)&\"\",Kredsudvælgelse!$S$6:$T$7))=TRUE,DGET(Forespørgsel1[#All],\"\"&LEFT($F41,LEN($F41)-$C41)&\"\",Kredsudvælgelse!$S$6:$T$7),DGET(Forespørgsel1[#All],\"\"&LEFT($F41,LEN($F41)-$C41)&\"\",Kredsudvælgelse!$S$6:$T$7)/IF(ISNONTEXT($D41)=TRUE,1,DGET(Forespørgsel1[#All],\"\"&$D41&\"\",Kredsudvælgelse!$S$6:$T$7))),IF(ISBLANK(HLOOKUP(Q$12,'Statiske ejendomme'!$B$3:$OF$80,'Statiske ejendomme'!$A34,FALSE))=FALSE,HLOOKUP(Q$12,'Statiske ejendomme'!$B$3:$OF$80,'Statiske ejendomme'!$A34,FALSE),\"\"))),\"\")","v":2.63},{"$f":"IFERROR(IF(R$12=Kredsudvælgelse!$Q$20,\"\",IF(Kredsudvælgelse!AI$2=1,IF(ISTEXT(DGET(Forespørgsel1[#All],\"\"&LEFT($F41,LEN($F41)-$C41)&\"\",Kredsudvælgelse!$U$6:$V$7))=TRUE,DGET(Forespørgsel1[#All],\"\"&LEFT($F41,LEN($F41)-$C41)&\"\",Kredsudvælgelse!$U$6:$V$7),DGET(Forespørgsel1[#All],\"\"&LEFT($F41,LEN($F41)-$C41)&\"\",Kredsudvælgelse!$U$6:$V$7)/IF(ISNONTEXT($D41)=TRUE,1,DGET(Forespørgsel1[#All],\"\"&$D41&\"\",Kredsudvælgelse!$U$6:$V$7))),IF(ISBLANK(HLOOKUP(R$12,'Statiske ejendomme'!$B$3:$OF$80,'Statiske ejendomme'!$A34,FALSE))=FALSE,HLOOKUP(R$12,'Statiske ejendomme'!$B$3:$OF$80,'Statiske ejendomme'!$A34,FALSE),\"\"))),\"\")","v":0.33},{"$f":"IFERROR(IF(S$12=Kredsudvælgelse!$Q$20,\"\",IF(Kredsudvælgelse!AJ$2=1,IF(ISTEXT(DGET(Forespørgsel1[#All],\"\"&LEFT($F41,LEN($F41)-$C41)&\"\",Kredsudvælgelse!$W$6:$X$7))=TRUE,DGET(Forespørgsel1[#All],\"\"&LEFT($F41,LEN($F41)-$C41)&\"\",Kredsudvælgelse!$W$6:$X$7),DGET(Forespørgsel1[#All],\"\"&LEFT($F41,LEN($F41)-$C41)&\"\",Kredsudvælgelse!$W$6:$X$7)/IF(ISNONTEXT($D41)=TRUE,1,DGET(Forespørgsel1[#All],\"\"&$D41&\"\",Kredsudvælgelse!$W$6:$X$7))),IF(ISBLANK(HLOOKUP(S$12,'Statiske ejendomme'!$B$3:$OF$80,'Statiske ejendomme'!$A34,FALSE))=FALSE,HLOOKUP(S$12,'Statiske ejendomme'!$B$3:$OF$80,'Statiske ejendomme'!$A34,FALSE),\"\"))),\"\")","v":3.36},{"$f":"IFERROR(IF(T$12=Kredsudvælgelse!$Q$20,\"\",IF(Kredsudvælgelse!AK$2=1,IF(ISTEXT(DGET(Forespørgsel1[#All],\"\"&LEFT($F41,LEN($F41)-$C41)&\"\",Kredsudvælgelse!$Y$6:$Z$7))=TRUE,DGET(Forespørgsel1[#All],\"\"&LEFT($F41,LEN($F41)-$C41)&\"\",Kredsudvælgelse!$Y$6:$Z$7),DGET(Forespørgsel1[#All],\"\"&LEFT($F41,LEN($F41)-$C41)&\"\",Kredsudvælgelse!$Y$6:$Z$7)/IF(ISNONTEXT($D41)=TRUE,1,DGET(Forespørgsel1[#All],\"\"&$D41&\"\",Kredsudvælgelse!$Y$6:$Z$7))),IF(ISBLANK(HLOOKUP(T$12,'Statiske ejendomme'!$B$3:$OF$80,'Statiske ejendomme'!$A34,FALSE))=FALSE,HLOOKUP(T$12,'Statiske ejendomme'!$B$3:$OF$80,'Statiske ejendomme'!$A34,FALSE),\"\"))),\"\")","v":14.13}]
[1,{"$f":"Slagtekalve!D114","v":9},{"$f":"Slagtekalve!A33","v":0},{"$f":"Slagtekalve!B33","v":0},null,{"$f":"Slagtekalve!C33","v":0},{"$f":"IF(Choices!$A$1=2,Landsgennemsnit!B33,IF(Choices!$A$1=3,Landsgennemsnit!E33,\"\"))","v":""},{"$f":"IF(Choices!$A$1=2,Landsgennemsnit!C33,IF(Choices!$A$1=3,Landsgennemsnit!F33,\"\"))","v":""},{"$f":"IF(OR(Choices!$A$1=2,Choices!$A$1=3),Slagtekalve!F33,\"\")","v":""},{"$f":"IF(OR(Choices!$A$1=2,Choices!$A$1=3),Slagtekalve!G33,\"\")","v":""},{"$f":"IFERROR(IF(K$12=Kredsudvælgelse!$Q$20,\"\",IF(Kredsudvælgelse!AB$2=1,IF(ISTEXT(DGET(Forespørgsel1[#All],\"\"&LEFT($F42,LEN($F42)-$C42)&\"\",Kredsudvælgelse!$Q$2:$R$3))=TRUE,DGET(Forespørgsel1[#All],\"\"&LEFT($F42,LEN($F42)-$C42)&\"\",Kredsudvælgelse!$Q$2:$R$3),DGET(Forespørgsel1[#All],\"\"&LEFT($F42,LEN($F42)-$C42)&\"\",Kredsudvælgelse!$Q$2:$R$3)/IF(ISNONTEXT($D42)=TRUE,1,DGET(Forespørgsel1[#All],\"\"&$D42&\"\",Kredsudvælgelse!$Q$2:$R$3))),IF(ISBLANK(HLOOKUP(K$12,'Statiske ejendomme'!$B$3:$OF$80,'Statiske ejendomme'!$A35,FALSE))=FALSE,HLOOKUP(K$12,'Statiske ejendomme'!$B$3:$OF$80,'Statiske ejendomme'!$A35,FALSE),\"\"))),\"\")","v":""},{"$f":"IFERROR(IF(L$12=Kredsudvælgelse!$Q$20,\"\",IF(Kredsudvælgelse!AC$2=1,IF(ISTEXT(DGET(Forespørgsel1[#All],\"\"&LEFT($F42,LEN($F42)-$C42)&\"\",Kredsudvælgelse!$S$2:$T$3))=TRUE,DGET(Forespørgsel1[#All],\"\"&LEFT($F42,LEN($F42)-$C42)&\"\",Kredsudvælgelse!$S$2:$T$3),DGET(Forespørgsel1[#All],\"\"&LEFT($F42,LEN($F42)-$C42)&\"\",Kredsudvælgelse!$S$2:$T$3)/IF(ISNONTEXT($D42)=TRUE,1,DGET(Forespørgsel1[#All],\"\"&$D42&\"\",Kredsudvælgelse!$S$2:$T$3))),IF(ISBLANK(HLOOKUP(L$12,'Statiske ejendomme'!$B$3:$OF$80,'Statiske ejendomme'!$A35,FALSE))=FALSE,HLOOKUP(L$12,'Statiske ejendomme'!$B$3:$OF$80,'Statiske ejendomme'!$A35,FALSE),\"\"))),\"\")","v":""},{"$f":"IFERROR(IF(M$12=Kredsudvælgelse!$Q$20,\"\",IF(Kredsudvælgelse!AD$2=1,IF(ISTEXT(DGET(Forespørgsel1[#All],\"\"&LEFT($F42,LEN($F42)-$C42)&\"\",Kredsudvælgelse!$U$2:$V$3))=TRUE,DGET(Forespørgsel1[#All],\"\"&LEFT($F42,LEN($F42)-$C42)&\"\",Kredsudvælgelse!$U$2:$V$3),DGET(Forespørgsel1[#All],\"\"&LEFT($F42,LEN($F42)-$C42)&\"\",Kredsudvælgelse!$U$2:$V$3)/IF(ISNONTEXT($D42)=TRUE,1,DGET(Forespørgsel1[#All],\"\"&$D42&\"\",Kredsudvælgelse!$U$2:$V$3))),IF(ISBLANK(HLOOKUP(M$12,'Statiske ejendomme'!$B$3:$OF$80,'Statiske ejendomme'!$A35,FALSE))=FALSE,HLOOKUP(M$12,'Statiske ejendomme'!$B$3:$OF$80,'Statiske ejendomme'!$A35,FALSE),\"\"))),\"\")","v":""},{"$f":"IFERROR(IF(N$12=Kredsudvælgelse!$Q$20,\"\",IF(Kredsudvælgelse!AE$2=1,IF(ISTEXT(DGET(Forespørgsel1[#All],\"\"&LEFT($F42,LEN($F42)-$C42)&\"\",Kredsudvælgelse!$W$2:$X$3))=TRUE,DGET(Forespørgsel1[#All],\"\"&LEFT($F42,LEN($F42)-$C42)&\"\",Kredsudvælgelse!$W$2:$X$3),DGET(Forespørgsel1[#All],\"\"&LEFT($F42,LEN($F42)-$C42)&\"\",Kredsudvælgelse!$W$2:$X$3)/IF(ISNONTEXT($D42)=TRUE,1,DGET(Forespørgsel1[#All],\"\"&$D42&\"\",Kredsudvælgelse!$W$2:$X$3))),IF(ISBLANK(HLOOKUP(N$12,'Statiske ejendomme'!$B$3:$OF$80,'Statiske ejendomme'!$A35,FALSE))=FALSE,HLOOKUP(N$12,'Statiske ejendomme'!$B$3:$OF$80,'Statiske ejendomme'!$A35,FALSE),\"\"))),\"\")","v":""},{"$f":"IFERROR(IF(O$12=Kredsudvælgelse!$Q$20,\"\",IF(Kredsudvælgelse!AF$2=1,IF(ISTEXT(DGET(Forespørgsel1[#All],\"\"&LEFT($F42,LEN($F42)-$C42)&\"\",Kredsudvælgelse!$Y$2:$Z$3))=TRUE,DGET(Forespørgsel1[#All],\"\"&LEFT($F42,LEN($F42)-$C42)&\"\",Kredsudvælgelse!$Y$2:$Z$3),DGET(Forespørgsel1[#All],\"\"&LEFT($F42,LEN($F42)-$C42)&\"\",Kredsudvælgelse!$Y$2:$Z$3)/IF(ISNONTEXT($D42)=TRUE,1,DGET(Forespørgsel1[#All],\"\"&$D42&\"\",Kredsudvælgelse!$Y$2:$Z$3))),IF(ISBLANK(HLOOKUP(O$12,'Statiske ejendomme'!$B$3:$OF$80,'Statiske ejendomme'!$A35,FALSE))=FALSE,HLOOKUP(O$12,'Statiske ejendomme'!$B$3:$OF$80,'Statiske ejendomme'!$A35,FALSE),\"\"))),\"\")","v":""},{"$f":"IFERROR(IF(P$12=Kredsudvælgelse!$Q$20,\"\",IF(Kredsudvælgelse!AG$2=1,IF(ISTEXT(DGET(Forespørgsel1[#All],\"\"&LEFT($F42,LEN($F42)-$C42)&\"\",Kredsudvælgelse!$Q$6:$R$7))=TRUE,DGET(Forespørgsel1[#All],\"\"&LEFT($F42,LEN($F42)-$C42)&\"\",Kredsudvælgelse!$Q$6:$R$7),DGET(Forespørgsel1[#All],\"\"&LEFT($F42,LEN($F42)-$C42)&\"\",Kredsudvælgelse!$Q$6:$R$7)/IF(ISNONTEXT($D42)=TRUE,1,DGET(Forespørgsel1[#All],\"\"&$D42&\"\",Kredsudvælgelse!$Q$6:$R$7))),IF(ISBLANK(HLOOKUP(P$12,'Statiske ejendomme'!$B$3:$OF$80,'Statiske ejendomme'!$A35,FALSE))=FALSE,HLOOKUP(P$12,'Statiske ejendomme'!$B$3:$OF$80,'Statiske ejendomme'!$A35,FALSE),\"\"))),\"\")","v":""},{"$f":"IFERROR(IF(Q$12=Kredsudvælgelse!$Q$20,\"\",IF(Kredsudvælgelse!AH$2=1,IF(ISTEXT(DGET(Forespørgsel1[#All],\"\"&LEFT($F42,LEN($F42)-$C42)&\"\",Kredsudvælgelse!$S$6:$T$7))=TRUE,DGET(Forespørgsel1[#All],\"\"&LEFT($F42,LEN($F42)-$C42)&\"\",Kredsudvælgelse!$S$6:$T$7),DGET(Forespørgsel1[#All],\"\"&LEFT($F42,LEN($F42)-$C42)&\"\",Kredsudvælgelse!$S$6:$T$7)/IF(ISNONTEXT($D42)=TRUE,1,DGET(Forespørgsel1[#All],\"\"&$D42&\"\",Kredsudvælgelse!$S$6:$T$7))),IF(ISBLANK(HLOOKUP(Q$12,'Statiske ejendomme'!$B$3:$OF$80,'Statiske ejendomme'!$A35,FALSE))=FALSE,HLOOKUP(Q$12,'Statiske ejendomme'!$B$3:$OF$80,'Statiske ejendomme'!$A35,FALSE),\"\"))),\"\")","v":""},{"$f":"IFERROR(IF(R$12=Kredsudvælgelse!$Q$20,\"\",IF(Kredsudvælgelse!AI$2=1,IF(ISTEXT(DGET(Forespørgsel1[#All],\"\"&LEFT($F42,LEN($F42)-$C42)&\"\",Kredsudvælgelse!$U$6:$V$7))=TRUE,DGET(Forespørgsel1[#All],\"\"&LEFT($F42,LEN($F42)-$C42)&\"\",Kredsudvælgelse!$U$6:$V$7),DGET(Forespørgsel1[#All],\"\"&LEFT($F42,LEN($F42)-$C42)&\"\",Kredsudvælgelse!$U$6:$V$7)/IF(ISNONTEXT($D42)=TRUE,1,DGET(Forespørgsel1[#All],\"\"&$D42&\"\",Kredsudvælgelse!$U$6:$V$7))),IF(ISBLANK(HLOOKUP(R$12,'Statiske ejendomme'!$B$3:$OF$80,'Statiske ejendomme'!$A35,FALSE))=FALSE,HLOOKUP(R$12,'Statiske ejendomme'!$B$3:$OF$80,'Statiske ejendomme'!$A35,FALSE),\"\"))),\"\")","v":""},{"$f":"IFERROR(IF(S$12=Kredsudvælgelse!$Q$20,\"\",IF(Kredsudvælgelse!AJ$2=1,IF(ISTEXT(DGET(Forespørgsel1[#All],\"\"&LEFT($F42,LEN($F42)-$C42)&\"\",Kredsudvælgelse!$W$6:$X$7))=TRUE,DGET(Forespørgsel1[#All],\"\"&LEFT($F42,LEN($F42)-$C42)&\"\",Kredsudvælgelse!$W$6:$X$7),DGET(Forespørgsel1[#All],\"\"&LEFT($F42,LEN($F42)-$C42)&\"\",Kredsudvælgelse!$W$6:$X$7)/IF(ISNONTEXT($D42)=TRUE,1,DGET(Forespørgsel1[#All],\"\"&$D42&\"\",Kredsudvælgelse!$W$6:$X$7))),IF(ISBLANK(HLOOKUP(S$12,'Statiske ejendomme'!$B$3:$OF$80,'Statiske ejendomme'!$A35,FALSE))=FALSE,HLOOKUP(S$12,'Statiske ejendomme'!$B$3:$OF$80,'Statiske ejendomme'!$A35,FALSE),\"\"))),\"\")","v":""},{"$f":"IFERROR(IF(T$12=Kredsudvælgelse!$Q$20,\"\",IF(Kredsudvælgelse!AK$2=1,IF(ISTEXT(DGET(Forespørgsel1[#All],\"\"&LEFT($F42,LEN($F42)-$C42)&\"\",Kredsudvælgelse!$Y$6:$Z$7))=TRUE,DGET(Forespørgsel1[#All],\"\"&LEFT($F42,LEN($F42)-$C42)&\"\",Kredsudvælgelse!$Y$6:$Z$7),DGET(Forespørgsel1[#All],\"\"&LEFT($F42,LEN($F42)-$C42)&\"\",Kredsudvælgelse!$Y$6:$Z$7)/IF(ISNONTEXT($D42)=TRUE,1,DGET(Forespørgsel1[#All],\"\"&$D42&\"\",Kredsudvælgelse!$Y$6:$Z$7))),IF(ISBLANK(HLOOKUP(T$12,'Statiske ejendomme'!$B$3:$OF$80,'Statiske ejendomme'!$A35,FALSE))=FALSE,HLOOKUP(T$12,'Statiske ejendomme'!$B$3:$OF$80,'Statiske ejendomme'!$A35,FALSE),\"\"))),\"\")","v":""}]
[1,{"$f":"Slagtekalve!D115","v":101},{"$f":"Slagtekalve!A34","v":0},{"$f":"Slagtekalve!B34","v":"Antal Producerede kalve"},null,{"$f":"Slagtekalve!C34","v":"Specifikation af resultat"},{"$f":"IF(Choices!$A$1=2,Landsgennemsnit!B34,IF(Choices!$A$1=3,Landsgennemsnit!E34,\"\"))","v":""},{"$f":"IF(Choices!$A$1=2,Landsgennemsnit!C34,IF(Choices!$A$1=3,Landsgennemsnit!F34,\"\"))","v":""},{"$f":"IF(OR(Choices!$A$1=2,Choices!$A$1=3),Slagtekalve!F34,\"\")","v":""},{"$f":"IF(OR(Choices!$A$1=2,Choices!$A$1=3),Slagtekalve!G34,\"\")","v":""},{"$f":"IFERROR(IF(K$12=Kredsudvælgelse!$Q$20,\"\",IF(Kredsudvælgelse!AB$2=1,IF(ISTEXT(DGET(Forespørgsel1[#All],\"\"&LEFT($F43,LEN($F43)-$C43)&\"\",Kredsudvælgelse!$Q$2:$R$3))=TRUE,DGET(Forespørgsel1[#All],\"\"&LEFT($F43,LEN($F43)-$C43)&\"\",Kredsudvælgelse!$Q$2:$R$3),DGET(Forespørgsel1[#All],\"\"&LEFT($F43,LEN($F43)-$C43)&\"\",Kredsudvælgelse!$Q$2:$R$3)/IF(ISNONTEXT($D43)=TRUE,1,DGET(Forespørgsel1[#All],\"\"&$D43&\"\",Kredsudvælgelse!$Q$2:$R$3))),IF(ISBLANK(HLOOKUP(K$12,'Statiske ejendomme'!$B$3:$OF$80,'Statiske ejendomme'!$A36,FALSE))=FALSE,HLOOKUP(K$12,'Statiske ejendomme'!$B$3:$OF$80,'Statiske ejendomme'!$A36,FALSE),\"\"))),\"\")","v":"Kr. pr. produceret kalv"},{"$f":"IFERROR(IF(L$12=Kredsudvælgelse!$Q$20,\"\",IF(Kredsudvælgelse!AC$2=1,IF(ISTEXT(DGET(Forespørgsel1[#All],\"\"&LEFT($F43,LEN($F43)-$C43)&\"\",Kredsudvælgelse!$S$2:$T$3))=TRUE,DGET(Forespørgsel1[#All],\"\"&LEFT($F43,LEN($F43)-$C43)&\"\",Kredsudvælgelse!$S$2:$T$3),DGET(Forespørgsel1[#All],\"\"&LEFT($F43,LEN($F43)-$C43)&\"\",Kredsudvælgelse!$S$2:$T$3)/IF(ISNONTEXT($D43)=TRUE,1,DGET(Forespørgsel1[#All],\"\"&$D43&\"\",Kredsudvælgelse!$S$2:$T$3))),IF(ISBLANK(HLOOKUP(L$12,'Statiske ejendomme'!$B$3:$OF$80,'Statiske ejendomme'!$A36,FALSE))=FALSE,HLOOKUP(L$12,'Statiske ejendomme'!$B$3:$OF$80,'Statiske ejendomme'!$A36,FALSE),\"\"))),\"\")","v":""},{"$f":"IFERROR(IF(M$12=Kredsudvælgelse!$Q$20,\"\",IF(Kredsudvælgelse!AD$2=1,IF(ISTEXT(DGET(Forespørgsel1[#All],\"\"&LEFT($F43,LEN($F43)-$C43)&\"\",Kredsudvælgelse!$U$2:$V$3))=TRUE,DGET(Forespørgsel1[#All],\"\"&LEFT($F43,LEN($F43)-$C43)&\"\",Kredsudvælgelse!$U$2:$V$3),DGET(Forespørgsel1[#All],\"\"&LEFT($F43,LEN($F43)-$C43)&\"\",Kredsudvælgelse!$U$2:$V$3)/IF(ISNONTEXT($D43)=TRUE,1,DGET(Forespørgsel1[#All],\"\"&$D43&\"\",Kredsudvælgelse!$U$2:$V$3))),IF(ISBLANK(HLOOKUP(M$12,'Statiske ejendomme'!$B$3:$OF$80,'Statiske ejendomme'!$A36,FALSE))=FALSE,HLOOKUP(M$12,'Statiske ejendomme'!$B$3:$OF$80,'Statiske ejendomme'!$A36,FALSE),\"\"))),\"\")","v":""},{"$f":"IFERROR(IF(N$12=Kredsudvælgelse!$Q$20,\"\",IF(Kredsudvælgelse!AE$2=1,IF(ISTEXT(DGET(Forespørgsel1[#All],\"\"&LEFT($F43,LEN($F43)-$C43)&\"\",Kredsudvælgelse!$W$2:$X$3))=TRUE,DGET(Forespørgsel1[#All],\"\"&LEFT($F43,LEN($F43)-$C43)&\"\",Kredsudvælgelse!$W$2:$X$3),DGET(Forespørgsel1[#All],\"\"&LEFT($F43,LEN($F43)-$C43)&\"\",Kredsudvælgelse!$W$2:$X$3)/IF(ISNONTEXT($D43)=TRUE,1,DGET(Forespørgsel1[#All],\"\"&$D43&\"\",Kredsudvælgelse!$W$2:$X$3))),IF(ISBLANK(HLOOKUP(N$12,'Statiske ejendomme'!$B$3:$OF$80,'Statiske ejendomme'!$A36,FALSE))=FALSE,HLOOKUP(N$12,'Statiske ejendomme'!$B$3:$OF$80,'Statiske ejendomme'!$A36,FALSE),\"\"))),\"\")","v":""},{"$f":"IFERROR(IF(O$12=Kredsudvælgelse!$Q$20,\"\",IF(Kredsudvælgelse!AF$2=1,IF(ISTEXT(DGET(Forespørgsel1[#All],\"\"&LEFT($F43,LEN($F43)-$C43)&\"\",Kredsudvælgelse!$Y$2:$Z$3))=TRUE,DGET(Forespørgsel1[#All],\"\"&LEFT($F43,LEN($F43)-$C43)&\"\",Kredsudvælgelse!$Y$2:$Z$3),DGET(Forespørgsel1[#All],\"\"&LEFT($F43,LEN($F43)-$C43)&\"\",Kredsudvælgelse!$Y$2:$Z$3)/IF(ISNONTEXT($D43)=TRUE,1,DGET(Forespørgsel1[#All],\"\"&$D43&\"\",Kredsudvælgelse!$Y$2:$Z$3))),IF(ISBLANK(HLOOKUP(O$12,'Statiske ejendomme'!$B$3:$OF$80,'Statiske ejendomme'!$A36,FALSE))=FALSE,HLOOKUP(O$12,'Statiske ejendomme'!$B$3:$OF$80,'Statiske ejendomme'!$A36,FALSE),\"\"))),\"\")","v":""},{"$f":"IFERROR(IF(P$12=Kredsudvælgelse!$Q$20,\"\",IF(Kredsudvælgelse!AG$2=1,IF(ISTEXT(DGET(Forespørgsel1[#All],\"\"&LEFT($F43,LEN($F43)-$C43)&\"\",Kredsudvælgelse!$Q$6:$R$7))=TRUE,DGET(Forespørgsel1[#All],\"\"&LEFT($F43,LEN($F43)-$C43)&\"\",Kredsudvælgelse!$Q$6:$R$7),DGET(Forespørgsel1[#All],\"\"&LEFT($F43,LEN($F43)-$C43)&\"\",Kredsudvælgelse!$Q$6:$R$7)/IF(ISNONTEXT($D43)=TRUE,1,DGET(Forespørgsel1[#All],\"\"&$D43&\"\",Kredsudvælgelse!$Q$6:$R$7))),IF(ISBLANK(HLOOKUP(P$12,'Statiske ejendomme'!$B$3:$OF$80,'Statiske ejendomme'!$A36,FALSE))=FALSE,HLOOKUP(P$12,'Statiske ejendomme'!$B$3:$OF$80,'Statiske ejendomme'!$A36,FALSE),\"\"))),\"\")","v":""},{"$f":"IFERROR(IF(Q$12=Kredsudvælgelse!$Q$20,\"\",IF(Kredsudvælgelse!AH$2=1,IF(ISTEXT(DGET(Forespørgsel1[#All],\"\"&LEFT($F43,LEN($F43)-$C43)&\"\",Kredsudvælgelse!$S$6:$T$7))=TRUE,DGET(Forespørgsel1[#All],\"\"&LEFT($F43,LEN($F43)-$C43)&\"\",Kredsudvælgelse!$S$6:$T$7),DGET(Forespørgsel1[#All],\"\"&LEFT($F43,LEN($F43)-$C43)&\"\",Kredsudvælgelse!$S$6:$T$7)/IF(ISNONTEXT($D43)=TRUE,1,DGET(Forespørgsel1[#All],\"\"&$D43&\"\",Kredsudvælgelse!$S$6:$T$7))),IF(ISBLANK(HLOOKUP(Q$12,'Statiske ejendomme'!$B$3:$OF$80,'Statiske ejendomme'!$A36,FALSE))=FALSE,HLOOKUP(Q$12,'Statiske ejendomme'!$B$3:$OF$80,'Statiske ejendomme'!$A36,FALSE),\"\"))),\"\")","v":""},{"$f":"IFERROR(IF(R$12=Kredsudvælgelse!$Q$20,\"\",IF(Kredsudvælgelse!AI$2=1,IF(ISTEXT(DGET(Forespørgsel1[#All],\"\"&LEFT($F43,LEN($F43)-$C43)&\"\",Kredsudvælgelse!$U$6:$V$7))=TRUE,DGET(Forespørgsel1[#All],\"\"&LEFT($F43,LEN($F43)-$C43)&\"\",Kredsudvælgelse!$U$6:$V$7),DGET(Forespørgsel1[#All],\"\"&LEFT($F43,LEN($F43)-$C43)&\"\",Kredsudvælgelse!$U$6:$V$7)/IF(ISNONTEXT($D43)=TRUE,1,DGET(Forespørgsel1[#All],\"\"&$D43&\"\",Kredsudvælgelse!$U$6:$V$7))),IF(ISBLANK(HLOOKUP(R$12,'Statiske ejendomme'!$B$3:$OF$80,'Statiske ejendomme'!$A36,FALSE))=FALSE,HLOOKUP(R$12,'Statiske ejendomme'!$B$3:$OF$80,'Statiske ejendomme'!$A36,FALSE),\"\"))),\"\")","v":""},{"$f":"IFERROR(IF(S$12=Kredsudvælgelse!$Q$20,\"\",IF(Kredsudvælgelse!AJ$2=1,IF(ISTEXT(DGET(Forespørgsel1[#All],\"\"&LEFT($F43,LEN($F43)-$C43)&\"\",Kredsudvælgelse!$W$6:$X$7))=TRUE,DGET(Forespørgsel1[#All],\"\"&LEFT($F43,LEN($F43)-$C43)&\"\",Kredsudvælgelse!$W$6:$X$7),DGET(Forespørgsel1[#All],\"\"&LEFT($F43,LEN($F43)-$C43)&\"\",Kredsudvælgelse!$W$6:$X$7)/IF(ISNONTEXT($D43)=TRUE,1,DGET(Forespørgsel1[#All],\"\"&$D43&\"\",Kredsudvælgelse!$W$6:$X$7))),IF(ISBLANK(HLOOKUP(S$12,'Statiske ejendomme'!$B$3:$OF$80,'Statiske ejendomme'!$A36,FALSE))=FALSE,HLOOKUP(S$12,'Statiske ejendomme'!$B$3:$OF$80,'Statiske ejendomme'!$A36,FALSE),\"\"))),\"\")","v":""},{"$f":"IFERROR(IF(T$12=Kredsudvælgelse!$Q$20,\"\",IF(Kredsudvælgelse!AK$2=1,IF(ISTEXT(DGET(Forespørgsel1[#All],\"\"&LEFT($F43,LEN($F43)-$C43)&\"\",Kredsudvælgelse!$Y$6:$Z$7))=TRUE,DGET(Forespørgsel1[#All],\"\"&LEFT($F43,LEN($F43)-$C43)&\"\",Kredsudvælgelse!$Y$6:$Z$7),DGET(Forespørgsel1[#All],\"\"&LEFT($F43,LEN($F43)-$C43)&\"\",Kredsudvælgelse!$Y$6:$Z$7)/IF(ISNONTEXT($D43)=TRUE,1,DGET(Forespørgsel1[#All],\"\"&$D43&\"\",Kredsudvælgelse!$Y$6:$Z$7))),IF(ISBLANK(HLOOKUP(T$12,'Statiske ejendomme'!$B$3:$OF$80,'Statiske ejendomme'!$A36,FALSE))=FALSE,HLOOKUP(T$12,'Statiske ejendomme'!$B$3:$OF$80,'Statiske ejendomme'!$A36,FALSE),\"\"))),\"\")","v":""}]
[1,{"$f":"Slagtekalve!D116","v":1},{"$f":"Slagtekalve!A35","v":0},{"$f":"Slagtekalve!B35","v":"Antal Producerede kalve"},null,{"$f":"Slagtekalve!C35","v":"Salg af dyr, kvæg"},{"$f":"IF(Choices!$A$1=2,Landsgennemsnit!B35,IF(Choices!$A$1=3,Landsgennemsnit!E35,\"\"))","v":5457.0883758362252},{"$f":"IF(Choices!$A$1=2,Landsgennemsnit!C35,IF(Choices!$A$1=3,Landsgennemsnit!F35,\"\"))","v":5736.3175559380379},{"$f":"IF(OR(Choices!$A$1=2,Choices!$A$1=3),Slagtekalve!F35,\"\")","v":""},{"$f":"IF(OR(Choices!$A$1=2,Choices!$A$1=3),Slagtekalve!G35,\"\")","v":""},{"$f":"IFERROR(IF(K$12=Kredsudvælgelse!$Q$20,\"\",IF(Kredsudvælgelse!AB$2=1,IF(ISTEXT(DGET(Forespørgsel1[#All],\"\"&LEFT($F44,LEN($F44)-$C44)&\"\",Kredsudvælgelse!$Q$2:$R$3))=TRUE,DGET(Forespørgsel1[#All],\"\"&LEFT($F44,LEN($F44)-$C44)&\"\",Kredsudvælgelse!$Q$2:$R$3),DGET(Forespørgsel1[#All],\"\"&LEFT($F44,LEN($F44)-$C44)&\"\",Kredsudvælgelse!$Q$2:$R$3)/IF(ISNONTEXT($D44)=TRUE,1,DGET(Forespørgsel1[#All],\"\"&$D44&\"\",Kredsudvælgelse!$Q$2:$R$3))),IF(ISBLANK(HLOOKUP(K$12,'Statiske ejendomme'!$B$3:$OF$80,'Statiske ejendomme'!$A37,FALSE))=FALSE,HLOOKUP(K$12,'Statiske ejendomme'!$B$3:$OF$80,'Statiske ejendomme'!$A37,FALSE),\"\"))),\"\")","v":5332.7404129793513},{"$f":"IFERROR(IF(L$12=Kredsudvælgelse!$Q$20,\"\",IF(Kredsudvælgelse!AC$2=1,IF(ISTEXT(DGET(Forespørgsel1[#All],\"\"&LEFT($F44,LEN($F44)-$C44)&\"\",Kredsudvælgelse!$S$2:$T$3))=TRUE,DGET(Forespørgsel1[#All],\"\"&LEFT($F44,LEN($F44)-$C44)&\"\",Kredsudvælgelse!$S$2:$T$3),DGET(Forespørgsel1[#All],\"\"&LEFT($F44,LEN($F44)-$C44)&\"\",Kredsudvælgelse!$S$2:$T$3)/IF(ISNONTEXT($D44)=TRUE,1,DGET(Forespørgsel1[#All],\"\"&$D44&\"\",Kredsudvælgelse!$S$2:$T$3))),IF(ISBLANK(HLOOKUP(L$12,'Statiske ejendomme'!$B$3:$OF$80,'Statiske ejendomme'!$A37,FALSE))=FALSE,HLOOKUP(L$12,'Statiske ejendomme'!$B$3:$OF$80,'Statiske ejendomme'!$A37,FALSE),\"\"))),\"\")","v":5920.9777777777781},{"$f":"IFERROR(IF(M$12=Kredsudvælgelse!$Q$20,\"\",IF(Kredsudvælgelse!AD$2=1,IF(ISTEXT(DGET(Forespørgsel1[#All],\"\"&LEFT($F44,LEN($F44)-$C44)&\"\",Kredsudvælgelse!$U$2:$V$3))=TRUE,DGET(Forespørgsel1[#All],\"\"&LEFT($F44,LEN($F44)-$C44)&\"\",Kredsudvælgelse!$U$2:$V$3),DGET(Forespørgsel1[#All],\"\"&LEFT($F44,LEN($F44)-$C44)&\"\",Kredsudvælgelse!$U$2:$V$3)/IF(ISNONTEXT($D44)=TRUE,1,DGET(Forespørgsel1[#All],\"\"&$D44&\"\",Kredsudvælgelse!$U$2:$V$3))),IF(ISBLANK(HLOOKUP(M$12,'Statiske ejendomme'!$B$3:$OF$80,'Statiske ejendomme'!$A37,FALSE))=FALSE,HLOOKUP(M$12,'Statiske ejendomme'!$B$3:$OF$80,'Statiske ejendomme'!$A37,FALSE),\"\"))),\"\")","v":4458.505681818182},{"$f":"IFERROR(IF(N$12=Kredsudvælgelse!$Q$20,\"\",IF(Kredsudvælgelse!AE$2=1,IF(ISTEXT(DGET(Forespørgsel1[#All],\"\"&LEFT($F44,LEN($F44)-$C44)&\"\",Kredsudvælgelse!$W$2:$X$3))=TRUE,DGET(Forespørgsel1[#All],\"\"&LEFT($F44,LEN($F44)-$C44)&\"\",Kredsudvælgelse!$W$2:$X$3),DGET(Forespørgsel1[#All],\"\"&LEFT($F44,LEN($F44)-$C44)&\"\",Kredsudvælgelse!$W$2:$X$3)/IF(ISNONTEXT($D44)=TRUE,1,DGET(Forespørgsel1[#All],\"\"&$D44&\"\",Kredsudvælgelse!$W$2:$X$3))),IF(ISBLANK(HLOOKUP(N$12,'Statiske ejendomme'!$B$3:$OF$80,'Statiske ejendomme'!$A37,FALSE))=FALSE,HLOOKUP(N$12,'Statiske ejendomme'!$B$3:$OF$80,'Statiske ejendomme'!$A37,FALSE),\"\"))),\"\")","v":5280.6317053642915},{"$f":"IFERROR(IF(O$12=Kredsudvælgelse!$Q$20,\"\",IF(Kredsudvælgelse!AF$2=1,IF(ISTEXT(DGET(Forespørgsel1[#All],\"\"&LEFT($F44,LEN($F44)-$C44)&\"\",Kredsudvælgelse!$Y$2:$Z$3))=TRUE,DGET(Forespørgsel1[#All],\"\"&LEFT($F44,LEN($F44)-$C44)&\"\",Kredsudvælgelse!$Y$2:$Z$3),DGET(Forespørgsel1[#All],\"\"&LEFT($F44,LEN($F44)-$C44)&\"\",Kredsudvælgelse!$Y$2:$Z$3)/IF(ISNONTEXT($D44)=TRUE,1,DGET(Forespørgsel1[#All],\"\"&$D44&\"\",Kredsudvælgelse!$Y$2:$Z$3))),IF(ISBLANK(HLOOKUP(O$12,'Statiske ejendomme'!$B$3:$OF$80,'Statiske ejendomme'!$A37,FALSE))=FALSE,HLOOKUP(O$12,'Statiske ejendomme'!$B$3:$OF$80,'Statiske ejendomme'!$A37,FALSE),\"\"))),\"\")","v":5714.4232673267325},{"$f":"IFERROR(IF(P$12=Kredsudvælgelse!$Q$20,\"\",IF(Kredsudvælgelse!AG$2=1,IF(ISTEXT(DGET(Forespørgsel1[#All],\"\"&LEFT($F44,LEN($F44)-$C44)&\"\",Kredsudvælgelse!$Q$6:$R$7))=TRUE,DGET(Forespørgsel1[#All],\"\"&LEFT($F44,LEN($F44)-$C44)&\"\",Kredsudvælgelse!$Q$6:$R$7),DGET(Forespørgsel1[#All],\"\"&LEFT($F44,LEN($F44)-$C44)&\"\",Kredsudvælgelse!$Q$6:$R$7)/IF(ISNONTEXT($D44)=TRUE,1,DGET(Forespørgsel1[#All],\"\"&$D44&\"\",Kredsudvælgelse!$Q$6:$R$7))),IF(ISBLANK(HLOOKUP(P$12,'Statiske ejendomme'!$B$3:$OF$80,'Statiske ejendomme'!$A37,FALSE))=FALSE,HLOOKUP(P$12,'Statiske ejendomme'!$B$3:$OF$80,'Statiske ejendomme'!$A37,FALSE),\"\"))),\"\")","v":6302.751592356688},{"$f":"IFERROR(IF(Q$12=Kredsudvælgelse!$Q$20,\"\",IF(Kredsudvælgelse!AH$2=1,IF(ISTEXT(DGET(Forespørgsel1[#All],\"\"&LEFT($F44,LEN($F44)-$C44)&\"\",Kredsudvælgelse!$S$6:$T$7))=TRUE,DGET(Forespørgsel1[#All],\"\"&LEFT($F44,LEN($F44)-$C44)&\"\",Kredsudvælgelse!$S$6:$T$7),DGET(Forespørgsel1[#All],\"\"&LEFT($F44,LEN($F44)-$C44)&\"\",Kredsudvælgelse!$S$6:$T$7)/IF(ISNONTEXT($D44)=TRUE,1,DGET(Forespørgsel1[#All],\"\"&$D44&\"\",Kredsudvælgelse!$S$6:$T$7))),IF(ISBLANK(HLOOKUP(Q$12,'Statiske ejendomme'!$B$3:$OF$80,'Statiske ejendomme'!$A37,FALSE))=FALSE,HLOOKUP(Q$12,'Statiske ejendomme'!$B$3:$OF$80,'Statiske ejendomme'!$A37,FALSE),\"\"))),\"\")","v":6665.0701754385964},{"$f":"IFERROR(IF(R$12=Kredsudvælgelse!$Q$20,\"\",IF(Kredsudvælgelse!AI$2=1,IF(ISTEXT(DGET(Forespørgsel1[#All],\"\"&LEFT($F44,LEN($F44)-$C44)&\"\",Kredsudvælgelse!$U$6:$V$7))=TRUE,DGET(Forespørgsel1[#All],\"\"&LEFT($F44,LEN($F44)-$C44)&\"\",Kredsudvælgelse!$U$6:$V$7),DGET(Forespørgsel1[#All],\"\"&LEFT($F44,LEN($F44)-$C44)&\"\",Kredsudvælgelse!$U$6:$V$7)/IF(ISNONTEXT($D44)=TRUE,1,DGET(Forespørgsel1[#All],\"\"&$D44&\"\",Kredsudvælgelse!$U$6:$V$7))),IF(ISBLANK(HLOOKUP(R$12,'Statiske ejendomme'!$B$3:$OF$80,'Statiske ejendomme'!$A37,FALSE))=FALSE,HLOOKUP(R$12,'Statiske ejendomme'!$B$3:$OF$80,'Statiske ejendomme'!$A37,FALSE),\"\"))),\"\")","v":5437.4726324934836},{"$f":"IFERROR(IF(S$12=Kredsudvælgelse!$Q$20,\"\",IF(Kredsudvælgelse!AJ$2=1,IF(ISTEXT(DGET(Forespørgsel1[#All],\"\"&LEFT($F44,LEN($F44)-$C44)&\"\",Kredsudvælgelse!$W$6:$X$7))=TRUE,DGET(Forespørgsel1[#All],\"\"&LEFT($F44,LEN($F44)-$C44)&\"\",Kredsudvælgelse!$W$6:$X$7),DGET(Forespørgsel1[#All],\"\"&LEFT($F44,LEN($F44)-$C44)&\"\",Kredsudvælgelse!$W$6:$X$7)/IF(ISNONTEXT($D44)=TRUE,1,DGET(Forespørgsel1[#All],\"\"&$D44&\"\",Kredsudvælgelse!$W$6:$X$7))),IF(ISBLANK(HLOOKUP(S$12,'Statiske ejendomme'!$B$3:$OF$80,'Statiske ejendomme'!$A37,FALSE))=FALSE,HLOOKUP(S$12,'Statiske ejendomme'!$B$3:$OF$80,'Statiske ejendomme'!$A37,FALSE),\"\"))),\"\")","v":6178.6830985915494},{"$f":"IFERROR(IF(T$12=Kredsudvælgelse!$Q$20,\"\",IF(Kredsudvælgelse!AK$2=1,IF(ISTEXT(DGET(Forespørgsel1[#All],\"\"&LEFT($F44,LEN($F44)-$C44)&\"\",Kredsudvælgelse!$Y$6:$Z$7))=TRUE,DGET(Forespørgsel1[#All],\"\"&LEFT($F44,LEN($F44)-$C44)&\"\",Kredsudvælgelse!$Y$6:$Z$7),DGET(Forespørgsel1[#All],\"\"&LEFT($F44,LEN($F44)-$C44)&\"\",Kredsudvælgelse!$Y$6:$Z$7)/IF(ISNONTEXT($D44)=TRUE,1,DGET(Forespørgsel1[#All],\"\"&$D44&\"\",Kredsudvælgelse!$Y$6:$Z$7))),IF(ISBLANK(HLOOKUP(T$12,'Statiske ejendomme'!$B$3:$OF$80,'Statiske ejendomme'!$A37,FALSE))=FALSE,HLOOKUP(T$12,'Statiske ejendomme'!$B$3:$OF$80,'Statiske ejendomme'!$A37,FALSE),\"\"))),\"\")","v":5997.7810945273632}]
[1,{"$f":"Slagtekalve!D117","v":1},{"$f":"Slagtekalve!A36","v":0},{"$f":"Slagtekalve!B36","v":"Antal Producerede kalve"},null,{"$f":"Slagtekalve!C36","v":"Køb af dyr, kvæg"},{"$f":"IF(Choices!$A$1=2,Landsgennemsnit!B36,IF(Choices!$A$1=3,Landsgennemsnit!E36,\"\"))","v":-1214.1245410190634},{"$f":"IF(Choices!$A$1=2,Landsgennemsnit!C36,IF(Choices!$A$1=3,Landsgennemsnit!F36,\"\"))","v":-1166.9578313253012},{"$f":"IF(OR(Choices!$A$1=2,Choices!$A$1=3),Slagtekalve!F36,\"\")","v":""},{"$f":"IF(OR(Choices!$A$1=2,Choices!$A$1=3),Slagtekalve!G36,\"\")","v":""},{"$f":"IFERROR(IF(K$12=Kredsudvælgelse!$Q$20,\"\",IF(Kredsudvælgelse!AB$2=1,IF(ISTEXT(DGET(Forespørgsel1[#All],\"\"&LEFT($F45,LEN($F45)-$C45)&\"\",Kredsudvælgelse!$Q$2:$R$3))=TRUE,DGET(Forespørgsel1[#All],\"\"&LEFT($F45,LEN($F45)-$C45)&\"\",Kredsudvælgelse!$Q$2:$R$3),DGET(Forespørgsel1[#All],\"\"&LEFT($F45,LEN($F45)-$C45)&\"\",Kredsudvælgelse!$Q$2:$R$3)/IF(ISNONTEXT($D45)=TRUE,1,DGET(Forespørgsel1[#All],\"\"&$D45&\"\",Kredsudvælgelse!$Q$2:$R$3))),IF(ISBLANK(HLOOKUP(K$12,'Statiske ejendomme'!$B$3:$OF$80,'Statiske ejendomme'!$A38,FALSE))=FALSE,HLOOKUP(K$12,'Statiske ejendomme'!$B$3:$OF$80,'Statiske ejendomme'!$A38,FALSE),\"\"))),\"\")","v":-1217.825958702065},{"$f":"IFERROR(IF(L$12=Kredsudvælgelse!$Q$20,\"\",IF(Kredsudvælgelse!AC$2=1,IF(ISTEXT(DGET(Forespørgsel1[#All],\"\"&LEFT($F45,LEN($F45)-$C45)&\"\",Kredsudvælgelse!$S$2:$T$3))=TRUE,DGET(Forespørgsel1[#All],\"\"&LEFT($F45,LEN($F45)-$C45)&\"\",Kredsudvælgelse!$S$2:$T$3),DGET(Forespørgsel1[#All],\"\"&LEFT($F45,LEN($F45)-$C45)&\"\",Kredsudvælgelse!$S$2:$T$3)/IF(ISNONTEXT($D45)=TRUE,1,DGET(Forespørgsel1[#All],\"\"&$D45&\"\",Kredsudvælgelse!$S$2:$T$3))),IF(ISBLANK(HLOOKUP(L$12,'Statiske ejendomme'!$B$3:$OF$80,'Statiske ejendomme'!$A38,FALSE))=FALSE,HLOOKUP(L$12,'Statiske ejendomme'!$B$3:$OF$80,'Statiske ejendomme'!$A38,FALSE),\"\"))),\"\")","v":-1057.7432098765432},{"$f":"IFERROR(IF(M$12=Kredsudvælgelse!$Q$20,\"\",IF(Kredsudvælgelse!AD$2=1,IF(ISTEXT(DGET(Forespørgsel1[#All],\"\"&LEFT($F45,LEN($F45)-$C45)&\"\",Kredsudvælgelse!$U$2:$V$3))=TRUE,DGET(Forespørgsel1[#All],\"\"&LEFT($F45,LEN($F45)-$C45)&\"\",Kredsudvælgelse!$U$2:$V$3),DGET(Forespørgsel1[#All],\"\"&LEFT($F45,LEN($F45)-$C45)&\"\",Kredsudvælgelse!$U$2:$V$3)/IF(ISNONTEXT($D45)=TRUE,1,DGET(Forespørgsel1[#All],\"\"&$D45&\"\",Kredsudvælgelse!$U$2:$V$3))),IF(ISBLANK(HLOOKUP(M$12,'Statiske ejendomme'!$B$3:$OF$80,'Statiske ejendomme'!$A38,FALSE))=FALSE,HLOOKUP(M$12,'Statiske ejendomme'!$B$3:$OF$80,'Statiske ejendomme'!$A38,FALSE),\"\"))),\"\")","v":-1000},{"$f":"IFERROR(IF(N$12=Kredsudvælgelse!$Q$20,\"\",IF(Kredsudvælgelse!AE$2=1,IF(ISTEXT(DGET(Forespørgsel1[#All],\"\"&LEFT($F45,LEN($F45)-$C45)&\"\",Kredsudvælgelse!$W$2:$X$3))=TRUE,DGET(Forespørgsel1[#All],\"\"&LEFT($F45,LEN($F45)-$C45)&\"\",Kredsudvælgelse!$W$2:$X$3),DGET(Forespørgsel1[#All],\"\"&LEFT($F45,LEN($F45)-$C45)&\"\",Kredsudvælgelse!$W$2:$X$3)/IF(ISNONTEXT($D45)=TRUE,1,DGET(Forespørgsel1[#All],\"\"&$D45&\"\",Kredsudvælgelse!$W$2:$X$3))),IF(ISBLANK(HLOOKUP(N$12,'Statiske ejendomme'!$B$3:$OF$80,'Statiske ejendomme'!$A38,FALSE))=FALSE,HLOOKUP(N$12,'Statiske ejendomme'!$B$3:$OF$80,'Statiske ejendomme'!$A38,FALSE),\"\"))),\"\")","v":-1360.6493194555644},{"$f":"IFERROR(IF(O$12=Kredsudvælgelse!$Q$20,\"\",IF(Kredsudvælgelse!AF$2=1,IF(ISTEXT(DGET(Forespørgsel1[#All],\"\"&LEFT($F45,LEN($F45)-$C45)&\"\",Kredsudvælgelse!$Y$2:$Z$3))=TRUE,DGET(Forespørgsel1[#All],\"\"&LEFT($F45,LEN($F45)-$C45)&\"\",Kredsudvælgelse!$Y$2:$Z$3),DGET(Forespørgsel1[#All],\"\"&LEFT($F45,LEN($F45)-$C45)&\"\",Kredsudvælgelse!$Y$2:$Z$3)/IF(ISNONTEXT($D45)=TRUE,1,DGET(Forespørgsel1[#All],\"\"&$D45&\"\",Kredsudvælgelse!$Y$2:$Z$3))),IF(ISBLANK(HLOOKUP(O$12,'Statiske ejendomme'!$B$3:$OF$80,'Statiske ejendomme'!$A38,FALSE))=FALSE,HLOOKUP(O$12,'Statiske ejendomme'!$B$3:$OF$80,'Statiske ejendomme'!$A38,FALSE),\"\"))),\"\")","v":-1197.3712871287128},{"$f":"IFERROR(IF(P$12=Kredsudvælgelse!$Q$20,\"\",IF(Kredsudvælgelse!AG$2=1,IF(ISTEXT(DGET(Forespørgsel1[#All],\"\"&LEFT($F45,LEN($F45)-$C45)&\"\",Kredsudvælgelse!$Q$6:$R$7))=TRUE,DGET(Forespørgsel1[#All],\"\"&LEFT($F45,LEN($F45)-$C45)&\"\",Kredsudvælgelse!$Q$6:$R$7),DGET(Forespørgsel1[#All],\"\"&LEFT($F45,LEN($F45)-$C45)&\"\",Kredsudvælgelse!$Q$6:$R$7)/IF(ISNONTEXT($D45)=TRUE,1,DGET(Forespørgsel1[#All],\"\"&$D45&\"\",Kredsudvælgelse!$Q$6:$R$7))),IF(ISBLANK(HLOOKUP(P$12,'Statiske ejendomme'!$B$3:$OF$80,'Statiske ejendomme'!$A38,FALSE))=FALSE,HLOOKUP(P$12,'Statiske ejendomme'!$B$3:$OF$80,'Statiske ejendomme'!$A38,FALSE),\"\"))),\"\")","v":-1399.7070063694268},{"$f":"IFERROR(IF(Q$12=Kredsudvælgelse!$Q$20,\"\",IF(Kredsudvælgelse!AH$2=1,IF(ISTEXT(DGET(Forespørgsel1[#All],\"\"&LEFT($F45,LEN($F45)-$C45)&\"\",Kredsudvælgelse!$S$6:$T$7))=TRUE,DGET(Forespørgsel1[#All],\"\"&LEFT($F45,LEN($F45)-$C45)&\"\",Kredsudvælgelse!$S$6:$T$7),DGET(Forespørgsel1[#All],\"\"&LEFT($F45,LEN($F45)-$C45)&\"\",Kredsudvælgelse!$S$6:$T$7)/IF(ISNONTEXT($D45)=TRUE,1,DGET(Forespørgsel1[#All],\"\"&$D45&\"\",Kredsudvælgelse!$S$6:$T$7))),IF(ISBLANK(HLOOKUP(Q$12,'Statiske ejendomme'!$B$3:$OF$80,'Statiske ejendomme'!$A38,FALSE))=FALSE,HLOOKUP(Q$12,'Statiske ejendomme'!$B$3:$OF$80,'Statiske ejendomme'!$A38,FALSE),\"\"))),\"\")","v":-1096.4912280701753},{"$f":"IFERROR(IF(R$12=Kredsudvælgelse!$Q$20,\"\",IF(Kredsudvælgelse!AI$2=1,IF(ISTEXT(DGET(Forespørgsel1[#All],\"\"&LEFT($F45,LEN($F45)-$C45)&\"\",Kredsudvælgelse!$U$6:$V$7))=TRUE,DGET(Forespørgsel1[#All],\"\"&LEFT($F45,LEN($F45)-$C45)&\"\",Kredsudvælgelse!$U$6:$V$7),DGET(Forespørgsel1[#All],\"\"&LEFT($F45,LEN($F45)-$C45)&\"\",Kredsudvælgelse!$U$6:$V$7)/IF(ISNONTEXT($D45)=TRUE,1,DGET(Forespørgsel1[#All],\"\"&$D45&\"\",Kredsudvælgelse!$U$6:$V$7))),IF(ISBLANK(HLOOKUP(R$12,'Statiske ejendomme'!$B$3:$OF$80,'Statiske ejendomme'!$A38,FALSE))=FALSE,HLOOKUP(R$12,'Statiske ejendomme'!$B$3:$OF$80,'Statiske ejendomme'!$A38,FALSE),\"\"))),\"\")","v":-1293.8079930495221},{"$f":"IFERROR(IF(S$12=Kredsudvælgelse!$Q$20,\"\",IF(Kredsudvælgelse!AJ$2=1,IF(ISTEXT(DGET(Forespørgsel1[#All],\"\"&LEFT($F45,LEN($F45)-$C45)&\"\",Kredsudvælgelse!$W$6:$X$7))=TRUE,DGET(Forespørgsel1[#All],\"\"&LEFT($F45,LEN($F45)-$C45)&\"\",Kredsudvælgelse!$W$6:$X$7),DGET(Forespørgsel1[#All],\"\"&LEFT($F45,LEN($F45)-$C45)&\"\",Kredsudvælgelse!$W$6:$X$7)/IF(ISNONTEXT($D45)=TRUE,1,DGET(Forespørgsel1[#All],\"\"&$D45&\"\",Kredsudvælgelse!$W$6:$X$7))),IF(ISBLANK(HLOOKUP(S$12,'Statiske ejendomme'!$B$3:$OF$80,'Statiske ejendomme'!$A38,FALSE))=FALSE,HLOOKUP(S$12,'Statiske ejendomme'!$B$3:$OF$80,'Statiske ejendomme'!$A38,FALSE),\"\"))),\"\")","v":-1143.894366197183},{"$f":"IFERROR(IF(T$12=Kredsudvælgelse!$Q$20,\"\",IF(Kredsudvælgelse!AK$2=1,IF(ISTEXT(DGET(Forespørgsel1[#All],\"\"&LEFT($F45,LEN($F45)-$C45)&\"\",Kredsudvælgelse!$Y$6:$Z$7))=TRUE,DGET(Forespørgsel1[#All],\"\"&LEFT($F45,LEN($F45)-$C45)&\"\",Kredsudvælgelse!$Y$6:$Z$7),DGET(Forespørgsel1[#All],\"\"&LEFT($F45,LEN($F45)-$C45)&\"\",Kredsudvælgelse!$Y$6:$Z$7)/IF(ISNONTEXT($D45)=TRUE,1,DGET(Forespørgsel1[#All],\"\"&$D45&\"\",Kredsudvælgelse!$Y$6:$Z$7))),IF(ISBLANK(HLOOKUP(T$12,'Statiske ejendomme'!$B$3:$OF$80,'Statiske ejendomme'!$A38,FALSE))=FALSE,HLOOKUP(T$12,'Statiske ejendomme'!$B$3:$OF$80,'Statiske ejendomme'!$A38,FALSE),\"\"))),\"\")","v":-1296.1701492537313}]
[1,{"$f":"Slagtekalve!D118","v":1},{"$f":"Slagtekalve!A37","v":0},{"$f":"Slagtekalve!B37","v":"Antal Producerede kalve"},null,{"$f":"Slagtekalve!C37","v":"Besætningsforskydning"},{"$f":"IF(Choices!$A$1=2,Landsgennemsnit!B37,IF(Choices!$A$1=3,Landsgennemsnit!E37,\"\"))","v":38.498113776972993},{"$f":"IF(Choices!$A$1=2,Landsgennemsnit!C37,IF(Choices!$A$1=3,Landsgennemsnit!F37,\"\"))","v":0.63489672977624789},{"$f":"IF(OR(Choices!$A$1=2,Choices!$A$1=3),Slagtekalve!F37,\"\")","v":""},{"$f":"IF(OR(Choices!$A$1=2,Choices!$A$1=3),Slagtekalve!G37,\"\")","v":""},{"$f":"IFERROR(IF(K$12=Kredsudvælgelse!$Q$20,\"\",IF(Kredsudvælgelse!AB$2=1,IF(ISTEXT(DGET(Forespørgsel1[#All],\"\"&LEFT($F46,LEN($F46)-$C46)&\"\",Kredsudvælgelse!$Q$2:$R$3))=TRUE,DGET(Forespørgsel1[#All],\"\"&LEFT($F46,LEN($F46)-$C46)&\"\",Kredsudvælgelse!$Q$2:$R$3),DGET(Forespørgsel1[#All],\"\"&LEFT($F46,LEN($F46)-$C46)&\"\",Kredsudvælgelse!$Q$2:$R$3)/IF(ISNONTEXT($D46)=TRUE,1,DGET(Forespørgsel1[#All],\"\"&$D46&\"\",Kredsudvælgelse!$Q$2:$R$3))),IF(ISBLANK(HLOOKUP(K$12,'Statiske ejendomme'!$B$3:$OF$80,'Statiske ejendomme'!$A39,FALSE))=FALSE,HLOOKUP(K$12,'Statiske ejendomme'!$B$3:$OF$80,'Statiske ejendomme'!$A39,FALSE),\"\"))),\"\")","v":669.61651917404129},{"$f":"IFERROR(IF(L$12=Kredsudvælgelse!$Q$20,\"\",IF(Kredsudvælgelse!AC$2=1,IF(ISTEXT(DGET(Forespørgsel1[#All],\"\"&LEFT($F46,LEN($F46)-$C46)&\"\",Kredsudvælgelse!$S$2:$T$3))=TRUE,DGET(Forespørgsel1[#All],\"\"&LEFT($F46,LEN($F46)-$C46)&\"\",Kredsudvælgelse!$S$2:$T$3),DGET(Forespørgsel1[#All],\"\"&LEFT($F46,LEN($F46)-$C46)&\"\",Kredsudvælgelse!$S$2:$T$3)/IF(ISNONTEXT($D46)=TRUE,1,DGET(Forespørgsel1[#All],\"\"&$D46&\"\",Kredsudvælgelse!$S$2:$T$3))),IF(ISBLANK(HLOOKUP(L$12,'Statiske ejendomme'!$B$3:$OF$80,'Statiske ejendomme'!$A39,FALSE))=FALSE,HLOOKUP(L$12,'Statiske ejendomme'!$B$3:$OF$80,'Statiske ejendomme'!$A39,FALSE),\"\"))),\"\")","v":-94.238683127572017},{"$f":"IFERROR(IF(M$12=Kredsudvælgelse!$Q$20,\"\",IF(Kredsudvælgelse!AD$2=1,IF(ISTEXT(DGET(Forespørgsel1[#All],\"\"&LEFT($F46,LEN($F46)-$C46)&\"\",Kredsudvælgelse!$U$2:$V$3))=TRUE,DGET(Forespørgsel1[#All],\"\"&LEFT($F46,LEN($F46)-$C46)&\"\",Kredsudvælgelse!$U$2:$V$3),DGET(Forespørgsel1[#All],\"\"&LEFT($F46,LEN($F46)-$C46)&\"\",Kredsudvælgelse!$U$2:$V$3)/IF(ISNONTEXT($D46)=TRUE,1,DGET(Forespørgsel1[#All],\"\"&$D46&\"\",Kredsudvælgelse!$U$2:$V$3))),IF(ISBLANK(HLOOKUP(M$12,'Statiske ejendomme'!$B$3:$OF$80,'Statiske ejendomme'!$A39,FALSE))=FALSE,HLOOKUP(M$12,'Statiske ejendomme'!$B$3:$OF$80,'Statiske ejendomme'!$A39,FALSE),\"\"))),\"\")","v":478.97727272727275},{"$f":"IFERROR(IF(N$12=Kredsudvælgelse!$Q$20,\"\",IF(Kredsudvælgelse!AE$2=1,IF(ISTEXT(DGET(Forespørgsel1[#All],\"\"&LEFT($F46,LEN($F46)-$C46)&\"\",Kredsudvælgelse!$W$2:$X$3))=TRUE,DGET(Forespørgsel1[#All],\"\"&LEFT($F46,LEN($F46)-$C46)&\"\",Kredsudvælgelse!$W$2:$X$3),DGET(Forespørgsel1[#All],\"\"&LEFT($F46,LEN($F46)-$C46)&\"\",Kredsudvælgelse!$W$2:$X$3)/IF(ISNONTEXT($D46)=TRUE,1,DGET(Forespørgsel1[#All],\"\"&$D46&\"\",Kredsudvælgelse!$W$2:$X$3))),IF(ISBLANK(HLOOKUP(N$12,'Statiske ejendomme'!$B$3:$OF$80,'Statiske ejendomme'!$A39,FALSE))=FALSE,HLOOKUP(N$12,'Statiske ejendomme'!$B$3:$OF$80,'Statiske ejendomme'!$A39,FALSE),\"\"))),\"\")","v":618.81505204163329},{"$f":"IFERROR(IF(O$12=Kredsudvælgelse!$Q$20,\"\",IF(Kredsudvælgelse!AF$2=1,IF(ISTEXT(DGET(Forespørgsel1[#All],\"\"&LEFT($F46,LEN($F46)-$C46)&\"\",Kredsudvælgelse!$Y$2:$Z$3))=TRUE,DGET(Forespørgsel1[#All],\"\"&LEFT($F46,LEN($F46)-$C46)&\"\",Kredsudvælgelse!$Y$2:$Z$3),DGET(Forespørgsel1[#All],\"\"&LEFT($F46,LEN($F46)-$C46)&\"\",Kredsudvælgelse!$Y$2:$Z$3)/IF(ISNONTEXT($D46)=TRUE,1,DGET(Forespørgsel1[#All],\"\"&$D46&\"\",Kredsudvælgelse!$Y$2:$Z$3))),IF(ISBLANK(HLOOKUP(O$12,'Statiske ejendomme'!$B$3:$OF$80,'Statiske ejendomme'!$A39,FALSE))=FALSE,HLOOKUP(O$12,'Statiske ejendomme'!$B$3:$OF$80,'Statiske ejendomme'!$A39,FALSE),\"\"))),\"\")","v":-137.12871287128712},{"$f":"IFERROR(IF(P$12=Kredsudvælgelse!$Q$20,\"\",IF(Kredsudvælgelse!AG$2=1,IF(ISTEXT(DGET(Forespørgsel1[#All],\"\"&LEFT($F46,LEN($F46)-$C46)&\"\",Kredsudvælgelse!$Q$6:$R$7))=TRUE,DGET(Forespørgsel1[#All],\"\"&LEFT($F46,LEN($F46)-$C46)&\"\",Kredsudvælgelse!$Q$6:$R$7),DGET(Forespørgsel1[#All],\"\"&LEFT($F46,LEN($F46)-$C46)&\"\",Kredsudvælgelse!$Q$6:$R$7)/IF(ISNONTEXT($D46)=TRUE,1,DGET(Forespørgsel1[#All],\"\"&$D46&\"\",Kredsudvælgelse!$Q$6:$R$7))),IF(ISBLANK(HLOOKUP(P$12,'Statiske ejendomme'!$B$3:$OF$80,'Statiske ejendomme'!$A39,FALSE))=FALSE,HLOOKUP(P$12,'Statiske ejendomme'!$B$3:$OF$80,'Statiske ejendomme'!$A39,FALSE),\"\"))),\"\")","v":305.73248407643314},{"$f":"IFERROR(IF(Q$12=Kredsudvælgelse!$Q$20,\"\",IF(Kredsudvælgelse!AH$2=1,IF(ISTEXT(DGET(Forespørgsel1[#All],\"\"&LEFT($F46,LEN($F46)-$C46)&\"\",Kredsudvælgelse!$S$6:$T$7))=TRUE,DGET(Forespørgsel1[#All],\"\"&LEFT($F46,LEN($F46)-$C46)&\"\",Kredsudvælgelse!$S$6:$T$7),DGET(Forespørgsel1[#All],\"\"&LEFT($F46,LEN($F46)-$C46)&\"\",Kredsudvælgelse!$S$6:$T$7)/IF(ISNONTEXT($D46)=TRUE,1,DGET(Forespørgsel1[#All],\"\"&$D46&\"\",Kredsudvælgelse!$S$6:$T$7))),IF(ISBLANK(HLOOKUP(Q$12,'Statiske ejendomme'!$B$3:$OF$80,'Statiske ejendomme'!$A39,FALSE))=FALSE,HLOOKUP(Q$12,'Statiske ejendomme'!$B$3:$OF$80,'Statiske ejendomme'!$A39,FALSE),\"\"))),\"\")","v":-544.73684210526312},{"$f":"IFERROR(IF(R$12=Kredsudvælgelse!$Q$20,\"\",IF(Kredsudvælgelse!AI$2=1,IF(ISTEXT(DGET(Forespørgsel1[#All],\"\"&LEFT($F46,LEN($F46)-$C46)&\"\",Kredsudvælgelse!$U$6:$V$7))=TRUE,DGET(Forespørgsel1[#All],\"\"&LEFT($F46,LEN($F46)-$C46)&\"\",Kredsudvælgelse!$U$6:$V$7),DGET(Forespørgsel1[#All],\"\"&LEFT($F46,LEN($F46)-$C46)&\"\",Kredsudvælgelse!$U$6:$V$7)/IF(ISNONTEXT($D46)=TRUE,1,DGET(Forespørgsel1[#All],\"\"&$D46&\"\",Kredsudvælgelse!$U$6:$V$7))),IF(ISBLANK(HLOOKUP(R$12,'Statiske ejendomme'!$B$3:$OF$80,'Statiske ejendomme'!$A39,FALSE))=FALSE,HLOOKUP(R$12,'Statiske ejendomme'!$B$3:$OF$80,'Statiske ejendomme'!$A39,FALSE),\"\"))),\"\")","v":-77.497827975673331},{"$f":"IFERROR(IF(S$12=Kredsudvælgelse!$Q$20,\"\",IF(Kredsudvælgelse!AJ$2=1,IF(ISTEXT(DGET(Forespørgsel1[#All],\"\"&LEFT($F46,LEN($F46)-$C46)&\"\",Kredsudvælgelse!$W$6:$X$7))=TRUE,DGET(Forespørgsel1[#All],\"\"&LEFT($F46,LEN($F46)-$C46)&\"\",Kredsudvælgelse!$W$6:$X$7),DGET(Forespørgsel1[#All],\"\"&LEFT($F46,LEN($F46)-$C46)&\"\",Kredsudvælgelse!$W$6:$X$7)/IF(ISNONTEXT($D46)=TRUE,1,DGET(Forespørgsel1[#All],\"\"&$D46&\"\",Kredsudvælgelse!$W$6:$X$7))),IF(ISBLANK(HLOOKUP(S$12,'Statiske ejendomme'!$B$3:$OF$80,'Statiske ejendomme'!$A39,FALSE))=FALSE,HLOOKUP(S$12,'Statiske ejendomme'!$B$3:$OF$80,'Statiske ejendomme'!$A39,FALSE),\"\"))),\"\")","v":-227.46478873239437},{"$f":"IFERROR(IF(T$12=Kredsudvælgelse!$Q$20,\"\",IF(Kredsudvælgelse!AK$2=1,IF(ISTEXT(DGET(Forespørgsel1[#All],\"\"&LEFT($F46,LEN($F46)-$C46)&\"\",Kredsudvælgelse!$Y$6:$Z$7))=TRUE,DGET(Forespørgsel1[#All],\"\"&LEFT($F46,LEN($F46)-$C46)&\"\",Kredsudvælgelse!$Y$6:$Z$7),DGET(Forespørgsel1[#All],\"\"&LEFT($F46,LEN($F46)-$C46)&\"\",Kredsudvælgelse!$Y$6:$Z$7)/IF(ISNONTEXT($D46)=TRUE,1,DGET(Forespørgsel1[#All],\"\"&$D46&\"\",Kredsudvælgelse!$Y$6:$Z$7))),IF(ISBLANK(HLOOKUP(T$12,'Statiske ejendomme'!$B$3:$OF$80,'Statiske ejendomme'!$A39,FALSE))=FALSE,HLOOKUP(T$12,'Statiske ejendomme'!$B$3:$OF$80,'Statiske ejendomme'!$A39,FALSE),\"\"))),\"\")","v":134.82587064676616}]
[1,{"$f":"Slagtekalve!D119","v":1},{"$f":"Slagtekalve!A38","v":0},{"$f":"Slagtekalve!B38","v":"Antal Producerede kalve"},null,{"$f":"Slagtekalve!C38","v":"Kvæg andet, inkl. slagtepræmie"},{"$f":"IF(Choices!$A$1=2,Landsgennemsnit!B38,IF(Choices!$A$1=3,Landsgennemsnit!E38,\"\"))","v":726.78758613751825},{"$f":"IF(Choices!$A$1=2,Landsgennemsnit!C38,IF(Choices!$A$1=3,Landsgennemsnit!F38,\"\"))","v":751.31755593803791},{"$f":"IF(OR(Choices!$A$1=2,Choices!$A$1=3),Slagtekalve!F38,\"\")","v":""},{"$f":"IF(OR(Choices!$A$1=2,Choices!$A$1=3),Slagtekalve!G38,\"\")","v":""},{"$f":"IFERROR(IF(K$12=Kredsudvælgelse!$Q$20,\"\",IF(Kredsudvælgelse!AB$2=1,IF(ISTEXT(DGET(Forespørgsel1[#All],\"\"&LEFT($F47,LEN($F47)-$C47)&\"\",Kredsudvælgelse!$Q$2:$R$3))=TRUE,DGET(Forespørgsel1[#All],\"\"&LEFT($F47,LEN($F47)-$C47)&\"\",Kredsudvælgelse!$Q$2:$R$3),DGET(Forespørgsel1[#All],\"\"&LEFT($F47,LEN($F47)-$C47)&\"\",Kredsudvælgelse!$Q$2:$R$3)/IF(ISNONTEXT($D47)=TRUE,1,DGET(Forespørgsel1[#All],\"\"&$D47&\"\",Kredsudvælgelse!$Q$2:$R$3))),IF(ISBLANK(HLOOKUP(K$12,'Statiske ejendomme'!$B$3:$OF$80,'Statiske ejendomme'!$A40,FALSE))=FALSE,HLOOKUP(K$12,'Statiske ejendomme'!$B$3:$OF$80,'Statiske ejendomme'!$A40,FALSE),\"\"))),\"\")","v":756.58112094395278},{"$f":"IFERROR(IF(L$12=Kredsudvælgelse!$Q$20,\"\",IF(Kredsudvælgelse!AC$2=1,IF(ISTEXT(DGET(Forespørgsel1[#All],\"\"&LEFT($F47,LEN($F47)-$C47)&\"\",Kredsudvælgelse!$S$2:$T$3))=TRUE,DGET(Forespørgsel1[#All],\"\"&LEFT($F47,LEN($F47)-$C47)&\"\",Kredsudvælgelse!$S$2:$T$3),DGET(Forespørgsel1[#All],\"\"&LEFT($F47,LEN($F47)-$C47)&\"\",Kredsudvælgelse!$S$2:$T$3)/IF(ISNONTEXT($D47)=TRUE,1,DGET(Forespørgsel1[#All],\"\"&$D47&\"\",Kredsudvælgelse!$S$2:$T$3))),IF(ISBLANK(HLOOKUP(L$12,'Statiske ejendomme'!$B$3:$OF$80,'Statiske ejendomme'!$A40,FALSE))=FALSE,HLOOKUP(L$12,'Statiske ejendomme'!$B$3:$OF$80,'Statiske ejendomme'!$A40,FALSE),\"\"))),\"\")","v":759.09053497942386},{"$f":"IFERROR(IF(M$12=Kredsudvælgelse!$Q$20,\"\",IF(Kredsudvælgelse!AD$2=1,IF(ISTEXT(DGET(Forespørgsel1[#All],\"\"&LEFT($F47,LEN($F47)-$C47)&\"\",Kredsudvælgelse!$U$2:$V$3))=TRUE,DGET(Forespørgsel1[#All],\"\"&LEFT($F47,LEN($F47)-$C47)&\"\",Kredsudvælgelse!$U$2:$V$3),DGET(Forespørgsel1[#All],\"\"&LEFT($F47,LEN($F47)-$C47)&\"\",Kredsudvælgelse!$U$2:$V$3)/IF(ISNONTEXT($D47)=TRUE,1,DGET(Forespørgsel1[#All],\"\"&$D47&\"\",Kredsudvælgelse!$U$2:$V$3))),IF(ISBLANK(HLOOKUP(M$12,'Statiske ejendomme'!$B$3:$OF$80,'Statiske ejendomme'!$A40,FALSE))=FALSE,HLOOKUP(M$12,'Statiske ejendomme'!$B$3:$OF$80,'Statiske ejendomme'!$A40,FALSE),\"\"))),\"\")","v":799.05113636363637},{"$f":"IFERROR(IF(N$12=Kredsudvælgelse!$Q$20,\"\",IF(Kredsudvælgelse!AE$2=1,IF(ISTEXT(DGET(Forespørgsel1[#All],\"\"&LEFT($F47,LEN($F47)-$C47)&\"\",Kredsudvælgelse!$W$2:$X$3))=TRUE,DGET(Forespørgsel1[#All],\"\"&LEFT($F47,LEN($F47)-$C47)&\"\",Kredsudvælgelse!$W$2:$X$3),DGET(Forespørgsel1[#All],\"\"&LEFT($F47,LEN($F47)-$C47)&\"\",Kredsudvælgelse!$W$2:$X$3)/IF(ISNONTEXT($D47)=TRUE,1,DGET(Forespørgsel1[#All],\"\"&$D47&\"\",Kredsudvælgelse!$W$2:$X$3))),IF(ISBLANK(HLOOKUP(N$12,'Statiske ejendomme'!$B$3:$OF$80,'Statiske ejendomme'!$A40,FALSE))=FALSE,HLOOKUP(N$12,'Statiske ejendomme'!$B$3:$OF$80,'Statiske ejendomme'!$A40,FALSE),\"\"))),\"\")","v":758.23458767013608},{"$f":"IFERROR(IF(O$12=Kredsudvælgelse!$Q$20,\"\",IF(Kredsudvælgelse!AF$2=1,IF(ISTEXT(DGET(Forespørgsel1[#All],\"\"&LEFT($F47,LEN($F47)-$C47)&\"\",Kredsudvælgelse!$Y$2:$Z$3))=TRUE,DGET(Forespørgsel1[#All],\"\"&LEFT($F47,LEN($F47)-$C47)&\"\",Kredsudvælgelse!$Y$2:$Z$3),DGET(Forespørgsel1[#All],\"\"&LEFT($F47,LEN($F47)-$C47)&\"\",Kredsudvælgelse!$Y$2:$Z$3)/IF(ISNONTEXT($D47)=TRUE,1,DGET(Forespørgsel1[#All],\"\"&$D47&\"\",Kredsudvælgelse!$Y$2:$Z$3))),IF(ISBLANK(HLOOKUP(O$12,'Statiske ejendomme'!$B$3:$OF$80,'Statiske ejendomme'!$A40,FALSE))=FALSE,HLOOKUP(O$12,'Statiske ejendomme'!$B$3:$OF$80,'Statiske ejendomme'!$A40,FALSE),\"\"))),\"\")","v":834.8935643564356},{"$f":"IFERROR(IF(P$12=Kredsudvælgelse!$Q$20,\"\",IF(Kredsudvælgelse!AG$2=1,IF(ISTEXT(DGET(Forespørgsel1[#All],\"\"&LEFT($F47,LEN($F47)-$C47)&\"\",Kredsudvælgelse!$Q$6:$R$7))=TRUE,DGET(Forespørgsel1[#All],\"\"&LEFT($F47,LEN($F47)-$C47)&\"\",Kredsudvælgelse!$Q$6:$R$7),DGET(Forespørgsel1[#All],\"\"&LEFT($F47,LEN($F47)-$C47)&\"\",Kredsudvælgelse!$Q$6:$R$7)/IF(ISNONTEXT($D47)=TRUE,1,DGET(Forespørgsel1[#All],\"\"&$D47&\"\",Kredsudvælgelse!$Q$6:$R$7))),IF(ISBLANK(HLOOKUP(P$12,'Statiske ejendomme'!$B$3:$OF$80,'Statiske ejendomme'!$A40,FALSE))=FALSE,HLOOKUP(P$12,'Statiske ejendomme'!$B$3:$OF$80,'Statiske ejendomme'!$A40,FALSE),\"\"))),\"\")","v":849.79617834394901},{"$f":"IFERROR(IF(Q$12=Kredsudvælgelse!$Q$20,\"\",IF(Kredsudvælgelse!AH$2=1,IF(ISTEXT(DGET(Forespørgsel1[#All],\"\"&LEFT($F47,LEN($F47)-$C47)&\"\",Kredsudvælgelse!$S$6:$T$7))=TRUE,DGET(Forespørgsel1[#All],\"\"&LEFT($F47,LEN($F47)-$C47)&\"\",Kredsudvælgelse!$S$6:$T$7),DGET(Forespørgsel1[#All],\"\"&LEFT($F47,LEN($F47)-$C47)&\"\",Kredsudvælgelse!$S$6:$T$7)/IF(ISNONTEXT($D47)=TRUE,1,DGET(Forespørgsel1[#All],\"\"&$D47&\"\",Kredsudvælgelse!$S$6:$T$7))),IF(ISBLANK(HLOOKUP(Q$12,'Statiske ejendomme'!$B$3:$OF$80,'Statiske ejendomme'!$A40,FALSE))=FALSE,HLOOKUP(Q$12,'Statiske ejendomme'!$B$3:$OF$80,'Statiske ejendomme'!$A40,FALSE),\"\"))),\"\")","v":846.78070175438597},{"$f":"IFERROR(IF(R$12=Kredsudvælgelse!$Q$20,\"\",IF(Kredsudvælgelse!AI$2=1,IF(ISTEXT(DGET(Forespørgsel1[#All],\"\"&LEFT($F47,LEN($F47)-$C47)&\"\",Kredsudvælgelse!$U$6:$V$7))=TRUE,DGET(Forespørgsel1[#All],\"\"&LEFT($F47,LEN($F47)-$C47)&\"\",Kredsudvælgelse!$U$6:$V$7),DGET(Forespørgsel1[#All],\"\"&LEFT($F47,LEN($F47)-$C47)&\"\",Kredsudvælgelse!$U$6:$V$7)/IF(ISNONTEXT($D47)=TRUE,1,DGET(Forespørgsel1[#All],\"\"&$D47&\"\",Kredsudvælgelse!$U$6:$V$7))),IF(ISBLANK(HLOOKUP(R$12,'Statiske ejendomme'!$B$3:$OF$80,'Statiske ejendomme'!$A40,FALSE))=FALSE,HLOOKUP(R$12,'Statiske ejendomme'!$B$3:$OF$80,'Statiske ejendomme'!$A40,FALSE),\"\"))),\"\")","v":742.83231972198087},{"$f":"IFERROR(IF(S$12=Kredsudvælgelse!$Q$20,\"\",IF(Kredsudvælgelse!AJ$2=1,IF(ISTEXT(DGET(Forespørgsel1[#All],\"\"&LEFT($F47,LEN($F47)-$C47)&\"\",Kredsudvælgelse!$W$6:$X$7))=TRUE,DGET(Forespørgsel1[#All],\"\"&LEFT($F47,LEN($F47)-$C47)&\"\",Kredsudvælgelse!$W$6:$X$7),DGET(Forespørgsel1[#All],\"\"&LEFT($F47,LEN($F47)-$C47)&\"\",Kredsudvælgelse!$W$6:$X$7)/IF(ISNONTEXT($D47)=TRUE,1,DGET(Forespørgsel1[#All],\"\"&$D47&\"\",Kredsudvælgelse!$W$6:$X$7))),IF(ISBLANK(HLOOKUP(S$12,'Statiske ejendomme'!$B$3:$OF$80,'Statiske ejendomme'!$A40,FALSE))=FALSE,HLOOKUP(S$12,'Statiske ejendomme'!$B$3:$OF$80,'Statiske ejendomme'!$A40,FALSE),\"\"))),\"\")","v":757.73943661971828},{"$f":"IFERROR(IF(T$12=Kredsudvælgelse!$Q$20,\"\",IF(Kredsudvælgelse!AK$2=1,IF(ISTEXT(DGET(Forespørgsel1[#All],\"\"&LEFT($F47,LEN($F47)-$C47)&\"\",Kredsudvælgelse!$Y$6:$Z$7))=TRUE,DGET(Forespørgsel1[#All],\"\"&LEFT($F47,LEN($F47)-$C47)&\"\",Kredsudvælgelse!$Y$6:$Z$7),DGET(Forespørgsel1[#All],\"\"&LEFT($F47,LEN($F47)-$C47)&\"\",Kredsudvælgelse!$Y$6:$Z$7)/IF(ISNONTEXT($D47)=TRUE,1,DGET(Forespørgsel1[#All],\"\"&$D47&\"\",Kredsudvælgelse!$Y$6:$Z$7))),IF(ISBLANK(HLOOKUP(T$12,'Statiske ejendomme'!$B$3:$OF$80,'Statiske ejendomme'!$A40,FALSE))=FALSE,HLOOKUP(T$12,'Statiske ejendomme'!$B$3:$OF$80,'Statiske ejendomme'!$A40,FALSE),\"\"))),\"\")","v":811.91144278606964}]
[1,{"$f":"Slagtekalve!D120","v":1},{"$f":"Slagtekalve!A39","v":0},{"$f":"Slagtekalve!B39","v":"Antal Producerede kalve"},null,{"$f":"Slagtekalve!C39","v":"Andre landbrugsindtægter"},{"$f":"IF(Choices!$A$1=2,Landsgennemsnit!B39,IF(Choices!$A$1=3,Landsgennemsnit!E39,\"\"))","v":9.5802525023892162},{"$f":"IF(Choices!$A$1=2,Landsgennemsnit!C39,IF(Choices!$A$1=3,Landsgennemsnit!F39,\"\"))","v":34.1039156626506},{"$f":"IF(OR(Choices!$A$1=2,Choices!$A$1=3),Slagtekalve!F39,\"\")","v":""},{"$f":"IF(OR(Choices!$A$1=2,Choices!$A$1=3),Slagtekalve!G39,\"\")","v":""},{"$f":"IFERROR(IF(K$12=Kredsudvælgelse!$Q$20,\"\",IF(Kredsudvælgelse!AB$2=1,IF(ISTEXT(DGET(Forespørgsel1[#All],\"\"&LEFT($F48,LEN($F48)-$C48)&\"\",Kredsudvælgelse!$Q$2:$R$3))=TRUE,DGET(Forespørgsel1[#All],\"\"&LEFT($F48,LEN($F48)-$C48)&\"\",Kredsudvælgelse!$Q$2:$R$3),DGET(Forespørgsel1[#All],\"\"&LEFT($F48,LEN($F48)-$C48)&\"\",Kredsudvælgelse!$Q$2:$R$3)/IF(ISNONTEXT($D48)=TRUE,1,DGET(Forespørgsel1[#All],\"\"&$D48&\"\",Kredsudvælgelse!$Q$2:$R$3))),IF(ISBLANK(HLOOKUP(K$12,'Statiske ejendomme'!$B$3:$OF$80,'Statiske ejendomme'!$A41,FALSE))=FALSE,HLOOKUP(K$12,'Statiske ejendomme'!$B$3:$OF$80,'Statiske ejendomme'!$A41,FALSE),\"\"))),\"\")","v":0},{"$f":"IFERROR(IF(L$12=Kredsudvælgelse!$Q$20,\"\",IF(Kredsudvælgelse!AC$2=1,IF(ISTEXT(DGET(Forespørgsel1[#All],\"\"&LEFT($F48,LEN($F48)-$C48)&\"\",Kredsudvælgelse!$S$2:$T$3))=TRUE,DGET(Forespørgsel1[#All],\"\"&LEFT($F48,LEN($F48)-$C48)&\"\",Kredsudvælgelse!$S$2:$T$3),DGET(Forespørgsel1[#All],\"\"&LEFT($F48,LEN($F48)-$C48)&\"\",Kredsudvælgelse!$S$2:$T$3)/IF(ISNONTEXT($D48)=TRUE,1,DGET(Forespørgsel1[#All],\"\"&$D48&\"\",Kredsudvælgelse!$S$2:$T$3))),IF(ISBLANK(HLOOKUP(L$12,'Statiske ejendomme'!$B$3:$OF$80,'Statiske ejendomme'!$A41,FALSE))=FALSE,HLOOKUP(L$12,'Statiske ejendomme'!$B$3:$OF$80,'Statiske ejendomme'!$A41,FALSE),\"\"))),\"\")","v":0},{"$f":"IFERROR(IF(M$12=Kredsudvælgelse!$Q$20,\"\",IF(Kredsudvælgelse!AD$2=1,IF(ISTEXT(DGET(Forespørgsel1[#All],\"\"&LEFT($F48,LEN($F48)-$C48)&\"\",Kredsudvælgelse!$U$2:$V$3))=TRUE,DGET(Forespørgsel1[#All],\"\"&LEFT($F48,LEN($F48)-$C48)&\"\",Kredsudvælgelse!$U$2:$V$3),DGET(Forespørgsel1[#All],\"\"&LEFT($F48,LEN($F48)-$C48)&\"\",Kredsudvælgelse!$U$2:$V$3)/IF(ISNONTEXT($D48)=TRUE,1,DGET(Forespørgsel1[#All],\"\"&$D48&\"\",Kredsudvælgelse!$U$2:$V$3))),IF(ISBLANK(HLOOKUP(M$12,'Statiske ejendomme'!$B$3:$OF$80,'Statiske ejendomme'!$A41,FALSE))=FALSE,HLOOKUP(M$12,'Statiske ejendomme'!$B$3:$OF$80,'Statiske ejendomme'!$A41,FALSE),\"\"))),\"\")","v":0},{"$f":"IFERROR(IF(N$12=Kredsudvælgelse!$Q$20,\"\",IF(Kredsudvælgelse!AE$2=1,IF(ISTEXT(DGET(Forespørgsel1[#All],\"\"&LEFT($F48,LEN($F48)-$C48)&\"\",Kredsudvælgelse!$W$2:$X$3))=TRUE,DGET(Forespørgsel1[#All],\"\"&LEFT($F48,LEN($F48)-$C48)&\"\",Kredsudvælgelse!$W$2:$X$3),DGET(Forespørgsel1[#All],\"\"&LEFT($F48,LEN($F48)-$C48)&\"\",Kredsudvælgelse!$W$2:$X$3)/IF(ISNONTEXT($D48)=TRUE,1,DGET(Forespørgsel1[#All],\"\"&$D48&\"\",Kredsudvælgelse!$W$2:$X$3))),IF(ISBLANK(HLOOKUP(N$12,'Statiske ejendomme'!$B$3:$OF$80,'Statiske ejendomme'!$A41,FALSE))=FALSE,HLOOKUP(N$12,'Statiske ejendomme'!$B$3:$OF$80,'Statiske ejendomme'!$A41,FALSE),\"\"))),\"\")","v":0},{"$f":"IFERROR(IF(O$12=Kredsudvælgelse!$Q$20,\"\",IF(Kredsudvælgelse!AF$2=1,IF(ISTEXT(DGET(Forespørgsel1[#All],\"\"&LEFT($F48,LEN($F48)-$C48)&\"\",Kredsudvælgelse!$Y$2:$Z$3))=TRUE,DGET(Forespørgsel1[#All],\"\"&LEFT($F48,LEN($F48)-$C48)&\"\",Kredsudvælgelse!$Y$2:$Z$3),DGET(Forespørgsel1[#All],\"\"&LEFT($F48,LEN($F48)-$C48)&\"\",Kredsudvælgelse!$Y$2:$Z$3)/IF(ISNONTEXT($D48)=TRUE,1,DGET(Forespørgsel1[#All],\"\"&$D48&\"\",Kredsudvælgelse!$Y$2:$Z$3))),IF(ISBLANK(HLOOKUP(O$12,'Statiske ejendomme'!$B$3:$OF$80,'Statiske ejendomme'!$A41,FALSE))=FALSE,HLOOKUP(O$12,'Statiske ejendomme'!$B$3:$OF$80,'Statiske ejendomme'!$A41,FALSE),\"\"))),\"\")","v":0},{"$f":"IFERROR(IF(P$12=Kredsudvælgelse!$Q$20,\"\",IF(Kredsudvælgelse!AG$2=1,IF(ISTEXT(DGET(Forespørgsel1[#All],\"\"&LEFT($F48,LEN($F48)-$C48)&\"\",Kredsudvælgelse!$Q$6:$R$7))=TRUE,DGET(Forespørgsel1[#All],\"\"&LEFT($F48,LEN($F48)-$C48)&\"\",Kredsudvælgelse!$Q$6:$R$7),DGET(Forespørgsel1[#All],\"\"&LEFT($F48,LEN($F48)-$C48)&\"\",Kredsudvælgelse!$Q$6:$R$7)/IF(ISNONTEXT($D48)=TRUE,1,DGET(Forespørgsel1[#All],\"\"&$D48&\"\",Kredsudvælgelse!$Q$6:$R$7))),IF(ISBLANK(HLOOKUP(P$12,'Statiske ejendomme'!$B$3:$OF$80,'Statiske ejendomme'!$A41,FALSE))=FALSE,HLOOKUP(P$12,'Statiske ejendomme'!$B$3:$OF$80,'Statiske ejendomme'!$A41,FALSE),\"\"))),\"\")","v":1.2738853503184713},{"$f":"IFERROR(IF(Q$12=Kredsudvælgelse!$Q$20,\"\",IF(Kredsudvælgelse!AH$2=1,IF(ISTEXT(DGET(Forespørgsel1[#All],\"\"&LEFT($F48,LEN($F48)-$C48)&\"\",Kredsudvælgelse!$S$6:$T$7))=TRUE,DGET(Forespørgsel1[#All],\"\"&LEFT($F48,LEN($F48)-$C48)&\"\",Kredsudvælgelse!$S$6:$T$7),DGET(Forespørgsel1[#All],\"\"&LEFT($F48,LEN($F48)-$C48)&\"\",Kredsudvælgelse!$S$6:$T$7)/IF(ISNONTEXT($D48)=TRUE,1,DGET(Forespørgsel1[#All],\"\"&$D48&\"\",Kredsudvælgelse!$S$6:$T$7))),IF(ISBLANK(HLOOKUP(Q$12,'Statiske ejendomme'!$B$3:$OF$80,'Statiske ejendomme'!$A41,FALSE))=FALSE,HLOOKUP(Q$12,'Statiske ejendomme'!$B$3:$OF$80,'Statiske ejendomme'!$A41,FALSE),\"\"))),\"\")","v":0},{"$f":"IFERROR(IF(R$12=Kredsudvælgelse!$Q$20,\"\",IF(Kredsudvælgelse!AI$2=1,IF(ISTEXT(DGET(Forespørgsel1[#All],\"\"&LEFT($F48,LEN($F48)-$C48)&\"\",Kredsudvælgelse!$U$6:$V$7))=TRUE,DGET(Forespørgsel1[#All],\"\"&LEFT($F48,LEN($F48)-$C48)&\"\",Kredsudvælgelse!$U$6:$V$7),DGET(Forespørgsel1[#All],\"\"&LEFT($F48,LEN($F48)-$C48)&\"\",Kredsudvælgelse!$U$6:$V$7)/IF(ISNONTEXT($D48)=TRUE,1,DGET(Forespørgsel1[#All],\"\"&$D48&\"\",Kredsudvælgelse!$U$6:$V$7))),IF(ISBLANK(HLOOKUP(R$12,'Statiske ejendomme'!$B$3:$OF$80,'Statiske ejendomme'!$A41,FALSE))=FALSE,HLOOKUP(R$12,'Statiske ejendomme'!$B$3:$OF$80,'Statiske ejendomme'!$A41,FALSE),\"\"))),\"\")","v":0},{"$f":"IFERROR(IF(S$12=Kredsudvælgelse!$Q$20,\"\",IF(Kredsudvælgelse!AJ$2=1,IF(ISTEXT(DGET(Forespørgsel1[#All],\"\"&LEFT($F48,LEN($F48)-$C48)&\"\",Kredsudvælgelse!$W$6:$X$7))=TRUE,DGET(Forespørgsel1[#All],\"\"&LEFT($F48,LEN($F48)-$C48)&\"\",Kredsudvælgelse!$W$6:$X$7),DGET(Forespørgsel1[#All],\"\"&LEFT($F48,LEN($F48)-$C48)&\"\",Kredsudvælgelse!$W$6:$X$7)/IF(ISNONTEXT($D48)=TRUE,1,DGET(Forespørgsel1[#All],\"\"&$D48&\"\",Kredsudvælgelse!$W$6:$X$7))),IF(ISBLANK(HLOOKUP(S$12,'Statiske ejendomme'!$B$3:$OF$80,'Statiske ejendomme'!$A41,FALSE))=FALSE,HLOOKUP(S$12,'Statiske ejendomme'!$B$3:$OF$80,'Statiske ejendomme'!$A41,FALSE),\"\"))),\"\")","v":0},{"$f":"IFERROR(IF(T$12=Kredsudvælgelse!$Q$20,\"\",IF(Kredsudvælgelse!AK$2=1,IF(ISTEXT(DGET(Forespørgsel1[#All],\"\"&LEFT($F48,LEN($F48)-$C48)&\"\",Kredsudvælgelse!$Y$6:$Z$7))=TRUE,DGET(Forespørgsel1[#All],\"\"&LEFT($F48,LEN($F48)-$C48)&\"\",Kredsudvælgelse!$Y$6:$Z$7),DGET(Forespørgsel1[#All],\"\"&LEFT($F48,LEN($F48)-$C48)&\"\",Kredsudvælgelse!$Y$6:$Z$7)/IF(ISNONTEXT($D48)=TRUE,1,DGET(Forespørgsel1[#All],\"\"&$D48&\"\",Kredsudvælgelse!$Y$6:$Z$7))),IF(ISBLANK(HLOOKUP(T$12,'Statiske ejendomme'!$B$3:$OF$80,'Statiske ejendomme'!$A41,FALSE))=FALSE,HLOOKUP(T$12,'Statiske ejendomme'!$B$3:$OF$80,'Statiske ejendomme'!$A41,FALSE),\"\"))),\"\")","v":0}]
[1,{"$f":"Slagtekalve!D121","v":113},{"$f":"Slagtekalve!A40","v":0},{"$f":"Slagtekalve!B40","v":"Antal Producerede kalve"},null,{"$f":"Slagtekalve!C40","v":"Bruttoudbytte i alt"},{"$f":"IF(Choices!$A$1=2,Landsgennemsnit!B40,IF(Choices!$A$1=3,Landsgennemsnit!E40,\"\"))","v":5017.8297872340418},{"$f":"IF(Choices!$A$1=2,Landsgennemsnit!C40,IF(Choices!$A$1=3,Landsgennemsnit!F40,\"\"))","v":5355.416092943201},{"$f":"IF(OR(Choices!$A$1=2,Choices!$A$1=3),Slagtekalve!F40,\"\")","v":""},{"$f":"IF(OR(Choices!$A$1=2,Choices!$A$1=3),Slagtekalve!G40,\"\")","v":""},{"$f":"IFERROR(IF(K$12=Kredsudvælgelse!$Q$20,\"\",IF(Kredsudvælgelse!AB$2=1,IF(ISTEXT(DGET(Forespørgsel1[#All],\"\"&LEFT($F49,LEN($F49)-$C49)&\"\",Kredsudvælgelse!$Q$2:$R$3))=TRUE,DGET(Forespørgsel1[#All],\"\"&LEFT($F49,LEN($F49)-$C49)&\"\",Kredsudvælgelse!$Q$2:$R$3),DGET(Forespørgsel1[#All],\"\"&LEFT($F49,LEN($F49)-$C49)&\"\",Kredsudvælgelse!$Q$2:$R$3)/IF(ISNONTEXT($D49)=TRUE,1,DGET(Forespørgsel1[#All],\"\"&$D49&\"\",Kredsudvælgelse!$Q$2:$R$3))),IF(ISBLANK(HLOOKUP(K$12,'Statiske ejendomme'!$B$3:$OF$80,'Statiske ejendomme'!$A42,FALSE))=FALSE,HLOOKUP(K$12,'Statiske ejendomme'!$B$3:$OF$80,'Statiske ejendomme'!$A42,FALSE),\"\"))),\"\")","v":5541.1120943952801},{"$f":"IFERROR(IF(L$12=Kredsudvælgelse!$Q$20,\"\",IF(Kredsudvælgelse!AC$2=1,IF(ISTEXT(DGET(Forespørgsel1[#All],\"\"&LEFT($F49,LEN($F49)-$C49)&\"\",Kredsudvælgelse!$S$2:$T$3))=TRUE,DGET(Forespørgsel1[#All],\"\"&LEFT($F49,LEN($F49)-$C49)&\"\",Kredsudvælgelse!$S$2:$T$3),DGET(Forespørgsel1[#All],\"\"&LEFT($F49,LEN($F49)-$C49)&\"\",Kredsudvælgelse!$S$2:$T$3)/IF(ISNONTEXT($D49)=TRUE,1,DGET(Forespørgsel1[#All],\"\"&$D49&\"\",Kredsudvælgelse!$S$2:$T$3))),IF(ISBLANK(HLOOKUP(L$12,'Statiske ejendomme'!$B$3:$OF$80,'Statiske ejendomme'!$A42,FALSE))=FALSE,HLOOKUP(L$12,'Statiske ejendomme'!$B$3:$OF$80,'Statiske ejendomme'!$A42,FALSE),\"\"))),\"\")","v":5611.5432098765432},{"$f":"IFERROR(IF(M$12=Kredsudvælgelse!$Q$20,\"\",IF(Kredsudvælgelse!AD$2=1,IF(ISTEXT(DGET(Forespørgsel1[#All],\"\"&LEFT($F49,LEN($F49)-$C49)&\"\",Kredsudvælgelse!$U$2:$V$3))=TRUE,DGET(Forespørgsel1[#All],\"\"&LEFT($F49,LEN($F49)-$C49)&\"\",Kredsudvælgelse!$U$2:$V$3),DGET(Forespørgsel1[#All],\"\"&LEFT($F49,LEN($F49)-$C49)&\"\",Kredsudvælgelse!$U$2:$V$3)/IF(ISNONTEXT($D49)=TRUE,1,DGET(Forespørgsel1[#All],\"\"&$D49&\"\",Kredsudvælgelse!$U$2:$V$3))),IF(ISBLANK(HLOOKUP(M$12,'Statiske ejendomme'!$B$3:$OF$80,'Statiske ejendomme'!$A42,FALSE))=FALSE,HLOOKUP(M$12,'Statiske ejendomme'!$B$3:$OF$80,'Statiske ejendomme'!$A42,FALSE),\"\"))),\"\")","v":4736.534090909091},{"$f":"IFERROR(IF(N$12=Kredsudvælgelse!$Q$20,\"\",IF(Kredsudvælgelse!AE$2=1,IF(ISTEXT(DGET(Forespørgsel1[#All],\"\"&LEFT($F49,LEN($F49)-$C49)&\"\",Kredsudvælgelse!$W$2:$X$3))=TRUE,DGET(Forespørgsel1[#All],\"\"&LEFT($F49,LEN($F49)-$C49)&\"\",Kredsudvælgelse!$W$2:$X$3),DGET(Forespørgsel1[#All],\"\"&LEFT($F49,LEN($F49)-$C49)&\"\",Kredsudvælgelse!$W$2:$X$3)/IF(ISNONTEXT($D49)=TRUE,1,DGET(Forespørgsel1[#All],\"\"&$D49&\"\",Kredsudvælgelse!$W$2:$X$3))),IF(ISBLANK(HLOOKUP(N$12,'Statiske ejendomme'!$B$3:$OF$80,'Statiske ejendomme'!$A42,FALSE))=FALSE,HLOOKUP(N$12,'Statiske ejendomme'!$B$3:$OF$80,'Statiske ejendomme'!$A42,FALSE),\"\"))),\"\")","v":5297.0320256204968},{"$f":"IFERROR(IF(O$12=Kredsudvælgelse!$Q$20,\"\",IF(Kredsudvælgelse!AF$2=1,IF(ISTEXT(DGET(Forespørgsel1[#All],\"\"&LEFT($F49,LEN($F49)-$C49)&\"\",Kredsudvælgelse!$Y$2:$Z$3))=TRUE,DGET(Forespørgsel1[#All],\"\"&LEFT($F49,LEN($F49)-$C49)&\"\",Kredsudvælgelse!$Y$2:$Z$3),DGET(Forespørgsel1[#All],\"\"&LEFT($F49,LEN($F49)-$C49)&\"\",Kredsudvælgelse!$Y$2:$Z$3)/IF(ISNONTEXT($D49)=TRUE,1,DGET(Forespørgsel1[#All],\"\"&$D49&\"\",Kredsudvælgelse!$Y$2:$Z$3))),IF(ISBLANK(HLOOKUP(O$12,'Statiske ejendomme'!$B$3:$OF$80,'Statiske ejendomme'!$A42,FALSE))=FALSE,HLOOKUP(O$12,'Statiske ejendomme'!$B$3:$OF$80,'Statiske ejendomme'!$A42,FALSE),\"\"))),\"\")","v":5214.8168316831679},{"$f":"IFERROR(IF(P$12=Kredsudvælgelse!$Q$20,\"\",IF(Kredsudvælgelse!AG$2=1,IF(ISTEXT(DGET(Forespørgsel1[#All],\"\"&LEFT($F49,LEN($F49)-$C49)&\"\",Kredsudvælgelse!$Q$6:$R$7))=TRUE,DGET(Forespørgsel1[#All],\"\"&LEFT($F49,LEN($F49)-$C49)&\"\",Kredsudvælgelse!$Q$6:$R$7),DGET(Forespørgsel1[#All],\"\"&LEFT($F49,LEN($F49)-$C49)&\"\",Kredsudvælgelse!$Q$6:$R$7)/IF(ISNONTEXT($D49)=TRUE,1,DGET(Forespørgsel1[#All],\"\"&$D49&\"\",Kredsudvælgelse!$Q$6:$R$7))),IF(ISBLANK(HLOOKUP(P$12,'Statiske ejendomme'!$B$3:$OF$80,'Statiske ejendomme'!$A42,FALSE))=FALSE,HLOOKUP(P$12,'Statiske ejendomme'!$B$3:$OF$80,'Statiske ejendomme'!$A42,FALSE),\"\"))),\"\")","v":6059.8471337579622},{"$f":"IFERROR(IF(Q$12=Kredsudvælgelse!$Q$20,\"\",IF(Kredsudvælgelse!AH$2=1,IF(ISTEXT(DGET(Forespørgsel1[#All],\"\"&LEFT($F49,LEN($F49)-$C49)&\"\",Kredsudvælgelse!$S$6:$T$7))=TRUE,DGET(Forespørgsel1[#All],\"\"&LEFT($F49,LEN($F49)-$C49)&\"\",Kredsudvælgelse!$S$6:$T$7),DGET(Forespørgsel1[#All],\"\"&LEFT($F49,LEN($F49)-$C49)&\"\",Kredsudvælgelse!$S$6:$T$7)/IF(ISNONTEXT($D49)=TRUE,1,DGET(Forespørgsel1[#All],\"\"&$D49&\"\",Kredsudvælgelse!$S$6:$T$7))),IF(ISBLANK(HLOOKUP(Q$12,'Statiske ejendomme'!$B$3:$OF$80,'Statiske ejendomme'!$A42,FALSE))=FALSE,HLOOKUP(Q$12,'Statiske ejendomme'!$B$3:$OF$80,'Statiske ejendomme'!$A42,FALSE),\"\"))),\"\")","v":5870.6228070175439},{"$f":"IFERROR(IF(R$12=Kredsudvælgelse!$Q$20,\"\",IF(Kredsudvælgelse!AI$2=1,IF(ISTEXT(DGET(Forespørgsel1[#All],\"\"&LEFT($F49,LEN($F49)-$C49)&\"\",Kredsudvælgelse!$U$6:$V$7))=TRUE,DGET(Forespørgsel1[#All],\"\"&LEFT($F49,LEN($F49)-$C49)&\"\",Kredsudvælgelse!$U$6:$V$7),DGET(Forespørgsel1[#All],\"\"&LEFT($F49,LEN($F49)-$C49)&\"\",Kredsudvælgelse!$U$6:$V$7)/IF(ISNONTEXT($D49)=TRUE,1,DGET(Forespørgsel1[#All],\"\"&$D49&\"\",Kredsudvælgelse!$U$6:$V$7))),IF(ISBLANK(HLOOKUP(R$12,'Statiske ejendomme'!$B$3:$OF$80,'Statiske ejendomme'!$A42,FALSE))=FALSE,HLOOKUP(R$12,'Statiske ejendomme'!$B$3:$OF$80,'Statiske ejendomme'!$A42,FALSE),\"\"))),\"\")","v":4808.9991311902695},{"$f":"IFERROR(IF(S$12=Kredsudvælgelse!$Q$20,\"\",IF(Kredsudvælgelse!AJ$2=1,IF(ISTEXT(DGET(Forespørgsel1[#All],\"\"&LEFT($F49,LEN($F49)-$C49)&\"\",Kredsudvælgelse!$W$6:$X$7))=TRUE,DGET(Forespørgsel1[#All],\"\"&LEFT($F49,LEN($F49)-$C49)&\"\",Kredsudvælgelse!$W$6:$X$7),DGET(Forespørgsel1[#All],\"\"&LEFT($F49,LEN($F49)-$C49)&\"\",Kredsudvælgelse!$W$6:$X$7)/IF(ISNONTEXT($D49)=TRUE,1,DGET(Forespørgsel1[#All],\"\"&$D49&\"\",Kredsudvælgelse!$W$6:$X$7))),IF(ISBLANK(HLOOKUP(S$12,'Statiske ejendomme'!$B$3:$OF$80,'Statiske ejendomme'!$A42,FALSE))=FALSE,HLOOKUP(S$12,'Statiske ejendomme'!$B$3:$OF$80,'Statiske ejendomme'!$A42,FALSE),\"\"))),\"\")","v":5565.0633802816901},{"$f":"IFERROR(IF(T$12=Kredsudvælgelse!$Q$20,\"\",IF(Kredsudvælgelse!AK$2=1,IF(ISTEXT(DGET(Forespørgsel1[#All],\"\"&LEFT($F49,LEN($F49)-$C49)&\"\",Kredsudvælgelse!$Y$6:$Z$7))=TRUE,DGET(Forespørgsel1[#All],\"\"&LEFT($F49,LEN($F49)-$C49)&\"\",Kredsudvælgelse!$Y$6:$Z$7),DGET(Forespørgsel1[#All],\"\"&LEFT($F49,LEN($F49)-$C49)&\"\",Kredsudvælgelse!$Y$6:$Z$7)/IF(ISNONTEXT($D49)=TRUE,1,DGET(Forespørgsel1[#All],\"\"&$D49&\"\",Kredsudvælgelse!$Y$6:$Z$7))),IF(ISBLANK(HLOOKUP(T$12,'Statiske ejendomme'!$B$3:$OF$80,'Statiske ejendomme'!$A42,FALSE))=FALSE,HLOOKUP(T$12,'Statiske ejendomme'!$B$3:$OF$80,'Statiske ejendomme'!$A42,FALSE),\"\"))),\"\")","v":5648.3482587064673}]
[1,{"$f":"Slagtekalve!D122","v":9},{"$f":"Slagtekalve!A41","v":0},{"$f":"Slagtekalve!B41","v":0},null,{"$f":"Slagtekalve!C41","v":0},{"$f":"IF(Choices!$A$1=2,Landsgennemsnit!B41,IF(Choices!$A$1=3,Landsgennemsnit!E41,\"\"))","v":""},{"$f":"IF(Choices!$A$1=2,Landsgennemsnit!C41,IF(Choices!$A$1=3,Landsgennemsnit!F41,\"\"))","v":""},{"$f":"IF(OR(Choices!$A$1=2,Choices!$A$1=3),Slagtekalve!F41,\"\")","v":""},{"$f":"IF(OR(Choices!$A$1=2,Choices!$A$1=3),Slagtekalve!G41,\"\")","v":""},{"$f":"IFERROR(IF(K$12=Kredsudvælgelse!$Q$20,\"\",IF(Kredsudvælgelse!AB$2=1,IF(ISTEXT(DGET(Forespørgsel1[#All],\"\"&LEFT($F50,LEN($F50)-$C50)&\"\",Kredsudvælgelse!$Q$2:$R$3))=TRUE,DGET(Forespørgsel1[#All],\"\"&LEFT($F50,LEN($F50)-$C50)&\"\",Kredsudvælgelse!$Q$2:$R$3),DGET(Forespørgsel1[#All],\"\"&LEFT($F50,LEN($F50)-$C50)&\"\",Kredsudvælgelse!$Q$2:$R$3)/IF(ISNONTEXT($D50)=TRUE,1,DGET(Forespørgsel1[#All],\"\"&$D50&\"\",Kredsudvælgelse!$Q$2:$R$3))),IF(ISBLANK(HLOOKUP(K$12,'Statiske ejendomme'!$B$3:$OF$80,'Statiske ejendomme'!$A43,FALSE))=FALSE,HLOOKUP(K$12,'Statiske ejendomme'!$B$3:$OF$80,'Statiske ejendomme'!$A43,FALSE),\"\"))),\"\")","v":""},{"$f":"IFERROR(IF(L$12=Kredsudvælgelse!$Q$20,\"\",IF(Kredsudvælgelse!AC$2=1,IF(ISTEXT(DGET(Forespørgsel1[#All],\"\"&LEFT($F50,LEN($F50)-$C50)&\"\",Kredsudvælgelse!$S$2:$T$3))=TRUE,DGET(Forespørgsel1[#All],\"\"&LEFT($F50,LEN($F50)-$C50)&\"\",Kredsudvælgelse!$S$2:$T$3),DGET(Forespørgsel1[#All],\"\"&LEFT($F50,LEN($F50)-$C50)&\"\",Kredsudvælgelse!$S$2:$T$3)/IF(ISNONTEXT($D50)=TRUE,1,DGET(Forespørgsel1[#All],\"\"&$D50&\"\",Kredsudvælgelse!$S$2:$T$3))),IF(ISBLANK(HLOOKUP(L$12,'Statiske ejendomme'!$B$3:$OF$80,'Statiske ejendomme'!$A43,FALSE))=FALSE,HLOOKUP(L$12,'Statiske ejendomme'!$B$3:$OF$80,'Statiske ejendomme'!$A43,FALSE),\"\"))),\"\")","v":""},{"$f":"IFERROR(IF(M$12=Kredsudvælgelse!$Q$20,\"\",IF(Kredsudvælgelse!AD$2=1,IF(ISTEXT(DGET(Forespørgsel1[#All],\"\"&LEFT($F50,LEN($F50)-$C50)&\"\",Kredsudvælgelse!$U$2:$V$3))=TRUE,DGET(Forespørgsel1[#All],\"\"&LEFT($F50,LEN($F50)-$C50)&\"\",Kredsudvælgelse!$U$2:$V$3),DGET(Forespørgsel1[#All],\"\"&LEFT($F50,LEN($F50)-$C50)&\"\",Kredsudvælgelse!$U$2:$V$3)/IF(ISNONTEXT($D50)=TRUE,1,DGET(Forespørgsel1[#All],\"\"&$D50&\"\",Kredsudvælgelse!$U$2:$V$3))),IF(ISBLANK(HLOOKUP(M$12,'Statiske ejendomme'!$B$3:$OF$80,'Statiske ejendomme'!$A43,FALSE))=FALSE,HLOOKUP(M$12,'Statiske ejendomme'!$B$3:$OF$80,'Statiske ejendomme'!$A43,FALSE),\"\"))),\"\")","v":""},{"$f":"IFERROR(IF(N$12=Kredsudvælgelse!$Q$20,\"\",IF(Kredsudvælgelse!AE$2=1,IF(ISTEXT(DGET(Forespørgsel1[#All],\"\"&LEFT($F50,LEN($F50)-$C50)&\"\",Kredsudvælgelse!$W$2:$X$3))=TRUE,DGET(Forespørgsel1[#All],\"\"&LEFT($F50,LEN($F50)-$C50)&\"\",Kredsudvælgelse!$W$2:$X$3),DGET(Forespørgsel1[#All],\"\"&LEFT($F50,LEN($F50)-$C50)&\"\",Kredsudvælgelse!$W$2:$X$3)/IF(ISNONTEXT($D50)=TRUE,1,DGET(Forespørgsel1[#All],\"\"&$D50&\"\",Kredsudvælgelse!$W$2:$X$3))),IF(ISBLANK(HLOOKUP(N$12,'Statiske ejendomme'!$B$3:$OF$80,'Statiske ejendomme'!$A43,FALSE))=FALSE,HLOOKUP(N$12,'Statiske ejendomme'!$B$3:$OF$80,'Statiske ejendomme'!$A43,FALSE),\"\"))),\"\")","v":""},{"$f":"IFERROR(IF(O$12=Kredsudvælgelse!$Q$20,\"\",IF(Kredsudvælgelse!AF$2=1,IF(ISTEXT(DGET(Forespørgsel1[#All],\"\"&LEFT($F50,LEN($F50)-$C50)&\"\",Kredsudvælgelse!$Y$2:$Z$3))=TRUE,DGET(Forespørgsel1[#All],\"\"&LEFT($F50,LEN($F50)-$C50)&\"\",Kredsudvælgelse!$Y$2:$Z$3),DGET(Forespørgsel1[#All],\"\"&LEFT($F50,LEN($F50)-$C50)&\"\",Kredsudvælgelse!$Y$2:$Z$3)/IF(ISNONTEXT($D50)=TRUE,1,DGET(Forespørgsel1[#All],\"\"&$D50&\"\",Kredsudvælgelse!$Y$2:$Z$3))),IF(ISBLANK(HLOOKUP(O$12,'Statiske ejendomme'!$B$3:$OF$80,'Statiske ejendomme'!$A43,FALSE))=FALSE,HLOOKUP(O$12,'Statiske ejendomme'!$B$3:$OF$80,'Statiske ejendomme'!$A43,FALSE),\"\"))),\"\")","v":""},{"$f":"IFERROR(IF(P$12=Kredsudvælgelse!$Q$20,\"\",IF(Kredsudvælgelse!AG$2=1,IF(ISTEXT(DGET(Forespørgsel1[#All],\"\"&LEFT($F50,LEN($F50)-$C50)&\"\",Kredsudvælgelse!$Q$6:$R$7))=TRUE,DGET(Forespørgsel1[#All],\"\"&LEFT($F50,LEN($F50)-$C50)&\"\",Kredsudvælgelse!$Q$6:$R$7),DGET(Forespørgsel1[#All],\"\"&LEFT($F50,LEN($F50)-$C50)&\"\",Kredsudvælgelse!$Q$6:$R$7)/IF(ISNONTEXT($D50)=TRUE,1,DGET(Forespørgsel1[#All],\"\"&$D50&\"\",Kredsudvælgelse!$Q$6:$R$7))),IF(ISBLANK(HLOOKUP(P$12,'Statiske ejendomme'!$B$3:$OF$80,'Statiske ejendomme'!$A43,FALSE))=FALSE,HLOOKUP(P$12,'Statiske ejendomme'!$B$3:$OF$80,'Statiske ejendomme'!$A43,FALSE),\"\"))),\"\")","v":""},{"$f":"IFERROR(IF(Q$12=Kredsudvælgelse!$Q$20,\"\",IF(Kredsudvælgelse!AH$2=1,IF(ISTEXT(DGET(Forespørgsel1[#All],\"\"&LEFT($F50,LEN($F50)-$C50)&\"\",Kredsudvælgelse!$S$6:$T$7))=TRUE,DGET(Forespørgsel1[#All],\"\"&LEFT($F50,LEN($F50)-$C50)&\"\",Kredsudvælgelse!$S$6:$T$7),DGET(Forespørgsel1[#All],\"\"&LEFT($F50,LEN($F50)-$C50)&\"\",Kredsudvælgelse!$S$6:$T$7)/IF(ISNONTEXT($D50)=TRUE,1,DGET(Forespørgsel1[#All],\"\"&$D50&\"\",Kredsudvælgelse!$S$6:$T$7))),IF(ISBLANK(HLOOKUP(Q$12,'Statiske ejendomme'!$B$3:$OF$80,'Statiske ejendomme'!$A43,FALSE))=FALSE,HLOOKUP(Q$12,'Statiske ejendomme'!$B$3:$OF$80,'Statiske ejendomme'!$A43,FALSE),\"\"))),\"\")","v":""},{"$f":"IFERROR(IF(R$12=Kredsudvælgelse!$Q$20,\"\",IF(Kredsudvælgelse!AI$2=1,IF(ISTEXT(DGET(Forespørgsel1[#All],\"\"&LEFT($F50,LEN($F50)-$C50)&\"\",Kredsudvælgelse!$U$6:$V$7))=TRUE,DGET(Forespørgsel1[#All],\"\"&LEFT($F50,LEN($F50)-$C50)&\"\",Kredsudvælgelse!$U$6:$V$7),DGET(Forespørgsel1[#All],\"\"&LEFT($F50,LEN($F50)-$C50)&\"\",Kredsudvælgelse!$U$6:$V$7)/IF(ISNONTEXT($D50)=TRUE,1,DGET(Forespørgsel1[#All],\"\"&$D50&\"\",Kredsudvælgelse!$U$6:$V$7))),IF(ISBLANK(HLOOKUP(R$12,'Statiske ejendomme'!$B$3:$OF$80,'Statiske ejendomme'!$A43,FALSE))=FALSE,HLOOKUP(R$12,'Statiske ejendomme'!$B$3:$OF$80,'Statiske ejendomme'!$A43,FALSE),\"\"))),\"\")","v":""},{"$f":"IFERROR(IF(S$12=Kredsudvælgelse!$Q$20,\"\",IF(Kredsudvælgelse!AJ$2=1,IF(ISTEXT(DGET(Forespørgsel1[#All],\"\"&LEFT($F50,LEN($F50)-$C50)&\"\",Kredsudvælgelse!$W$6:$X$7))=TRUE,DGET(Forespørgsel1[#All],\"\"&LEFT($F50,LEN($F50)-$C50)&\"\",Kredsudvælgelse!$W$6:$X$7),DGET(Forespørgsel1[#All],\"\"&LEFT($F50,LEN($F50)-$C50)&\"\",Kredsudvælgelse!$W$6:$X$7)/IF(ISNONTEXT($D50)=TRUE,1,DGET(Forespørgsel1[#All],\"\"&$D50&\"\",Kredsudvælgelse!$W$6:$X$7))),IF(ISBLANK(HLOOKUP(S$12,'Statiske ejendomme'!$B$3:$OF$80,'Statiske ejendomme'!$A43,FALSE))=FALSE,HLOOKUP(S$12,'Statiske ejendomme'!$B$3:$OF$80,'Statiske ejendomme'!$A43,FALSE),\"\"))),\"\")","v":""},{"$f":"IFERROR(IF(T$12=Kredsudvælgelse!$Q$20,\"\",IF(Kredsudvælgelse!AK$2=1,IF(ISTEXT(DGET(Forespørgsel1[#All],\"\"&LEFT($F50,LEN($F50)-$C50)&\"\",Kredsudvælgelse!$Y$6:$Z$7))=TRUE,DGET(Forespørgsel1[#All],\"\"&LEFT($F50,LEN($F50)-$C50)&\"\",Kredsudvælgelse!$Y$6:$Z$7),DGET(Forespørgsel1[#All],\"\"&LEFT($F50,LEN($F50)-$C50)&\"\",Kredsudvælgelse!$Y$6:$Z$7)/IF(ISNONTEXT($D50)=TRUE,1,DGET(Forespørgsel1[#All],\"\"&$D50&\"\",Kredsudvælgelse!$Y$6:$Z$7))),IF(ISBLANK(HLOOKUP(T$12,'Statiske ejendomme'!$B$3:$OF$80,'Statiske ejendomme'!$A43,FALSE))=FALSE,HLOOKUP(T$12,'Statiske ejendomme'!$B$3:$OF$80,'Statiske ejendomme'!$A43,FALSE),\"\"))),\"\")","v":""}]
[1,{"$f":"Slagtekalve!D123","v":1},{"$f":"Slagtekalve!A42","v":0},{"$f":"Slagtekalve!B42","v":"Antal Producerede kalve"},null,{"$f":"Slagtekalve!C42","v":"Korn"},{"$f":"IF(Choices!$A$1=2,Landsgennemsnit!B42,IF(Choices!$A$1=3,Landsgennemsnit!E42,\"\"))","v":-535.28238016196372},{"$f":"IF(Choices!$A$1=2,Landsgennemsnit!C42,IF(Choices!$A$1=3,Landsgennemsnit!F42,\"\"))","v":-587.4292168674699},{"$f":"IF(OR(Choices!$A$1=2,Choices!$A$1=3),Slagtekalve!F42,\"\")","v":""},{"$f":"IF(OR(Choices!$A$1=2,Choices!$A$1=3),Slagtekalve!G42,\"\")","v":""},{"$f":"IFERROR(IF(K$12=Kredsudvælgelse!$Q$20,\"\",IF(Kredsudvælgelse!AB$2=1,IF(ISTEXT(DGET(Forespørgsel1[#All],\"\"&LEFT($F51,LEN($F51)-$C51)&\"\",Kredsudvælgelse!$Q$2:$R$3))=TRUE,DGET(Forespørgsel1[#All],\"\"&LEFT($F51,LEN($F51)-$C51)&\"\",Kredsudvælgelse!$Q$2:$R$3),DGET(Forespørgsel1[#All],\"\"&LEFT($F51,LEN($F51)-$C51)&\"\",Kredsudvælgelse!$Q$2:$R$3)/IF(ISNONTEXT($D51)=TRUE,1,DGET(Forespørgsel1[#All],\"\"&$D51&\"\",Kredsudvælgelse!$Q$2:$R$3))),IF(ISBLANK(HLOOKUP(K$12,'Statiske ejendomme'!$B$3:$OF$80,'Statiske ejendomme'!$A44,FALSE))=FALSE,HLOOKUP(K$12,'Statiske ejendomme'!$B$3:$OF$80,'Statiske ejendomme'!$A44,FALSE),\"\"))),\"\")","v":-1257.3510324483775},{"$f":"IFERROR(IF(L$12=Kredsudvælgelse!$Q$20,\"\",IF(Kredsudvælgelse!AC$2=1,IF(ISTEXT(DGET(Forespørgsel1[#All],\"\"&LEFT($F51,LEN($F51)-$C51)&\"\",Kredsudvælgelse!$S$2:$T$3))=TRUE,DGET(Forespørgsel1[#All],\"\"&LEFT($F51,LEN($F51)-$C51)&\"\",Kredsudvælgelse!$S$2:$T$3),DGET(Forespørgsel1[#All],\"\"&LEFT($F51,LEN($F51)-$C51)&\"\",Kredsudvælgelse!$S$2:$T$3)/IF(ISNONTEXT($D51)=TRUE,1,DGET(Forespørgsel1[#All],\"\"&$D51&\"\",Kredsudvælgelse!$S$2:$T$3))),IF(ISBLANK(HLOOKUP(L$12,'Statiske ejendomme'!$B$3:$OF$80,'Statiske ejendomme'!$A44,FALSE))=FALSE,HLOOKUP(L$12,'Statiske ejendomme'!$B$3:$OF$80,'Statiske ejendomme'!$A44,FALSE),\"\"))),\"\")","v":-319.34156378600824},{"$f":"IFERROR(IF(M$12=Kredsudvælgelse!$Q$20,\"\",IF(Kredsudvælgelse!AD$2=1,IF(ISTEXT(DGET(Forespørgsel1[#All],\"\"&LEFT($F51,LEN($F51)-$C51)&\"\",Kredsudvælgelse!$U$2:$V$3))=TRUE,DGET(Forespørgsel1[#All],\"\"&LEFT($F51,LEN($F51)-$C51)&\"\",Kredsudvælgelse!$U$2:$V$3),DGET(Forespørgsel1[#All],\"\"&LEFT($F51,LEN($F51)-$C51)&\"\",Kredsudvælgelse!$U$2:$V$3)/IF(ISNONTEXT($D51)=TRUE,1,DGET(Forespørgsel1[#All],\"\"&$D51&\"\",Kredsudvælgelse!$U$2:$V$3))),IF(ISBLANK(HLOOKUP(M$12,'Statiske ejendomme'!$B$3:$OF$80,'Statiske ejendomme'!$A44,FALSE))=FALSE,HLOOKUP(M$12,'Statiske ejendomme'!$B$3:$OF$80,'Statiske ejendomme'!$A44,FALSE),\"\"))),\"\")","v":0},{"$f":"IFERROR(IF(N$12=Kredsudvælgelse!$Q$20,\"\",IF(Kredsudvælgelse!AE$2=1,IF(ISTEXT(DGET(Forespørgsel1[#All],\"\"&LEFT($F51,LEN($F51)-$C51)&\"\",Kredsudvælgelse!$W$2:$X$3))=TRUE,DGET(Forespørgsel1[#All],\"\"&LEFT($F51,LEN($F51)-$C51)&\"\",Kredsudvælgelse!$W$2:$X$3),DGET(Forespørgsel1[#All],\"\"&LEFT($F51,LEN($F51)-$C51)&\"\",Kredsudvælgelse!$W$2:$X$3)/IF(ISNONTEXT($D51)=TRUE,1,DGET(Forespørgsel1[#All],\"\"&$D51&\"\",Kredsudvælgelse!$W$2:$X$3))),IF(ISBLANK(HLOOKUP(N$12,'Statiske ejendomme'!$B$3:$OF$80,'Statiske ejendomme'!$A44,FALSE))=FALSE,HLOOKUP(N$12,'Statiske ejendomme'!$B$3:$OF$80,'Statiske ejendomme'!$A44,FALSE),\"\"))),\"\")","v":-1074.0576461168935},{"$f":"IFERROR(IF(O$12=Kredsudvælgelse!$Q$20,\"\",IF(Kredsudvælgelse!AF$2=1,IF(ISTEXT(DGET(Forespørgsel1[#All],\"\"&LEFT($F51,LEN($F51)-$C51)&\"\",Kredsudvælgelse!$Y$2:$Z$3))=TRUE,DGET(Forespørgsel1[#All],\"\"&LEFT($F51,LEN($F51)-$C51)&\"\",Kredsudvælgelse!$Y$2:$Z$3),DGET(Forespørgsel1[#All],\"\"&LEFT($F51,LEN($F51)-$C51)&\"\",Kredsudvælgelse!$Y$2:$Z$3)/IF(ISNONTEXT($D51)=TRUE,1,DGET(Forespørgsel1[#All],\"\"&$D51&\"\",Kredsudvælgelse!$Y$2:$Z$3))),IF(ISBLANK(HLOOKUP(O$12,'Statiske ejendomme'!$B$3:$OF$80,'Statiske ejendomme'!$A44,FALSE))=FALSE,HLOOKUP(O$12,'Statiske ejendomme'!$B$3:$OF$80,'Statiske ejendomme'!$A44,FALSE),\"\"))),\"\")","v":-840.13861386138615},{"$f":"IFERROR(IF(P$12=Kredsudvælgelse!$Q$20,\"\",IF(Kredsudvælgelse!AG$2=1,IF(ISTEXT(DGET(Forespørgsel1[#All],\"\"&LEFT($F51,LEN($F51)-$C51)&\"\",Kredsudvælgelse!$Q$6:$R$7))=TRUE,DGET(Forespørgsel1[#All],\"\"&LEFT($F51,LEN($F51)-$C51)&\"\",Kredsudvælgelse!$Q$6:$R$7),DGET(Forespørgsel1[#All],\"\"&LEFT($F51,LEN($F51)-$C51)&\"\",Kredsudvælgelse!$Q$6:$R$7)/IF(ISNONTEXT($D51)=TRUE,1,DGET(Forespørgsel1[#All],\"\"&$D51&\"\",Kredsudvælgelse!$Q$6:$R$7))),IF(ISBLANK(HLOOKUP(P$12,'Statiske ejendomme'!$B$3:$OF$80,'Statiske ejendomme'!$A44,FALSE))=FALSE,HLOOKUP(P$12,'Statiske ejendomme'!$B$3:$OF$80,'Statiske ejendomme'!$A44,FALSE),\"\"))),\"\")","v":-949.20382165605099},{"$f":"IFERROR(IF(Q$12=Kredsudvælgelse!$Q$20,\"\",IF(Kredsudvælgelse!AH$2=1,IF(ISTEXT(DGET(Forespørgsel1[#All],\"\"&LEFT($F51,LEN($F51)-$C51)&\"\",Kredsudvælgelse!$S$6:$T$7))=TRUE,DGET(Forespørgsel1[#All],\"\"&LEFT($F51,LEN($F51)-$C51)&\"\",Kredsudvælgelse!$S$6:$T$7),DGET(Forespørgsel1[#All],\"\"&LEFT($F51,LEN($F51)-$C51)&\"\",Kredsudvælgelse!$S$6:$T$7)/IF(ISNONTEXT($D51)=TRUE,1,DGET(Forespørgsel1[#All],\"\"&$D51&\"\",Kredsudvælgelse!$S$6:$T$7))),IF(ISBLANK(HLOOKUP(Q$12,'Statiske ejendomme'!$B$3:$OF$80,'Statiske ejendomme'!$A44,FALSE))=FALSE,HLOOKUP(Q$12,'Statiske ejendomme'!$B$3:$OF$80,'Statiske ejendomme'!$A44,FALSE),\"\"))),\"\")","v":0},{"$f":"IFERROR(IF(R$12=Kredsudvælgelse!$Q$20,\"\",IF(Kredsudvælgelse!AI$2=1,IF(ISTEXT(DGET(Forespørgsel1[#All],\"\"&LEFT($F51,LEN($F51)-$C51)&\"\",Kredsudvælgelse!$U$6:$V$7))=TRUE,DGET(Forespørgsel1[#All],\"\"&LEFT($F51,LEN($F51)-$C51)&\"\",Kredsudvælgelse!$U$6:$V$7),DGET(Forespørgsel1[#All],\"\"&LEFT($F51,LEN($F51)-$C51)&\"\",Kredsudvælgelse!$U$6:$V$7)/IF(ISNONTEXT($D51)=TRUE,1,DGET(Forespørgsel1[#All],\"\"&$D51&\"\",Kredsudvælgelse!$U$6:$V$7))),IF(ISBLANK(HLOOKUP(R$12,'Statiske ejendomme'!$B$3:$OF$80,'Statiske ejendomme'!$A44,FALSE))=FALSE,HLOOKUP(R$12,'Statiske ejendomme'!$B$3:$OF$80,'Statiske ejendomme'!$A44,FALSE),\"\"))),\"\")","v":-226.57254561251085},{"$f":"IFERROR(IF(S$12=Kredsudvælgelse!$Q$20,\"\",IF(Kredsudvælgelse!AJ$2=1,IF(ISTEXT(DGET(Forespørgsel1[#All],\"\"&LEFT($F51,LEN($F51)-$C51)&\"\",Kredsudvælgelse!$W$6:$X$7))=TRUE,DGET(Forespørgsel1[#All],\"\"&LEFT($F51,LEN($F51)-$C51)&\"\",Kredsudvælgelse!$W$6:$X$7),DGET(Forespørgsel1[#All],\"\"&LEFT($F51,LEN($F51)-$C51)&\"\",Kredsudvælgelse!$W$6:$X$7)/IF(ISNONTEXT($D51)=TRUE,1,DGET(Forespørgsel1[#All],\"\"&$D51&\"\",Kredsudvælgelse!$W$6:$X$7))),IF(ISBLANK(HLOOKUP(S$12,'Statiske ejendomme'!$B$3:$OF$80,'Statiske ejendomme'!$A44,FALSE))=FALSE,HLOOKUP(S$12,'Statiske ejendomme'!$B$3:$OF$80,'Statiske ejendomme'!$A44,FALSE),\"\"))),\"\")","v":0},{"$f":"IFERROR(IF(T$12=Kredsudvælgelse!$Q$20,\"\",IF(Kredsudvælgelse!AK$2=1,IF(ISTEXT(DGET(Forespørgsel1[#All],\"\"&LEFT($F51,LEN($F51)-$C51)&\"\",Kredsudvælgelse!$Y$6:$Z$7))=TRUE,DGET(Forespørgsel1[#All],\"\"&LEFT($F51,LEN($F51)-$C51)&\"\",Kredsudvælgelse!$Y$6:$Z$7),DGET(Forespørgsel1[#All],\"\"&LEFT($F51,LEN($F51)-$C51)&\"\",Kredsudvælgelse!$Y$6:$Z$7)/IF(ISNONTEXT($D51)=TRUE,1,DGET(Forespørgsel1[#All],\"\"&$D51&\"\",Kredsudvælgelse!$Y$6:$Z$7))),IF(ISBLANK(HLOOKUP(T$12,'Statiske ejendomme'!$B$3:$OF$80,'Statiske ejendomme'!$A44,FALSE))=FALSE,HLOOKUP(T$12,'Statiske ejendomme'!$B$3:$OF$80,'Statiske ejendomme'!$A44,FALSE),\"\"))),\"\")","v":-1129.7880597014926}]
[1,{"$f":"Slagtekalve!D124","v":1},{"$f":"Slagtekalve!A43","v":0},{"$f":"Slagtekalve!B43","v":"Antal Producerede kalve"},null,{"$f":"Slagtekalve!C43","v":"Råvarer"},{"$f":"IF(Choices!$A$1=2,Landsgennemsnit!B43,IF(Choices!$A$1=3,Landsgennemsnit!E43,\"\"))","v":-203.12660328957296},{"$f":"IF(Choices!$A$1=2,Landsgennemsnit!C43,IF(Choices!$A$1=3,Landsgennemsnit!F43,\"\"))","v":-131.22418244406197},{"$f":"IF(OR(Choices!$A$1=2,Choices!$A$1=3),Slagtekalve!F43,\"\")","v":""},{"$f":"IF(OR(Choices!$A$1=2,Choices!$A$1=3),Slagtekalve!G43,\"\")","v":""},{"$f":"IFERROR(IF(K$12=Kredsudvælgelse!$Q$20,\"\",IF(Kredsudvælgelse!AB$2=1,IF(ISTEXT(DGET(Forespørgsel1[#All],\"\"&LEFT($F52,LEN($F52)-$C52)&\"\",Kredsudvælgelse!$Q$2:$R$3))=TRUE,DGET(Forespørgsel1[#All],\"\"&LEFT($F52,LEN($F52)-$C52)&\"\",Kredsudvælgelse!$Q$2:$R$3),DGET(Forespørgsel1[#All],\"\"&LEFT($F52,LEN($F52)-$C52)&\"\",Kredsudvælgelse!$Q$2:$R$3)/IF(ISNONTEXT($D52)=TRUE,1,DGET(Forespørgsel1[#All],\"\"&$D52&\"\",Kredsudvælgelse!$Q$2:$R$3))),IF(ISBLANK(HLOOKUP(K$12,'Statiske ejendomme'!$B$3:$OF$80,'Statiske ejendomme'!$A45,FALSE))=FALSE,HLOOKUP(K$12,'Statiske ejendomme'!$B$3:$OF$80,'Statiske ejendomme'!$A45,FALSE),\"-\"))),\"-\")","v":0},{"$f":"IFERROR(IF(L$12=Kredsudvælgelse!$Q$20,\"\",IF(Kredsudvælgelse!AC$2=1,IF(ISTEXT(DGET(Forespørgsel1[#All],\"\"&LEFT($F52,LEN($F52)-$C52)&\"\",Kredsudvælgelse!$S$2:$T$3))=TRUE,DGET(Forespørgsel1[#All],\"\"&LEFT($F52,LEN($F52)-$C52)&\"\",Kredsudvælgelse!$S$2:$T$3),DGET(Forespørgsel1[#All],\"\"&LEFT($F52,LEN($F52)-$C52)&\"\",Kredsudvælgelse!$S$2:$T$3)/IF(ISNONTEXT($D52)=TRUE,1,DGET(Forespørgsel1[#All],\"\"&$D52&\"\",Kredsudvælgelse!$S$2:$T$3))),IF(ISBLANK(HLOOKUP(L$12,'Statiske ejendomme'!$B$3:$OF$80,'Statiske ejendomme'!$A45,FALSE))=FALSE,HLOOKUP(L$12,'Statiske ejendomme'!$B$3:$OF$80,'Statiske ejendomme'!$A45,FALSE),\"\"))),\"\")","v":-502.3020576131687},{"$f":"IFERROR(IF(M$12=Kredsudvælgelse!$Q$20,\"\",IF(Kredsudvælgelse!AD$2=1,IF(ISTEXT(DGET(Forespørgsel1[#All],\"\"&LEFT($F52,LEN($F52)-$C52)&\"\",Kredsudvælgelse!$U$2:$V$3))=TRUE,DGET(Forespørgsel1[#All],\"\"&LEFT($F52,LEN($F52)-$C52)&\"\",Kredsudvælgelse!$U$2:$V$3),DGET(Forespørgsel1[#All],\"\"&LEFT($F52,LEN($F52)-$C52)&\"\",Kredsudvælgelse!$U$2:$V$3)/IF(ISNONTEXT($D52)=TRUE,1,DGET(Forespørgsel1[#All],\"\"&$D52&\"\",Kredsudvælgelse!$U$2:$V$3))),IF(ISBLANK(HLOOKUP(M$12,'Statiske ejendomme'!$B$3:$OF$80,'Statiske ejendomme'!$A45,FALSE))=FALSE,HLOOKUP(M$12,'Statiske ejendomme'!$B$3:$OF$80,'Statiske ejendomme'!$A45,FALSE),\"\"))),\"\")","v":0},{"$f":"IFERROR(IF(N$12=Kredsudvælgelse!$Q$20,\"\",IF(Kredsudvælgelse!AE$2=1,IF(ISTEXT(DGET(Forespørgsel1[#All],\"\"&LEFT($F52,LEN($F52)-$C52)&\"\",Kredsudvælgelse!$W$2:$X$3))=TRUE,DGET(Forespørgsel1[#All],\"\"&LEFT($F52,LEN($F52)-$C52)&\"\",Kredsudvælgelse!$W$2:$X$3),DGET(Forespørgsel1[#All],\"\"&LEFT($F52,LEN($F52)-$C52)&\"\",Kredsudvælgelse!$W$2:$X$3)/IF(ISNONTEXT($D52)=TRUE,1,DGET(Forespørgsel1[#All],\"\"&$D52&\"\",Kredsudvælgelse!$W$2:$X$3))),IF(ISBLANK(HLOOKUP(N$12,'Statiske ejendomme'!$B$3:$OF$80,'Statiske ejendomme'!$A45,FALSE))=FALSE,HLOOKUP(N$12,'Statiske ejendomme'!$B$3:$OF$80,'Statiske ejendomme'!$A45,FALSE),\"\"))),\"\")","v":0},{"$f":"IFERROR(IF(O$12=Kredsudvælgelse!$Q$20,\"\",IF(Kredsudvælgelse!AF$2=1,IF(ISTEXT(DGET(Forespørgsel1[#All],\"\"&LEFT($F52,LEN($F52)-$C52)&\"\",Kredsudvælgelse!$Y$2:$Z$3))=TRUE,DGET(Forespørgsel1[#All],\"\"&LEFT($F52,LEN($F52)-$C52)&\"\",Kredsudvælgelse!$Y$2:$Z$3),DGET(Forespørgsel1[#All],\"\"&LEFT($F52,LEN($F52)-$C52)&\"\",Kredsudvælgelse!$Y$2:$Z$3)/IF(ISNONTEXT($D52)=TRUE,1,DGET(Forespørgsel1[#All],\"\"&$D52&\"\",Kredsudvælgelse!$Y$2:$Z$3))),IF(ISBLANK(HLOOKUP(O$12,'Statiske ejendomme'!$B$3:$OF$80,'Statiske ejendomme'!$A45,FALSE))=FALSE,HLOOKUP(O$12,'Statiske ejendomme'!$B$3:$OF$80,'Statiske ejendomme'!$A45,FALSE),\"\"))),\"\")","v":5.5198019801980198},{"$f":"IFERROR(IF(P$12=Kredsudvælgelse!$Q$20,\"\",IF(Kredsudvælgelse!AG$2=1,IF(ISTEXT(DGET(Forespørgsel1[#All],\"\"&LEFT($F52,LEN($F52)-$C52)&\"\",Kredsudvælgelse!$Q$6:$R$7))=TRUE,DGET(Forespørgsel1[#All],\"\"&LEFT($F52,LEN($F52)-$C52)&\"\",Kredsudvælgelse!$Q$6:$R$7),DGET(Forespørgsel1[#All],\"\"&LEFT($F52,LEN($F52)-$C52)&\"\",Kredsudvælgelse!$Q$6:$R$7)/IF(ISNONTEXT($D52)=TRUE,1,DGET(Forespørgsel1[#All],\"\"&$D52&\"\",Kredsudvælgelse!$Q$6:$R$7))),IF(ISBLANK(HLOOKUP(P$12,'Statiske ejendomme'!$B$3:$OF$80,'Statiske ejendomme'!$A45,FALSE))=FALSE,HLOOKUP(P$12,'Statiske ejendomme'!$B$3:$OF$80,'Statiske ejendomme'!$A45,FALSE),\"\"))),\"\")","v":0},{"$f":"IFERROR(IF(Q$12=Kredsudvælgelse!$Q$20,\"\",IF(Kredsudvælgelse!AH$2=1,IF(ISTEXT(DGET(Forespørgsel1[#All],\"\"&LEFT($F52,LEN($F52)-$C52)&\"\",Kredsudvælgelse!$S$6:$T$7))=TRUE,DGET(Forespørgsel1[#All],\"\"&LEFT($F52,LEN($F52)-$C52)&\"\",Kredsudvælgelse!$S$6:$T$7),DGET(Forespørgsel1[#All],\"\"&LEFT($F52,LEN($F52)-$C52)&\"\",Kredsudvælgelse!$S$6:$T$7)/IF(ISNONTEXT($D52)=TRUE,1,DGET(Forespørgsel1[#All],\"\"&$D52&\"\",Kredsudvælgelse!$S$6:$T$7))),IF(ISBLANK(HLOOKUP(Q$12,'Statiske ejendomme'!$B$3:$OF$80,'Statiske ejendomme'!$A45,FALSE))=FALSE,HLOOKUP(Q$12,'Statiske ejendomme'!$B$3:$OF$80,'Statiske ejendomme'!$A45,FALSE),\"\"))),\"\")","v":-3422.4035087719299},{"$f":"IFERROR(IF(R$12=Kredsudvælgelse!$Q$20,\"\",IF(Kredsudvælgelse!AI$2=1,IF(ISTEXT(DGET(Forespørgsel1[#All],\"\"&LEFT($F52,LEN($F52)-$C52)&\"\",Kredsudvælgelse!$U$6:$V$7))=TRUE,DGET(Forespørgsel1[#All],\"\"&LEFT($F52,LEN($F52)-$C52)&\"\",Kredsudvælgelse!$U$6:$V$7),DGET(Forespørgsel1[#All],\"\"&LEFT($F52,LEN($F52)-$C52)&\"\",Kredsudvælgelse!$U$6:$V$7)/IF(ISNONTEXT($D52)=TRUE,1,DGET(Forespørgsel1[#All],\"\"&$D52&\"\",Kredsudvælgelse!$U$6:$V$7))),IF(ISBLANK(HLOOKUP(R$12,'Statiske ejendomme'!$B$3:$OF$80,'Statiske ejendomme'!$A45,FALSE))=FALSE,HLOOKUP(R$12,'Statiske ejendomme'!$B$3:$OF$80,'Statiske ejendomme'!$A45,FALSE),\"\"))),\"\")","v":-764.12163336229366},{"$f":"IFERROR(IF(S$12=Kredsudvælgelse!$Q$20,\"\",IF(Kredsudvælgelse!AJ$2=1,IF(ISTEXT(DGET(Forespørgsel1[#All],\"\"&LEFT($F52,LEN($F52)-$C52)&\"\",Kredsudvælgelse!$W$6:$X$7))=TRUE,DGET(Forespørgsel1[#All],\"\"&LEFT($F52,LEN($F52)-$C52)&\"\",Kredsudvælgelse!$W$6:$X$7),DGET(Forespørgsel1[#All],\"\"&LEFT($F52,LEN($F52)-$C52)&\"\",Kredsudvælgelse!$W$6:$X$7)/IF(ISNONTEXT($D52)=TRUE,1,DGET(Forespørgsel1[#All],\"\"&$D52&\"\",Kredsudvælgelse!$W$6:$X$7))),IF(ISBLANK(HLOOKUP(S$12,'Statiske ejendomme'!$B$3:$OF$80,'Statiske ejendomme'!$A45,FALSE))=FALSE,HLOOKUP(S$12,'Statiske ejendomme'!$B$3:$OF$80,'Statiske ejendomme'!$A45,FALSE),\"\"))),\"\")","v":0},{"$f":"IFERROR(IF(T$12=Kredsudvælgelse!$Q$20,\"\",IF(Kredsudvælgelse!AK$2=1,IF(ISTEXT(DGET(Forespørgsel1[#All],\"\"&LEFT($F52,LEN($F52)-$C52)&\"\",Kredsudvælgelse!$Y$6:$Z$7))=TRUE,DGET(Forespørgsel1[#All],\"\"&LEFT($F52,LEN($F52)-$C52)&\"\",Kredsudvælgelse!$Y$6:$Z$7),DGET(Forespørgsel1[#All],\"\"&LEFT($F52,LEN($F52)-$C52)&\"\",Kredsudvælgelse!$Y$6:$Z$7)/IF(ISNONTEXT($D52)=TRUE,1,DGET(Forespørgsel1[#All],\"\"&$D52&\"\",Kredsudvælgelse!$Y$6:$Z$7))),IF(ISBLANK(HLOOKUP(T$12,'Statiske ejendomme'!$B$3:$OF$80,'Statiske ejendomme'!$A45,FALSE))=FALSE,HLOOKUP(T$12,'Statiske ejendomme'!$B$3:$OF$80,'Statiske ejendomme'!$A45,FALSE),\"\"))),\"\")","v":0}]
[1,{"$f":"Slagtekalve!D125","v":1},{"$f":"Slagtekalve!A44","v":0},{"$f":"Slagtekalve!B44","v":"Antal Producerede kalve"},null,{"$f":"Slagtekalve!C44","v":"Kraftfoder, tilskudsfoder, færdigblanding mv."},{"$f":"IF(Choices!$A$1=2,Landsgennemsnit!B44,IF(Choices!$A$1=3,Landsgennemsnit!E44,\"\"))","v":-1494.8054423821739},{"$f":"IF(Choices!$A$1=2,Landsgennemsnit!C44,IF(Choices!$A$1=3,Landsgennemsnit!F44,\"\"))","v":-1570.5036574870912},{"$f":"IF(OR(Choices!$A$1=2,Choices!$A$1=3),Slagtekalve!F44,\"\")","v":""},{"$f":"IF(OR(Choices!$A$1=2,Choices!$A$1=3),Slagtekalve!G44,\"\")","v":""},{"$f":"IFERROR(IF(K$12=Kredsudvælgelse!$Q$20,\"\",IF(Kredsudvælgelse!AB$2=1,IF(ISTEXT(DGET(Forespørgsel1[#All],\"\"&LEFT($F53,LEN($F53)-$C53)&\"\",Kredsudvælgelse!$Q$2:$R$3))=TRUE,DGET(Forespørgsel1[#All],\"\"&LEFT($F53,LEN($F53)-$C53)&\"\",Kredsudvælgelse!$Q$2:$R$3),DGET(Forespørgsel1[#All],\"\"&LEFT($F53,LEN($F53)-$C53)&\"\",Kredsudvælgelse!$Q$2:$R$3)/IF(ISNONTEXT($D53)=TRUE,1,DGET(Forespørgsel1[#All],\"\"&$D53&\"\",Kredsudvælgelse!$Q$2:$R$3))),IF(ISBLANK(HLOOKUP(K$12,'Statiske ejendomme'!$B$3:$OF$80,'Statiske ejendomme'!$A46,FALSE))=FALSE,HLOOKUP(K$12,'Statiske ejendomme'!$B$3:$OF$80,'Statiske ejendomme'!$A46,FALSE),\"\"))),\"\")","v":-1648.8997050147493},{"$f":"IFERROR(IF(L$12=Kredsudvælgelse!$Q$20,\"\",IF(Kredsudvælgelse!AC$2=1,IF(ISTEXT(DGET(Forespørgsel1[#All],\"\"&LEFT($F53,LEN($F53)-$C53)&\"\",Kredsudvælgelse!$S$2:$T$3))=TRUE,DGET(Forespørgsel1[#All],\"\"&LEFT($F53,LEN($F53)-$C53)&\"\",Kredsudvælgelse!$S$2:$T$3),DGET(Forespørgsel1[#All],\"\"&LEFT($F53,LEN($F53)-$C53)&\"\",Kredsudvælgelse!$S$2:$T$3)/IF(ISNONTEXT($D53)=TRUE,1,DGET(Forespørgsel1[#All],\"\"&$D53&\"\",Kredsudvælgelse!$S$2:$T$3))),IF(ISBLANK(HLOOKUP(L$12,'Statiske ejendomme'!$B$3:$OF$80,'Statiske ejendomme'!$A46,FALSE))=FALSE,HLOOKUP(L$12,'Statiske ejendomme'!$B$3:$OF$80,'Statiske ejendomme'!$A46,FALSE),\"\"))),\"\")","v":-1009.2921810699588},{"$f":"IFERROR(IF(M$12=Kredsudvælgelse!$Q$20,\"\",IF(Kredsudvælgelse!AD$2=1,IF(ISTEXT(DGET(Forespørgsel1[#All],\"\"&LEFT($F53,LEN($F53)-$C53)&\"\",Kredsudvælgelse!$U$2:$V$3))=TRUE,DGET(Forespørgsel1[#All],\"\"&LEFT($F53,LEN($F53)-$C53)&\"\",Kredsudvælgelse!$U$2:$V$3),DGET(Forespørgsel1[#All],\"\"&LEFT($F53,LEN($F53)-$C53)&\"\",Kredsudvælgelse!$U$2:$V$3)/IF(ISNONTEXT($D53)=TRUE,1,DGET(Forespørgsel1[#All],\"\"&$D53&\"\",Kredsudvælgelse!$U$2:$V$3))),IF(ISBLANK(HLOOKUP(M$12,'Statiske ejendomme'!$B$3:$OF$80,'Statiske ejendomme'!$A46,FALSE))=FALSE,HLOOKUP(M$12,'Statiske ejendomme'!$B$3:$OF$80,'Statiske ejendomme'!$A46,FALSE),\"\"))),\"\")","v":-2730},{"$f":"IFERROR(IF(N$12=Kredsudvælgelse!$Q$20,\"\",IF(Kredsudvælgelse!AE$2=1,IF(ISTEXT(DGET(Forespørgsel1[#All],\"\"&LEFT($F53,LEN($F53)-$C53)&\"\",Kredsudvælgelse!$W$2:$X$3))=TRUE,DGET(Forespørgsel1[#All],\"\"&LEFT($F53,LEN($F53)-$C53)&\"\",Kredsudvælgelse!$W$2:$X$3),DGET(Forespørgsel1[#All],\"\"&LEFT($F53,LEN($F53)-$C53)&\"\",Kredsudvælgelse!$W$2:$X$3)/IF(ISNONTEXT($D53)=TRUE,1,DGET(Forespørgsel1[#All],\"\"&$D53&\"\",Kredsudvælgelse!$W$2:$X$3))),IF(ISBLANK(HLOOKUP(N$12,'Statiske ejendomme'!$B$3:$OF$80,'Statiske ejendomme'!$A46,FALSE))=FALSE,HLOOKUP(N$12,'Statiske ejendomme'!$B$3:$OF$80,'Statiske ejendomme'!$A46,FALSE),\"\"))),\"\")","v":-1475.1297037630104},{"$f":"IFERROR(IF(O$12=Kredsudvælgelse!$Q$20,\"\",IF(Kredsudvælgelse!AF$2=1,IF(ISTEXT(DGET(Forespørgsel1[#All],\"\"&LEFT($F53,LEN($F53)-$C53)&\"\",Kredsudvælgelse!$Y$2:$Z$3))=TRUE,DGET(Forespørgsel1[#All],\"\"&LEFT($F53,LEN($F53)-$C53)&\"\",Kredsudvælgelse!$Y$2:$Z$3),DGET(Forespørgsel1[#All],\"\"&LEFT($F53,LEN($F53)-$C53)&\"\",Kredsudvælgelse!$Y$2:$Z$3)/IF(ISNONTEXT($D53)=TRUE,1,DGET(Forespørgsel1[#All],\"\"&$D53&\"\",Kredsudvælgelse!$Y$2:$Z$3))),IF(ISBLANK(HLOOKUP(O$12,'Statiske ejendomme'!$B$3:$OF$80,'Statiske ejendomme'!$A46,FALSE))=FALSE,HLOOKUP(O$12,'Statiske ejendomme'!$B$3:$OF$80,'Statiske ejendomme'!$A46,FALSE),\"\"))),\"\")","v":-1637.8836633663366},{"$f":"IFERROR(IF(P$12=Kredsudvælgelse!$Q$20,\"\",IF(Kredsudvælgelse!AG$2=1,IF(ISTEXT(DGET(Forespørgsel1[#All],\"\"&LEFT($F53,LEN($F53)-$C53)&\"\",Kredsudvælgelse!$Q$6:$R$7))=TRUE,DGET(Forespørgsel1[#All],\"\"&LEFT($F53,LEN($F53)-$C53)&\"\",Kredsudvælgelse!$Q$6:$R$7),DGET(Forespørgsel1[#All],\"\"&LEFT($F53,LEN($F53)-$C53)&\"\",Kredsudvælgelse!$Q$6:$R$7)/IF(ISNONTEXT($D53)=TRUE,1,DGET(Forespørgsel1[#All],\"\"&$D53&\"\",Kredsudvælgelse!$Q$6:$R$7))),IF(ISBLANK(HLOOKUP(P$12,'Statiske ejendomme'!$B$3:$OF$80,'Statiske ejendomme'!$A46,FALSE))=FALSE,HLOOKUP(P$12,'Statiske ejendomme'!$B$3:$OF$80,'Statiske ejendomme'!$A46,FALSE),\"\"))),\"\")","v":-2653.375796178344},{"$f":"IFERROR(IF(Q$12=Kredsudvælgelse!$Q$20,\"\",IF(Kredsudvælgelse!AH$2=1,IF(ISTEXT(DGET(Forespørgsel1[#All],\"\"&LEFT($F53,LEN($F53)-$C53)&\"\",Kredsudvælgelse!$S$6:$T$7))=TRUE,DGET(Forespørgsel1[#All],\"\"&LEFT($F53,LEN($F53)-$C53)&\"\",Kredsudvælgelse!$S$6:$T$7),DGET(Forespørgsel1[#All],\"\"&LEFT($F53,LEN($F53)-$C53)&\"\",Kredsudvælgelse!$S$6:$T$7)/IF(ISNONTEXT($D53)=TRUE,1,DGET(Forespørgsel1[#All],\"\"&$D53&\"\",Kredsudvælgelse!$S$6:$T$7))),IF(ISBLANK(HLOOKUP(Q$12,'Statiske ejendomme'!$B$3:$OF$80,'Statiske ejendomme'!$A46,FALSE))=FALSE,HLOOKUP(Q$12,'Statiske ejendomme'!$B$3:$OF$80,'Statiske ejendomme'!$A46,FALSE),\"\"))),\"\")","v":0},{"$f":"IFERROR(IF(R$12=Kredsudvælgelse!$Q$20,\"\",IF(Kredsudvælgelse!AI$2=1,IF(ISTEXT(DGET(Forespørgsel1[#All],\"\"&LEFT($F53,LEN($F53)-$C53)&\"\",Kredsudvælgelse!$U$6:$V$7))=TRUE,DGET(Forespørgsel1[#All],\"\"&LEFT($F53,LEN($F53)-$C53)&\"\",Kredsudvælgelse!$U$6:$V$7),DGET(Forespørgsel1[#All],\"\"&LEFT($F53,LEN($F53)-$C53)&\"\",Kredsudvælgelse!$U$6:$V$7)/IF(ISNONTEXT($D53)=TRUE,1,DGET(Forespørgsel1[#All],\"\"&$D53&\"\",Kredsudvælgelse!$U$6:$V$7))),IF(ISBLANK(HLOOKUP(R$12,'Statiske ejendomme'!$B$3:$OF$80,'Statiske ejendomme'!$A46,FALSE))=FALSE,HLOOKUP(R$12,'Statiske ejendomme'!$B$3:$OF$80,'Statiske ejendomme'!$A46,FALSE),\"\"))),\"\")","v":-808.7932232841008},{"$f":"IFERROR(IF(S$12=Kredsudvælgelse!$Q$20,\"\",IF(Kredsudvælgelse!AJ$2=1,IF(ISTEXT(DGET(Forespørgsel1[#All],\"\"&LEFT($F53,LEN($F53)-$C53)&\"\",Kredsudvælgelse!$W$6:$X$7))=TRUE,DGET(Forespørgsel1[#All],\"\"&LEFT($F53,LEN($F53)-$C53)&\"\",Kredsudvælgelse!$W$6:$X$7),DGET(Forespørgsel1[#All],\"\"&LEFT($F53,LEN($F53)-$C53)&\"\",Kredsudvælgelse!$W$6:$X$7)/IF(ISNONTEXT($D53)=TRUE,1,DGET(Forespørgsel1[#All],\"\"&$D53&\"\",Kredsudvælgelse!$W$6:$X$7))),IF(ISBLANK(HLOOKUP(S$12,'Statiske ejendomme'!$B$3:$OF$80,'Statiske ejendomme'!$A46,FALSE))=FALSE,HLOOKUP(S$12,'Statiske ejendomme'!$B$3:$OF$80,'Statiske ejendomme'!$A46,FALSE),\"\"))),\"\")","v":-3513.0563380281692},{"$f":"IFERROR(IF(T$12=Kredsudvælgelse!$Q$20,\"\",IF(Kredsudvælgelse!AK$2=1,IF(ISTEXT(DGET(Forespørgsel1[#All],\"\"&LEFT($F53,LEN($F53)-$C53)&\"\",Kredsudvælgelse!$Y$6:$Z$7))=TRUE,DGET(Forespørgsel1[#All],\"\"&LEFT($F53,LEN($F53)-$C53)&\"\",Kredsudvælgelse!$Y$6:$Z$7),DGET(Forespørgsel1[#All],\"\"&LEFT($F53,LEN($F53)-$C53)&\"\",Kredsudvælgelse!$Y$6:$Z$7)/IF(ISNONTEXT($D53)=TRUE,1,DGET(Forespørgsel1[#All],\"\"&$D53&\"\",Kredsudvælgelse!$Y$6:$Z$7))),IF(ISBLANK(HLOOKUP(T$12,'Statiske ejendomme'!$B$3:$OF$80,'Statiske ejendomme'!$A46,FALSE))=FALSE,HLOOKUP(T$12,'Statiske ejendomme'!$B$3:$OF$80,'Statiske ejendomme'!$A46,FALSE),\"\"))),\"\")","v":-1690.2537313432836}]
[1,{"$f":"Slagtekalve!D126","v":1},{"$f":"Slagtekalve!A45","v":0},{"$f":"Slagtekalve!B45","v":"Antal Producerede kalve"},null,{"$f":"Slagtekalve!C45","v":"Mineraler og vitaminer"},{"$f":"IF(Choices!$A$1=2,Landsgennemsnit!B45,IF(Choices!$A$1=3,Landsgennemsnit!E45,\"\"))","v":-53.24158744529953},{"$f":"IF(Choices!$A$1=2,Landsgennemsnit!C45,IF(Choices!$A$1=3,Landsgennemsnit!F45,\"\"))","v":-33.442986230636834},{"$f":"IF(OR(Choices!$A$1=2,Choices!$A$1=3),Slagtekalve!F45,\"\")","v":""},{"$f":"IF(OR(Choices!$A$1=2,Choices!$A$1=3),Slagtekalve!G45,\"\")","v":""},{"$f":"IFERROR(IF(K$12=Kredsudvælgelse!$Q$20,\"-\",IF(Kredsudvælgelse!AB$2=1,IF(ISTEXT(DGET(Forespørgsel1[#All],\"\"&LEFT($F54,LEN($F54)-$C54)&\"\",Kredsudvælgelse!$Q$2:$R$3))=TRUE,DGET(Forespørgsel1[#All],\"\"&LEFT($F54,LEN($F54)-$C54)&\"\",Kredsudvælgelse!$Q$2:$R$3),DGET(Forespørgsel1[#All],\"\"&LEFT($F54,LEN($F54)-$C54)&\"\",Kredsudvælgelse!$Q$2:$R$3)/IF(ISNONTEXT($D54)=TRUE,1,DGET(Forespørgsel1[#All],\"\"&$D54&\"\",Kredsudvælgelse!$Q$2:$R$3))),IF(ISBLANK(HLOOKUP(K$12,'Statiske ejendomme'!$B$3:$OF$80,'Statiske ejendomme'!$A47,FALSE))=FALSE,HLOOKUP(K$12,'Statiske ejendomme'!$B$3:$OF$80,'Statiske ejendomme'!$A47,FALSE),\"-\"))),\"-\")","v":0},{"$f":"IFERROR(IF(L$12=Kredsudvælgelse!$Q$20,\"\",IF(Kredsudvælgelse!AC$2=1,IF(ISTEXT(DGET(Forespørgsel1[#All],\"\"&LEFT($F54,LEN($F54)-$C54)&\"\",Kredsudvælgelse!$S$2:$T$3))=TRUE,DGET(Forespørgsel1[#All],\"\"&LEFT($F54,LEN($F54)-$C54)&\"\",Kredsudvælgelse!$S$2:$T$3),DGET(Forespørgsel1[#All],\"\"&LEFT($F54,LEN($F54)-$C54)&\"\",Kredsudvælgelse!$S$2:$T$3)/IF(ISNONTEXT($D54)=TRUE,1,DGET(Forespørgsel1[#All],\"\"&$D54&\"\",Kredsudvælgelse!$S$2:$T$3))),IF(ISBLANK(HLOOKUP(L$12,'Statiske ejendomme'!$B$3:$OF$80,'Statiske ejendomme'!$A47,FALSE))=FALSE,HLOOKUP(L$12,'Statiske ejendomme'!$B$3:$OF$80,'Statiske ejendomme'!$A47,FALSE),\"\"))),\"\")","v":-50.139917695473251},{"$f":"IFERROR(IF(M$12=Kredsudvælgelse!$Q$20,\"\",IF(Kredsudvælgelse!AD$2=1,IF(ISTEXT(DGET(Forespørgsel1[#All],\"\"&LEFT($F54,LEN($F54)-$C54)&\"\",Kredsudvælgelse!$U$2:$V$3))=TRUE,DGET(Forespørgsel1[#All],\"\"&LEFT($F54,LEN($F54)-$C54)&\"\",Kredsudvælgelse!$U$2:$V$3),DGET(Forespørgsel1[#All],\"\"&LEFT($F54,LEN($F54)-$C54)&\"\",Kredsudvælgelse!$U$2:$V$3)/IF(ISNONTEXT($D54)=TRUE,1,DGET(Forespørgsel1[#All],\"\"&$D54&\"\",Kredsudvælgelse!$U$2:$V$3))),IF(ISBLANK(HLOOKUP(M$12,'Statiske ejendomme'!$B$3:$OF$80,'Statiske ejendomme'!$A47,FALSE))=FALSE,HLOOKUP(M$12,'Statiske ejendomme'!$B$3:$OF$80,'Statiske ejendomme'!$A47,FALSE),\"\"))),\"\")","v":0},{"$f":"IFERROR(IF(N$12=Kredsudvælgelse!$Q$20,\"\",IF(Kredsudvælgelse!AE$2=1,IF(ISTEXT(DGET(Forespørgsel1[#All],\"\"&LEFT($F54,LEN($F54)-$C54)&\"\",Kredsudvælgelse!$W$2:$X$3))=TRUE,DGET(Forespørgsel1[#All],\"\"&LEFT($F54,LEN($F54)-$C54)&\"\",Kredsudvælgelse!$W$2:$X$3),DGET(Forespørgsel1[#All],\"\"&LEFT($F54,LEN($F54)-$C54)&\"\",Kredsudvælgelse!$W$2:$X$3)/IF(ISNONTEXT($D54)=TRUE,1,DGET(Forespørgsel1[#All],\"\"&$D54&\"\",Kredsudvælgelse!$W$2:$X$3))),IF(ISBLANK(HLOOKUP(N$12,'Statiske ejendomme'!$B$3:$OF$80,'Statiske ejendomme'!$A47,FALSE))=FALSE,HLOOKUP(N$12,'Statiske ejendomme'!$B$3:$OF$80,'Statiske ejendomme'!$A47,FALSE),\"\"))),\"\")","v":0},{"$f":"IFERROR(IF(O$12=Kredsudvælgelse!$Q$20,\"\",IF(Kredsudvælgelse!AF$2=1,IF(ISTEXT(DGET(Forespørgsel1[#All],\"\"&LEFT($F54,LEN($F54)-$C54)&\"\",Kredsudvælgelse!$Y$2:$Z$3))=TRUE,DGET(Forespørgsel1[#All],\"\"&LEFT($F54,LEN($F54)-$C54)&\"\",Kredsudvælgelse!$Y$2:$Z$3),DGET(Forespørgsel1[#All],\"\"&LEFT($F54,LEN($F54)-$C54)&\"\",Kredsudvælgelse!$Y$2:$Z$3)/IF(ISNONTEXT($D54)=TRUE,1,DGET(Forespørgsel1[#All],\"\"&$D54&\"\",Kredsudvælgelse!$Y$2:$Z$3))),IF(ISBLANK(HLOOKUP(O$12,'Statiske ejendomme'!$B$3:$OF$80,'Statiske ejendomme'!$A47,FALSE))=FALSE,HLOOKUP(O$12,'Statiske ejendomme'!$B$3:$OF$80,'Statiske ejendomme'!$A47,FALSE),\"\"))),\"\")","v":0},{"$f":"IFERROR(IF(P$12=Kredsudvælgelse!$Q$20,\"\",IF(Kredsudvælgelse!AG$2=1,IF(ISTEXT(DGET(Forespørgsel1[#All],\"\"&LEFT($F54,LEN($F54)-$C54)&\"\",Kredsudvælgelse!$Q$6:$R$7))=TRUE,DGET(Forespørgsel1[#All],\"\"&LEFT($F54,LEN($F54)-$C54)&\"\",Kredsudvælgelse!$Q$6:$R$7),DGET(Forespørgsel1[#All],\"\"&LEFT($F54,LEN($F54)-$C54)&\"\",Kredsudvælgelse!$Q$6:$R$7)/IF(ISNONTEXT($D54)=TRUE,1,DGET(Forespørgsel1[#All],\"\"&$D54&\"\",Kredsudvælgelse!$Q$6:$R$7))),IF(ISBLANK(HLOOKUP(P$12,'Statiske ejendomme'!$B$3:$OF$80,'Statiske ejendomme'!$A47,FALSE))=FALSE,HLOOKUP(P$12,'Statiske ejendomme'!$B$3:$OF$80,'Statiske ejendomme'!$A47,FALSE),\"\"))),\"\")","v":-0.96815286624203822},{"$f":"IFERROR(IF(Q$12=Kredsudvælgelse!$Q$20,\"\",IF(Kredsudvælgelse!AH$2=1,IF(ISTEXT(DGET(Forespørgsel1[#All],\"\"&LEFT($F54,LEN($F54)-$C54)&\"\",Kredsudvælgelse!$S$6:$T$7))=TRUE,DGET(Forespørgsel1[#All],\"\"&LEFT($F54,LEN($F54)-$C54)&\"\",Kredsudvælgelse!$S$6:$T$7),DGET(Forespørgsel1[#All],\"\"&LEFT($F54,LEN($F54)-$C54)&\"\",Kredsudvælgelse!$S$6:$T$7)/IF(ISNONTEXT($D54)=TRUE,1,DGET(Forespørgsel1[#All],\"\"&$D54&\"\",Kredsudvælgelse!$S$6:$T$7))),IF(ISBLANK(HLOOKUP(Q$12,'Statiske ejendomme'!$B$3:$OF$80,'Statiske ejendomme'!$A47,FALSE))=FALSE,HLOOKUP(Q$12,'Statiske ejendomme'!$B$3:$OF$80,'Statiske ejendomme'!$A47,FALSE),\"\"))),\"\")","v":0},{"$f":"IFERROR(IF(R$12=Kredsudvælgelse!$Q$20,\"\",IF(Kredsudvælgelse!AI$2=1,IF(ISTEXT(DGET(Forespørgsel1[#All],\"\"&LEFT($F54,LEN($F54)-$C54)&\"\",Kredsudvælgelse!$U$6:$V$7))=TRUE,DGET(Forespørgsel1[#All],\"\"&LEFT($F54,LEN($F54)-$C54)&\"\",Kredsudvælgelse!$U$6:$V$7),DGET(Forespørgsel1[#All],\"\"&LEFT($F54,LEN($F54)-$C54)&\"\",Kredsudvælgelse!$U$6:$V$7)/IF(ISNONTEXT($D54)=TRUE,1,DGET(Forespørgsel1[#All],\"\"&$D54&\"\",Kredsudvælgelse!$U$6:$V$7))),IF(ISBLANK(HLOOKUP(R$12,'Statiske ejendomme'!$B$3:$OF$80,'Statiske ejendomme'!$A47,FALSE))=FALSE,HLOOKUP(R$12,'Statiske ejendomme'!$B$3:$OF$80,'Statiske ejendomme'!$A47,FALSE),\"\"))),\"\")","v":-83.244135534317991},{"$f":"IFERROR(IF(S$12=Kredsudvælgelse!$Q$20,\"\",IF(Kredsudvælgelse!AJ$2=1,IF(ISTEXT(DGET(Forespørgsel1[#All],\"\"&LEFT($F54,LEN($F54)-$C54)&\"\",Kredsudvælgelse!$W$6:$X$7))=TRUE,DGET(Forespørgsel1[#All],\"\"&LEFT($F54,LEN($F54)-$C54)&\"\",Kredsudvælgelse!$W$6:$X$7),DGET(Forespørgsel1[#All],\"\"&LEFT($F54,LEN($F54)-$C54)&\"\",Kredsudvælgelse!$W$6:$X$7)/IF(ISNONTEXT($D54)=TRUE,1,DGET(Forespørgsel1[#All],\"\"&$D54&\"\",Kredsudvælgelse!$W$6:$X$7))),IF(ISBLANK(HLOOKUP(S$12,'Statiske ejendomme'!$B$3:$OF$80,'Statiske ejendomme'!$A47,FALSE))=FALSE,HLOOKUP(S$12,'Statiske ejendomme'!$B$3:$OF$80,'Statiske ejendomme'!$A47,FALSE),\"\"))),\"\")","v":-1.3169014084507042},{"$f":"IFERROR(IF(T$12=Kredsudvælgelse!$Q$20,\"\",IF(Kredsudvælgelse!AK$2=1,IF(ISTEXT(DGET(Forespørgsel1[#All],\"\"&LEFT($F54,LEN($F54)-$C54)&\"\",Kredsudvælgelse!$Y$6:$Z$7))=TRUE,DGET(Forespørgsel1[#All],\"\"&LEFT($F54,LEN($F54)-$C54)&\"\",Kredsudvælgelse!$Y$6:$Z$7),DGET(Forespørgsel1[#All],\"\"&LEFT($F54,LEN($F54)-$C54)&\"\",Kredsudvælgelse!$Y$6:$Z$7)/IF(ISNONTEXT($D54)=TRUE,1,DGET(Forespørgsel1[#All],\"\"&$D54&\"\",Kredsudvælgelse!$Y$6:$Z$7))),IF(ISBLANK(HLOOKUP(T$12,'Statiske ejendomme'!$B$3:$OF$80,'Statiske ejendomme'!$A47,FALSE))=FALSE,HLOOKUP(T$12,'Statiske ejendomme'!$B$3:$OF$80,'Statiske ejendomme'!$A47,FALSE),\"\"))),\"\")","v":-4.1333333333333337}]
[1,{"$f":"Slagtekalve!D127","v":1},{"$f":"Slagtekalve!A46","v":0},{"$f":"Slagtekalve!B46","v":"Antal Producerede kalve"},null,{"$f":"Slagtekalve!C46","v":"Biprodukter mv."},{"$f":"IF(Choices!$A$1=2,Landsgennemsnit!B46,IF(Choices!$A$1=3,Landsgennemsnit!E46,\"\"))","v":-89.584075247723959},{"$f":"IF(Choices!$A$1=2,Landsgennemsnit!C46,IF(Choices!$A$1=3,Landsgennemsnit!F46,\"\"))","v":-30.298192771084338},{"$f":"IF(OR(Choices!$A$1=2,Choices!$A$1=3),Slagtekalve!F46,\"\")","v":""},{"$f":"IF(OR(Choices!$A$1=2,Choices!$A$1=3),Slagtekalve!G46,\"\")","v":""},{"$f":"IFERROR(IF(K$12=Kredsudvælgelse!$Q$20,\"\",IF(Kredsudvælgelse!AB$2=1,IF(ISTEXT(DGET(Forespørgsel1[#All],\"\"&LEFT($F55,LEN($F55)-$C55)&\"\",Kredsudvælgelse!$Q$2:$R$3))=TRUE,DGET(Forespørgsel1[#All],\"\"&LEFT($F55,LEN($F55)-$C55)&\"\",Kredsudvælgelse!$Q$2:$R$3),DGET(Forespørgsel1[#All],\"\"&LEFT($F55,LEN($F55)-$C55)&\"\",Kredsudvælgelse!$Q$2:$R$3)/IF(ISNONTEXT($D55)=TRUE,1,DGET(Forespørgsel1[#All],\"\"&$D55&\"\",Kredsudvælgelse!$Q$2:$R$3))),IF(ISBLANK(HLOOKUP(K$12,'Statiske ejendomme'!$B$3:$OF$80,'Statiske ejendomme'!$A48,FALSE))=FALSE,HLOOKUP(K$12,'Statiske ejendomme'!$B$3:$OF$80,'Statiske ejendomme'!$A48,FALSE),\"\"))),\"\")","v":-12.247787610619469},{"$f":"IFERROR(IF(L$12=Kredsudvælgelse!$Q$20,\"\",IF(Kredsudvælgelse!AC$2=1,IF(ISTEXT(DGET(Forespørgsel1[#All],\"\"&LEFT($F55,LEN($F55)-$C55)&\"\",Kredsudvælgelse!$S$2:$T$3))=TRUE,DGET(Forespørgsel1[#All],\"\"&LEFT($F55,LEN($F55)-$C55)&\"\",Kredsudvælgelse!$S$2:$T$3),DGET(Forespørgsel1[#All],\"\"&LEFT($F55,LEN($F55)-$C55)&\"\",Kredsudvælgelse!$S$2:$T$3)/IF(ISNONTEXT($D55)=TRUE,1,DGET(Forespørgsel1[#All],\"\"&$D55&\"\",Kredsudvælgelse!$S$2:$T$3))),IF(ISBLANK(HLOOKUP(L$12,'Statiske ejendomme'!$B$3:$OF$80,'Statiske ejendomme'!$A48,FALSE))=FALSE,HLOOKUP(L$12,'Statiske ejendomme'!$B$3:$OF$80,'Statiske ejendomme'!$A48,FALSE),\"\"))),\"\")","v":0},{"$f":"IFERROR(IF(M$12=Kredsudvælgelse!$Q$20,\"\",IF(Kredsudvælgelse!AD$2=1,IF(ISTEXT(DGET(Forespørgsel1[#All],\"\"&LEFT($F55,LEN($F55)-$C55)&\"\",Kredsudvælgelse!$U$2:$V$3))=TRUE,DGET(Forespørgsel1[#All],\"\"&LEFT($F55,LEN($F55)-$C55)&\"\",Kredsudvælgelse!$U$2:$V$3),DGET(Forespørgsel1[#All],\"\"&LEFT($F55,LEN($F55)-$C55)&\"\",Kredsudvælgelse!$U$2:$V$3)/IF(ISNONTEXT($D55)=TRUE,1,DGET(Forespørgsel1[#All],\"\"&$D55&\"\",Kredsudvælgelse!$U$2:$V$3))),IF(ISBLANK(HLOOKUP(M$12,'Statiske ejendomme'!$B$3:$OF$80,'Statiske ejendomme'!$A48,FALSE))=FALSE,HLOOKUP(M$12,'Statiske ejendomme'!$B$3:$OF$80,'Statiske ejendomme'!$A48,FALSE),\"\"))),\"\")","v":0},{"$f":"IFERROR(IF(N$12=Kredsudvælgelse!$Q$20,\"\",IF(Kredsudvælgelse!AE$2=1,IF(ISTEXT(DGET(Forespørgsel1[#All],\"\"&LEFT($F55,LEN($F55)-$C55)&\"\",Kredsudvælgelse!$W$2:$X$3))=TRUE,DGET(Forespørgsel1[#All],\"\"&LEFT($F55,LEN($F55)-$C55)&\"\",Kredsudvælgelse!$W$2:$X$3),DGET(Forespørgsel1[#All],\"\"&LEFT($F55,LEN($F55)-$C55)&\"\",Kredsudvælgelse!$W$2:$X$3)/IF(ISNONTEXT($D55)=TRUE,1,DGET(Forespørgsel1[#All],\"\"&$D55&\"\",Kredsudvælgelse!$W$2:$X$3))),IF(ISBLANK(HLOOKUP(N$12,'Statiske ejendomme'!$B$3:$OF$80,'Statiske ejendomme'!$A48,FALSE))=FALSE,HLOOKUP(N$12,'Statiske ejendomme'!$B$3:$OF$80,'Statiske ejendomme'!$A48,FALSE),\"\"))),\"\")","v":-151.7341873498799},{"$f":"IFERROR(IF(O$12=Kredsudvælgelse!$Q$20,\"\",IF(Kredsudvælgelse!AF$2=1,IF(ISTEXT(DGET(Forespørgsel1[#All],\"\"&LEFT($F55,LEN($F55)-$C55)&\"\",Kredsudvælgelse!$Y$2:$Z$3))=TRUE,DGET(Forespørgsel1[#All],\"\"&LEFT($F55,LEN($F55)-$C55)&\"\",Kredsudvælgelse!$Y$2:$Z$3),DGET(Forespørgsel1[#All],\"\"&LEFT($F55,LEN($F55)-$C55)&\"\",Kredsudvælgelse!$Y$2:$Z$3)/IF(ISNONTEXT($D55)=TRUE,1,DGET(Forespørgsel1[#All],\"\"&$D55&\"\",Kredsudvælgelse!$Y$2:$Z$3))),IF(ISBLANK(HLOOKUP(O$12,'Statiske ejendomme'!$B$3:$OF$80,'Statiske ejendomme'!$A48,FALSE))=FALSE,HLOOKUP(O$12,'Statiske ejendomme'!$B$3:$OF$80,'Statiske ejendomme'!$A48,FALSE),\"\"))),\"\")","v":-51.051980198019805},{"$f":"IFERROR(IF(P$12=Kredsudvælgelse!$Q$20,\"\",IF(Kredsudvælgelse!AG$2=1,IF(ISTEXT(DGET(Forespørgsel1[#All],\"\"&LEFT($F55,LEN($F55)-$C55)&\"\",Kredsudvælgelse!$Q$6:$R$7))=TRUE,DGET(Forespørgsel1[#All],\"\"&LEFT($F55,LEN($F55)-$C55)&\"\",Kredsudvælgelse!$Q$6:$R$7),DGET(Forespørgsel1[#All],\"\"&LEFT($F55,LEN($F55)-$C55)&\"\",Kredsudvælgelse!$Q$6:$R$7)/IF(ISNONTEXT($D55)=TRUE,1,DGET(Forespørgsel1[#All],\"\"&$D55&\"\",Kredsudvælgelse!$Q$6:$R$7))),IF(ISBLANK(HLOOKUP(P$12,'Statiske ejendomme'!$B$3:$OF$80,'Statiske ejendomme'!$A48,FALSE))=FALSE,HLOOKUP(P$12,'Statiske ejendomme'!$B$3:$OF$80,'Statiske ejendomme'!$A48,FALSE),\"\"))),\"\")","v":0},{"$f":"IFERROR(IF(Q$12=Kredsudvælgelse!$Q$20,\"\",IF(Kredsudvælgelse!AH$2=1,IF(ISTEXT(DGET(Forespørgsel1[#All],\"\"&LEFT($F55,LEN($F55)-$C55)&\"\",Kredsudvælgelse!$S$6:$T$7))=TRUE,DGET(Forespørgsel1[#All],\"\"&LEFT($F55,LEN($F55)-$C55)&\"\",Kredsudvælgelse!$S$6:$T$7),DGET(Forespørgsel1[#All],\"\"&LEFT($F55,LEN($F55)-$C55)&\"\",Kredsudvælgelse!$S$6:$T$7)/IF(ISNONTEXT($D55)=TRUE,1,DGET(Forespørgsel1[#All],\"\"&$D55&\"\",Kredsudvælgelse!$S$6:$T$7))),IF(ISBLANK(HLOOKUP(Q$12,'Statiske ejendomme'!$B$3:$OF$80,'Statiske ejendomme'!$A48,FALSE))=FALSE,HLOOKUP(Q$12,'Statiske ejendomme'!$B$3:$OF$80,'Statiske ejendomme'!$A48,FALSE),\"\"))),\"\")","v":0},{"$f":"IFERROR(IF(R$12=Kredsudvælgelse!$Q$20,\"\",IF(Kredsudvælgelse!AI$2=1,IF(ISTEXT(DGET(Forespørgsel1[#All],\"\"&LEFT($F55,LEN($F55)-$C55)&\"\",Kredsudvælgelse!$U$6:$V$7))=TRUE,DGET(Forespørgsel1[#All],\"\"&LEFT($F55,LEN($F55)-$C55)&\"\",Kredsudvælgelse!$U$6:$V$7),DGET(Forespørgsel1[#All],\"\"&LEFT($F55,LEN($F55)-$C55)&\"\",Kredsudvælgelse!$U$6:$V$7)/IF(ISNONTEXT($D55)=TRUE,1,DGET(Forespørgsel1[#All],\"\"&$D55&\"\",Kredsudvælgelse!$U$6:$V$7))),IF(ISBLANK(HLOOKUP(R$12,'Statiske ejendomme'!$B$3:$OF$80,'Statiske ejendomme'!$A48,FALSE))=FALSE,HLOOKUP(R$12,'Statiske ejendomme'!$B$3:$OF$80,'Statiske ejendomme'!$A48,FALSE),\"\"))),\"\")","v":-256.62206776715897},{"$f":"IFERROR(IF(S$12=Kredsudvælgelse!$Q$20,\"\",IF(Kredsudvælgelse!AJ$2=1,IF(ISTEXT(DGET(Forespørgsel1[#All],\"\"&LEFT($F55,LEN($F55)-$C55)&\"\",Kredsudvælgelse!$W$6:$X$7))=TRUE,DGET(Forespørgsel1[#All],\"\"&LEFT($F55,LEN($F55)-$C55)&\"\",Kredsudvælgelse!$W$6:$X$7),DGET(Forespørgsel1[#All],\"\"&LEFT($F55,LEN($F55)-$C55)&\"\",Kredsudvælgelse!$W$6:$X$7)/IF(ISNONTEXT($D55)=TRUE,1,DGET(Forespørgsel1[#All],\"\"&$D55&\"\",Kredsudvælgelse!$W$6:$X$7))),IF(ISBLANK(HLOOKUP(S$12,'Statiske ejendomme'!$B$3:$OF$80,'Statiske ejendomme'!$A48,FALSE))=FALSE,HLOOKUP(S$12,'Statiske ejendomme'!$B$3:$OF$80,'Statiske ejendomme'!$A48,FALSE),\"\"))),\"\")","v":0},{"$f":"IFERROR(IF(T$12=Kredsudvælgelse!$Q$20,\"\",IF(Kredsudvælgelse!AK$2=1,IF(ISTEXT(DGET(Forespørgsel1[#All],\"\"&LEFT($F55,LEN($F55)-$C55)&\"\",Kredsudvælgelse!$Y$6:$Z$7))=TRUE,DGET(Forespørgsel1[#All],\"\"&LEFT($F55,LEN($F55)-$C55)&\"\",Kredsudvælgelse!$Y$6:$Z$7),DGET(Forespørgsel1[#All],\"\"&LEFT($F55,LEN($F55)-$C55)&\"\",Kredsudvælgelse!$Y$6:$Z$7)/IF(ISNONTEXT($D55)=TRUE,1,DGET(Forespørgsel1[#All],\"\"&$D55&\"\",Kredsudvælgelse!$Y$6:$Z$7))),IF(ISBLANK(HLOOKUP(T$12,'Statiske ejendomme'!$B$3:$OF$80,'Statiske ejendomme'!$A48,FALSE))=FALSE,HLOOKUP(T$12,'Statiske ejendomme'!$B$3:$OF$80,'Statiske ejendomme'!$A48,FALSE),\"\"))),\"\")","v":0}]
[1,{"$f":"Slagtekalve!D128","v":1},{"$f":"Slagtekalve!A47","v":0},{"$f":"Slagtekalve!B47","v":"Antal Producerede kalve"},null,{"$f":"Slagtekalve!C47","v":"Grovfoder"},{"$f":"IF(Choices!$A$1=2,Landsgennemsnit!B47,IF(Choices!$A$1=3,Landsgennemsnit!E47,\"\"))","v":-479.81595493184449},{"$f":"IF(Choices!$A$1=2,Landsgennemsnit!C47,IF(Choices!$A$1=3,Landsgennemsnit!F47,\"\"))","v":-410.85262478485367},{"$f":"IF(OR(Choices!$A$1=2,Choices!$A$1=3),Slagtekalve!F47,\"\")","v":""},{"$f":"IF(OR(Choices!$A$1=2,Choices!$A$1=3),Slagtekalve!G47,\"\")","v":""},{"$f":"IFERROR(IF(K$12=Kredsudvælgelse!$Q$20,\"\",IF(Kredsudvælgelse!AB$2=1,IF(ISTEXT(DGET(Forespørgsel1[#All],\"\"&LEFT($F56,LEN($F56)-$C56)&\"\",Kredsudvælgelse!$Q$2:$R$3))=TRUE,DGET(Forespørgsel1[#All],\"\"&LEFT($F56,LEN($F56)-$C56)&\"\",Kredsudvælgelse!$Q$2:$R$3),DGET(Forespørgsel1[#All],\"\"&LEFT($F56,LEN($F56)-$C56)&\"\",Kredsudvælgelse!$Q$2:$R$3)/IF(ISNONTEXT($D56)=TRUE,1,DGET(Forespørgsel1[#All],\"\"&$D56&\"\",Kredsudvælgelse!$Q$2:$R$3))),IF(ISBLANK(HLOOKUP(K$12,'Statiske ejendomme'!$B$3:$OF$80,'Statiske ejendomme'!$A49,FALSE))=FALSE,HLOOKUP(K$12,'Statiske ejendomme'!$B$3:$OF$80,'Statiske ejendomme'!$A49,FALSE),\"\"))),\"\")","v":-62.353982300884958},{"$f":"IFERROR(IF(L$12=Kredsudvælgelse!$Q$20,\"\",IF(Kredsudvælgelse!AC$2=1,IF(ISTEXT(DGET(Forespørgsel1[#All],\"\"&LEFT($F56,LEN($F56)-$C56)&\"\",Kredsudvælgelse!$S$2:$T$3))=TRUE,DGET(Forespørgsel1[#All],\"\"&LEFT($F56,LEN($F56)-$C56)&\"\",Kredsudvælgelse!$S$2:$T$3),DGET(Forespørgsel1[#All],\"\"&LEFT($F56,LEN($F56)-$C56)&\"\",Kredsudvælgelse!$S$2:$T$3)/IF(ISNONTEXT($D56)=TRUE,1,DGET(Forespørgsel1[#All],\"\"&$D56&\"\",Kredsudvælgelse!$S$2:$T$3))),IF(ISBLANK(HLOOKUP(L$12,'Statiske ejendomme'!$B$3:$OF$80,'Statiske ejendomme'!$A49,FALSE))=FALSE,HLOOKUP(L$12,'Statiske ejendomme'!$B$3:$OF$80,'Statiske ejendomme'!$A49,FALSE),\"\"))),\"\")","v":-1047.2156378600823},{"$f":"IFERROR(IF(M$12=Kredsudvælgelse!$Q$20,\"\",IF(Kredsudvælgelse!AD$2=1,IF(ISTEXT(DGET(Forespørgsel1[#All],\"\"&LEFT($F56,LEN($F56)-$C56)&\"\",Kredsudvælgelse!$U$2:$V$3))=TRUE,DGET(Forespørgsel1[#All],\"\"&LEFT($F56,LEN($F56)-$C56)&\"\",Kredsudvælgelse!$U$2:$V$3),DGET(Forespørgsel1[#All],\"\"&LEFT($F56,LEN($F56)-$C56)&\"\",Kredsudvælgelse!$U$2:$V$3)/IF(ISNONTEXT($D56)=TRUE,1,DGET(Forespørgsel1[#All],\"\"&$D56&\"\",Kredsudvælgelse!$U$2:$V$3))),IF(ISBLANK(HLOOKUP(M$12,'Statiske ejendomme'!$B$3:$OF$80,'Statiske ejendomme'!$A49,FALSE))=FALSE,HLOOKUP(M$12,'Statiske ejendomme'!$B$3:$OF$80,'Statiske ejendomme'!$A49,FALSE),\"\"))),\"\")","v":0},{"$f":"IFERROR(IF(N$12=Kredsudvælgelse!$Q$20,\"\",IF(Kredsudvælgelse!AE$2=1,IF(ISTEXT(DGET(Forespørgsel1[#All],\"\"&LEFT($F56,LEN($F56)-$C56)&\"\",Kredsudvælgelse!$W$2:$X$3))=TRUE,DGET(Forespørgsel1[#All],\"\"&LEFT($F56,LEN($F56)-$C56)&\"\",Kredsudvælgelse!$W$2:$X$3),DGET(Forespørgsel1[#All],\"\"&LEFT($F56,LEN($F56)-$C56)&\"\",Kredsudvælgelse!$W$2:$X$3)/IF(ISNONTEXT($D56)=TRUE,1,DGET(Forespørgsel1[#All],\"\"&$D56&\"\",Kredsudvælgelse!$W$2:$X$3))),IF(ISBLANK(HLOOKUP(N$12,'Statiske ejendomme'!$B$3:$OF$80,'Statiske ejendomme'!$A49,FALSE))=FALSE,HLOOKUP(N$12,'Statiske ejendomme'!$B$3:$OF$80,'Statiske ejendomme'!$A49,FALSE),\"\"))),\"\")","v":-109.90792634107285},{"$f":"IFERROR(IF(O$12=Kredsudvælgelse!$Q$20,\"\",IF(Kredsudvælgelse!AF$2=1,IF(ISTEXT(DGET(Forespørgsel1[#All],\"\"&LEFT($F56,LEN($F56)-$C56)&\"\",Kredsudvælgelse!$Y$2:$Z$3))=TRUE,DGET(Forespørgsel1[#All],\"\"&LEFT($F56,LEN($F56)-$C56)&\"\",Kredsudvælgelse!$Y$2:$Z$3),DGET(Forespørgsel1[#All],\"\"&LEFT($F56,LEN($F56)-$C56)&\"\",Kredsudvælgelse!$Y$2:$Z$3)/IF(ISNONTEXT($D56)=TRUE,1,DGET(Forespørgsel1[#All],\"\"&$D56&\"\",Kredsudvælgelse!$Y$2:$Z$3))),IF(ISBLANK(HLOOKUP(O$12,'Statiske ejendomme'!$B$3:$OF$80,'Statiske ejendomme'!$A49,FALSE))=FALSE,HLOOKUP(O$12,'Statiske ejendomme'!$B$3:$OF$80,'Statiske ejendomme'!$A49,FALSE),\"\"))),\"\")","v":0},{"$f":"IFERROR(IF(P$12=Kredsudvælgelse!$Q$20,\"\",IF(Kredsudvælgelse!AG$2=1,IF(ISTEXT(DGET(Forespørgsel1[#All],\"\"&LEFT($F56,LEN($F56)-$C56)&\"\",Kredsudvælgelse!$Q$6:$R$7))=TRUE,DGET(Forespørgsel1[#All],\"\"&LEFT($F56,LEN($F56)-$C56)&\"\",Kredsudvælgelse!$Q$6:$R$7),DGET(Forespørgsel1[#All],\"\"&LEFT($F56,LEN($F56)-$C56)&\"\",Kredsudvælgelse!$Q$6:$R$7)/IF(ISNONTEXT($D56)=TRUE,1,DGET(Forespørgsel1[#All],\"\"&$D56&\"\",Kredsudvælgelse!$Q$6:$R$7))),IF(ISBLANK(HLOOKUP(P$12,'Statiske ejendomme'!$B$3:$OF$80,'Statiske ejendomme'!$A49,FALSE))=FALSE,HLOOKUP(P$12,'Statiske ejendomme'!$B$3:$OF$80,'Statiske ejendomme'!$A49,FALSE),\"\"))),\"\")","v":-147.13375796178343},{"$f":"IFERROR(IF(Q$12=Kredsudvælgelse!$Q$20,\"\",IF(Kredsudvælgelse!AH$2=1,IF(ISTEXT(DGET(Forespørgsel1[#All],\"\"&LEFT($F56,LEN($F56)-$C56)&\"\",Kredsudvælgelse!$S$6:$T$7))=TRUE,DGET(Forespørgsel1[#All],\"\"&LEFT($F56,LEN($F56)-$C56)&\"\",Kredsudvælgelse!$S$6:$T$7),DGET(Forespørgsel1[#All],\"\"&LEFT($F56,LEN($F56)-$C56)&\"\",Kredsudvælgelse!$S$6:$T$7)/IF(ISNONTEXT($D56)=TRUE,1,DGET(Forespørgsel1[#All],\"\"&$D56&\"\",Kredsudvælgelse!$S$6:$T$7))),IF(ISBLANK(HLOOKUP(Q$12,'Statiske ejendomme'!$B$3:$OF$80,'Statiske ejendomme'!$A49,FALSE))=FALSE,HLOOKUP(Q$12,'Statiske ejendomme'!$B$3:$OF$80,'Statiske ejendomme'!$A49,FALSE),\"\"))),\"\")","v":0},{"$f":"IFERROR(IF(R$12=Kredsudvælgelse!$Q$20,\"\",IF(Kredsudvælgelse!AI$2=1,IF(ISTEXT(DGET(Forespørgsel1[#All],\"\"&LEFT($F56,LEN($F56)-$C56)&\"\",Kredsudvælgelse!$U$6:$V$7))=TRUE,DGET(Forespørgsel1[#All],\"\"&LEFT($F56,LEN($F56)-$C56)&\"\",Kredsudvælgelse!$U$6:$V$7),DGET(Forespørgsel1[#All],\"\"&LEFT($F56,LEN($F56)-$C56)&\"\",Kredsudvælgelse!$U$6:$V$7)/IF(ISNONTEXT($D56)=TRUE,1,DGET(Forespørgsel1[#All],\"\"&$D56&\"\",Kredsudvælgelse!$U$6:$V$7))),IF(ISBLANK(HLOOKUP(R$12,'Statiske ejendomme'!$B$3:$OF$80,'Statiske ejendomme'!$A49,FALSE))=FALSE,HLOOKUP(R$12,'Statiske ejendomme'!$B$3:$OF$80,'Statiske ejendomme'!$A49,FALSE),\"\"))),\"\")","v":-822.98957428323195},{"$f":"IFERROR(IF(S$12=Kredsudvælgelse!$Q$20,\"\",IF(Kredsudvælgelse!AJ$2=1,IF(ISTEXT(DGET(Forespørgsel1[#All],\"\"&LEFT($F56,LEN($F56)-$C56)&\"\",Kredsudvælgelse!$W$6:$X$7))=TRUE,DGET(Forespørgsel1[#All],\"\"&LEFT($F56,LEN($F56)-$C56)&\"\",Kredsudvælgelse!$W$6:$X$7),DGET(Forespørgsel1[#All],\"\"&LEFT($F56,LEN($F56)-$C56)&\"\",Kredsudvælgelse!$W$6:$X$7)/IF(ISNONTEXT($D56)=TRUE,1,DGET(Forespørgsel1[#All],\"\"&$D56&\"\",Kredsudvælgelse!$W$6:$X$7))),IF(ISBLANK(HLOOKUP(S$12,'Statiske ejendomme'!$B$3:$OF$80,'Statiske ejendomme'!$A49,FALSE))=FALSE,HLOOKUP(S$12,'Statiske ejendomme'!$B$3:$OF$80,'Statiske ejendomme'!$A49,FALSE),\"\"))),\"\")","v":0},{"$f":"IFERROR(IF(T$12=Kredsudvælgelse!$Q$20,\"\",IF(Kredsudvælgelse!AK$2=1,IF(ISTEXT(DGET(Forespørgsel1[#All],\"\"&LEFT($F56,LEN($F56)-$C56)&\"\",Kredsudvælgelse!$Y$6:$Z$7))=TRUE,DGET(Forespørgsel1[#All],\"\"&LEFT($F56,LEN($F56)-$C56)&\"\",Kredsudvælgelse!$Y$6:$Z$7),DGET(Forespørgsel1[#All],\"\"&LEFT($F56,LEN($F56)-$C56)&\"\",Kredsudvælgelse!$Y$6:$Z$7)/IF(ISNONTEXT($D56)=TRUE,1,DGET(Forespørgsel1[#All],\"\"&$D56&\"\",Kredsudvælgelse!$Y$6:$Z$7))),IF(ISBLANK(HLOOKUP(T$12,'Statiske ejendomme'!$B$3:$OF$80,'Statiske ejendomme'!$A49,FALSE))=FALSE,HLOOKUP(T$12,'Statiske ejendomme'!$B$3:$OF$80,'Statiske ejendomme'!$A49,FALSE),\"\"))),\"\")","v":-208.81492537313432}]
[1,{"$f":"Slagtekalve!D129","v":1},{"$f":"Slagtekalve!A48","v":0},{"$f":"Slagtekalve!B48","v":"Antal Producerede kalve"},null,{"$f":"Slagtekalve!C48","v":"Dyrlæge og medicin"},{"$f":"IF(Choices!$A$1=2,Landsgennemsnit!B48,IF(Choices!$A$1=3,Landsgennemsnit!E48,\"\"))","v":-100.84814647150546},{"$f":"IF(Choices!$A$1=2,Landsgennemsnit!C48,IF(Choices!$A$1=3,Landsgennemsnit!F48,\"\"))","v":-82.194922547332183},{"$f":"IF(OR(Choices!$A$1=2,Choices!$A$1=3),Slagtekalve!F48,\"\")","v":""},{"$f":"IF(OR(Choices!$A$1=2,Choices!$A$1=3),Slagtekalve!G48,\"\")","v":""},{"$f":"IFERROR(IF(K$12=Kredsudvælgelse!$Q$20,\"\",IF(Kredsudvælgelse!AB$2=1,IF(ISTEXT(DGET(Forespørgsel1[#All],\"\"&LEFT($F57,LEN($F57)-$C57)&\"\",Kredsudvælgelse!$Q$2:$R$3))=TRUE,DGET(Forespørgsel1[#All],\"\"&LEFT($F57,LEN($F57)-$C57)&\"\",Kredsudvælgelse!$Q$2:$R$3),DGET(Forespørgsel1[#All],\"\"&LEFT($F57,LEN($F57)-$C57)&\"\",Kredsudvælgelse!$Q$2:$R$3)/IF(ISNONTEXT($D57)=TRUE,1,DGET(Forespørgsel1[#All],\"\"&$D57&\"\",Kredsudvælgelse!$Q$2:$R$3))),IF(ISBLANK(HLOOKUP(K$12,'Statiske ejendomme'!$B$3:$OF$80,'Statiske ejendomme'!$A50,FALSE))=FALSE,HLOOKUP(K$12,'Statiske ejendomme'!$B$3:$OF$80,'Statiske ejendomme'!$A50,FALSE),\"\"))),\"\")","v":-119.13569321533923},{"$f":"IFERROR(IF(L$12=Kredsudvælgelse!$Q$20,\"\",IF(Kredsudvælgelse!AC$2=1,IF(ISTEXT(DGET(Forespørgsel1[#All],\"\"&LEFT($F57,LEN($F57)-$C57)&\"\",Kredsudvælgelse!$S$2:$T$3))=TRUE,DGET(Forespørgsel1[#All],\"\"&LEFT($F57,LEN($F57)-$C57)&\"\",Kredsudvælgelse!$S$2:$T$3),DGET(Forespørgsel1[#All],\"\"&LEFT($F57,LEN($F57)-$C57)&\"\",Kredsudvælgelse!$S$2:$T$3)/IF(ISNONTEXT($D57)=TRUE,1,DGET(Forespørgsel1[#All],\"\"&$D57&\"\",Kredsudvælgelse!$S$2:$T$3))),IF(ISBLANK(HLOOKUP(L$12,'Statiske ejendomme'!$B$3:$OF$80,'Statiske ejendomme'!$A50,FALSE))=FALSE,HLOOKUP(L$12,'Statiske ejendomme'!$B$3:$OF$80,'Statiske ejendomme'!$A50,FALSE),\"\"))),\"\")","v":-65.29547325102881},{"$f":"IFERROR(IF(M$12=Kredsudvælgelse!$Q$20,\"\",IF(Kredsudvælgelse!AD$2=1,IF(ISTEXT(DGET(Forespørgsel1[#All],\"\"&LEFT($F57,LEN($F57)-$C57)&\"\",Kredsudvælgelse!$U$2:$V$3))=TRUE,DGET(Forespørgsel1[#All],\"\"&LEFT($F57,LEN($F57)-$C57)&\"\",Kredsudvælgelse!$U$2:$V$3),DGET(Forespørgsel1[#All],\"\"&LEFT($F57,LEN($F57)-$C57)&\"\",Kredsudvælgelse!$U$2:$V$3)/IF(ISNONTEXT($D57)=TRUE,1,DGET(Forespørgsel1[#All],\"\"&$D57&\"\",Kredsudvælgelse!$U$2:$V$3))),IF(ISBLANK(HLOOKUP(M$12,'Statiske ejendomme'!$B$3:$OF$80,'Statiske ejendomme'!$A50,FALSE))=FALSE,HLOOKUP(M$12,'Statiske ejendomme'!$B$3:$OF$80,'Statiske ejendomme'!$A50,FALSE),\"\"))),\"\")","v":-56.81818181818182},{"$f":"IFERROR(IF(N$12=Kredsudvælgelse!$Q$20,\"\",IF(Kredsudvælgelse!AE$2=1,IF(ISTEXT(DGET(Forespørgsel1[#All],\"\"&LEFT($F57,LEN($F57)-$C57)&\"\",Kredsudvælgelse!$W$2:$X$3))=TRUE,DGET(Forespørgsel1[#All],\"\"&LEFT($F57,LEN($F57)-$C57)&\"\",Kredsudvælgelse!$W$2:$X$3),DGET(Forespørgsel1[#All],\"\"&LEFT($F57,LEN($F57)-$C57)&\"\",Kredsudvælgelse!$W$2:$X$3)/IF(ISNONTEXT($D57)=TRUE,1,DGET(Forespørgsel1[#All],\"\"&$D57&\"\",Kredsudvælgelse!$W$2:$X$3))),IF(ISBLANK(HLOOKUP(N$12,'Statiske ejendomme'!$B$3:$OF$80,'Statiske ejendomme'!$A50,FALSE))=FALSE,HLOOKUP(N$12,'Statiske ejendomme'!$B$3:$OF$80,'Statiske ejendomme'!$A50,FALSE),\"\"))),\"\")","v":-105.74539631705365},{"$f":"IFERROR(IF(O$12=Kredsudvælgelse!$Q$20,\"\",IF(Kredsudvælgelse!AF$2=1,IF(ISTEXT(DGET(Forespørgsel1[#All],\"\"&LEFT($F57,LEN($F57)-$C57)&\"\",Kredsudvælgelse!$Y$2:$Z$3))=TRUE,DGET(Forespørgsel1[#All],\"\"&LEFT($F57,LEN($F57)-$C57)&\"\",Kredsudvælgelse!$Y$2:$Z$3),DGET(Forespørgsel1[#All],\"\"&LEFT($F57,LEN($F57)-$C57)&\"\",Kredsudvælgelse!$Y$2:$Z$3)/IF(ISNONTEXT($D57)=TRUE,1,DGET(Forespørgsel1[#All],\"\"&$D57&\"\",Kredsudvælgelse!$Y$2:$Z$3))),IF(ISBLANK(HLOOKUP(O$12,'Statiske ejendomme'!$B$3:$OF$80,'Statiske ejendomme'!$A50,FALSE))=FALSE,HLOOKUP(O$12,'Statiske ejendomme'!$B$3:$OF$80,'Statiske ejendomme'!$A50,FALSE),\"\"))),\"\")","v":-106.62376237623762},{"$f":"IFERROR(IF(P$12=Kredsudvælgelse!$Q$20,\"\",IF(Kredsudvælgelse!AG$2=1,IF(ISTEXT(DGET(Forespørgsel1[#All],\"\"&LEFT($F57,LEN($F57)-$C57)&\"\",Kredsudvælgelse!$Q$6:$R$7))=TRUE,DGET(Forespørgsel1[#All],\"\"&LEFT($F57,LEN($F57)-$C57)&\"\",Kredsudvælgelse!$Q$6:$R$7),DGET(Forespørgsel1[#All],\"\"&LEFT($F57,LEN($F57)-$C57)&\"\",Kredsudvælgelse!$Q$6:$R$7)/IF(ISNONTEXT($D57)=TRUE,1,DGET(Forespørgsel1[#All],\"\"&$D57&\"\",Kredsudvælgelse!$Q$6:$R$7))),IF(ISBLANK(HLOOKUP(P$12,'Statiske ejendomme'!$B$3:$OF$80,'Statiske ejendomme'!$A50,FALSE))=FALSE,HLOOKUP(P$12,'Statiske ejendomme'!$B$3:$OF$80,'Statiske ejendomme'!$A50,FALSE),\"\"))),\"\")","v":-144.25477707006368},{"$f":"IFERROR(IF(Q$12=Kredsudvælgelse!$Q$20,\"\",IF(Kredsudvælgelse!AH$2=1,IF(ISTEXT(DGET(Forespørgsel1[#All],\"\"&LEFT($F57,LEN($F57)-$C57)&\"\",Kredsudvælgelse!$S$6:$T$7))=TRUE,DGET(Forespørgsel1[#All],\"\"&LEFT($F57,LEN($F57)-$C57)&\"\",Kredsudvælgelse!$S$6:$T$7),DGET(Forespørgsel1[#All],\"\"&LEFT($F57,LEN($F57)-$C57)&\"\",Kredsudvælgelse!$S$6:$T$7)/IF(ISNONTEXT($D57)=TRUE,1,DGET(Forespørgsel1[#All],\"\"&$D57&\"\",Kredsudvælgelse!$S$6:$T$7))),IF(ISBLANK(HLOOKUP(Q$12,'Statiske ejendomme'!$B$3:$OF$80,'Statiske ejendomme'!$A50,FALSE))=FALSE,HLOOKUP(Q$12,'Statiske ejendomme'!$B$3:$OF$80,'Statiske ejendomme'!$A50,FALSE),\"\"))),\"\")","v":-61.403508771929822},{"$f":"IFERROR(IF(R$12=Kredsudvælgelse!$Q$20,\"\",IF(Kredsudvælgelse!AI$2=1,IF(ISTEXT(DGET(Forespørgsel1[#All],\"\"&LEFT($F57,LEN($F57)-$C57)&\"\",Kredsudvælgelse!$U$6:$V$7))=TRUE,DGET(Forespørgsel1[#All],\"\"&LEFT($F57,LEN($F57)-$C57)&\"\",Kredsudvælgelse!$U$6:$V$7),DGET(Forespørgsel1[#All],\"\"&LEFT($F57,LEN($F57)-$C57)&\"\",Kredsudvælgelse!$U$6:$V$7)/IF(ISNONTEXT($D57)=TRUE,1,DGET(Forespørgsel1[#All],\"\"&$D57&\"\",Kredsudvælgelse!$U$6:$V$7))),IF(ISBLANK(HLOOKUP(R$12,'Statiske ejendomme'!$B$3:$OF$80,'Statiske ejendomme'!$A50,FALSE))=FALSE,HLOOKUP(R$12,'Statiske ejendomme'!$B$3:$OF$80,'Statiske ejendomme'!$A50,FALSE),\"\"))),\"\")","v":-76.180712423979145},{"$f":"IFERROR(IF(S$12=Kredsudvælgelse!$Q$20,\"\",IF(Kredsudvælgelse!AJ$2=1,IF(ISTEXT(DGET(Forespørgsel1[#All],\"\"&LEFT($F57,LEN($F57)-$C57)&\"\",Kredsudvælgelse!$W$6:$X$7))=TRUE,DGET(Forespørgsel1[#All],\"\"&LEFT($F57,LEN($F57)-$C57)&\"\",Kredsudvælgelse!$W$6:$X$7),DGET(Forespørgsel1[#All],\"\"&LEFT($F57,LEN($F57)-$C57)&\"\",Kredsudvælgelse!$W$6:$X$7)/IF(ISNONTEXT($D57)=TRUE,1,DGET(Forespørgsel1[#All],\"\"&$D57&\"\",Kredsudvælgelse!$W$6:$X$7))),IF(ISBLANK(HLOOKUP(S$12,'Statiske ejendomme'!$B$3:$OF$80,'Statiske ejendomme'!$A50,FALSE))=FALSE,HLOOKUP(S$12,'Statiske ejendomme'!$B$3:$OF$80,'Statiske ejendomme'!$A50,FALSE),\"\"))),\"\")","v":-131.79577464788733},{"$f":"IFERROR(IF(T$12=Kredsudvælgelse!$Q$20,\"\",IF(Kredsudvælgelse!AK$2=1,IF(ISTEXT(DGET(Forespørgsel1[#All],\"\"&LEFT($F57,LEN($F57)-$C57)&\"\",Kredsudvælgelse!$Y$6:$Z$7))=TRUE,DGET(Forespørgsel1[#All],\"\"&LEFT($F57,LEN($F57)-$C57)&\"\",Kredsudvælgelse!$Y$6:$Z$7),DGET(Forespørgsel1[#All],\"\"&LEFT($F57,LEN($F57)-$C57)&\"\",Kredsudvælgelse!$Y$6:$Z$7)/IF(ISNONTEXT($D57)=TRUE,1,DGET(Forespørgsel1[#All],\"\"&$D57&\"\",Kredsudvælgelse!$Y$6:$Z$7))),IF(ISBLANK(HLOOKUP(T$12,'Statiske ejendomme'!$B$3:$OF$80,'Statiske ejendomme'!$A50,FALSE))=FALSE,HLOOKUP(T$12,'Statiske ejendomme'!$B$3:$OF$80,'Statiske ejendomme'!$A50,FALSE),\"\"))),\"\")","v":-53.690547263681594}]
[1,{"$f":"Slagtekalve!D130","v":1},{"$f":"Slagtekalve!A49","v":0},{"$f":"Slagtekalve!B49","v":"Antal Producerede kalve"},null,{"$f":"Slagtekalve!C49","v":"Avl, Rådgivning og Kontrol"},{"$f":"IF(Choices!$A$1=2,Landsgennemsnit!B49,IF(Choices!$A$1=3,Landsgennemsnit!E49,\"\"))","v":-24.231326392032592},{"$f":"IF(Choices!$A$1=2,Landsgennemsnit!C49,IF(Choices!$A$1=3,Landsgennemsnit!F49,\"\"))","v":-13.199655765920825},{"$f":"IF(OR(Choices!$A$1=2,Choices!$A$1=3),Slagtekalve!F49,\"\")","v":""},{"$f":"IF(OR(Choices!$A$1=2,Choices!$A$1=3),Slagtekalve!G49,\"\")","v":""},{"$f":"IFERROR(IF(K$12=Kredsudvælgelse!$Q$20,\"\",IF(Kredsudvælgelse!AB$2=1,IF(ISTEXT(DGET(Forespørgsel1[#All],\"\"&LEFT($F58,LEN($F58)-$C58)&\"\",Kredsudvælgelse!$Q$2:$R$3))=TRUE,DGET(Forespørgsel1[#All],\"\"&LEFT($F58,LEN($F58)-$C58)&\"\",Kredsudvælgelse!$Q$2:$R$3),DGET(Forespørgsel1[#All],\"\"&LEFT($F58,LEN($F58)-$C58)&\"\",Kredsudvælgelse!$Q$2:$R$3)/IF(ISNONTEXT($D58)=TRUE,1,DGET(Forespørgsel1[#All],\"\"&$D58&\"\",Kredsudvælgelse!$Q$2:$R$3))),IF(ISBLANK(HLOOKUP(K$12,'Statiske ejendomme'!$B$3:$OF$80,'Statiske ejendomme'!$A51,FALSE))=FALSE,HLOOKUP(K$12,'Statiske ejendomme'!$B$3:$OF$80,'Statiske ejendomme'!$A51,FALSE),\"\"))),\"\")","v":-10.12094395280236},{"$f":"IFERROR(IF(L$12=Kredsudvælgelse!$Q$20,\"\",IF(Kredsudvælgelse!AC$2=1,IF(ISTEXT(DGET(Forespørgsel1[#All],\"\"&LEFT($F58,LEN($F58)-$C58)&\"\",Kredsudvælgelse!$S$2:$T$3))=TRUE,DGET(Forespørgsel1[#All],\"\"&LEFT($F58,LEN($F58)-$C58)&\"\",Kredsudvælgelse!$S$2:$T$3),DGET(Forespørgsel1[#All],\"\"&LEFT($F58,LEN($F58)-$C58)&\"\",Kredsudvælgelse!$S$2:$T$3)/IF(ISNONTEXT($D58)=TRUE,1,DGET(Forespørgsel1[#All],\"\"&$D58&\"\",Kredsudvælgelse!$S$2:$T$3))),IF(ISBLANK(HLOOKUP(L$12,'Statiske ejendomme'!$B$3:$OF$80,'Statiske ejendomme'!$A51,FALSE))=FALSE,HLOOKUP(L$12,'Statiske ejendomme'!$B$3:$OF$80,'Statiske ejendomme'!$A51,FALSE),\"\"))),\"\")","v":-12.823868312757202},{"$f":"IFERROR(IF(M$12=Kredsudvælgelse!$Q$20,\"\",IF(Kredsudvælgelse!AD$2=1,IF(ISTEXT(DGET(Forespørgsel1[#All],\"\"&LEFT($F58,LEN($F58)-$C58)&\"\",Kredsudvælgelse!$U$2:$V$3))=TRUE,DGET(Forespørgsel1[#All],\"\"&LEFT($F58,LEN($F58)-$C58)&\"\",Kredsudvælgelse!$U$2:$V$3),DGET(Forespørgsel1[#All],\"\"&LEFT($F58,LEN($F58)-$C58)&\"\",Kredsudvælgelse!$U$2:$V$3)/IF(ISNONTEXT($D58)=TRUE,1,DGET(Forespørgsel1[#All],\"\"&$D58&\"\",Kredsudvælgelse!$U$2:$V$3))),IF(ISBLANK(HLOOKUP(M$12,'Statiske ejendomme'!$B$3:$OF$80,'Statiske ejendomme'!$A51,FALSE))=FALSE,HLOOKUP(M$12,'Statiske ejendomme'!$B$3:$OF$80,'Statiske ejendomme'!$A51,FALSE),\"\"))),\"\")","v":0},{"$f":"IFERROR(IF(N$12=Kredsudvælgelse!$Q$20,\"\",IF(Kredsudvælgelse!AE$2=1,IF(ISTEXT(DGET(Forespørgsel1[#All],\"\"&LEFT($F58,LEN($F58)-$C58)&\"\",Kredsudvælgelse!$W$2:$X$3))=TRUE,DGET(Forespørgsel1[#All],\"\"&LEFT($F58,LEN($F58)-$C58)&\"\",Kredsudvælgelse!$W$2:$X$3),DGET(Forespørgsel1[#All],\"\"&LEFT($F58,LEN($F58)-$C58)&\"\",Kredsudvælgelse!$W$2:$X$3)/IF(ISNONTEXT($D58)=TRUE,1,DGET(Forespørgsel1[#All],\"\"&$D58&\"\",Kredsudvælgelse!$W$2:$X$3))),IF(ISBLANK(HLOOKUP(N$12,'Statiske ejendomme'!$B$3:$OF$80,'Statiske ejendomme'!$A51,FALSE))=FALSE,HLOOKUP(N$12,'Statiske ejendomme'!$B$3:$OF$80,'Statiske ejendomme'!$A51,FALSE),\"\"))),\"\")","v":-33.044035228182544},{"$f":"IFERROR(IF(O$12=Kredsudvælgelse!$Q$20,\"\",IF(Kredsudvælgelse!AF$2=1,IF(ISTEXT(DGET(Forespørgsel1[#All],\"\"&LEFT($F58,LEN($F58)-$C58)&\"\",Kredsudvælgelse!$Y$2:$Z$3))=TRUE,DGET(Forespørgsel1[#All],\"\"&LEFT($F58,LEN($F58)-$C58)&\"\",Kredsudvælgelse!$Y$2:$Z$3),DGET(Forespørgsel1[#All],\"\"&LEFT($F58,LEN($F58)-$C58)&\"\",Kredsudvælgelse!$Y$2:$Z$3)/IF(ISNONTEXT($D58)=TRUE,1,DGET(Forespørgsel1[#All],\"\"&$D58&\"\",Kredsudvælgelse!$Y$2:$Z$3))),IF(ISBLANK(HLOOKUP(O$12,'Statiske ejendomme'!$B$3:$OF$80,'Statiske ejendomme'!$A51,FALSE))=FALSE,HLOOKUP(O$12,'Statiske ejendomme'!$B$3:$OF$80,'Statiske ejendomme'!$A51,FALSE),\"\"))),\"\")","v":-38.972772277227726},{"$f":"IFERROR(IF(P$12=Kredsudvælgelse!$Q$20,\"\",IF(Kredsudvælgelse!AG$2=1,IF(ISTEXT(DGET(Forespørgsel1[#All],\"\"&LEFT($F58,LEN($F58)-$C58)&\"\",Kredsudvælgelse!$Q$6:$R$7))=TRUE,DGET(Forespørgsel1[#All],\"\"&LEFT($F58,LEN($F58)-$C58)&\"\",Kredsudvælgelse!$Q$6:$R$7),DGET(Forespørgsel1[#All],\"\"&LEFT($F58,LEN($F58)-$C58)&\"\",Kredsudvælgelse!$Q$6:$R$7)/IF(ISNONTEXT($D58)=TRUE,1,DGET(Forespørgsel1[#All],\"\"&$D58&\"\",Kredsudvælgelse!$Q$6:$R$7))),IF(ISBLANK(HLOOKUP(P$12,'Statiske ejendomme'!$B$3:$OF$80,'Statiske ejendomme'!$A51,FALSE))=FALSE,HLOOKUP(P$12,'Statiske ejendomme'!$B$3:$OF$80,'Statiske ejendomme'!$A51,FALSE),\"\"))),\"\")","v":-5.8789808917197455},{"$f":"IFERROR(IF(Q$12=Kredsudvælgelse!$Q$20,\"\",IF(Kredsudvælgelse!AH$2=1,IF(ISTEXT(DGET(Forespørgsel1[#All],\"\"&LEFT($F58,LEN($F58)-$C58)&\"\",Kredsudvælgelse!$S$6:$T$7))=TRUE,DGET(Forespørgsel1[#All],\"\"&LEFT($F58,LEN($F58)-$C58)&\"\",Kredsudvælgelse!$S$6:$T$7),DGET(Forespørgsel1[#All],\"\"&LEFT($F58,LEN($F58)-$C58)&\"\",Kredsudvælgelse!$S$6:$T$7)/IF(ISNONTEXT($D58)=TRUE,1,DGET(Forespørgsel1[#All],\"\"&$D58&\"\",Kredsudvælgelse!$S$6:$T$7))),IF(ISBLANK(HLOOKUP(Q$12,'Statiske ejendomme'!$B$3:$OF$80,'Statiske ejendomme'!$A51,FALSE))=FALSE,HLOOKUP(Q$12,'Statiske ejendomme'!$B$3:$OF$80,'Statiske ejendomme'!$A51,FALSE),\"\"))),\"\")","v":0},{"$f":"IFERROR(IF(R$12=Kredsudvælgelse!$Q$20,\"\",IF(Kredsudvælgelse!AI$2=1,IF(ISTEXT(DGET(Forespørgsel1[#All],\"\"&LEFT($F58,LEN($F58)-$C58)&\"\",Kredsudvælgelse!$U$6:$V$7))=TRUE,DGET(Forespørgsel1[#All],\"\"&LEFT($F58,LEN($F58)-$C58)&\"\",Kredsudvælgelse!$U$6:$V$7),DGET(Forespørgsel1[#All],\"\"&LEFT($F58,LEN($F58)-$C58)&\"\",Kredsudvælgelse!$U$6:$V$7)/IF(ISNONTEXT($D58)=TRUE,1,DGET(Forespørgsel1[#All],\"\"&$D58&\"\",Kredsudvælgelse!$U$6:$V$7))),IF(ISBLANK(HLOOKUP(R$12,'Statiske ejendomme'!$B$3:$OF$80,'Statiske ejendomme'!$A51,FALSE))=FALSE,HLOOKUP(R$12,'Statiske ejendomme'!$B$3:$OF$80,'Statiske ejendomme'!$A51,FALSE),\"\"))),\"\")","v":-17.580364900086881},{"$f":"IFERROR(IF(S$12=Kredsudvælgelse!$Q$20,\"\",IF(Kredsudvælgelse!AJ$2=1,IF(ISTEXT(DGET(Forespørgsel1[#All],\"\"&LEFT($F58,LEN($F58)-$C58)&\"\",Kredsudvælgelse!$W$6:$X$7))=TRUE,DGET(Forespørgsel1[#All],\"\"&LEFT($F58,LEN($F58)-$C58)&\"\",Kredsudvælgelse!$W$6:$X$7),DGET(Forespørgsel1[#All],\"\"&LEFT($F58,LEN($F58)-$C58)&\"\",Kredsudvælgelse!$W$6:$X$7)/IF(ISNONTEXT($D58)=TRUE,1,DGET(Forespørgsel1[#All],\"\"&$D58&\"\",Kredsudvælgelse!$W$6:$X$7))),IF(ISBLANK(HLOOKUP(S$12,'Statiske ejendomme'!$B$3:$OF$80,'Statiske ejendomme'!$A51,FALSE))=FALSE,HLOOKUP(S$12,'Statiske ejendomme'!$B$3:$OF$80,'Statiske ejendomme'!$A51,FALSE),\"\"))),\"\")","v":0},{"$f":"IFERROR(IF(T$12=Kredsudvælgelse!$Q$20,\"\",IF(Kredsudvælgelse!AK$2=1,IF(ISTEXT(DGET(Forespørgsel1[#All],\"\"&LEFT($F58,LEN($F58)-$C58)&\"\",Kredsudvælgelse!$Y$6:$Z$7))=TRUE,DGET(Forespørgsel1[#All],\"\"&LEFT($F58,LEN($F58)-$C58)&\"\",Kredsudvælgelse!$Y$6:$Z$7),DGET(Forespørgsel1[#All],\"\"&LEFT($F58,LEN($F58)-$C58)&\"\",Kredsudvælgelse!$Y$6:$Z$7)/IF(ISNONTEXT($D58)=TRUE,1,DGET(Forespørgsel1[#All],\"\"&$D58&\"\",Kredsudvælgelse!$Y$6:$Z$7))),IF(ISBLANK(HLOOKUP(T$12,'Statiske ejendomme'!$B$3:$OF$80,'Statiske ejendomme'!$A51,FALSE))=FALSE,HLOOKUP(T$12,'Statiske ejendomme'!$B$3:$OF$80,'Statiske ejendomme'!$A51,FALSE),\"\"))),\"\")","v":-18.759203980099503}]
[1,{"$f":"Slagtekalve!D131","v":1},{"$f":"Slagtekalve!A50","v":0},{"$f":"Slagtekalve!B50","v":"Antal Producerede kalve"},null,{"$f":"Slagtekalve!C50","v":"Diverse stykomkostninger"},{"$f":"IF(Choices!$A$1=2,Landsgennemsnit!B50,IF(Choices!$A$1=3,Landsgennemsnit!E50,\"\"))","v":-87.17353251848499},{"$f":"IF(Choices!$A$1=2,Landsgennemsnit!C50,IF(Choices!$A$1=3,Landsgennemsnit!F50,\"\"))","v":-73.486876075731502},{"$f":"IF(OR(Choices!$A$1=2,Choices!$A$1=3),Slagtekalve!F50,\"\")","v":""},{"$f":"IF(OR(Choices!$A$1=2,Choices!$A$1=3),Slagtekalve!G50,\"\")","v":""},{"$f":"IFERROR(IF(K$12=Kredsudvælgelse!$Q$20,\"\",IF(Kredsudvælgelse!AB$2=1,IF(ISTEXT(DGET(Forespørgsel1[#All],\"\"&LEFT($F59,LEN($F59)-$C59)&\"\",Kredsudvælgelse!$Q$2:$R$3))=TRUE,DGET(Forespørgsel1[#All],\"\"&LEFT($F59,LEN($F59)-$C59)&\"\",Kredsudvælgelse!$Q$2:$R$3),DGET(Forespørgsel1[#All],\"\"&LEFT($F59,LEN($F59)-$C59)&\"\",Kredsudvælgelse!$Q$2:$R$3)/IF(ISNONTEXT($D59)=TRUE,1,DGET(Forespørgsel1[#All],\"\"&$D59&\"\",Kredsudvælgelse!$Q$2:$R$3))),IF(ISBLANK(HLOOKUP(K$12,'Statiske ejendomme'!$B$3:$OF$80,'Statiske ejendomme'!$A52,FALSE))=FALSE,HLOOKUP(K$12,'Statiske ejendomme'!$B$3:$OF$80,'Statiske ejendomme'!$A52,FALSE),\"\"))),\"\")","v":-92.203539823008853},{"$f":"IFERROR(IF(L$12=Kredsudvælgelse!$Q$20,\"\",IF(Kredsudvælgelse!AC$2=1,IF(ISTEXT(DGET(Forespørgsel1[#All],\"\"&LEFT($F59,LEN($F59)-$C59)&\"\",Kredsudvælgelse!$S$2:$T$3))=TRUE,DGET(Forespørgsel1[#All],\"\"&LEFT($F59,LEN($F59)-$C59)&\"\",Kredsudvælgelse!$S$2:$T$3),DGET(Forespørgsel1[#All],\"\"&LEFT($F59,LEN($F59)-$C59)&\"\",Kredsudvælgelse!$S$2:$T$3)/IF(ISNONTEXT($D59)=TRUE,1,DGET(Forespørgsel1[#All],\"\"&$D59&\"\",Kredsudvælgelse!$S$2:$T$3))),IF(ISBLANK(HLOOKUP(L$12,'Statiske ejendomme'!$B$3:$OF$80,'Statiske ejendomme'!$A52,FALSE))=FALSE,HLOOKUP(L$12,'Statiske ejendomme'!$B$3:$OF$80,'Statiske ejendomme'!$A52,FALSE),\"\"))),\"\")","v":-58.323456790123458},{"$f":"IFERROR(IF(M$12=Kredsudvælgelse!$Q$20,\"\",IF(Kredsudvælgelse!AD$2=1,IF(ISTEXT(DGET(Forespørgsel1[#All],\"\"&LEFT($F59,LEN($F59)-$C59)&\"\",Kredsudvælgelse!$U$2:$V$3))=TRUE,DGET(Forespørgsel1[#All],\"\"&LEFT($F59,LEN($F59)-$C59)&\"\",Kredsudvælgelse!$U$2:$V$3),DGET(Forespørgsel1[#All],\"\"&LEFT($F59,LEN($F59)-$C59)&\"\",Kredsudvælgelse!$U$2:$V$3)/IF(ISNONTEXT($D59)=TRUE,1,DGET(Forespørgsel1[#All],\"\"&$D59&\"\",Kredsudvælgelse!$U$2:$V$3))),IF(ISBLANK(HLOOKUP(M$12,'Statiske ejendomme'!$B$3:$OF$80,'Statiske ejendomme'!$A52,FALSE))=FALSE,HLOOKUP(M$12,'Statiske ejendomme'!$B$3:$OF$80,'Statiske ejendomme'!$A52,FALSE),\"\"))),\"\")","v":-68.181818181818187},{"$f":"IFERROR(IF(N$12=Kredsudvælgelse!$Q$20,\"\",IF(Kredsudvælgelse!AE$2=1,IF(ISTEXT(DGET(Forespørgsel1[#All],\"\"&LEFT($F59,LEN($F59)-$C59)&\"\",Kredsudvælgelse!$W$2:$X$3))=TRUE,DGET(Forespørgsel1[#All],\"\"&LEFT($F59,LEN($F59)-$C59)&\"\",Kredsudvælgelse!$W$2:$X$3),DGET(Forespørgsel1[#All],\"\"&LEFT($F59,LEN($F59)-$C59)&\"\",Kredsudvælgelse!$W$2:$X$3)/IF(ISNONTEXT($D59)=TRUE,1,DGET(Forespørgsel1[#All],\"\"&$D59&\"\",Kredsudvælgelse!$W$2:$X$3))),IF(ISBLANK(HLOOKUP(N$12,'Statiske ejendomme'!$B$3:$OF$80,'Statiske ejendomme'!$A52,FALSE))=FALSE,HLOOKUP(N$12,'Statiske ejendomme'!$B$3:$OF$80,'Statiske ejendomme'!$A52,FALSE),\"\"))),\"\")","v":-105.20656525220176},{"$f":"IFERROR(IF(O$12=Kredsudvælgelse!$Q$20,\"\",IF(Kredsudvælgelse!AF$2=1,IF(ISTEXT(DGET(Forespørgsel1[#All],\"\"&LEFT($F59,LEN($F59)-$C59)&\"\",Kredsudvælgelse!$Y$2:$Z$3))=TRUE,DGET(Forespørgsel1[#All],\"\"&LEFT($F59,LEN($F59)-$C59)&\"\",Kredsudvælgelse!$Y$2:$Z$3),DGET(Forespørgsel1[#All],\"\"&LEFT($F59,LEN($F59)-$C59)&\"\",Kredsudvælgelse!$Y$2:$Z$3)/IF(ISNONTEXT($D59)=TRUE,1,DGET(Forespørgsel1[#All],\"\"&$D59&\"\",Kredsudvælgelse!$Y$2:$Z$3))),IF(ISBLANK(HLOOKUP(O$12,'Statiske ejendomme'!$B$3:$OF$80,'Statiske ejendomme'!$A52,FALSE))=FALSE,HLOOKUP(O$12,'Statiske ejendomme'!$B$3:$OF$80,'Statiske ejendomme'!$A52,FALSE),\"\"))),\"\")","v":-96.663366336633658},{"$f":"IFERROR(IF(P$12=Kredsudvælgelse!$Q$20,\"\",IF(Kredsudvælgelse!AG$2=1,IF(ISTEXT(DGET(Forespørgsel1[#All],\"\"&LEFT($F59,LEN($F59)-$C59)&\"\",Kredsudvælgelse!$Q$6:$R$7))=TRUE,DGET(Forespørgsel1[#All],\"\"&LEFT($F59,LEN($F59)-$C59)&\"\",Kredsudvælgelse!$Q$6:$R$7),DGET(Forespørgsel1[#All],\"\"&LEFT($F59,LEN($F59)-$C59)&\"\",Kredsudvælgelse!$Q$6:$R$7)/IF(ISNONTEXT($D59)=TRUE,1,DGET(Forespørgsel1[#All],\"\"&$D59&\"\",Kredsudvælgelse!$Q$6:$R$7))),IF(ISBLANK(HLOOKUP(P$12,'Statiske ejendomme'!$B$3:$OF$80,'Statiske ejendomme'!$A52,FALSE))=FALSE,HLOOKUP(P$12,'Statiske ejendomme'!$B$3:$OF$80,'Statiske ejendomme'!$A52,FALSE),\"\"))),\"\")","v":-100.12738853503184},{"$f":"IFERROR(IF(Q$12=Kredsudvælgelse!$Q$20,\"\",IF(Kredsudvælgelse!AH$2=1,IF(ISTEXT(DGET(Forespørgsel1[#All],\"\"&LEFT($F59,LEN($F59)-$C59)&\"\",Kredsudvælgelse!$S$6:$T$7))=TRUE,DGET(Forespørgsel1[#All],\"\"&LEFT($F59,LEN($F59)-$C59)&\"\",Kredsudvælgelse!$S$6:$T$7),DGET(Forespørgsel1[#All],\"\"&LEFT($F59,LEN($F59)-$C59)&\"\",Kredsudvælgelse!$S$6:$T$7)/IF(ISNONTEXT($D59)=TRUE,1,DGET(Forespørgsel1[#All],\"\"&$D59&\"\",Kredsudvælgelse!$S$6:$T$7))),IF(ISBLANK(HLOOKUP(Q$12,'Statiske ejendomme'!$B$3:$OF$80,'Statiske ejendomme'!$A52,FALSE))=FALSE,HLOOKUP(Q$12,'Statiske ejendomme'!$B$3:$OF$80,'Statiske ejendomme'!$A52,FALSE),\"\"))),\"\")","v":-63.596491228070178},{"$f":"IFERROR(IF(R$12=Kredsudvælgelse!$Q$20,\"\",IF(Kredsudvælgelse!AI$2=1,IF(ISTEXT(DGET(Forespørgsel1[#All],\"\"&LEFT($F59,LEN($F59)-$C59)&\"\",Kredsudvælgelse!$U$6:$V$7))=TRUE,DGET(Forespørgsel1[#All],\"\"&LEFT($F59,LEN($F59)-$C59)&\"\",Kredsudvælgelse!$U$6:$V$7),DGET(Forespørgsel1[#All],\"\"&LEFT($F59,LEN($F59)-$C59)&\"\",Kredsudvælgelse!$U$6:$V$7)/IF(ISNONTEXT($D59)=TRUE,1,DGET(Forespørgsel1[#All],\"\"&$D59&\"\",Kredsudvælgelse!$U$6:$V$7))),IF(ISBLANK(HLOOKUP(R$12,'Statiske ejendomme'!$B$3:$OF$80,'Statiske ejendomme'!$A52,FALSE))=FALSE,HLOOKUP(R$12,'Statiske ejendomme'!$B$3:$OF$80,'Statiske ejendomme'!$A52,FALSE),\"\"))),\"\")","v":-122.58297132927889},{"$f":"IFERROR(IF(S$12=Kredsudvælgelse!$Q$20,\"\",IF(Kredsudvælgelse!AJ$2=1,IF(ISTEXT(DGET(Forespørgsel1[#All],\"\"&LEFT($F59,LEN($F59)-$C59)&\"\",Kredsudvælgelse!$W$6:$X$7))=TRUE,DGET(Forespørgsel1[#All],\"\"&LEFT($F59,LEN($F59)-$C59)&\"\",Kredsudvælgelse!$W$6:$X$7),DGET(Forespørgsel1[#All],\"\"&LEFT($F59,LEN($F59)-$C59)&\"\",Kredsudvælgelse!$W$6:$X$7)/IF(ISNONTEXT($D59)=TRUE,1,DGET(Forespørgsel1[#All],\"\"&$D59&\"\",Kredsudvælgelse!$W$6:$X$7))),IF(ISBLANK(HLOOKUP(S$12,'Statiske ejendomme'!$B$3:$OF$80,'Statiske ejendomme'!$A52,FALSE))=FALSE,HLOOKUP(S$12,'Statiske ejendomme'!$B$3:$OF$80,'Statiske ejendomme'!$A52,FALSE),\"\"))),\"\")","v":-136.37323943661971},{"$f":"IFERROR(IF(T$12=Kredsudvælgelse!$Q$20,\"\",IF(Kredsudvælgelse!AK$2=1,IF(ISTEXT(DGET(Forespørgsel1[#All],\"\"&LEFT($F59,LEN($F59)-$C59)&\"\",Kredsudvælgelse!$Y$6:$Z$7))=TRUE,DGET(Forespørgsel1[#All],\"\"&LEFT($F59,LEN($F59)-$C59)&\"\",Kredsudvælgelse!$Y$6:$Z$7),DGET(Forespørgsel1[#All],\"\"&LEFT($F59,LEN($F59)-$C59)&\"\",Kredsudvælgelse!$Y$6:$Z$7)/IF(ISNONTEXT($D59)=TRUE,1,DGET(Forespørgsel1[#All],\"\"&$D59&\"\",Kredsudvælgelse!$Y$6:$Z$7))),IF(ISBLANK(HLOOKUP(T$12,'Statiske ejendomme'!$B$3:$OF$80,'Statiske ejendomme'!$A52,FALSE))=FALSE,HLOOKUP(T$12,'Statiske ejendomme'!$B$3:$OF$80,'Statiske ejendomme'!$A52,FALSE),\"\"))),\"\")","v":-64.608955223880599}]
[1,{"$f":"Slagtekalve!D132","v":113},{"$f":"Slagtekalve!A51","v":0},{"$f":"Slagtekalve!B51","v":"Antal Producerede kalve"},null,{"$f":"Slagtekalve!C51","v":"Stykomkostninger i alt"},{"$f":"IF(Choices!$A$1=2,Landsgennemsnit!B51,IF(Choices!$A$1=3,Landsgennemsnit!E51,\"\"))","v":-3068.1090488406012},{"$f":"IF(Choices!$A$1=2,Landsgennemsnit!C51,IF(Choices!$A$1=3,Landsgennemsnit!F51,\"\"))","v":-2932.6323149741825},{"$f":"IF(OR(Choices!$A$1=2,Choices!$A$1=3),Slagtekalve!F51,\"\")","v":""},{"$f":"IF(OR(Choices!$A$1=2,Choices!$A$1=3),Slagtekalve!G51,\"\")","v":""},{"$f":"IFERROR(IF(K$12=Kredsudvælgelse!$Q$20,\"\",IF(Kredsudvælgelse!AB$2=1,IF(ISTEXT(DGET(Forespørgsel1[#All],\"\"&LEFT($F60,LEN($F60)-$C60)&\"\",Kredsudvælgelse!$Q$2:$R$3))=TRUE,DGET(Forespørgsel1[#All],\"\"&LEFT($F60,LEN($F60)-$C60)&\"\",Kredsudvælgelse!$Q$2:$R$3),DGET(Forespørgsel1[#All],\"\"&LEFT($F60,LEN($F60)-$C60)&\"\",Kredsudvælgelse!$Q$2:$R$3)/IF(ISNONTEXT($D60)=TRUE,1,DGET(Forespørgsel1[#All],\"\"&$D60&\"\",Kredsudvælgelse!$Q$2:$R$3))),IF(ISBLANK(HLOOKUP(K$12,'Statiske ejendomme'!$B$3:$OF$80,'Statiske ejendomme'!$A53,FALSE))=FALSE,HLOOKUP(K$12,'Statiske ejendomme'!$B$3:$OF$80,'Statiske ejendomme'!$A53,FALSE),\"\"))),\"\")","v":-3202.3126843657819},{"$f":"IFERROR(IF(L$12=Kredsudvælgelse!$Q$20,\"\",IF(Kredsudvælgelse!AC$2=1,IF(ISTEXT(DGET(Forespørgsel1[#All],\"\"&LEFT($F60,LEN($F60)-$C60)&\"\",Kredsudvælgelse!$S$2:$T$3))=TRUE,DGET(Forespørgsel1[#All],\"\"&LEFT($F60,LEN($F60)-$C60)&\"\",Kredsudvælgelse!$S$2:$T$3),DGET(Forespørgsel1[#All],\"\"&LEFT($F60,LEN($F60)-$C60)&\"\",Kredsudvælgelse!$S$2:$T$3)/IF(ISNONTEXT($D60)=TRUE,1,DGET(Forespørgsel1[#All],\"\"&$D60&\"\",Kredsudvælgelse!$S$2:$T$3))),IF(ISBLANK(HLOOKUP(L$12,'Statiske ejendomme'!$B$3:$OF$80,'Statiske ejendomme'!$A53,FALSE))=FALSE,HLOOKUP(L$12,'Statiske ejendomme'!$B$3:$OF$80,'Statiske ejendomme'!$A53,FALSE),\"\"))),\"\")","v":-3064.7341563786008},{"$f":"IFERROR(IF(M$12=Kredsudvælgelse!$Q$20,\"\",IF(Kredsudvælgelse!AD$2=1,IF(ISTEXT(DGET(Forespørgsel1[#All],\"\"&LEFT($F60,LEN($F60)-$C60)&\"\",Kredsudvælgelse!$U$2:$V$3))=TRUE,DGET(Forespørgsel1[#All],\"\"&LEFT($F60,LEN($F60)-$C60)&\"\",Kredsudvælgelse!$U$2:$V$3),DGET(Forespørgsel1[#All],\"\"&LEFT($F60,LEN($F60)-$C60)&\"\",Kredsudvælgelse!$U$2:$V$3)/IF(ISNONTEXT($D60)=TRUE,1,DGET(Forespørgsel1[#All],\"\"&$D60&\"\",Kredsudvælgelse!$U$2:$V$3))),IF(ISBLANK(HLOOKUP(M$12,'Statiske ejendomme'!$B$3:$OF$80,'Statiske ejendomme'!$A53,FALSE))=FALSE,HLOOKUP(M$12,'Statiske ejendomme'!$B$3:$OF$80,'Statiske ejendomme'!$A53,FALSE),\"\"))),\"\")","v":-2855},{"$f":"IFERROR(IF(N$12=Kredsudvælgelse!$Q$20,\"\",IF(Kredsudvælgelse!AE$2=1,IF(ISTEXT(DGET(Forespørgsel1[#All],\"\"&LEFT($F60,LEN($F60)-$C60)&\"\",Kredsudvælgelse!$W$2:$X$3))=TRUE,DGET(Forespørgsel1[#All],\"\"&LEFT($F60,LEN($F60)-$C60)&\"\",Kredsudvælgelse!$W$2:$X$3),DGET(Forespørgsel1[#All],\"\"&LEFT($F60,LEN($F60)-$C60)&\"\",Kredsudvælgelse!$W$2:$X$3)/IF(ISNONTEXT($D60)=TRUE,1,DGET(Forespørgsel1[#All],\"\"&$D60&\"\",Kredsudvælgelse!$W$2:$X$3))),IF(ISBLANK(HLOOKUP(N$12,'Statiske ejendomme'!$B$3:$OF$80,'Statiske ejendomme'!$A53,FALSE))=FALSE,HLOOKUP(N$12,'Statiske ejendomme'!$B$3:$OF$80,'Statiske ejendomme'!$A53,FALSE),\"\"))),\"\")","v":-3054.8254603682944},{"$f":"IFERROR(IF(O$12=Kredsudvælgelse!$Q$20,\"\",IF(Kredsudvælgelse!AF$2=1,IF(ISTEXT(DGET(Forespørgsel1[#All],\"\"&LEFT($F60,LEN($F60)-$C60)&\"\",Kredsudvælgelse!$Y$2:$Z$3))=TRUE,DGET(Forespørgsel1[#All],\"\"&LEFT($F60,LEN($F60)-$C60)&\"\",Kredsudvælgelse!$Y$2:$Z$3),DGET(Forespørgsel1[#All],\"\"&LEFT($F60,LEN($F60)-$C60)&\"\",Kredsudvælgelse!$Y$2:$Z$3)/IF(ISNONTEXT($D60)=TRUE,1,DGET(Forespørgsel1[#All],\"\"&$D60&\"\",Kredsudvælgelse!$Y$2:$Z$3))),IF(ISBLANK(HLOOKUP(O$12,'Statiske ejendomme'!$B$3:$OF$80,'Statiske ejendomme'!$A53,FALSE))=FALSE,HLOOKUP(O$12,'Statiske ejendomme'!$B$3:$OF$80,'Statiske ejendomme'!$A53,FALSE),\"\"))),\"\")","v":-2765.8143564356437},{"$f":"IFERROR(IF(P$12=Kredsudvælgelse!$Q$20,\"\",IF(Kredsudvælgelse!AG$2=1,IF(ISTEXT(DGET(Forespørgsel1[#All],\"\"&LEFT($F60,LEN($F60)-$C60)&\"\",Kredsudvælgelse!$Q$6:$R$7))=TRUE,DGET(Forespørgsel1[#All],\"\"&LEFT($F60,LEN($F60)-$C60)&\"\",Kredsudvælgelse!$Q$6:$R$7),DGET(Forespørgsel1[#All],\"\"&LEFT($F60,LEN($F60)-$C60)&\"\",Kredsudvælgelse!$Q$6:$R$7)/IF(ISNONTEXT($D60)=TRUE,1,DGET(Forespørgsel1[#All],\"\"&$D60&\"\",Kredsudvælgelse!$Q$6:$R$7))),IF(ISBLANK(HLOOKUP(P$12,'Statiske ejendomme'!$B$3:$OF$80,'Statiske ejendomme'!$A53,FALSE))=FALSE,HLOOKUP(P$12,'Statiske ejendomme'!$B$3:$OF$80,'Statiske ejendomme'!$A53,FALSE),\"\"))),\"\")","v":-4000.9426751592355},{"$f":"IFERROR(IF(Q$12=Kredsudvælgelse!$Q$20,\"\",IF(Kredsudvælgelse!AH$2=1,IF(ISTEXT(DGET(Forespørgsel1[#All],\"\"&LEFT($F60,LEN($F60)-$C60)&\"\",Kredsudvælgelse!$S$6:$T$7))=TRUE,DGET(Forespørgsel1[#All],\"\"&LEFT($F60,LEN($F60)-$C60)&\"\",Kredsudvælgelse!$S$6:$T$7),DGET(Forespørgsel1[#All],\"\"&LEFT($F60,LEN($F60)-$C60)&\"\",Kredsudvælgelse!$S$6:$T$7)/IF(ISNONTEXT($D60)=TRUE,1,DGET(Forespørgsel1[#All],\"\"&$D60&\"\",Kredsudvælgelse!$S$6:$T$7))),IF(ISBLANK(HLOOKUP(Q$12,'Statiske ejendomme'!$B$3:$OF$80,'Statiske ejendomme'!$A53,FALSE))=FALSE,HLOOKUP(Q$12,'Statiske ejendomme'!$B$3:$OF$80,'Statiske ejendomme'!$A53,FALSE),\"\"))),\"\")","v":-3547.4035087719299},{"$f":"IFERROR(IF(R$12=Kredsudvælgelse!$Q$20,\"\",IF(Kredsudvælgelse!AI$2=1,IF(ISTEXT(DGET(Forespørgsel1[#All],\"\"&LEFT($F60,LEN($F60)-$C60)&\"\",Kredsudvælgelse!$U$6:$V$7))=TRUE,DGET(Forespørgsel1[#All],\"\"&LEFT($F60,LEN($F60)-$C60)&\"\",Kredsudvælgelse!$U$6:$V$7),DGET(Forespørgsel1[#All],\"\"&LEFT($F60,LEN($F60)-$C60)&\"\",Kredsudvælgelse!$U$6:$V$7)/IF(ISNONTEXT($D60)=TRUE,1,DGET(Forespørgsel1[#All],\"\"&$D60&\"\",Kredsudvælgelse!$U$6:$V$7))),IF(ISBLANK(HLOOKUP(R$12,'Statiske ejendomme'!$B$3:$OF$80,'Statiske ejendomme'!$A53,FALSE))=FALSE,HLOOKUP(R$12,'Statiske ejendomme'!$B$3:$OF$80,'Statiske ejendomme'!$A53,FALSE),\"\"))),\"\")","v":-3178.6872284969591},{"$f":"IFERROR(IF(S$12=Kredsudvælgelse!$Q$20,\"\",IF(Kredsudvælgelse!AJ$2=1,IF(ISTEXT(DGET(Forespørgsel1[#All],\"\"&LEFT($F60,LEN($F60)-$C60)&\"\",Kredsudvælgelse!$W$6:$X$7))=TRUE,DGET(Forespørgsel1[#All],\"\"&LEFT($F60,LEN($F60)-$C60)&\"\",Kredsudvælgelse!$W$6:$X$7),DGET(Forespørgsel1[#All],\"\"&LEFT($F60,LEN($F60)-$C60)&\"\",Kredsudvælgelse!$W$6:$X$7)/IF(ISNONTEXT($D60)=TRUE,1,DGET(Forespørgsel1[#All],\"\"&$D60&\"\",Kredsudvælgelse!$W$6:$X$7))),IF(ISBLANK(HLOOKUP(S$12,'Statiske ejendomme'!$B$3:$OF$80,'Statiske ejendomme'!$A53,FALSE))=FALSE,HLOOKUP(S$12,'Statiske ejendomme'!$B$3:$OF$80,'Statiske ejendomme'!$A53,FALSE),\"\"))),\"\")","v":-3782.5422535211269},{"$f":"IFERROR(IF(T$12=Kredsudvælgelse!$Q$20,\"\",IF(Kredsudvælgelse!AK$2=1,IF(ISTEXT(DGET(Forespørgsel1[#All],\"\"&LEFT($F60,LEN($F60)-$C60)&\"\",Kredsudvælgelse!$Y$6:$Z$7))=TRUE,DGET(Forespørgsel1[#All],\"\"&LEFT($F60,LEN($F60)-$C60)&\"\",Kredsudvælgelse!$Y$6:$Z$7),DGET(Forespørgsel1[#All],\"\"&LEFT($F60,LEN($F60)-$C60)&\"\",Kredsudvælgelse!$Y$6:$Z$7)/IF(ISNONTEXT($D60)=TRUE,1,DGET(Forespørgsel1[#All],\"\"&$D60&\"\",Kredsudvælgelse!$Y$6:$Z$7))),IF(ISBLANK(HLOOKUP(T$12,'Statiske ejendomme'!$B$3:$OF$80,'Statiske ejendomme'!$A53,FALSE))=FALSE,HLOOKUP(T$12,'Statiske ejendomme'!$B$3:$OF$80,'Statiske ejendomme'!$A53,FALSE),\"\"))),\"\")","v":-3170.0487562189055}]
[1,{"$f":"Slagtekalve!D133","v":9},{"$f":"Slagtekalve!A52","v":0},{"$f":"Slagtekalve!B52","v":0},null,{"$f":"Slagtekalve!C52","v":0},{"$f":"IF(Choices!$A$1=2,Landsgennemsnit!B52,IF(Choices!$A$1=3,Landsgennemsnit!E52,\"\"))","v":""},{"$f":"IF(Choices!$A$1=2,Landsgennemsnit!C52,IF(Choices!$A$1=3,Landsgennemsnit!F52,\"\"))","v":""},{"$f":"IF(OR(Choices!$A$1=2,Choices!$A$1=3),Slagtekalve!F52,\"\")","v":""},{"$f":"IF(OR(Choices!$A$1=2,Choices!$A$1=3),Slagtekalve!G52,\"\")","v":""},{"$f":"IFERROR(IF(K$12=Kredsudvælgelse!$Q$20,\"\",IF(Kredsudvælgelse!AB$2=1,IF(ISTEXT(DGET(Forespørgsel1[#All],\"\"&LEFT($F61,LEN($F61)-$C61)&\"\",Kredsudvælgelse!$Q$2:$R$3))=TRUE,DGET(Forespørgsel1[#All],\"\"&LEFT($F61,LEN($F61)-$C61)&\"\",Kredsudvælgelse!$Q$2:$R$3),DGET(Forespørgsel1[#All],\"\"&LEFT($F61,LEN($F61)-$C61)&\"\",Kredsudvælgelse!$Q$2:$R$3)/IF(ISNONTEXT($D61)=TRUE,1,DGET(Forespørgsel1[#All],\"\"&$D61&\"\",Kredsudvælgelse!$Q$2:$R$3))),IF(ISBLANK(HLOOKUP(K$12,'Statiske ejendomme'!$B$3:$OF$80,'Statiske ejendomme'!$A54,FALSE))=FALSE,HLOOKUP(K$12,'Statiske ejendomme'!$B$3:$OF$80,'Statiske ejendomme'!$A54,FALSE),\"\"))),\"\")","v":""},{"$f":"IFERROR(IF(L$12=Kredsudvælgelse!$Q$20,\"\",IF(Kredsudvælgelse!AC$2=1,IF(ISTEXT(DGET(Forespørgsel1[#All],\"\"&LEFT($F61,LEN($F61)-$C61)&\"\",Kredsudvælgelse!$S$2:$T$3))=TRUE,DGET(Forespørgsel1[#All],\"\"&LEFT($F61,LEN($F61)-$C61)&\"\",Kredsudvælgelse!$S$2:$T$3),DGET(Forespørgsel1[#All],\"\"&LEFT($F61,LEN($F61)-$C61)&\"\",Kredsudvælgelse!$S$2:$T$3)/IF(ISNONTEXT($D61)=TRUE,1,DGET(Forespørgsel1[#All],\"\"&$D61&\"\",Kredsudvælgelse!$S$2:$T$3))),IF(ISBLANK(HLOOKUP(L$12,'Statiske ejendomme'!$B$3:$OF$80,'Statiske ejendomme'!$A54,FALSE))=FALSE,HLOOKUP(L$12,'Statiske ejendomme'!$B$3:$OF$80,'Statiske ejendomme'!$A54,FALSE),\"\"))),\"\")","v":""},{"$f":"IFERROR(IF(M$12=Kredsudvælgelse!$Q$20,\"\",IF(Kredsudvælgelse!AD$2=1,IF(ISTEXT(DGET(Forespørgsel1[#All],\"\"&LEFT($F61,LEN($F61)-$C61)&\"\",Kredsudvælgelse!$U$2:$V$3))=TRUE,DGET(Forespørgsel1[#All],\"\"&LEFT($F61,LEN($F61)-$C61)&\"\",Kredsudvælgelse!$U$2:$V$3),DGET(Forespørgsel1[#All],\"\"&LEFT($F61,LEN($F61)-$C61)&\"\",Kredsudvælgelse!$U$2:$V$3)/IF(ISNONTEXT($D61)=TRUE,1,DGET(Forespørgsel1[#All],\"\"&$D61&\"\",Kredsudvælgelse!$U$2:$V$3))),IF(ISBLANK(HLOOKUP(M$12,'Statiske ejendomme'!$B$3:$OF$80,'Statiske ejendomme'!$A54,FALSE))=FALSE,HLOOKUP(M$12,'Statiske ejendomme'!$B$3:$OF$80,'Statiske ejendomme'!$A54,FALSE),\"\"))),\"\")","v":""},{"$f":"IFERROR(IF(N$12=Kredsudvælgelse!$Q$20,\"\",IF(Kredsudvælgelse!AE$2=1,IF(ISTEXT(DGET(Forespørgsel1[#All],\"\"&LEFT($F61,LEN($F61)-$C61)&\"\",Kredsudvælgelse!$W$2:$X$3))=TRUE,DGET(Forespørgsel1[#All],\"\"&LEFT($F61,LEN($F61)-$C61)&\"\",Kredsudvælgelse!$W$2:$X$3),DGET(Forespørgsel1[#All],\"\"&LEFT($F61,LEN($F61)-$C61)&\"\",Kredsudvælgelse!$W$2:$X$3)/IF(ISNONTEXT($D61)=TRUE,1,DGET(Forespørgsel1[#All],\"\"&$D61&\"\",Kredsudvælgelse!$W$2:$X$3))),IF(ISBLANK(HLOOKUP(N$12,'Statiske ejendomme'!$B$3:$OF$80,'Statiske ejendomme'!$A54,FALSE))=FALSE,HLOOKUP(N$12,'Statiske ejendomme'!$B$3:$OF$80,'Statiske ejendomme'!$A54,FALSE),\"\"))),\"\")","v":""},{"$f":"IFERROR(IF(O$12=Kredsudvælgelse!$Q$20,\"\",IF(Kredsudvælgelse!AF$2=1,IF(ISTEXT(DGET(Forespørgsel1[#All],\"\"&LEFT($F61,LEN($F61)-$C61)&\"\",Kredsudvælgelse!$Y$2:$Z$3))=TRUE,DGET(Forespørgsel1[#All],\"\"&LEFT($F61,LEN($F61)-$C61)&\"\",Kredsudvælgelse!$Y$2:$Z$3),DGET(Forespørgsel1[#All],\"\"&LEFT($F61,LEN($F61)-$C61)&\"\",Kredsudvælgelse!$Y$2:$Z$3)/IF(ISNONTEXT($D61)=TRUE,1,DGET(Forespørgsel1[#All],\"\"&$D61&\"\",Kredsudvælgelse!$Y$2:$Z$3))),IF(ISBLANK(HLOOKUP(O$12,'Statiske ejendomme'!$B$3:$OF$80,'Statiske ejendomme'!$A54,FALSE))=FALSE,HLOOKUP(O$12,'Statiske ejendomme'!$B$3:$OF$80,'Statiske ejendomme'!$A54,FALSE),\"\"))),\"\")","v":""},{"$f":"IFERROR(IF(P$12=Kredsudvælgelse!$Q$20,\"\",IF(Kredsudvælgelse!AG$2=1,IF(ISTEXT(DGET(Forespørgsel1[#All],\"\"&LEFT($F61,LEN($F61)-$C61)&\"\",Kredsudvælgelse!$Q$6:$R$7))=TRUE,DGET(Forespørgsel1[#All],\"\"&LEFT($F61,LEN($F61)-$C61)&\"\",Kredsudvælgelse!$Q$6:$R$7),DGET(Forespørgsel1[#All],\"\"&LEFT($F61,LEN($F61)-$C61)&\"\",Kredsudvælgelse!$Q$6:$R$7)/IF(ISNONTEXT($D61)=TRUE,1,DGET(Forespørgsel1[#All],\"\"&$D61&\"\",Kredsudvælgelse!$Q$6:$R$7))),IF(ISBLANK(HLOOKUP(P$12,'Statiske ejendomme'!$B$3:$OF$80,'Statiske ejendomme'!$A54,FALSE))=FALSE,HLOOKUP(P$12,'Statiske ejendomme'!$B$3:$OF$80,'Statiske ejendomme'!$A54,FALSE),\"\"))),\"\")","v":""},{"$f":"IFERROR(IF(Q$12=Kredsudvælgelse!$Q$20,\"\",IF(Kredsudvælgelse!AH$2=1,IF(ISTEXT(DGET(Forespørgsel1[#All],\"\"&LEFT($F61,LEN($F61)-$C61)&\"\",Kredsudvælgelse!$S$6:$T$7))=TRUE,DGET(Forespørgsel1[#All],\"\"&LEFT($F61,LEN($F61)-$C61)&\"\",Kredsudvælgelse!$S$6:$T$7),DGET(Forespørgsel1[#All],\"\"&LEFT($F61,LEN($F61)-$C61)&\"\",Kredsudvælgelse!$S$6:$T$7)/IF(ISNONTEXT($D61)=TRUE,1,DGET(Forespørgsel1[#All],\"\"&$D61&\"\",Kredsudvælgelse!$S$6:$T$7))),IF(ISBLANK(HLOOKUP(Q$12,'Statiske ejendomme'!$B$3:$OF$80,'Statiske ejendomme'!$A54,FALSE))=FALSE,HLOOKUP(Q$12,'Statiske ejendomme'!$B$3:$OF$80,'Statiske ejendomme'!$A54,FALSE),\"\"))),\"\")","v":""},{"$f":"IFERROR(IF(R$12=Kredsudvælgelse!$Q$20,\"\",IF(Kredsudvælgelse!AI$2=1,IF(ISTEXT(DGET(Forespørgsel1[#All],\"\"&LEFT($F61,LEN($F61)-$C61)&\"\",Kredsudvælgelse!$U$6:$V$7))=TRUE,DGET(Forespørgsel1[#All],\"\"&LEFT($F61,LEN($F61)-$C61)&\"\",Kredsudvælgelse!$U$6:$V$7),DGET(Forespørgsel1[#All],\"\"&LEFT($F61,LEN($F61)-$C61)&\"\",Kredsudvælgelse!$U$6:$V$7)/IF(ISNONTEXT($D61)=TRUE,1,DGET(Forespørgsel1[#All],\"\"&$D61&\"\",Kredsudvælgelse!$U$6:$V$7))),IF(ISBLANK(HLOOKUP(R$12,'Statiske ejendomme'!$B$3:$OF$80,'Statiske ejendomme'!$A54,FALSE))=FALSE,HLOOKUP(R$12,'Statiske ejendomme'!$B$3:$OF$80,'Statiske ejendomme'!$A54,FALSE),\"\"))),\"\")","v":""},{"$f":"IFERROR(IF(S$12=Kredsudvælgelse!$Q$20,\"\",IF(Kredsudvælgelse!AJ$2=1,IF(ISTEXT(DGET(Forespørgsel1[#All],\"\"&LEFT($F61,LEN($F61)-$C61)&\"\",Kredsudvælgelse!$W$6:$X$7))=TRUE,DGET(Forespørgsel1[#All],\"\"&LEFT($F61,LEN($F61)-$C61)&\"\",Kredsudvælgelse!$W$6:$X$7),DGET(Forespørgsel1[#All],\"\"&LEFT($F61,LEN($F61)-$C61)&\"\",Kredsudvælgelse!$W$6:$X$7)/IF(ISNONTEXT($D61)=TRUE,1,DGET(Forespørgsel1[#All],\"\"&$D61&\"\",Kredsudvælgelse!$W$6:$X$7))),IF(ISBLANK(HLOOKUP(S$12,'Statiske ejendomme'!$B$3:$OF$80,'Statiske ejendomme'!$A54,FALSE))=FALSE,HLOOKUP(S$12,'Statiske ejendomme'!$B$3:$OF$80,'Statiske ejendomme'!$A54,FALSE),\"\"))),\"\")","v":""},{"$f":"IFERROR(IF(T$12=Kredsudvælgelse!$Q$20,\"\",IF(Kredsudvælgelse!AK$2=1,IF(ISTEXT(DGET(Forespørgsel1[#All],\"\"&LEFT($F61,LEN($F61)-$C61)&\"\",Kredsudvælgelse!$Y$6:$Z$7))=TRUE,DGET(Forespørgsel1[#All],\"\"&LEFT($F61,LEN($F61)-$C61)&\"\",Kredsudvælgelse!$Y$6:$Z$7),DGET(Forespørgsel1[#All],\"\"&LEFT($F61,LEN($F61)-$C61)&\"\",Kredsudvælgelse!$Y$6:$Z$7)/IF(ISNONTEXT($D61)=TRUE,1,DGET(Forespørgsel1[#All],\"\"&$D61&\"\",Kredsudvælgelse!$Y$6:$Z$7))),IF(ISBLANK(HLOOKUP(T$12,'Statiske ejendomme'!$B$3:$OF$80,'Statiske ejendomme'!$A54,FALSE))=FALSE,HLOOKUP(T$12,'Statiske ejendomme'!$B$3:$OF$80,'Statiske ejendomme'!$A54,FALSE),\"\"))),\"\")","v":""}]
[1,{"$f":"Slagtekalve!D134","v":113},{"$f":"Slagtekalve!A53","v":0},{"$f":"Slagtekalve!B53","v":"Antal Producerede kalve"},null,{"$f":"Slagtekalve!C53","v":"Dækningsbidrag"},{"$f":"IF(Choices!$A$1=2,Landsgennemsnit!B53,IF(Choices!$A$1=3,Landsgennemsnit!E53,\"\"))","v":1949.7207383934406},{"$f":"IF(Choices!$A$1=2,Landsgennemsnit!C53,IF(Choices!$A$1=3,Landsgennemsnit!F53,\"\"))","v":2422.7837779690185},{"$f":"IF(OR(Choices!$A$1=2,Choices!$A$1=3),Slagtekalve!F53,\"\")","v":""},{"$f":"IF(OR(Choices!$A$1=2,Choices!$A$1=3),Slagtekalve!G53,\"\")","v":""},{"$f":"IFERROR(IF(K$12=Kredsudvælgelse!$Q$20,\"\",IF(Kredsudvælgelse!AB$2=1,IF(ISTEXT(DGET(Forespørgsel1[#All],\"\"&LEFT($F62,LEN($F62)-$C62)&\"\",Kredsudvælgelse!$Q$2:$R$3))=TRUE,DGET(Forespørgsel1[#All],\"\"&LEFT($F62,LEN($F62)-$C62)&\"\",Kredsudvælgelse!$Q$2:$R$3),DGET(Forespørgsel1[#All],\"\"&LEFT($F62,LEN($F62)-$C62)&\"\",Kredsudvælgelse!$Q$2:$R$3)/IF(ISNONTEXT($D62)=TRUE,1,DGET(Forespørgsel1[#All],\"\"&$D62&\"\",Kredsudvælgelse!$Q$2:$R$3))),IF(ISBLANK(HLOOKUP(K$12,'Statiske ejendomme'!$B$3:$OF$80,'Statiske ejendomme'!$A55,FALSE))=FALSE,HLOOKUP(K$12,'Statiske ejendomme'!$B$3:$OF$80,'Statiske ejendomme'!$A55,FALSE),\"\"))),\"\")","v":2338.7994100294986},{"$f":"IFERROR(IF(L$12=Kredsudvælgelse!$Q$20,\"\",IF(Kredsudvælgelse!AC$2=1,IF(ISTEXT(DGET(Forespørgsel1[#All],\"\"&LEFT($F62,LEN($F62)-$C62)&\"\",Kredsudvælgelse!$S$2:$T$3))=TRUE,DGET(Forespørgsel1[#All],\"\"&LEFT($F62,LEN($F62)-$C62)&\"\",Kredsudvælgelse!$S$2:$T$3),DGET(Forespørgsel1[#All],\"\"&LEFT($F62,LEN($F62)-$C62)&\"\",Kredsudvælgelse!$S$2:$T$3)/IF(ISNONTEXT($D62)=TRUE,1,DGET(Forespørgsel1[#All],\"\"&$D62&\"\",Kredsudvælgelse!$S$2:$T$3))),IF(ISBLANK(HLOOKUP(L$12,'Statiske ejendomme'!$B$3:$OF$80,'Statiske ejendomme'!$A55,FALSE))=FALSE,HLOOKUP(L$12,'Statiske ejendomme'!$B$3:$OF$80,'Statiske ejendomme'!$A55,FALSE),\"\"))),\"\")","v":2546.8090534979424},{"$f":"IFERROR(IF(M$12=Kredsudvælgelse!$Q$20,\"\",IF(Kredsudvælgelse!AD$2=1,IF(ISTEXT(DGET(Forespørgsel1[#All],\"\"&LEFT($F62,LEN($F62)-$C62)&\"\",Kredsudvælgelse!$U$2:$V$3))=TRUE,DGET(Forespørgsel1[#All],\"\"&LEFT($F62,LEN($F62)-$C62)&\"\",Kredsudvælgelse!$U$2:$V$3),DGET(Forespørgsel1[#All],\"\"&LEFT($F62,LEN($F62)-$C62)&\"\",Kredsudvælgelse!$U$2:$V$3)/IF(ISNONTEXT($D62)=TRUE,1,DGET(Forespørgsel1[#All],\"\"&$D62&\"\",Kredsudvælgelse!$U$2:$V$3))),IF(ISBLANK(HLOOKUP(M$12,'Statiske ejendomme'!$B$3:$OF$80,'Statiske ejendomme'!$A55,FALSE))=FALSE,HLOOKUP(M$12,'Statiske ejendomme'!$B$3:$OF$80,'Statiske ejendomme'!$A55,FALSE),\"\"))),\"\")","v":1881.534090909091},{"$f":"IFERROR(IF(N$12=Kredsudvælgelse!$Q$20,\"\",IF(Kredsudvælgelse!AE$2=1,IF(ISTEXT(DGET(Forespørgsel1[#All],\"\"&LEFT($F62,LEN($F62)-$C62)&\"\",Kredsudvælgelse!$W$2:$X$3))=TRUE,DGET(Forespørgsel1[#All],\"\"&LEFT($F62,LEN($F62)-$C62)&\"\",Kredsudvælgelse!$W$2:$X$3),DGET(Forespørgsel1[#All],\"\"&LEFT($F62,LEN($F62)-$C62)&\"\",Kredsudvælgelse!$W$2:$X$3)/IF(ISNONTEXT($D62)=TRUE,1,DGET(Forespørgsel1[#All],\"\"&$D62&\"\",Kredsudvælgelse!$W$2:$X$3))),IF(ISBLANK(HLOOKUP(N$12,'Statiske ejendomme'!$B$3:$OF$80,'Statiske ejendomme'!$A55,FALSE))=FALSE,HLOOKUP(N$12,'Statiske ejendomme'!$B$3:$OF$80,'Statiske ejendomme'!$A55,FALSE),\"\"))),\"\")","v":2242.2065652522019},{"$f":"IFERROR(IF(O$12=Kredsudvælgelse!$Q$20,\"\",IF(Kredsudvælgelse!AF$2=1,IF(ISTEXT(DGET(Forespørgsel1[#All],\"\"&LEFT($F62,LEN($F62)-$C62)&\"\",Kredsudvælgelse!$Y$2:$Z$3))=TRUE,DGET(Forespørgsel1[#All],\"\"&LEFT($F62,LEN($F62)-$C62)&\"\",Kredsudvælgelse!$Y$2:$Z$3),DGET(Forespørgsel1[#All],\"\"&LEFT($F62,LEN($F62)-$C62)&\"\",Kredsudvælgelse!$Y$2:$Z$3)/IF(ISNONTEXT($D62)=TRUE,1,DGET(Forespørgsel1[#All],\"\"&$D62&\"\",Kredsudvælgelse!$Y$2:$Z$3))),IF(ISBLANK(HLOOKUP(O$12,'Statiske ejendomme'!$B$3:$OF$80,'Statiske ejendomme'!$A55,FALSE))=FALSE,HLOOKUP(O$12,'Statiske ejendomme'!$B$3:$OF$80,'Statiske ejendomme'!$A55,FALSE),\"\"))),\"\")","v":2449.0024752475247},{"$f":"IFERROR(IF(P$12=Kredsudvælgelse!$Q$20,\"\",IF(Kredsudvælgelse!AG$2=1,IF(ISTEXT(DGET(Forespørgsel1[#All],\"\"&LEFT($F62,LEN($F62)-$C62)&\"\",Kredsudvælgelse!$Q$6:$R$7))=TRUE,DGET(Forespørgsel1[#All],\"\"&LEFT($F62,LEN($F62)-$C62)&\"\",Kredsudvælgelse!$Q$6:$R$7),DGET(Forespørgsel1[#All],\"\"&LEFT($F62,LEN($F62)-$C62)&\"\",Kredsudvælgelse!$Q$6:$R$7)/IF(ISNONTEXT($D62)=TRUE,1,DGET(Forespørgsel1[#All],\"\"&$D62&\"\",Kredsudvælgelse!$Q$6:$R$7))),IF(ISBLANK(HLOOKUP(P$12,'Statiske ejendomme'!$B$3:$OF$80,'Statiske ejendomme'!$A55,FALSE))=FALSE,HLOOKUP(P$12,'Statiske ejendomme'!$B$3:$OF$80,'Statiske ejendomme'!$A55,FALSE),\"\"))),\"\")","v":2058.9044585987263},{"$f":"IFERROR(IF(Q$12=Kredsudvælgelse!$Q$20,\"\",IF(Kredsudvælgelse!AH$2=1,IF(ISTEXT(DGET(Forespørgsel1[#All],\"\"&LEFT($F62,LEN($F62)-$C62)&\"\",Kredsudvælgelse!$S$6:$T$7))=TRUE,DGET(Forespørgsel1[#All],\"\"&LEFT($F62,LEN($F62)-$C62)&\"\",Kredsudvælgelse!$S$6:$T$7),DGET(Forespørgsel1[#All],\"\"&LEFT($F62,LEN($F62)-$C62)&\"\",Kredsudvælgelse!$S$6:$T$7)/IF(ISNONTEXT($D62)=TRUE,1,DGET(Forespørgsel1[#All],\"\"&$D62&\"\",Kredsudvælgelse!$S$6:$T$7))),IF(ISBLANK(HLOOKUP(Q$12,'Statiske ejendomme'!$B$3:$OF$80,'Statiske ejendomme'!$A55,FALSE))=FALSE,HLOOKUP(Q$12,'Statiske ejendomme'!$B$3:$OF$80,'Statiske ejendomme'!$A55,FALSE),\"\"))),\"\")","v":2323.219298245614},{"$f":"IFERROR(IF(R$12=Kredsudvælgelse!$Q$20,\"\",IF(Kredsudvælgelse!AI$2=1,IF(ISTEXT(DGET(Forespørgsel1[#All],\"\"&LEFT($F62,LEN($F62)-$C62)&\"\",Kredsudvælgelse!$U$6:$V$7))=TRUE,DGET(Forespørgsel1[#All],\"\"&LEFT($F62,LEN($F62)-$C62)&\"\",Kredsudvælgelse!$U$6:$V$7),DGET(Forespørgsel1[#All],\"\"&LEFT($F62,LEN($F62)-$C62)&\"\",Kredsudvælgelse!$U$6:$V$7)/IF(ISNONTEXT($D62)=TRUE,1,DGET(Forespørgsel1[#All],\"\"&$D62&\"\",Kredsudvælgelse!$U$6:$V$7))),IF(ISBLANK(HLOOKUP(R$12,'Statiske ejendomme'!$B$3:$OF$80,'Statiske ejendomme'!$A55,FALSE))=FALSE,HLOOKUP(R$12,'Statiske ejendomme'!$B$3:$OF$80,'Statiske ejendomme'!$A55,FALSE),\"\"))),\"\")","v":1630.3119026933102},{"$f":"IFERROR(IF(S$12=Kredsudvælgelse!$Q$20,\"\",IF(Kredsudvælgelse!AJ$2=1,IF(ISTEXT(DGET(Forespørgsel1[#All],\"\"&LEFT($F62,LEN($F62)-$C62)&\"\",Kredsudvælgelse!$W$6:$X$7))=TRUE,DGET(Forespørgsel1[#All],\"\"&LEFT($F62,LEN($F62)-$C62)&\"\",Kredsudvælgelse!$W$6:$X$7),DGET(Forespørgsel1[#All],\"\"&LEFT($F62,LEN($F62)-$C62)&\"\",Kredsudvælgelse!$W$6:$X$7)/IF(ISNONTEXT($D62)=TRUE,1,DGET(Forespørgsel1[#All],\"\"&$D62&\"\",Kredsudvælgelse!$W$6:$X$7))),IF(ISBLANK(HLOOKUP(S$12,'Statiske ejendomme'!$B$3:$OF$80,'Statiske ejendomme'!$A55,FALSE))=FALSE,HLOOKUP(S$12,'Statiske ejendomme'!$B$3:$OF$80,'Statiske ejendomme'!$A55,FALSE),\"\"))),\"\")","v":1782.5211267605634},{"$f":"IFERROR(IF(T$12=Kredsudvælgelse!$Q$20,\"\",IF(Kredsudvælgelse!AK$2=1,IF(ISTEXT(DGET(Forespørgsel1[#All],\"\"&LEFT($F62,LEN($F62)-$C62)&\"\",Kredsudvælgelse!$Y$6:$Z$7))=TRUE,DGET(Forespørgsel1[#All],\"\"&LEFT($F62,LEN($F62)-$C62)&\"\",Kredsudvælgelse!$Y$6:$Z$7),DGET(Forespørgsel1[#All],\"\"&LEFT($F62,LEN($F62)-$C62)&\"\",Kredsudvælgelse!$Y$6:$Z$7)/IF(ISNONTEXT($D62)=TRUE,1,DGET(Forespørgsel1[#All],\"\"&$D62&\"\",Kredsudvælgelse!$Y$6:$Z$7))),IF(ISBLANK(HLOOKUP(T$12,'Statiske ejendomme'!$B$3:$OF$80,'Statiske ejendomme'!$A55,FALSE))=FALSE,HLOOKUP(T$12,'Statiske ejendomme'!$B$3:$OF$80,'Statiske ejendomme'!$A55,FALSE),\"\"))),\"\")","v":2478.2995024875622}]
[1,{"$f":"Slagtekalve!D135","v":9},{"$f":"Slagtekalve!A54","v":0},{"$f":"Slagtekalve!B54","v":0},null,{"$f":"Slagtekalve!C54","v":0},{"$f":"IF(Choices!$A$1=2,Landsgennemsnit!B54,IF(Choices!$A$1=3,Landsgennemsnit!E54,\"\"))","v":""},{"$f":"IF(Choices!$A$1=2,Landsgennemsnit!C54,IF(Choices!$A$1=3,Landsgennemsnit!F54,\"\"))","v":""},{"$f":"IF(OR(Choices!$A$1=2,Choices!$A$1=3),Slagtekalve!F54,\"\")","v":""},{"$f":"IF(OR(Choices!$A$1=2,Choices!$A$1=3),Slagtekalve!G54,\"\")","v":""},{"$f":"IFERROR(IF(K$12=Kredsudvælgelse!$Q$20,\"\",IF(Kredsudvælgelse!AB$2=1,IF(ISTEXT(DGET(Forespørgsel1[#All],\"\"&LEFT($F63,LEN($F63)-$C63)&\"\",Kredsudvælgelse!$Q$2:$R$3))=TRUE,DGET(Forespørgsel1[#All],\"\"&LEFT($F63,LEN($F63)-$C63)&\"\",Kredsudvælgelse!$Q$2:$R$3),DGET(Forespørgsel1[#All],\"\"&LEFT($F63,LEN($F63)-$C63)&\"\",Kredsudvælgelse!$Q$2:$R$3)/IF(ISNONTEXT($D63)=TRUE,1,DGET(Forespørgsel1[#All],\"\"&$D63&\"\",Kredsudvælgelse!$Q$2:$R$3))),IF(ISBLANK(HLOOKUP(K$12,'Statiske ejendomme'!$B$3:$OF$80,'Statiske ejendomme'!$A56,FALSE))=FALSE,HLOOKUP(K$12,'Statiske ejendomme'!$B$3:$OF$80,'Statiske ejendomme'!$A56,FALSE),\"\"))),\"\")","v":""},{"$f":"IFERROR(IF(L$12=Kredsudvælgelse!$Q$20,\"\",IF(Kredsudvælgelse!AC$2=1,IF(ISTEXT(DGET(Forespørgsel1[#All],\"\"&LEFT($F63,LEN($F63)-$C63)&\"\",Kredsudvælgelse!$S$2:$T$3))=TRUE,DGET(Forespørgsel1[#All],\"\"&LEFT($F63,LEN($F63)-$C63)&\"\",Kredsudvælgelse!$S$2:$T$3),DGET(Forespørgsel1[#All],\"\"&LEFT($F63,LEN($F63)-$C63)&\"\",Kredsudvælgelse!$S$2:$T$3)/IF(ISNONTEXT($D63)=TRUE,1,DGET(Forespørgsel1[#All],\"\"&$D63&\"\",Kredsudvælgelse!$S$2:$T$3))),IF(ISBLANK(HLOOKUP(L$12,'Statiske ejendomme'!$B$3:$OF$80,'Statiske ejendomme'!$A56,FALSE))=FALSE,HLOOKUP(L$12,'Statiske ejendomme'!$B$3:$OF$80,'Statiske ejendomme'!$A56,FALSE),\"\"))),\"\")","v":""},{"$f":"IFERROR(IF(M$12=Kredsudvælgelse!$Q$20,\"\",IF(Kredsudvælgelse!AD$2=1,IF(ISTEXT(DGET(Forespørgsel1[#All],\"\"&LEFT($F63,LEN($F63)-$C63)&\"\",Kredsudvælgelse!$U$2:$V$3))=TRUE,DGET(Forespørgsel1[#All],\"\"&LEFT($F63,LEN($F63)-$C63)&\"\",Kredsudvælgelse!$U$2:$V$3),DGET(Forespørgsel1[#All],\"\"&LEFT($F63,LEN($F63)-$C63)&\"\",Kredsudvælgelse!$U$2:$V$3)/IF(ISNONTEXT($D63)=TRUE,1,DGET(Forespørgsel1[#All],\"\"&$D63&\"\",Kredsudvælgelse!$U$2:$V$3))),IF(ISBLANK(HLOOKUP(M$12,'Statiske ejendomme'!$B$3:$OF$80,'Statiske ejendomme'!$A56,FALSE))=FALSE,HLOOKUP(M$12,'Statiske ejendomme'!$B$3:$OF$80,'Statiske ejendomme'!$A56,FALSE),\"\"))),\"\")","v":""},{"$f":"IFERROR(IF(N$12=Kredsudvælgelse!$Q$20,\"\",IF(Kredsudvælgelse!AE$2=1,IF(ISTEXT(DGET(Forespørgsel1[#All],\"\"&LEFT($F63,LEN($F63)-$C63)&\"\",Kredsudvælgelse!$W$2:$X$3))=TRUE,DGET(Forespørgsel1[#All],\"\"&LEFT($F63,LEN($F63)-$C63)&\"\",Kredsudvælgelse!$W$2:$X$3),DGET(Forespørgsel1[#All],\"\"&LEFT($F63,LEN($F63)-$C63)&\"\",Kredsudvælgelse!$W$2:$X$3)/IF(ISNONTEXT($D63)=TRUE,1,DGET(Forespørgsel1[#All],\"\"&$D63&\"\",Kredsudvælgelse!$W$2:$X$3))),IF(ISBLANK(HLOOKUP(N$12,'Statiske ejendomme'!$B$3:$OF$80,'Statiske ejendomme'!$A56,FALSE))=FALSE,HLOOKUP(N$12,'Statiske ejendomme'!$B$3:$OF$80,'Statiske ejendomme'!$A56,FALSE),\"\"))),\"\")","v":""},{"$f":"IFERROR(IF(O$12=Kredsudvælgelse!$Q$20,\"\",IF(Kredsudvælgelse!AF$2=1,IF(ISTEXT(DGET(Forespørgsel1[#All],\"\"&LEFT($F63,LEN($F63)-$C63)&\"\",Kredsudvælgelse!$Y$2:$Z$3))=TRUE,DGET(Forespørgsel1[#All],\"\"&LEFT($F63,LEN($F63)-$C63)&\"\",Kredsudvælgelse!$Y$2:$Z$3),DGET(Forespørgsel1[#All],\"\"&LEFT($F63,LEN($F63)-$C63)&\"\",Kredsudvælgelse!$Y$2:$Z$3)/IF(ISNONTEXT($D63)=TRUE,1,DGET(Forespørgsel1[#All],\"\"&$D63&\"\",Kredsudvælgelse!$Y$2:$Z$3))),IF(ISBLANK(HLOOKUP(O$12,'Statiske ejendomme'!$B$3:$OF$80,'Statiske ejendomme'!$A56,FALSE))=FALSE,HLOOKUP(O$12,'Statiske ejendomme'!$B$3:$OF$80,'Statiske ejendomme'!$A56,FALSE),\"\"))),\"\")","v":""},{"$f":"IFERROR(IF(P$12=Kredsudvælgelse!$Q$20,\"\",IF(Kredsudvælgelse!AG$2=1,IF(ISTEXT(DGET(Forespørgsel1[#All],\"\"&LEFT($F63,LEN($F63)-$C63)&\"\",Kredsudvælgelse!$Q$6:$R$7))=TRUE,DGET(Forespørgsel1[#All],\"\"&LEFT($F63,LEN($F63)-$C63)&\"\",Kredsudvælgelse!$Q$6:$R$7),DGET(Forespørgsel1[#All],\"\"&LEFT($F63,LEN($F63)-$C63)&\"\",Kredsudvælgelse!$Q$6:$R$7)/IF(ISNONTEXT($D63)=TRUE,1,DGET(Forespørgsel1[#All],\"\"&$D63&\"\",Kredsudvælgelse!$Q$6:$R$7))),IF(ISBLANK(HLOOKUP(P$12,'Statiske ejendomme'!$B$3:$OF$80,'Statiske ejendomme'!$A56,FALSE))=FALSE,HLOOKUP(P$12,'Statiske ejendomme'!$B$3:$OF$80,'Statiske ejendomme'!$A56,FALSE),\"\"))),\"\")","v":""},{"$f":"IFERROR(IF(Q$12=Kredsudvælgelse!$Q$20,\"\",IF(Kredsudvælgelse!AH$2=1,IF(ISTEXT(DGET(Forespørgsel1[#All],\"\"&LEFT($F63,LEN($F63)-$C63)&\"\",Kredsudvælgelse!$S$6:$T$7))=TRUE,DGET(Forespørgsel1[#All],\"\"&LEFT($F63,LEN($F63)-$C63)&\"\",Kredsudvælgelse!$S$6:$T$7),DGET(Forespørgsel1[#All],\"\"&LEFT($F63,LEN($F63)-$C63)&\"\",Kredsudvælgelse!$S$6:$T$7)/IF(ISNONTEXT($D63)=TRUE,1,DGET(Forespørgsel1[#All],\"\"&$D63&\"\",Kredsudvælgelse!$S$6:$T$7))),IF(ISBLANK(HLOOKUP(Q$12,'Statiske ejendomme'!$B$3:$OF$80,'Statiske ejendomme'!$A56,FALSE))=FALSE,HLOOKUP(Q$12,'Statiske ejendomme'!$B$3:$OF$80,'Statiske ejendomme'!$A56,FALSE),\"\"))),\"\")","v":""},{"$f":"IFERROR(IF(R$12=Kredsudvælgelse!$Q$20,\"\",IF(Kredsudvælgelse!AI$2=1,IF(ISTEXT(DGET(Forespørgsel1[#All],\"\"&LEFT($F63,LEN($F63)-$C63)&\"\",Kredsudvælgelse!$U$6:$V$7))=TRUE,DGET(Forespørgsel1[#All],\"\"&LEFT($F63,LEN($F63)-$C63)&\"\",Kredsudvælgelse!$U$6:$V$7),DGET(Forespørgsel1[#All],\"\"&LEFT($F63,LEN($F63)-$C63)&\"\",Kredsudvælgelse!$U$6:$V$7)/IF(ISNONTEXT($D63)=TRUE,1,DGET(Forespørgsel1[#All],\"\"&$D63&\"\",Kredsudvælgelse!$U$6:$V$7))),IF(ISBLANK(HLOOKUP(R$12,'Statiske ejendomme'!$B$3:$OF$80,'Statiske ejendomme'!$A56,FALSE))=FALSE,HLOOKUP(R$12,'Statiske ejendomme'!$B$3:$OF$80,'Statiske ejendomme'!$A56,FALSE),\"\"))),\"\")","v":""},{"$f":"IFERROR(IF(S$12=Kredsudvælgelse!$Q$20,\"\",IF(Kredsudvælgelse!AJ$2=1,IF(ISTEXT(DGET(Forespørgsel1[#All],\"\"&LEFT($F63,LEN($F63)-$C63)&\"\",Kredsudvælgelse!$W$6:$X$7))=TRUE,DGET(Forespørgsel1[#All],\"\"&LEFT($F63,LEN($F63)-$C63)&\"\",Kredsudvælgelse!$W$6:$X$7),DGET(Forespørgsel1[#All],\"\"&LEFT($F63,LEN($F63)-$C63)&\"\",Kredsudvælgelse!$W$6:$X$7)/IF(ISNONTEXT($D63)=TRUE,1,DGET(Forespørgsel1[#All],\"\"&$D63&\"\",Kredsudvælgelse!$W$6:$X$7))),IF(ISBLANK(HLOOKUP(S$12,'Statiske ejendomme'!$B$3:$OF$80,'Statiske ejendomme'!$A56,FALSE))=FALSE,HLOOKUP(S$12,'Statiske ejendomme'!$B$3:$OF$80,'Statiske ejendomme'!$A56,FALSE),\"\"))),\"\")","v":""},{"$f":"IFERROR(IF(T$12=Kredsudvælgelse!$Q$20,\"\",IF(Kredsudvælgelse!AK$2=1,IF(ISTEXT(DGET(Forespørgsel1[#All],\"\"&LEFT($F63,LEN($F63)-$C63)&\"\",Kredsudvælgelse!$Y$6:$Z$7))=TRUE,DGET(Forespørgsel1[#All],\"\"&LEFT($F63,LEN($F63)-$C63)&\"\",Kredsudvælgelse!$Y$6:$Z$7),DGET(Forespørgsel1[#All],\"\"&LEFT($F63,LEN($F63)-$C63)&\"\",Kredsudvælgelse!$Y$6:$Z$7)/IF(ISNONTEXT($D63)=TRUE,1,DGET(Forespørgsel1[#All],\"\"&$D63&\"\",Kredsudvælgelse!$Y$6:$Z$7))),IF(ISBLANK(HLOOKUP(T$12,'Statiske ejendomme'!$B$3:$OF$80,'Statiske ejendomme'!$A56,FALSE))=FALSE,HLOOKUP(T$12,'Statiske ejendomme'!$B$3:$OF$80,'Statiske ejendomme'!$A56,FALSE),\"\"))),\"\")","v":""}]
[1,{"$f":"Slagtekalve!D136","v":1},{"$f":"Slagtekalve!A55","v":0},{"$f":"Slagtekalve!B55","v":"Antal Producerede kalve"},null,{"$f":"Slagtekalve!C55","v":"Energi"},{"$f":"IF(Choices!$A$1=2,Landsgennemsnit!B55,IF(Choices!$A$1=3,Landsgennemsnit!E55,\"\"))","v":-36.35410693627081},{"$f":"IF(Choices!$A$1=2,Landsgennemsnit!C55,IF(Choices!$A$1=3,Landsgennemsnit!F55,\"\"))","v":-41.032702237521512},{"$f":"IF(OR(Choices!$A$1=2,Choices!$A$1=3),Slagtekalve!F55,\"\")","v":""},{"$f":"IF(OR(Choices!$A$1=2,Choices!$A$1=3),Slagtekalve!G55,\"\")","v":""},{"$f":"IFERROR(IF(K$12=Kredsudvælgelse!$Q$20,\"\",IF(Kredsudvælgelse!AB$2=1,IF(ISTEXT(DGET(Forespørgsel1[#All],\"\"&LEFT($F64,LEN($F64)-$C64)&\"\",Kredsudvælgelse!$Q$2:$R$3))=TRUE,DGET(Forespørgsel1[#All],\"\"&LEFT($F64,LEN($F64)-$C64)&\"\",Kredsudvælgelse!$Q$2:$R$3),DGET(Forespørgsel1[#All],\"\"&LEFT($F64,LEN($F64)-$C64)&\"\",Kredsudvælgelse!$Q$2:$R$3)/IF(ISNONTEXT($D64)=TRUE,1,DGET(Forespørgsel1[#All],\"\"&$D64&\"\",Kredsudvælgelse!$Q$2:$R$3))),IF(ISBLANK(HLOOKUP(K$12,'Statiske ejendomme'!$B$3:$OF$80,'Statiske ejendomme'!$A57,FALSE))=FALSE,HLOOKUP(K$12,'Statiske ejendomme'!$B$3:$OF$80,'Statiske ejendomme'!$A57,FALSE),\"\"))),\"\")","v":-5.8436578171091442},{"$f":"IFERROR(IF(L$12=Kredsudvælgelse!$Q$20,\"\",IF(Kredsudvælgelse!AC$2=1,IF(ISTEXT(DGET(Forespørgsel1[#All],\"\"&LEFT($F64,LEN($F64)-$C64)&\"\",Kredsudvælgelse!$S$2:$T$3))=TRUE,DGET(Forespørgsel1[#All],\"\"&LEFT($F64,LEN($F64)-$C64)&\"\",Kredsudvælgelse!$S$2:$T$3),DGET(Forespørgsel1[#All],\"\"&LEFT($F64,LEN($F64)-$C64)&\"\",Kredsudvælgelse!$S$2:$T$3)/IF(ISNONTEXT($D64)=TRUE,1,DGET(Forespørgsel1[#All],\"\"&$D64&\"\",Kredsudvælgelse!$S$2:$T$3))),IF(ISBLANK(HLOOKUP(L$12,'Statiske ejendomme'!$B$3:$OF$80,'Statiske ejendomme'!$A57,FALSE))=FALSE,HLOOKUP(L$12,'Statiske ejendomme'!$B$3:$OF$80,'Statiske ejendomme'!$A57,FALSE),\"\"))),\"\")","v":-35.199176954732508},{"$f":"IFERROR(IF(M$12=Kredsudvælgelse!$Q$20,\"\",IF(Kredsudvælgelse!AD$2=1,IF(ISTEXT(DGET(Forespørgsel1[#All],\"\"&LEFT($F64,LEN($F64)-$C64)&\"\",Kredsudvælgelse!$U$2:$V$3))=TRUE,DGET(Forespørgsel1[#All],\"\"&LEFT($F64,LEN($F64)-$C64)&\"\",Kredsudvælgelse!$U$2:$V$3),DGET(Forespørgsel1[#All],\"\"&LEFT($F64,LEN($F64)-$C64)&\"\",Kredsudvælgelse!$U$2:$V$3)/IF(ISNONTEXT($D64)=TRUE,1,DGET(Forespørgsel1[#All],\"\"&$D64&\"\",Kredsudvælgelse!$U$2:$V$3))),IF(ISBLANK(HLOOKUP(M$12,'Statiske ejendomme'!$B$3:$OF$80,'Statiske ejendomme'!$A57,FALSE))=FALSE,HLOOKUP(M$12,'Statiske ejendomme'!$B$3:$OF$80,'Statiske ejendomme'!$A57,FALSE),\"\"))),\"\")","v":-112.50568181818181},{"$f":"IFERROR(IF(N$12=Kredsudvælgelse!$Q$20,\"\",IF(Kredsudvælgelse!AE$2=1,IF(ISTEXT(DGET(Forespørgsel1[#All],\"\"&LEFT($F64,LEN($F64)-$C64)&\"\",Kredsudvælgelse!$W$2:$X$3))=TRUE,DGET(Forespørgsel1[#All],\"\"&LEFT($F64,LEN($F64)-$C64)&\"\",Kredsudvælgelse!$W$2:$X$3),DGET(Forespørgsel1[#All],\"\"&LEFT($F64,LEN($F64)-$C64)&\"\",Kredsudvælgelse!$W$2:$X$3)/IF(ISNONTEXT($D64)=TRUE,1,DGET(Forespørgsel1[#All],\"\"&$D64&\"\",Kredsudvælgelse!$W$2:$X$3))),IF(ISBLANK(HLOOKUP(N$12,'Statiske ejendomme'!$B$3:$OF$80,'Statiske ejendomme'!$A57,FALSE))=FALSE,HLOOKUP(N$12,'Statiske ejendomme'!$B$3:$OF$80,'Statiske ejendomme'!$A57,FALSE),\"\"))),\"\")","v":-12.760608486789431},{"$f":"IFERROR(IF(O$12=Kredsudvælgelse!$Q$20,\"\",IF(Kredsudvælgelse!AF$2=1,IF(ISTEXT(DGET(Forespørgsel1[#All],\"\"&LEFT($F64,LEN($F64)-$C64)&\"\",Kredsudvælgelse!$Y$2:$Z$3))=TRUE,DGET(Forespørgsel1[#All],\"\"&LEFT($F64,LEN($F64)-$C64)&\"\",Kredsudvælgelse!$Y$2:$Z$3),DGET(Forespørgsel1[#All],\"\"&LEFT($F64,LEN($F64)-$C64)&\"\",Kredsudvælgelse!$Y$2:$Z$3)/IF(ISNONTEXT($D64)=TRUE,1,DGET(Forespørgsel1[#All],\"\"&$D64&\"\",Kredsudvælgelse!$Y$2:$Z$3))),IF(ISBLANK(HLOOKUP(O$12,'Statiske ejendomme'!$B$3:$OF$80,'Statiske ejendomme'!$A57,FALSE))=FALSE,HLOOKUP(O$12,'Statiske ejendomme'!$B$3:$OF$80,'Statiske ejendomme'!$A57,FALSE),\"\"))),\"\")","v":-37.594059405940591},{"$f":"IFERROR(IF(P$12=Kredsudvælgelse!$Q$20,\"\",IF(Kredsudvælgelse!AG$2=1,IF(ISTEXT(DGET(Forespørgsel1[#All],\"\"&LEFT($F64,LEN($F64)-$C64)&\"\",Kredsudvælgelse!$Q$6:$R$7))=TRUE,DGET(Forespørgsel1[#All],\"\"&LEFT($F64,LEN($F64)-$C64)&\"\",Kredsudvælgelse!$Q$6:$R$7),DGET(Forespørgsel1[#All],\"\"&LEFT($F64,LEN($F64)-$C64)&\"\",Kredsudvælgelse!$Q$6:$R$7)/IF(ISNONTEXT($D64)=TRUE,1,DGET(Forespørgsel1[#All],\"\"&$D64&\"\",Kredsudvælgelse!$Q$6:$R$7))),IF(ISBLANK(HLOOKUP(P$12,'Statiske ejendomme'!$B$3:$OF$80,'Statiske ejendomme'!$A57,FALSE))=FALSE,HLOOKUP(P$12,'Statiske ejendomme'!$B$3:$OF$80,'Statiske ejendomme'!$A57,FALSE),\"\"))),\"\")","v":-62.592356687898089},{"$f":"IFERROR(IF(Q$12=Kredsudvælgelse!$Q$20,\"\",IF(Kredsudvælgelse!AH$2=1,IF(ISTEXT(DGET(Forespørgsel1[#All],\"\"&LEFT($F64,LEN($F64)-$C64)&\"\",Kredsudvælgelse!$S$6:$T$7))=TRUE,DGET(Forespørgsel1[#All],\"\"&LEFT($F64,LEN($F64)-$C64)&\"\",Kredsudvælgelse!$S$6:$T$7),DGET(Forespørgsel1[#All],\"\"&LEFT($F64,LEN($F64)-$C64)&\"\",Kredsudvælgelse!$S$6:$T$7)/IF(ISNONTEXT($D64)=TRUE,1,DGET(Forespørgsel1[#All],\"\"&$D64&\"\",Kredsudvælgelse!$S$6:$T$7))),IF(ISBLANK(HLOOKUP(Q$12,'Statiske ejendomme'!$B$3:$OF$80,'Statiske ejendomme'!$A57,FALSE))=FALSE,HLOOKUP(Q$12,'Statiske ejendomme'!$B$3:$OF$80,'Statiske ejendomme'!$A57,FALSE),\"\"))),\"\")","v":-87.719298245614041},{"$f":"IFERROR(IF(R$12=Kredsudvælgelse!$Q$20,\"\",IF(Kredsudvælgelse!AI$2=1,IF(ISTEXT(DGET(Forespørgsel1[#All],\"\"&LEFT($F64,LEN($F64)-$C64)&\"\",Kredsudvælgelse!$U$6:$V$7))=TRUE,DGET(Forespørgsel1[#All],\"\"&LEFT($F64,LEN($F64)-$C64)&\"\",Kredsudvælgelse!$U$6:$V$7),DGET(Forespørgsel1[#All],\"\"&LEFT($F64,LEN($F64)-$C64)&\"\",Kredsudvælgelse!$U$6:$V$7)/IF(ISNONTEXT($D64)=TRUE,1,DGET(Forespørgsel1[#All],\"\"&$D64&\"\",Kredsudvælgelse!$U$6:$V$7))),IF(ISBLANK(HLOOKUP(R$12,'Statiske ejendomme'!$B$3:$OF$80,'Statiske ejendomme'!$A57,FALSE))=FALSE,HLOOKUP(R$12,'Statiske ejendomme'!$B$3:$OF$80,'Statiske ejendomme'!$A57,FALSE),\"\"))),\"\")","v":-29.159860990443093},{"$f":"IFERROR(IF(S$12=Kredsudvælgelse!$Q$20,\"\",IF(Kredsudvælgelse!AJ$2=1,IF(ISTEXT(DGET(Forespørgsel1[#All],\"\"&LEFT($F64,LEN($F64)-$C64)&\"\",Kredsudvælgelse!$W$6:$X$7))=TRUE,DGET(Forespørgsel1[#All],\"\"&LEFT($F64,LEN($F64)-$C64)&\"\",Kredsudvælgelse!$W$6:$X$7),DGET(Forespørgsel1[#All],\"\"&LEFT($F64,LEN($F64)-$C64)&\"\",Kredsudvælgelse!$W$6:$X$7)/IF(ISNONTEXT($D64)=TRUE,1,DGET(Forespørgsel1[#All],\"\"&$D64&\"\",Kredsudvælgelse!$W$6:$X$7))),IF(ISBLANK(HLOOKUP(S$12,'Statiske ejendomme'!$B$3:$OF$80,'Statiske ejendomme'!$A57,FALSE))=FALSE,HLOOKUP(S$12,'Statiske ejendomme'!$B$3:$OF$80,'Statiske ejendomme'!$A57,FALSE),\"\"))),\"\")","v":-42.79577464788732},{"$f":"IFERROR(IF(T$12=Kredsudvælgelse!$Q$20,\"\",IF(Kredsudvælgelse!AK$2=1,IF(ISTEXT(DGET(Forespørgsel1[#All],\"\"&LEFT($F64,LEN($F64)-$C64)&\"\",Kredsudvælgelse!$Y$6:$Z$7))=TRUE,DGET(Forespørgsel1[#All],\"\"&LEFT($F64,LEN($F64)-$C64)&\"\",Kredsudvælgelse!$Y$6:$Z$7),DGET(Forespørgsel1[#All],\"\"&LEFT($F64,LEN($F64)-$C64)&\"\",Kredsudvælgelse!$Y$6:$Z$7)/IF(ISNONTEXT($D64)=TRUE,1,DGET(Forespørgsel1[#All],\"\"&$D64&\"\",Kredsudvælgelse!$Y$6:$Z$7))),IF(ISBLANK(HLOOKUP(T$12,'Statiske ejendomme'!$B$3:$OF$80,'Statiske ejendomme'!$A57,FALSE))=FALSE,HLOOKUP(T$12,'Statiske ejendomme'!$B$3:$OF$80,'Statiske ejendomme'!$A57,FALSE),\"\"))),\"\")","v":-41.791044776119406}]
[1,{"$f":"Slagtekalve!D137","v":1},{"$f":"Slagtekalve!A56","v":0},{"$f":"Slagtekalve!B56","v":"Antal Producerede kalve"},null,{"$f":"Slagtekalve!C56","v":"Brændstof og maskinstation"},{"$f":"IF(Choices!$A$1=2,Landsgennemsnit!B56,IF(Choices!$A$1=3,Landsgennemsnit!E56,\"\"))","v":-50.596800965746191},{"$f":"IF(Choices!$A$1=2,Landsgennemsnit!C56,IF(Choices!$A$1=3,Landsgennemsnit!F56,\"\"))","v":-37.837994836488811},{"$f":"IF(OR(Choices!$A$1=2,Choices!$A$1=3),Slagtekalve!F56,\"\")","v":""},{"$f":"IF(OR(Choices!$A$1=2,Choices!$A$1=3),Slagtekalve!G56,\"\")","v":""},{"$f":"IFERROR(IF(K$12=Kredsudvælgelse!$Q$20,\"\",IF(Kredsudvælgelse!AB$2=1,IF(ISTEXT(DGET(Forespørgsel1[#All],\"\"&LEFT($F65,LEN($F65)-$C65)&\"\",Kredsudvælgelse!$Q$2:$R$3))=TRUE,DGET(Forespørgsel1[#All],\"\"&LEFT($F65,LEN($F65)-$C65)&\"\",Kredsudvælgelse!$Q$2:$R$3),DGET(Forespørgsel1[#All],\"\"&LEFT($F65,LEN($F65)-$C65)&\"\",Kredsudvælgelse!$Q$2:$R$3)/IF(ISNONTEXT($D65)=TRUE,1,DGET(Forespørgsel1[#All],\"\"&$D65&\"\",Kredsudvælgelse!$Q$2:$R$3))),IF(ISBLANK(HLOOKUP(K$12,'Statiske ejendomme'!$B$3:$OF$80,'Statiske ejendomme'!$A58,FALSE))=FALSE,HLOOKUP(K$12,'Statiske ejendomme'!$B$3:$OF$80,'Statiske ejendomme'!$A58,FALSE),\"\"))),\"\")","v":-26.374631268436577},{"$f":"IFERROR(IF(L$12=Kredsudvælgelse!$Q$20,\"\",IF(Kredsudvælgelse!AC$2=1,IF(ISTEXT(DGET(Forespørgsel1[#All],\"\"&LEFT($F65,LEN($F65)-$C65)&\"\",Kredsudvælgelse!$S$2:$T$3))=TRUE,DGET(Forespørgsel1[#All],\"\"&LEFT($F65,LEN($F65)-$C65)&\"\",Kredsudvælgelse!$S$2:$T$3),DGET(Forespørgsel1[#All],\"\"&LEFT($F65,LEN($F65)-$C65)&\"\",Kredsudvælgelse!$S$2:$T$3)/IF(ISNONTEXT($D65)=TRUE,1,DGET(Forespørgsel1[#All],\"\"&$D65&\"\",Kredsudvælgelse!$S$2:$T$3))),IF(ISBLANK(HLOOKUP(L$12,'Statiske ejendomme'!$B$3:$OF$80,'Statiske ejendomme'!$A58,FALSE))=FALSE,HLOOKUP(L$12,'Statiske ejendomme'!$B$3:$OF$80,'Statiske ejendomme'!$A58,FALSE),\"\"))),\"\")","v":-38.909465020576128},{"$f":"IFERROR(IF(M$12=Kredsudvælgelse!$Q$20,\"\",IF(Kredsudvælgelse!AD$2=1,IF(ISTEXT(DGET(Forespørgsel1[#All],\"\"&LEFT($F65,LEN($F65)-$C65)&\"\",Kredsudvælgelse!$U$2:$V$3))=TRUE,DGET(Forespørgsel1[#All],\"\"&LEFT($F65,LEN($F65)-$C65)&\"\",Kredsudvælgelse!$U$2:$V$3),DGET(Forespørgsel1[#All],\"\"&LEFT($F65,LEN($F65)-$C65)&\"\",Kredsudvælgelse!$U$2:$V$3)/IF(ISNONTEXT($D65)=TRUE,1,DGET(Forespørgsel1[#All],\"\"&$D65&\"\",Kredsudvælgelse!$U$2:$V$3))),IF(ISBLANK(HLOOKUP(M$12,'Statiske ejendomme'!$B$3:$OF$80,'Statiske ejendomme'!$A58,FALSE))=FALSE,HLOOKUP(M$12,'Statiske ejendomme'!$B$3:$OF$80,'Statiske ejendomme'!$A58,FALSE),\"\"))),\"\")","v":-11.363636363636363},{"$f":"IFERROR(IF(N$12=Kredsudvælgelse!$Q$20,\"\",IF(Kredsudvælgelse!AE$2=1,IF(ISTEXT(DGET(Forespørgsel1[#All],\"\"&LEFT($F65,LEN($F65)-$C65)&\"\",Kredsudvælgelse!$W$2:$X$3))=TRUE,DGET(Forespørgsel1[#All],\"\"&LEFT($F65,LEN($F65)-$C65)&\"\",Kredsudvælgelse!$W$2:$X$3),DGET(Forespørgsel1[#All],\"\"&LEFT($F65,LEN($F65)-$C65)&\"\",Kredsudvælgelse!$W$2:$X$3)/IF(ISNONTEXT($D65)=TRUE,1,DGET(Forespørgsel1[#All],\"\"&$D65&\"\",Kredsudvælgelse!$W$2:$X$3))),IF(ISBLANK(HLOOKUP(N$12,'Statiske ejendomme'!$B$3:$OF$80,'Statiske ejendomme'!$A58,FALSE))=FALSE,HLOOKUP(N$12,'Statiske ejendomme'!$B$3:$OF$80,'Statiske ejendomme'!$A58,FALSE),\"\"))),\"\")","v":-27.64771817453963},{"$f":"IFERROR(IF(O$12=Kredsudvælgelse!$Q$20,\"\",IF(Kredsudvælgelse!AF$2=1,IF(ISTEXT(DGET(Forespørgsel1[#All],\"\"&LEFT($F65,LEN($F65)-$C65)&\"\",Kredsudvælgelse!$Y$2:$Z$3))=TRUE,DGET(Forespørgsel1[#All],\"\"&LEFT($F65,LEN($F65)-$C65)&\"\",Kredsudvælgelse!$Y$2:$Z$3),DGET(Forespørgsel1[#All],\"\"&LEFT($F65,LEN($F65)-$C65)&\"\",Kredsudvælgelse!$Y$2:$Z$3)/IF(ISNONTEXT($D65)=TRUE,1,DGET(Forespørgsel1[#All],\"\"&$D65&\"\",Kredsudvælgelse!$Y$2:$Z$3))),IF(ISBLANK(HLOOKUP(O$12,'Statiske ejendomme'!$B$3:$OF$80,'Statiske ejendomme'!$A58,FALSE))=FALSE,HLOOKUP(O$12,'Statiske ejendomme'!$B$3:$OF$80,'Statiske ejendomme'!$A58,FALSE),\"\"))),\"\")","v":-176.78712871287129},{"$f":"IFERROR(IF(P$12=Kredsudvælgelse!$Q$20,\"\",IF(Kredsudvælgelse!AG$2=1,IF(ISTEXT(DGET(Forespørgsel1[#All],\"\"&LEFT($F65,LEN($F65)-$C65)&\"\",Kredsudvælgelse!$Q$6:$R$7))=TRUE,DGET(Forespørgsel1[#All],\"\"&LEFT($F65,LEN($F65)-$C65)&\"\",Kredsudvælgelse!$Q$6:$R$7),DGET(Forespørgsel1[#All],\"\"&LEFT($F65,LEN($F65)-$C65)&\"\",Kredsudvælgelse!$Q$6:$R$7)/IF(ISNONTEXT($D65)=TRUE,1,DGET(Forespørgsel1[#All],\"\"&$D65&\"\",Kredsudvælgelse!$Q$6:$R$7))),IF(ISBLANK(HLOOKUP(P$12,'Statiske ejendomme'!$B$3:$OF$80,'Statiske ejendomme'!$A58,FALSE))=FALSE,HLOOKUP(P$12,'Statiske ejendomme'!$B$3:$OF$80,'Statiske ejendomme'!$A58,FALSE),\"\"))),\"\")","v":-79.605095541401269},{"$f":"IFERROR(IF(Q$12=Kredsudvælgelse!$Q$20,\"\",IF(Kredsudvælgelse!AH$2=1,IF(ISTEXT(DGET(Forespørgsel1[#All],\"\"&LEFT($F65,LEN($F65)-$C65)&\"\",Kredsudvælgelse!$S$6:$T$7))=TRUE,DGET(Forespørgsel1[#All],\"\"&LEFT($F65,LEN($F65)-$C65)&\"\",Kredsudvælgelse!$S$6:$T$7),DGET(Forespørgsel1[#All],\"\"&LEFT($F65,LEN($F65)-$C65)&\"\",Kredsudvælgelse!$S$6:$T$7)/IF(ISNONTEXT($D65)=TRUE,1,DGET(Forespørgsel1[#All],\"\"&$D65&\"\",Kredsudvælgelse!$S$6:$T$7))),IF(ISBLANK(HLOOKUP(Q$12,'Statiske ejendomme'!$B$3:$OF$80,'Statiske ejendomme'!$A58,FALSE))=FALSE,HLOOKUP(Q$12,'Statiske ejendomme'!$B$3:$OF$80,'Statiske ejendomme'!$A58,FALSE),\"\"))),\"\")","v":0},{"$f":"IFERROR(IF(R$12=Kredsudvælgelse!$Q$20,\"\",IF(Kredsudvælgelse!AI$2=1,IF(ISTEXT(DGET(Forespørgsel1[#All],\"\"&LEFT($F65,LEN($F65)-$C65)&\"\",Kredsudvælgelse!$U$6:$V$7))=TRUE,DGET(Forespørgsel1[#All],\"\"&LEFT($F65,LEN($F65)-$C65)&\"\",Kredsudvælgelse!$U$6:$V$7),DGET(Forespørgsel1[#All],\"\"&LEFT($F65,LEN($F65)-$C65)&\"\",Kredsudvælgelse!$U$6:$V$7)/IF(ISNONTEXT($D65)=TRUE,1,DGET(Forespørgsel1[#All],\"\"&$D65&\"\",Kredsudvælgelse!$U$6:$V$7))),IF(ISBLANK(HLOOKUP(R$12,'Statiske ejendomme'!$B$3:$OF$80,'Statiske ejendomme'!$A58,FALSE))=FALSE,HLOOKUP(R$12,'Statiske ejendomme'!$B$3:$OF$80,'Statiske ejendomme'!$A58,FALSE),\"\"))),\"\")","v":-68.341442224152914},{"$f":"IFERROR(IF(S$12=Kredsudvælgelse!$Q$20,\"\",IF(Kredsudvælgelse!AJ$2=1,IF(ISTEXT(DGET(Forespørgsel1[#All],\"\"&LEFT($F65,LEN($F65)-$C65)&\"\",Kredsudvælgelse!$W$6:$X$7))=TRUE,DGET(Forespørgsel1[#All],\"\"&LEFT($F65,LEN($F65)-$C65)&\"\",Kredsudvælgelse!$W$6:$X$7),DGET(Forespørgsel1[#All],\"\"&LEFT($F65,LEN($F65)-$C65)&\"\",Kredsudvælgelse!$W$6:$X$7)/IF(ISNONTEXT($D65)=TRUE,1,DGET(Forespørgsel1[#All],\"\"&$D65&\"\",Kredsudvælgelse!$W$6:$X$7))),IF(ISBLANK(HLOOKUP(S$12,'Statiske ejendomme'!$B$3:$OF$80,'Statiske ejendomme'!$A58,FALSE))=FALSE,HLOOKUP(S$12,'Statiske ejendomme'!$B$3:$OF$80,'Statiske ejendomme'!$A58,FALSE),\"\"))),\"\")","v":-129.19014084507043},{"$f":"IFERROR(IF(T$12=Kredsudvælgelse!$Q$20,\"\",IF(Kredsudvælgelse!AK$2=1,IF(ISTEXT(DGET(Forespørgsel1[#All],\"\"&LEFT($F65,LEN($F65)-$C65)&\"\",Kredsudvælgelse!$Y$6:$Z$7))=TRUE,DGET(Forespørgsel1[#All],\"\"&LEFT($F65,LEN($F65)-$C65)&\"\",Kredsudvælgelse!$Y$6:$Z$7),DGET(Forespørgsel1[#All],\"\"&LEFT($F65,LEN($F65)-$C65)&\"\",Kredsudvælgelse!$Y$6:$Z$7)/IF(ISNONTEXT($D65)=TRUE,1,DGET(Forespørgsel1[#All],\"\"&$D65&\"\",Kredsudvælgelse!$Y$6:$Z$7))),IF(ISBLANK(HLOOKUP(T$12,'Statiske ejendomme'!$B$3:$OF$80,'Statiske ejendomme'!$A58,FALSE))=FALSE,HLOOKUP(T$12,'Statiske ejendomme'!$B$3:$OF$80,'Statiske ejendomme'!$A58,FALSE),\"\"))),\"\")","v":-9.9502487562189046}]
[1,{"$f":"Slagtekalve!D138","v":1},{"$f":"Slagtekalve!A57","v":0},{"$f":"Slagtekalve!B57","v":"Antal Producerede kalve"},null,{"$f":"Slagtekalve!C57","v":"Vedligehold"},{"$f":"IF(Choices!$A$1=2,Landsgennemsnit!B57,IF(Choices!$A$1=3,Landsgennemsnit!E57,\"\"))","v":-144.43106483577284},{"$f":"IF(Choices!$A$1=2,Landsgennemsnit!C57,IF(Choices!$A$1=3,Landsgennemsnit!F57,\"\"))","v":-141.19750430292598},{"$f":"IF(OR(Choices!$A$1=2,Choices!$A$1=3),Slagtekalve!F57,\"\")","v":""},{"$f":"IF(OR(Choices!$A$1=2,Choices!$A$1=3),Slagtekalve!G57,\"\")","v":""},{"$f":"IFERROR(IF(K$12=Kredsudvælgelse!$Q$20,\"\",IF(Kredsudvælgelse!AB$2=1,IF(ISTEXT(DGET(Forespørgsel1[#All],\"\"&LEFT($F66,LEN($F66)-$C66)&\"\",Kredsudvælgelse!$Q$2:$R$3))=TRUE,DGET(Forespørgsel1[#All],\"\"&LEFT($F66,LEN($F66)-$C66)&\"\",Kredsudvælgelse!$Q$2:$R$3),DGET(Forespørgsel1[#All],\"\"&LEFT($F66,LEN($F66)-$C66)&\"\",Kredsudvælgelse!$Q$2:$R$3)/IF(ISNONTEXT($D66)=TRUE,1,DGET(Forespørgsel1[#All],\"\"&$D66&\"\",Kredsudvælgelse!$Q$2:$R$3))),IF(ISBLANK(HLOOKUP(K$12,'Statiske ejendomme'!$B$3:$OF$80,'Statiske ejendomme'!$A59,FALSE))=FALSE,HLOOKUP(K$12,'Statiske ejendomme'!$B$3:$OF$80,'Statiske ejendomme'!$A59,FALSE),\"\"))),\"\")","v":-77.525073746312685},{"$f":"IFERROR(IF(L$12=Kredsudvælgelse!$Q$20,\"\",IF(Kredsudvælgelse!AC$2=1,IF(ISTEXT(DGET(Forespørgsel1[#All],\"\"&LEFT($F66,LEN($F66)-$C66)&\"\",Kredsudvælgelse!$S$2:$T$3))=TRUE,DGET(Forespørgsel1[#All],\"\"&LEFT($F66,LEN($F66)-$C66)&\"\",Kredsudvælgelse!$S$2:$T$3),DGET(Forespørgsel1[#All],\"\"&LEFT($F66,LEN($F66)-$C66)&\"\",Kredsudvælgelse!$S$2:$T$3)/IF(ISNONTEXT($D66)=TRUE,1,DGET(Forespørgsel1[#All],\"\"&$D66&\"\",Kredsudvælgelse!$S$2:$T$3))),IF(ISBLANK(HLOOKUP(L$12,'Statiske ejendomme'!$B$3:$OF$80,'Statiske ejendomme'!$A59,FALSE))=FALSE,HLOOKUP(L$12,'Statiske ejendomme'!$B$3:$OF$80,'Statiske ejendomme'!$A59,FALSE),\"\"))),\"\")","v":-115.07736625514403},{"$f":"IFERROR(IF(M$12=Kredsudvælgelse!$Q$20,\"\",IF(Kredsudvælgelse!AD$2=1,IF(ISTEXT(DGET(Forespørgsel1[#All],\"\"&LEFT($F66,LEN($F66)-$C66)&\"\",Kredsudvælgelse!$U$2:$V$3))=TRUE,DGET(Forespørgsel1[#All],\"\"&LEFT($F66,LEN($F66)-$C66)&\"\",Kredsudvælgelse!$U$2:$V$3),DGET(Forespørgsel1[#All],\"\"&LEFT($F66,LEN($F66)-$C66)&\"\",Kredsudvælgelse!$U$2:$V$3)/IF(ISNONTEXT($D66)=TRUE,1,DGET(Forespørgsel1[#All],\"\"&$D66&\"\",Kredsudvælgelse!$U$2:$V$3))),IF(ISBLANK(HLOOKUP(M$12,'Statiske ejendomme'!$B$3:$OF$80,'Statiske ejendomme'!$A59,FALSE))=FALSE,HLOOKUP(M$12,'Statiske ejendomme'!$B$3:$OF$80,'Statiske ejendomme'!$A59,FALSE),\"\"))),\"\")","v":-119.31818181818181},{"$f":"IFERROR(IF(N$12=Kredsudvælgelse!$Q$20,\"\",IF(Kredsudvælgelse!AE$2=1,IF(ISTEXT(DGET(Forespørgsel1[#All],\"\"&LEFT($F66,LEN($F66)-$C66)&\"\",Kredsudvælgelse!$W$2:$X$3))=TRUE,DGET(Forespørgsel1[#All],\"\"&LEFT($F66,LEN($F66)-$C66)&\"\",Kredsudvælgelse!$W$2:$X$3),DGET(Forespørgsel1[#All],\"\"&LEFT($F66,LEN($F66)-$C66)&\"\",Kredsudvælgelse!$W$2:$X$3)/IF(ISNONTEXT($D66)=TRUE,1,DGET(Forespørgsel1[#All],\"\"&$D66&\"\",Kredsudvælgelse!$W$2:$X$3))),IF(ISBLANK(HLOOKUP(N$12,'Statiske ejendomme'!$B$3:$OF$80,'Statiske ejendomme'!$A59,FALSE))=FALSE,HLOOKUP(N$12,'Statiske ejendomme'!$B$3:$OF$80,'Statiske ejendomme'!$A59,FALSE),\"\"))),\"\")","v":-102.46196957566053},{"$f":"IFERROR(IF(O$12=Kredsudvælgelse!$Q$20,\"\",IF(Kredsudvælgelse!AF$2=1,IF(ISTEXT(DGET(Forespørgsel1[#All],\"\"&LEFT($F66,LEN($F66)-$C66)&\"\",Kredsudvælgelse!$Y$2:$Z$3))=TRUE,DGET(Forespørgsel1[#All],\"\"&LEFT($F66,LEN($F66)-$C66)&\"\",Kredsudvælgelse!$Y$2:$Z$3),DGET(Forespørgsel1[#All],\"\"&LEFT($F66,LEN($F66)-$C66)&\"\",Kredsudvælgelse!$Y$2:$Z$3)/IF(ISNONTEXT($D66)=TRUE,1,DGET(Forespørgsel1[#All],\"\"&$D66&\"\",Kredsudvælgelse!$Y$2:$Z$3))),IF(ISBLANK(HLOOKUP(O$12,'Statiske ejendomme'!$B$3:$OF$80,'Statiske ejendomme'!$A59,FALSE))=FALSE,HLOOKUP(O$12,'Statiske ejendomme'!$B$3:$OF$80,'Statiske ejendomme'!$A59,FALSE),\"\"))),\"\")","v":-226.990099009901},{"$f":"IFERROR(IF(P$12=Kredsudvælgelse!$Q$20,\"\",IF(Kredsudvælgelse!AG$2=1,IF(ISTEXT(DGET(Forespørgsel1[#All],\"\"&LEFT($F66,LEN($F66)-$C66)&\"\",Kredsudvælgelse!$Q$6:$R$7))=TRUE,DGET(Forespørgsel1[#All],\"\"&LEFT($F66,LEN($F66)-$C66)&\"\",Kredsudvælgelse!$Q$6:$R$7),DGET(Forespørgsel1[#All],\"\"&LEFT($F66,LEN($F66)-$C66)&\"\",Kredsudvælgelse!$Q$6:$R$7)/IF(ISNONTEXT($D66)=TRUE,1,DGET(Forespørgsel1[#All],\"\"&$D66&\"\",Kredsudvælgelse!$Q$6:$R$7))),IF(ISBLANK(HLOOKUP(P$12,'Statiske ejendomme'!$B$3:$OF$80,'Statiske ejendomme'!$A59,FALSE))=FALSE,HLOOKUP(P$12,'Statiske ejendomme'!$B$3:$OF$80,'Statiske ejendomme'!$A59,FALSE),\"\"))),\"\")","v":-132.89808917197453},{"$f":"IFERROR(IF(Q$12=Kredsudvælgelse!$Q$20,\"\",IF(Kredsudvælgelse!AH$2=1,IF(ISTEXT(DGET(Forespørgsel1[#All],\"\"&LEFT($F66,LEN($F66)-$C66)&\"\",Kredsudvælgelse!$S$6:$T$7))=TRUE,DGET(Forespørgsel1[#All],\"\"&LEFT($F66,LEN($F66)-$C66)&\"\",Kredsudvælgelse!$S$6:$T$7),DGET(Forespørgsel1[#All],\"\"&LEFT($F66,LEN($F66)-$C66)&\"\",Kredsudvælgelse!$S$6:$T$7)/IF(ISNONTEXT($D66)=TRUE,1,DGET(Forespørgsel1[#All],\"\"&$D66&\"\",Kredsudvælgelse!$S$6:$T$7))),IF(ISBLANK(HLOOKUP(Q$12,'Statiske ejendomme'!$B$3:$OF$80,'Statiske ejendomme'!$A59,FALSE))=FALSE,HLOOKUP(Q$12,'Statiske ejendomme'!$B$3:$OF$80,'Statiske ejendomme'!$A59,FALSE),\"\"))),\"\")","v":-175.43859649122808},{"$f":"IFERROR(IF(R$12=Kredsudvælgelse!$Q$20,\"\",IF(Kredsudvælgelse!AI$2=1,IF(ISTEXT(DGET(Forespørgsel1[#All],\"\"&LEFT($F66,LEN($F66)-$C66)&\"\",Kredsudvælgelse!$U$6:$V$7))=TRUE,DGET(Forespørgsel1[#All],\"\"&LEFT($F66,LEN($F66)-$C66)&\"\",Kredsudvælgelse!$U$6:$V$7),DGET(Forespørgsel1[#All],\"\"&LEFT($F66,LEN($F66)-$C66)&\"\",Kredsudvælgelse!$U$6:$V$7)/IF(ISNONTEXT($D66)=TRUE,1,DGET(Forespørgsel1[#All],\"\"&$D66&\"\",Kredsudvælgelse!$U$6:$V$7))),IF(ISBLANK(HLOOKUP(R$12,'Statiske ejendomme'!$B$3:$OF$80,'Statiske ejendomme'!$A59,FALSE))=FALSE,HLOOKUP(R$12,'Statiske ejendomme'!$B$3:$OF$80,'Statiske ejendomme'!$A59,FALSE),\"\"))),\"\")","v":-155.80625543006082},{"$f":"IFERROR(IF(S$12=Kredsudvælgelse!$Q$20,\"\",IF(Kredsudvælgelse!AJ$2=1,IF(ISTEXT(DGET(Forespørgsel1[#All],\"\"&LEFT($F66,LEN($F66)-$C66)&\"\",Kredsudvælgelse!$W$6:$X$7))=TRUE,DGET(Forespørgsel1[#All],\"\"&LEFT($F66,LEN($F66)-$C66)&\"\",Kredsudvælgelse!$W$6:$X$7),DGET(Forespørgsel1[#All],\"\"&LEFT($F66,LEN($F66)-$C66)&\"\",Kredsudvælgelse!$W$6:$X$7)/IF(ISNONTEXT($D66)=TRUE,1,DGET(Forespørgsel1[#All],\"\"&$D66&\"\",Kredsudvælgelse!$W$6:$X$7))),IF(ISBLANK(HLOOKUP(S$12,'Statiske ejendomme'!$B$3:$OF$80,'Statiske ejendomme'!$A59,FALSE))=FALSE,HLOOKUP(S$12,'Statiske ejendomme'!$B$3:$OF$80,'Statiske ejendomme'!$A59,FALSE),\"\"))),\"\")","v":-297.88732394366195},{"$f":"IFERROR(IF(T$12=Kredsudvælgelse!$Q$20,\"\",IF(Kredsudvælgelse!AK$2=1,IF(ISTEXT(DGET(Forespørgsel1[#All],\"\"&LEFT($F66,LEN($F66)-$C66)&\"\",Kredsudvælgelse!$Y$6:$Z$7))=TRUE,DGET(Forespørgsel1[#All],\"\"&LEFT($F66,LEN($F66)-$C66)&\"\",Kredsudvælgelse!$Y$6:$Z$7),DGET(Forespørgsel1[#All],\"\"&LEFT($F66,LEN($F66)-$C66)&\"\",Kredsudvælgelse!$Y$6:$Z$7)/IF(ISNONTEXT($D66)=TRUE,1,DGET(Forespørgsel1[#All],\"\"&$D66&\"\",Kredsudvælgelse!$Y$6:$Z$7))),IF(ISBLANK(HLOOKUP(T$12,'Statiske ejendomme'!$B$3:$OF$80,'Statiske ejendomme'!$A59,FALSE))=FALSE,HLOOKUP(T$12,'Statiske ejendomme'!$B$3:$OF$80,'Statiske ejendomme'!$A59,FALSE),\"\"))),\"\")","v":-294.06268656716418}]
[1,{"$f":"Slagtekalve!D139","v":1},{"$f":"Slagtekalve!A58","v":0},{"$f":"Slagtekalve!B58","v":"Antal Producerede kalve"},null,{"$f":"Slagtekalve!C58","v":"Lønomkostninger"},{"$f":"IF(Choices!$A$1=2,Landsgennemsnit!B58,IF(Choices!$A$1=3,Landsgennemsnit!E58,\"\"))","v":-310.84145666716967},{"$f":"IF(Choices!$A$1=2,Landsgennemsnit!C58,IF(Choices!$A$1=3,Landsgennemsnit!F58,\"\"))","v":-434.45783132530119},{"$f":"IF(OR(Choices!$A$1=2,Choices!$A$1=3),Slagtekalve!F58,\"\")","v":""},{"$f":"IF(OR(Choices!$A$1=2,Choices!$A$1=3),Slagtekalve!G58,\"\")","v":""},{"$f":"IFERROR(IF(K$12=Kredsudvælgelse!$Q$20,\"\",IF(Kredsudvælgelse!AB$2=1,IF(ISTEXT(DGET(Forespørgsel1[#All],\"\"&LEFT($F67,LEN($F67)-$C67)&\"\",Kredsudvælgelse!$Q$2:$R$3))=TRUE,DGET(Forespørgsel1[#All],\"\"&LEFT($F67,LEN($F67)-$C67)&\"\",Kredsudvælgelse!$Q$2:$R$3),DGET(Forespørgsel1[#All],\"\"&LEFT($F67,LEN($F67)-$C67)&\"\",Kredsudvælgelse!$Q$2:$R$3)/IF(ISNONTEXT($D67)=TRUE,1,DGET(Forespørgsel1[#All],\"\"&$D67&\"\",Kredsudvælgelse!$Q$2:$R$3))),IF(ISBLANK(HLOOKUP(K$12,'Statiske ejendomme'!$B$3:$OF$80,'Statiske ejendomme'!$A60,FALSE))=FALSE,HLOOKUP(K$12,'Statiske ejendomme'!$B$3:$OF$80,'Statiske ejendomme'!$A60,FALSE),\"\"))),\"\")","v":-6.1946902654867255},{"$f":"IFERROR(IF(L$12=Kredsudvælgelse!$Q$20,\"\",IF(Kredsudvælgelse!AC$2=1,IF(ISTEXT(DGET(Forespørgsel1[#All],\"\"&LEFT($F67,LEN($F67)-$C67)&\"\",Kredsudvælgelse!$S$2:$T$3))=TRUE,DGET(Forespørgsel1[#All],\"\"&LEFT($F67,LEN($F67)-$C67)&\"\",Kredsudvælgelse!$S$2:$T$3),DGET(Forespørgsel1[#All],\"\"&LEFT($F67,LEN($F67)-$C67)&\"\",Kredsudvælgelse!$S$2:$T$3)/IF(ISNONTEXT($D67)=TRUE,1,DGET(Forespørgsel1[#All],\"\"&$D67&\"\",Kredsudvælgelse!$S$2:$T$3))),IF(ISBLANK(HLOOKUP(L$12,'Statiske ejendomme'!$B$3:$OF$80,'Statiske ejendomme'!$A60,FALSE))=FALSE,HLOOKUP(L$12,'Statiske ejendomme'!$B$3:$OF$80,'Statiske ejendomme'!$A60,FALSE),\"\"))),\"\")","v":-552.64115226337447},{"$f":"IFERROR(IF(M$12=Kredsudvælgelse!$Q$20,\"\",IF(Kredsudvælgelse!AD$2=1,IF(ISTEXT(DGET(Forespørgsel1[#All],\"\"&LEFT($F67,LEN($F67)-$C67)&\"\",Kredsudvælgelse!$U$2:$V$3))=TRUE,DGET(Forespørgsel1[#All],\"\"&LEFT($F67,LEN($F67)-$C67)&\"\",Kredsudvælgelse!$U$2:$V$3),DGET(Forespørgsel1[#All],\"\"&LEFT($F67,LEN($F67)-$C67)&\"\",Kredsudvælgelse!$U$2:$V$3)/IF(ISNONTEXT($D67)=TRUE,1,DGET(Forespørgsel1[#All],\"\"&$D67&\"\",Kredsudvælgelse!$U$2:$V$3))),IF(ISBLANK(HLOOKUP(M$12,'Statiske ejendomme'!$B$3:$OF$80,'Statiske ejendomme'!$A60,FALSE))=FALSE,HLOOKUP(M$12,'Statiske ejendomme'!$B$3:$OF$80,'Statiske ejendomme'!$A60,FALSE),\"\"))),\"\")","v":-227.27272727272728},{"$f":"IFERROR(IF(N$12=Kredsudvælgelse!$Q$20,\"\",IF(Kredsudvælgelse!AE$2=1,IF(ISTEXT(DGET(Forespørgsel1[#All],\"\"&LEFT($F67,LEN($F67)-$C67)&\"\",Kredsudvælgelse!$W$2:$X$3))=TRUE,DGET(Forespørgsel1[#All],\"\"&LEFT($F67,LEN($F67)-$C67)&\"\",Kredsudvælgelse!$W$2:$X$3),DGET(Forespørgsel1[#All],\"\"&LEFT($F67,LEN($F67)-$C67)&\"\",Kredsudvælgelse!$W$2:$X$3)/IF(ISNONTEXT($D67)=TRUE,1,DGET(Forespørgsel1[#All],\"\"&$D67&\"\",Kredsudvælgelse!$W$2:$X$3))),IF(ISBLANK(HLOOKUP(N$12,'Statiske ejendomme'!$B$3:$OF$80,'Statiske ejendomme'!$A60,FALSE))=FALSE,HLOOKUP(N$12,'Statiske ejendomme'!$B$3:$OF$80,'Statiske ejendomme'!$A60,FALSE),\"\"))),\"\")","v":-395.45556445156126},{"$f":"IFERROR(IF(O$12=Kredsudvælgelse!$Q$20,\"\",IF(Kredsudvælgelse!AF$2=1,IF(ISTEXT(DGET(Forespørgsel1[#All],\"\"&LEFT($F67,LEN($F67)-$C67)&\"\",Kredsudvælgelse!$Y$2:$Z$3))=TRUE,DGET(Forespørgsel1[#All],\"\"&LEFT($F67,LEN($F67)-$C67)&\"\",Kredsudvælgelse!$Y$2:$Z$3),DGET(Forespørgsel1[#All],\"\"&LEFT($F67,LEN($F67)-$C67)&\"\",Kredsudvælgelse!$Y$2:$Z$3)/IF(ISNONTEXT($D67)=TRUE,1,DGET(Forespørgsel1[#All],\"\"&$D67&\"\",Kredsudvælgelse!$Y$2:$Z$3))),IF(ISBLANK(HLOOKUP(O$12,'Statiske ejendomme'!$B$3:$OF$80,'Statiske ejendomme'!$A60,FALSE))=FALSE,HLOOKUP(O$12,'Statiske ejendomme'!$B$3:$OF$80,'Statiske ejendomme'!$A60,FALSE),\"\"))),\"\")","v":0},{"$f":"IFERROR(IF(P$12=Kredsudvælgelse!$Q$20,\"\",IF(Kredsudvælgelse!AG$2=1,IF(ISTEXT(DGET(Forespørgsel1[#All],\"\"&LEFT($F67,LEN($F67)-$C67)&\"\",Kredsudvælgelse!$Q$6:$R$7))=TRUE,DGET(Forespørgsel1[#All],\"\"&LEFT($F67,LEN($F67)-$C67)&\"\",Kredsudvælgelse!$Q$6:$R$7),DGET(Forespørgsel1[#All],\"\"&LEFT($F67,LEN($F67)-$C67)&\"\",Kredsudvælgelse!$Q$6:$R$7)/IF(ISNONTEXT($D67)=TRUE,1,DGET(Forespørgsel1[#All],\"\"&$D67&\"\",Kredsudvælgelse!$Q$6:$R$7))),IF(ISBLANK(HLOOKUP(P$12,'Statiske ejendomme'!$B$3:$OF$80,'Statiske ejendomme'!$A60,FALSE))=FALSE,HLOOKUP(P$12,'Statiske ejendomme'!$B$3:$OF$80,'Statiske ejendomme'!$A60,FALSE),\"\"))),\"\")","v":0},{"$f":"IFERROR(IF(Q$12=Kredsudvælgelse!$Q$20,\"\",IF(Kredsudvælgelse!AH$2=1,IF(ISTEXT(DGET(Forespørgsel1[#All],\"\"&LEFT($F67,LEN($F67)-$C67)&\"\",Kredsudvælgelse!$S$6:$T$7))=TRUE,DGET(Forespørgsel1[#All],\"\"&LEFT($F67,LEN($F67)-$C67)&\"\",Kredsudvælgelse!$S$6:$T$7),DGET(Forespørgsel1[#All],\"\"&LEFT($F67,LEN($F67)-$C67)&\"\",Kredsudvælgelse!$S$6:$T$7)/IF(ISNONTEXT($D67)=TRUE,1,DGET(Forespørgsel1[#All],\"\"&$D67&\"\",Kredsudvælgelse!$S$6:$T$7))),IF(ISBLANK(HLOOKUP(Q$12,'Statiske ejendomme'!$B$3:$OF$80,'Statiske ejendomme'!$A60,FALSE))=FALSE,HLOOKUP(Q$12,'Statiske ejendomme'!$B$3:$OF$80,'Statiske ejendomme'!$A60,FALSE),\"\"))),\"\")","v":0},{"$f":"IFERROR(IF(R$12=Kredsudvælgelse!$Q$20,\"\",IF(Kredsudvælgelse!AI$2=1,IF(ISTEXT(DGET(Forespørgsel1[#All],\"\"&LEFT($F67,LEN($F67)-$C67)&\"\",Kredsudvælgelse!$U$6:$V$7))=TRUE,DGET(Forespørgsel1[#All],\"\"&LEFT($F67,LEN($F67)-$C67)&\"\",Kredsudvælgelse!$U$6:$V$7),DGET(Forespørgsel1[#All],\"\"&LEFT($F67,LEN($F67)-$C67)&\"\",Kredsudvælgelse!$U$6:$V$7)/IF(ISNONTEXT($D67)=TRUE,1,DGET(Forespørgsel1[#All],\"\"&$D67&\"\",Kredsudvælgelse!$U$6:$V$7))),IF(ISBLANK(HLOOKUP(R$12,'Statiske ejendomme'!$B$3:$OF$80,'Statiske ejendomme'!$A60,FALSE))=FALSE,HLOOKUP(R$12,'Statiske ejendomme'!$B$3:$OF$80,'Statiske ejendomme'!$A60,FALSE),\"\"))),\"\")","v":-173.7619461337967},{"$f":"IFERROR(IF(S$12=Kredsudvælgelse!$Q$20,\"\",IF(Kredsudvælgelse!AJ$2=1,IF(ISTEXT(DGET(Forespørgsel1[#All],\"\"&LEFT($F67,LEN($F67)-$C67)&\"\",Kredsudvælgelse!$W$6:$X$7))=TRUE,DGET(Forespørgsel1[#All],\"\"&LEFT($F67,LEN($F67)-$C67)&\"\",Kredsudvælgelse!$W$6:$X$7),DGET(Forespørgsel1[#All],\"\"&LEFT($F67,LEN($F67)-$C67)&\"\",Kredsudvælgelse!$W$6:$X$7)/IF(ISNONTEXT($D67)=TRUE,1,DGET(Forespørgsel1[#All],\"\"&$D67&\"\",Kredsudvælgelse!$W$6:$X$7))),IF(ISBLANK(HLOOKUP(S$12,'Statiske ejendomme'!$B$3:$OF$80,'Statiske ejendomme'!$A60,FALSE))=FALSE,HLOOKUP(S$12,'Statiske ejendomme'!$B$3:$OF$80,'Statiske ejendomme'!$A60,FALSE),\"\"))),\"\")","v":0},{"$f":"IFERROR(IF(T$12=Kredsudvælgelse!$Q$20,\"\",IF(Kredsudvælgelse!AK$2=1,IF(ISTEXT(DGET(Forespørgsel1[#All],\"\"&LEFT($F67,LEN($F67)-$C67)&\"\",Kredsudvælgelse!$Y$6:$Z$7))=TRUE,DGET(Forespørgsel1[#All],\"\"&LEFT($F67,LEN($F67)-$C67)&\"\",Kredsudvælgelse!$Y$6:$Z$7),DGET(Forespørgsel1[#All],\"\"&LEFT($F67,LEN($F67)-$C67)&\"\",Kredsudvælgelse!$Y$6:$Z$7)/IF(ISNONTEXT($D67)=TRUE,1,DGET(Forespørgsel1[#All],\"\"&$D67&\"\",Kredsudvælgelse!$Y$6:$Z$7))),IF(ISBLANK(HLOOKUP(T$12,'Statiske ejendomme'!$B$3:$OF$80,'Statiske ejendomme'!$A60,FALSE))=FALSE,HLOOKUP(T$12,'Statiske ejendomme'!$B$3:$OF$80,'Statiske ejendomme'!$A60,FALSE),\"\"))),\"\")","v":-535.72935323383081}]
[1,{"$f":"Slagtekalve!D140","v":1},{"$f":"Slagtekalve!A59","v":0},{"$f":"Slagtekalve!B59","v":"Antal Producerede kalve"},null,{"$f":"Slagtekalve!C59","v":"Ejeraflønning"},{"$f":"IF(Choices!$A$1=2,Landsgennemsnit!B59,IF(Choices!$A$1=3,Landsgennemsnit!E59,\"\"))","v":-330.6967456365374},{"$f":"IF(Choices!$A$1=2,Landsgennemsnit!C59,IF(Choices!$A$1=3,Landsgennemsnit!F59,\"\"))","v":-195.88704819277109},{"$f":"IF(OR(Choices!$A$1=2,Choices!$A$1=3),Slagtekalve!F59,\"\")","v":""},{"$f":"IF(OR(Choices!$A$1=2,Choices!$A$1=3),Slagtekalve!G59,\"\")","v":""},{"$f":"IFERROR(IF(K$12=Kredsudvælgelse!$Q$20,\"\",IF(Kredsudvælgelse!AB$2=1,IF(ISTEXT(DGET(Forespørgsel1[#All],\"\"&LEFT($F68,LEN($F68)-$C68)&\"\",Kredsudvælgelse!$Q$2:$R$3))=TRUE,DGET(Forespørgsel1[#All],\"\"&LEFT($F68,LEN($F68)-$C68)&\"\",Kredsudvælgelse!$Q$2:$R$3),DGET(Forespørgsel1[#All],\"\"&LEFT($F68,LEN($F68)-$C68)&\"\",Kredsudvælgelse!$Q$2:$R$3)/IF(ISNONTEXT($D68)=TRUE,1,DGET(Forespørgsel1[#All],\"\"&$D68&\"\",Kredsudvælgelse!$Q$2:$R$3))),IF(ISBLANK(HLOOKUP(K$12,'Statiske ejendomme'!$B$3:$OF$80,'Statiske ejendomme'!$A61,FALSE))=FALSE,HLOOKUP(K$12,'Statiske ejendomme'!$B$3:$OF$80,'Statiske ejendomme'!$A61,FALSE),\"\"))),\"\")","v":-516.22418879056045},{"$f":"IFERROR(IF(L$12=Kredsudvælgelse!$Q$20,\"\",IF(Kredsudvælgelse!AC$2=1,IF(ISTEXT(DGET(Forespørgsel1[#All],\"\"&LEFT($F68,LEN($F68)-$C68)&\"\",Kredsudvælgelse!$S$2:$T$3))=TRUE,DGET(Forespørgsel1[#All],\"\"&LEFT($F68,LEN($F68)-$C68)&\"\",Kredsudvælgelse!$S$2:$T$3),DGET(Forespørgsel1[#All],\"\"&LEFT($F68,LEN($F68)-$C68)&\"\",Kredsudvælgelse!$S$2:$T$3)/IF(ISNONTEXT($D68)=TRUE,1,DGET(Forespørgsel1[#All],\"\"&$D68&\"\",Kredsudvælgelse!$S$2:$T$3))),IF(ISBLANK(HLOOKUP(L$12,'Statiske ejendomme'!$B$3:$OF$80,'Statiske ejendomme'!$A61,FALSE))=FALSE,HLOOKUP(L$12,'Statiske ejendomme'!$B$3:$OF$80,'Statiske ejendomme'!$A61,FALSE),\"\"))),\"\")","v":-201.64609053497944},{"$f":"IFERROR(IF(M$12=Kredsudvælgelse!$Q$20,\"\",IF(Kredsudvælgelse!AD$2=1,IF(ISTEXT(DGET(Forespørgsel1[#All],\"\"&LEFT($F68,LEN($F68)-$C68)&\"\",Kredsudvælgelse!$U$2:$V$3))=TRUE,DGET(Forespørgsel1[#All],\"\"&LEFT($F68,LEN($F68)-$C68)&\"\",Kredsudvælgelse!$U$2:$V$3),DGET(Forespørgsel1[#All],\"\"&LEFT($F68,LEN($F68)-$C68)&\"\",Kredsudvælgelse!$U$2:$V$3)/IF(ISNONTEXT($D68)=TRUE,1,DGET(Forespørgsel1[#All],\"\"&$D68&\"\",Kredsudvælgelse!$U$2:$V$3))),IF(ISBLANK(HLOOKUP(M$12,'Statiske ejendomme'!$B$3:$OF$80,'Statiske ejendomme'!$A61,FALSE))=FALSE,HLOOKUP(M$12,'Statiske ejendomme'!$B$3:$OF$80,'Statiske ejendomme'!$A61,FALSE),\"\"))),\"\")","v":-198.86363636363637},{"$f":"IFERROR(IF(N$12=Kredsudvælgelse!$Q$20,\"\",IF(Kredsudvælgelse!AE$2=1,IF(ISTEXT(DGET(Forespørgsel1[#All],\"\"&LEFT($F68,LEN($F68)-$C68)&\"\",Kredsudvælgelse!$W$2:$X$3))=TRUE,DGET(Forespørgsel1[#All],\"\"&LEFT($F68,LEN($F68)-$C68)&\"\",Kredsudvælgelse!$W$2:$X$3),DGET(Forespørgsel1[#All],\"\"&LEFT($F68,LEN($F68)-$C68)&\"\",Kredsudvælgelse!$W$2:$X$3)/IF(ISNONTEXT($D68)=TRUE,1,DGET(Forespørgsel1[#All],\"\"&$D68&\"\",Kredsudvælgelse!$W$2:$X$3))),IF(ISBLANK(HLOOKUP(N$12,'Statiske ejendomme'!$B$3:$OF$80,'Statiske ejendomme'!$A61,FALSE))=FALSE,HLOOKUP(N$12,'Statiske ejendomme'!$B$3:$OF$80,'Statiske ejendomme'!$A61,FALSE),\"\"))),\"\")","v":-180.14411529223378},{"$f":"IFERROR(IF(O$12=Kredsudvælgelse!$Q$20,\"\",IF(Kredsudvælgelse!AF$2=1,IF(ISTEXT(DGET(Forespørgsel1[#All],\"\"&LEFT($F68,LEN($F68)-$C68)&\"\",Kredsudvælgelse!$Y$2:$Z$3))=TRUE,DGET(Forespørgsel1[#All],\"\"&LEFT($F68,LEN($F68)-$C68)&\"\",Kredsudvælgelse!$Y$2:$Z$3),DGET(Forespørgsel1[#All],\"\"&LEFT($F68,LEN($F68)-$C68)&\"\",Kredsudvælgelse!$Y$2:$Z$3)/IF(ISNONTEXT($D68)=TRUE,1,DGET(Forespørgsel1[#All],\"\"&$D68&\"\",Kredsudvælgelse!$Y$2:$Z$3))),IF(ISBLANK(HLOOKUP(O$12,'Statiske ejendomme'!$B$3:$OF$80,'Statiske ejendomme'!$A61,FALSE))=FALSE,HLOOKUP(O$12,'Statiske ejendomme'!$B$3:$OF$80,'Statiske ejendomme'!$A61,FALSE),\"\"))),\"\")","v":-495.04950495049508},{"$f":"IFERROR(IF(P$12=Kredsudvælgelse!$Q$20,\"\",IF(Kredsudvælgelse!AG$2=1,IF(ISTEXT(DGET(Forespørgsel1[#All],\"\"&LEFT($F68,LEN($F68)-$C68)&\"\",Kredsudvælgelse!$Q$6:$R$7))=TRUE,DGET(Forespørgsel1[#All],\"\"&LEFT($F68,LEN($F68)-$C68)&\"\",Kredsudvælgelse!$Q$6:$R$7),DGET(Forespørgsel1[#All],\"\"&LEFT($F68,LEN($F68)-$C68)&\"\",Kredsudvælgelse!$Q$6:$R$7)/IF(ISNONTEXT($D68)=TRUE,1,DGET(Forespørgsel1[#All],\"\"&$D68&\"\",Kredsudvælgelse!$Q$6:$R$7))),IF(ISBLANK(HLOOKUP(P$12,'Statiske ejendomme'!$B$3:$OF$80,'Statiske ejendomme'!$A61,FALSE))=FALSE,HLOOKUP(P$12,'Statiske ejendomme'!$B$3:$OF$80,'Statiske ejendomme'!$A61,FALSE),\"\"))),\"\")","v":-700.63694267515928},{"$f":"IFERROR(IF(Q$12=Kredsudvælgelse!$Q$20,\"\",IF(Kredsudvælgelse!AH$2=1,IF(ISTEXT(DGET(Forespørgsel1[#All],\"\"&LEFT($F68,LEN($F68)-$C68)&\"\",Kredsudvælgelse!$S$6:$T$7))=TRUE,DGET(Forespørgsel1[#All],\"\"&LEFT($F68,LEN($F68)-$C68)&\"\",Kredsudvælgelse!$S$6:$T$7),DGET(Forespørgsel1[#All],\"\"&LEFT($F68,LEN($F68)-$C68)&\"\",Kredsudvælgelse!$S$6:$T$7)/IF(ISNONTEXT($D68)=TRUE,1,DGET(Forespørgsel1[#All],\"\"&$D68&\"\",Kredsudvælgelse!$S$6:$T$7))),IF(ISBLANK(HLOOKUP(Q$12,'Statiske ejendomme'!$B$3:$OF$80,'Statiske ejendomme'!$A61,FALSE))=FALSE,HLOOKUP(Q$12,'Statiske ejendomme'!$B$3:$OF$80,'Statiske ejendomme'!$A61,FALSE),\"\"))),\"\")","v":-657.89473684210532},{"$f":"IFERROR(IF(R$12=Kredsudvælgelse!$Q$20,\"\",IF(Kredsudvælgelse!AI$2=1,IF(ISTEXT(DGET(Forespørgsel1[#All],\"\"&LEFT($F68,LEN($F68)-$C68)&\"\",Kredsudvælgelse!$U$6:$V$7))=TRUE,DGET(Forespørgsel1[#All],\"\"&LEFT($F68,LEN($F68)-$C68)&\"\",Kredsudvælgelse!$U$6:$V$7),DGET(Forespørgsel1[#All],\"\"&LEFT($F68,LEN($F68)-$C68)&\"\",Kredsudvælgelse!$U$6:$V$7)/IF(ISNONTEXT($D68)=TRUE,1,DGET(Forespørgsel1[#All],\"\"&$D68&\"\",Kredsudvælgelse!$U$6:$V$7))),IF(ISBLANK(HLOOKUP(R$12,'Statiske ejendomme'!$B$3:$OF$80,'Statiske ejendomme'!$A61,FALSE))=FALSE,HLOOKUP(R$12,'Statiske ejendomme'!$B$3:$OF$80,'Statiske ejendomme'!$A61,FALSE),\"\"))),\"\")","v":-351.86794092093834},{"$f":"IFERROR(IF(S$12=Kredsudvælgelse!$Q$20,\"\",IF(Kredsudvælgelse!AJ$2=1,IF(ISTEXT(DGET(Forespørgsel1[#All],\"\"&LEFT($F68,LEN($F68)-$C68)&\"\",Kredsudvælgelse!$W$6:$X$7))=TRUE,DGET(Forespørgsel1[#All],\"\"&LEFT($F68,LEN($F68)-$C68)&\"\",Kredsudvælgelse!$W$6:$X$7),DGET(Forespørgsel1[#All],\"\"&LEFT($F68,LEN($F68)-$C68)&\"\",Kredsudvælgelse!$W$6:$X$7)/IF(ISNONTEXT($D68)=TRUE,1,DGET(Forespørgsel1[#All],\"\"&$D68&\"\",Kredsudvælgelse!$W$6:$X$7))),IF(ISBLANK(HLOOKUP(S$12,'Statiske ejendomme'!$B$3:$OF$80,'Statiske ejendomme'!$A61,FALSE))=FALSE,HLOOKUP(S$12,'Statiske ejendomme'!$B$3:$OF$80,'Statiske ejendomme'!$A61,FALSE),\"\"))),\"\")","v":-528.16901408450701},{"$f":"IFERROR(IF(T$12=Kredsudvælgelse!$Q$20,\"\",IF(Kredsudvælgelse!AK$2=1,IF(ISTEXT(DGET(Forespørgsel1[#All],\"\"&LEFT($F68,LEN($F68)-$C68)&\"\",Kredsudvælgelse!$Y$6:$Z$7))=TRUE,DGET(Forespørgsel1[#All],\"\"&LEFT($F68,LEN($F68)-$C68)&\"\",Kredsudvælgelse!$Y$6:$Z$7),DGET(Forespørgsel1[#All],\"\"&LEFT($F68,LEN($F68)-$C68)&\"\",Kredsudvælgelse!$Y$6:$Z$7)/IF(ISNONTEXT($D68)=TRUE,1,DGET(Forespørgsel1[#All],\"\"&$D68&\"\",Kredsudvælgelse!$Y$6:$Z$7))),IF(ISBLANK(HLOOKUP(T$12,'Statiske ejendomme'!$B$3:$OF$80,'Statiske ejendomme'!$A61,FALSE))=FALSE,HLOOKUP(T$12,'Statiske ejendomme'!$B$3:$OF$80,'Statiske ejendomme'!$A61,FALSE),\"\"))),\"\")","v":-129.35323383084577}]
[1,{"$f":"Slagtekalve!D141","v":1},{"$f":"Slagtekalve!A60","v":0},{"$f":"Slagtekalve!B60","v":"Antal Producerede kalve"},null,{"$f":"Slagtekalve!C60","v":"Forsikring"},{"$f":"IF(Choices!$A$1=2,Landsgennemsnit!B60,IF(Choices!$A$1=3,Landsgennemsnit!E60,\"\"))","v":-60.506312559730397},{"$f":"IF(Choices!$A$1=2,Landsgennemsnit!C60,IF(Choices!$A$1=3,Landsgennemsnit!F60,\"\"))","v":-55.859509466437174},{"$f":"IF(OR(Choices!$A$1=2,Choices!$A$1=3),Slagtekalve!F60,\"\")","v":""},{"$f":"IF(OR(Choices!$A$1=2,Choices!$A$1=3),Slagtekalve!G60,\"\")","v":""},{"$f":"IFERROR(IF(K$12=Kredsudvælgelse!$Q$20,\"\",IF(Kredsudvælgelse!AB$2=1,IF(ISTEXT(DGET(Forespørgsel1[#All],\"\"&LEFT($F69,LEN($F69)-$C69)&\"\",Kredsudvælgelse!$Q$2:$R$3))=TRUE,DGET(Forespørgsel1[#All],\"\"&LEFT($F69,LEN($F69)-$C69)&\"\",Kredsudvælgelse!$Q$2:$R$3),DGET(Forespørgsel1[#All],\"\"&LEFT($F69,LEN($F69)-$C69)&\"\",Kredsudvælgelse!$Q$2:$R$3)/IF(ISNONTEXT($D69)=TRUE,1,DGET(Forespørgsel1[#All],\"\"&$D69&\"\",Kredsudvælgelse!$Q$2:$R$3))),IF(ISBLANK(HLOOKUP(K$12,'Statiske ejendomme'!$B$3:$OF$80,'Statiske ejendomme'!$A62,FALSE))=FALSE,HLOOKUP(K$12,'Statiske ejendomme'!$B$3:$OF$80,'Statiske ejendomme'!$A62,FALSE),\"\"))),\"\")","v":-79.646017699115049},{"$f":"IFERROR(IF(L$12=Kredsudvælgelse!$Q$20,\"\",IF(Kredsudvælgelse!AC$2=1,IF(ISTEXT(DGET(Forespørgsel1[#All],\"\"&LEFT($F69,LEN($F69)-$C69)&\"\",Kredsudvælgelse!$S$2:$T$3))=TRUE,DGET(Forespørgsel1[#All],\"\"&LEFT($F69,LEN($F69)-$C69)&\"\",Kredsudvælgelse!$S$2:$T$3),DGET(Forespørgsel1[#All],\"\"&LEFT($F69,LEN($F69)-$C69)&\"\",Kredsudvælgelse!$S$2:$T$3)/IF(ISNONTEXT($D69)=TRUE,1,DGET(Forespørgsel1[#All],\"\"&$D69&\"\",Kredsudvælgelse!$S$2:$T$3))),IF(ISBLANK(HLOOKUP(L$12,'Statiske ejendomme'!$B$3:$OF$80,'Statiske ejendomme'!$A62,FALSE))=FALSE,HLOOKUP(L$12,'Statiske ejendomme'!$B$3:$OF$80,'Statiske ejendomme'!$A62,FALSE),\"\"))),\"\")","v":-52.731687242798351},{"$f":"IFERROR(IF(M$12=Kredsudvælgelse!$Q$20,\"\",IF(Kredsudvælgelse!AD$2=1,IF(ISTEXT(DGET(Forespørgsel1[#All],\"\"&LEFT($F69,LEN($F69)-$C69)&\"\",Kredsudvælgelse!$U$2:$V$3))=TRUE,DGET(Forespørgsel1[#All],\"\"&LEFT($F69,LEN($F69)-$C69)&\"\",Kredsudvælgelse!$U$2:$V$3),DGET(Forespørgsel1[#All],\"\"&LEFT($F69,LEN($F69)-$C69)&\"\",Kredsudvælgelse!$U$2:$V$3)/IF(ISNONTEXT($D69)=TRUE,1,DGET(Forespørgsel1[#All],\"\"&$D69&\"\",Kredsudvælgelse!$U$2:$V$3))),IF(ISBLANK(HLOOKUP(M$12,'Statiske ejendomme'!$B$3:$OF$80,'Statiske ejendomme'!$A62,FALSE))=FALSE,HLOOKUP(M$12,'Statiske ejendomme'!$B$3:$OF$80,'Statiske ejendomme'!$A62,FALSE),\"\"))),\"\")","v":-39.772727272727273},{"$f":"IFERROR(IF(N$12=Kredsudvælgelse!$Q$20,\"\",IF(Kredsudvælgelse!AE$2=1,IF(ISTEXT(DGET(Forespørgsel1[#All],\"\"&LEFT($F69,LEN($F69)-$C69)&\"\",Kredsudvælgelse!$W$2:$X$3))=TRUE,DGET(Forespørgsel1[#All],\"\"&LEFT($F69,LEN($F69)-$C69)&\"\",Kredsudvælgelse!$W$2:$X$3),DGET(Forespørgsel1[#All],\"\"&LEFT($F69,LEN($F69)-$C69)&\"\",Kredsudvælgelse!$W$2:$X$3)/IF(ISNONTEXT($D69)=TRUE,1,DGET(Forespørgsel1[#All],\"\"&$D69&\"\",Kredsudvælgelse!$W$2:$X$3))),IF(ISBLANK(HLOOKUP(N$12,'Statiske ejendomme'!$B$3:$OF$80,'Statiske ejendomme'!$A62,FALSE))=FALSE,HLOOKUP(N$12,'Statiske ejendomme'!$B$3:$OF$80,'Statiske ejendomme'!$A62,FALSE),\"\"))),\"\")","v":-65.028022417934352},{"$f":"IFERROR(IF(O$12=Kredsudvælgelse!$Q$20,\"\",IF(Kredsudvælgelse!AF$2=1,IF(ISTEXT(DGET(Forespørgsel1[#All],\"\"&LEFT($F69,LEN($F69)-$C69)&\"\",Kredsudvælgelse!$Y$2:$Z$3))=TRUE,DGET(Forespørgsel1[#All],\"\"&LEFT($F69,LEN($F69)-$C69)&\"\",Kredsudvælgelse!$Y$2:$Z$3),DGET(Forespørgsel1[#All],\"\"&LEFT($F69,LEN($F69)-$C69)&\"\",Kredsudvælgelse!$Y$2:$Z$3)/IF(ISNONTEXT($D69)=TRUE,1,DGET(Forespørgsel1[#All],\"\"&$D69&\"\",Kredsudvælgelse!$Y$2:$Z$3))),IF(ISBLANK(HLOOKUP(O$12,'Statiske ejendomme'!$B$3:$OF$80,'Statiske ejendomme'!$A62,FALSE))=FALSE,HLOOKUP(O$12,'Statiske ejendomme'!$B$3:$OF$80,'Statiske ejendomme'!$A62,FALSE),\"\"))),\"\")","v":-83.205445544554451},{"$f":"IFERROR(IF(P$12=Kredsudvælgelse!$Q$20,\"\",IF(Kredsudvælgelse!AG$2=1,IF(ISTEXT(DGET(Forespørgsel1[#All],\"\"&LEFT($F69,LEN($F69)-$C69)&\"\",Kredsudvælgelse!$Q$6:$R$7))=TRUE,DGET(Forespørgsel1[#All],\"\"&LEFT($F69,LEN($F69)-$C69)&\"\",Kredsudvælgelse!$Q$6:$R$7),DGET(Forespørgsel1[#All],\"\"&LEFT($F69,LEN($F69)-$C69)&\"\",Kredsudvælgelse!$Q$6:$R$7)/IF(ISNONTEXT($D69)=TRUE,1,DGET(Forespørgsel1[#All],\"\"&$D69&\"\",Kredsudvælgelse!$Q$6:$R$7))),IF(ISBLANK(HLOOKUP(P$12,'Statiske ejendomme'!$B$3:$OF$80,'Statiske ejendomme'!$A62,FALSE))=FALSE,HLOOKUP(P$12,'Statiske ejendomme'!$B$3:$OF$80,'Statiske ejendomme'!$A62,FALSE),\"\"))),\"\")","v":-57.471337579617831},{"$f":"IFERROR(IF(Q$12=Kredsudvælgelse!$Q$20,\"\",IF(Kredsudvælgelse!AH$2=1,IF(ISTEXT(DGET(Forespørgsel1[#All],\"\"&LEFT($F69,LEN($F69)-$C69)&\"\",Kredsudvælgelse!$S$6:$T$7))=TRUE,DGET(Forespørgsel1[#All],\"\"&LEFT($F69,LEN($F69)-$C69)&\"\",Kredsudvælgelse!$S$6:$T$7),DGET(Forespørgsel1[#All],\"\"&LEFT($F69,LEN($F69)-$C69)&\"\",Kredsudvælgelse!$S$6:$T$7)/IF(ISNONTEXT($D69)=TRUE,1,DGET(Forespørgsel1[#All],\"\"&$D69&\"\",Kredsudvælgelse!$S$6:$T$7))),IF(ISBLANK(HLOOKUP(Q$12,'Statiske ejendomme'!$B$3:$OF$80,'Statiske ejendomme'!$A62,FALSE))=FALSE,HLOOKUP(Q$12,'Statiske ejendomme'!$B$3:$OF$80,'Statiske ejendomme'!$A62,FALSE),\"\"))),\"\")","v":-96.491228070175438},{"$f":"IFERROR(IF(R$12=Kredsudvælgelse!$Q$20,\"\",IF(Kredsudvælgelse!AI$2=1,IF(ISTEXT(DGET(Forespørgsel1[#All],\"\"&LEFT($F69,LEN($F69)-$C69)&\"\",Kredsudvælgelse!$U$6:$V$7))=TRUE,DGET(Forespørgsel1[#All],\"\"&LEFT($F69,LEN($F69)-$C69)&\"\",Kredsudvælgelse!$U$6:$V$7),DGET(Forespørgsel1[#All],\"\"&LEFT($F69,LEN($F69)-$C69)&\"\",Kredsudvælgelse!$U$6:$V$7)/IF(ISNONTEXT($D69)=TRUE,1,DGET(Forespørgsel1[#All],\"\"&$D69&\"\",Kredsudvælgelse!$U$6:$V$7))),IF(ISBLANK(HLOOKUP(R$12,'Statiske ejendomme'!$B$3:$OF$80,'Statiske ejendomme'!$A62,FALSE))=FALSE,HLOOKUP(R$12,'Statiske ejendomme'!$B$3:$OF$80,'Statiske ejendomme'!$A62,FALSE),\"\"))),\"\")","v":-75.854039965247608},{"$f":"IFERROR(IF(S$12=Kredsudvælgelse!$Q$20,\"\",IF(Kredsudvælgelse!AJ$2=1,IF(ISTEXT(DGET(Forespørgsel1[#All],\"\"&LEFT($F69,LEN($F69)-$C69)&\"\",Kredsudvælgelse!$W$6:$X$7))=TRUE,DGET(Forespørgsel1[#All],\"\"&LEFT($F69,LEN($F69)-$C69)&\"\",Kredsudvælgelse!$W$6:$X$7),DGET(Forespørgsel1[#All],\"\"&LEFT($F69,LEN($F69)-$C69)&\"\",Kredsudvælgelse!$W$6:$X$7)/IF(ISNONTEXT($D69)=TRUE,1,DGET(Forespørgsel1[#All],\"\"&$D69&\"\",Kredsudvælgelse!$W$6:$X$7))),IF(ISBLANK(HLOOKUP(S$12,'Statiske ejendomme'!$B$3:$OF$80,'Statiske ejendomme'!$A62,FALSE))=FALSE,HLOOKUP(S$12,'Statiske ejendomme'!$B$3:$OF$80,'Statiske ejendomme'!$A62,FALSE),\"\"))),\"\")","v":-154},{"$f":"IFERROR(IF(T$12=Kredsudvælgelse!$Q$20,\"\",IF(Kredsudvælgelse!AK$2=1,IF(ISTEXT(DGET(Forespørgsel1[#All],\"\"&LEFT($F69,LEN($F69)-$C69)&\"\",Kredsudvælgelse!$Y$6:$Z$7))=TRUE,DGET(Forespørgsel1[#All],\"\"&LEFT($F69,LEN($F69)-$C69)&\"\",Kredsudvælgelse!$Y$6:$Z$7),DGET(Forespørgsel1[#All],\"\"&LEFT($F69,LEN($F69)-$C69)&\"\",Kredsudvælgelse!$Y$6:$Z$7)/IF(ISNONTEXT($D69)=TRUE,1,DGET(Forespørgsel1[#All],\"\"&$D69&\"\",Kredsudvælgelse!$Y$6:$Z$7))),IF(ISBLANK(HLOOKUP(T$12,'Statiske ejendomme'!$B$3:$OF$80,'Statiske ejendomme'!$A62,FALSE))=FALSE,HLOOKUP(T$12,'Statiske ejendomme'!$B$3:$OF$80,'Statiske ejendomme'!$A62,FALSE),\"\"))),\"\")","v":-68.542288557213936}]
[1,{"$f":"Slagtekalve!D142","v":1},{"$f":"Slagtekalve!A61","v":0},{"$f":"Slagtekalve!B61","v":"Antal Producerede kalve"},null,{"$f":"Slagtekalve!C61","v":"Diverse kapacitetsomkostninger"},{"$f":"IF(Choices!$A$1=2,Landsgennemsnit!B61,IF(Choices!$A$1=3,Landsgennemsnit!E61,\"\"))","v":-127.46436295960967},{"$f":"IF(Choices!$A$1=2,Landsgennemsnit!C61,IF(Choices!$A$1=3,Landsgennemsnit!F61,\"\"))","v":-80.03399311531841},{"$f":"IF(OR(Choices!$A$1=2,Choices!$A$1=3),Slagtekalve!F61,\"\")","v":""},{"$f":"IF(OR(Choices!$A$1=2,Choices!$A$1=3),Slagtekalve!G61,\"\")","v":""},{"$f":"IFERROR(IF(K$12=Kredsudvælgelse!$Q$20,\"\",IF(Kredsudvælgelse!AB$2=1,IF(ISTEXT(DGET(Forespørgsel1[#All],\"\"&LEFT($F70,LEN($F70)-$C70)&\"\",Kredsudvælgelse!$Q$2:$R$3))=TRUE,DGET(Forespørgsel1[#All],\"\"&LEFT($F70,LEN($F70)-$C70)&\"\",Kredsudvælgelse!$Q$2:$R$3),DGET(Forespørgsel1[#All],\"\"&LEFT($F70,LEN($F70)-$C70)&\"\",Kredsudvælgelse!$Q$2:$R$3)/IF(ISNONTEXT($D70)=TRUE,1,DGET(Forespørgsel1[#All],\"\"&$D70&\"\",Kredsudvælgelse!$Q$2:$R$3))),IF(ISBLANK(HLOOKUP(K$12,'Statiske ejendomme'!$B$3:$OF$80,'Statiske ejendomme'!$A63,FALSE))=FALSE,HLOOKUP(K$12,'Statiske ejendomme'!$B$3:$OF$80,'Statiske ejendomme'!$A63,FALSE),\"\"))),\"\")","v":-103.50442477876106},{"$f":"IFERROR(IF(L$12=Kredsudvælgelse!$Q$20,\"\",IF(Kredsudvælgelse!AC$2=1,IF(ISTEXT(DGET(Forespørgsel1[#All],\"\"&LEFT($F70,LEN($F70)-$C70)&\"\",Kredsudvælgelse!$S$2:$T$3))=TRUE,DGET(Forespørgsel1[#All],\"\"&LEFT($F70,LEN($F70)-$C70)&\"\",Kredsudvælgelse!$S$2:$T$3),DGET(Forespørgsel1[#All],\"\"&LEFT($F70,LEN($F70)-$C70)&\"\",Kredsudvælgelse!$S$2:$T$3)/IF(ISNONTEXT($D70)=TRUE,1,DGET(Forespørgsel1[#All],\"\"&$D70&\"\",Kredsudvælgelse!$S$2:$T$3))),IF(ISBLANK(HLOOKUP(L$12,'Statiske ejendomme'!$B$3:$OF$80,'Statiske ejendomme'!$A63,FALSE))=FALSE,HLOOKUP(L$12,'Statiske ejendomme'!$B$3:$OF$80,'Statiske ejendomme'!$A63,FALSE),\"\"))),\"\")","v":-68.967078189300409},{"$f":"IFERROR(IF(M$12=Kredsudvælgelse!$Q$20,\"\",IF(Kredsudvælgelse!AD$2=1,IF(ISTEXT(DGET(Forespørgsel1[#All],\"\"&LEFT($F70,LEN($F70)-$C70)&\"\",Kredsudvælgelse!$U$2:$V$3))=TRUE,DGET(Forespørgsel1[#All],\"\"&LEFT($F70,LEN($F70)-$C70)&\"\",Kredsudvælgelse!$U$2:$V$3),DGET(Forespørgsel1[#All],\"\"&LEFT($F70,LEN($F70)-$C70)&\"\",Kredsudvælgelse!$U$2:$V$3)/IF(ISNONTEXT($D70)=TRUE,1,DGET(Forespørgsel1[#All],\"\"&$D70&\"\",Kredsudvælgelse!$U$2:$V$3))),IF(ISBLANK(HLOOKUP(M$12,'Statiske ejendomme'!$B$3:$OF$80,'Statiske ejendomme'!$A63,FALSE))=FALSE,HLOOKUP(M$12,'Statiske ejendomme'!$B$3:$OF$80,'Statiske ejendomme'!$A63,FALSE),\"\"))),\"\")","v":-85.227272727272734},{"$f":"IFERROR(IF(N$12=Kredsudvælgelse!$Q$20,\"\",IF(Kredsudvælgelse!AE$2=1,IF(ISTEXT(DGET(Forespørgsel1[#All],\"\"&LEFT($F70,LEN($F70)-$C70)&\"\",Kredsudvælgelse!$W$2:$X$3))=TRUE,DGET(Forespørgsel1[#All],\"\"&LEFT($F70,LEN($F70)-$C70)&\"\",Kredsudvælgelse!$W$2:$X$3),DGET(Forespørgsel1[#All],\"\"&LEFT($F70,LEN($F70)-$C70)&\"\",Kredsudvælgelse!$W$2:$X$3)/IF(ISNONTEXT($D70)=TRUE,1,DGET(Forespørgsel1[#All],\"\"&$D70&\"\",Kredsudvælgelse!$W$2:$X$3))),IF(ISBLANK(HLOOKUP(N$12,'Statiske ejendomme'!$B$3:$OF$80,'Statiske ejendomme'!$A63,FALSE))=FALSE,HLOOKUP(N$12,'Statiske ejendomme'!$B$3:$OF$80,'Statiske ejendomme'!$A63,FALSE),\"\"))),\"\")","v":-182.87670136108886},{"$f":"IFERROR(IF(O$12=Kredsudvælgelse!$Q$20,\"\",IF(Kredsudvælgelse!AF$2=1,IF(ISTEXT(DGET(Forespørgsel1[#All],\"\"&LEFT($F70,LEN($F70)-$C70)&\"\",Kredsudvælgelse!$Y$2:$Z$3))=TRUE,DGET(Forespørgsel1[#All],\"\"&LEFT($F70,LEN($F70)-$C70)&\"\",Kredsudvælgelse!$Y$2:$Z$3),DGET(Forespørgsel1[#All],\"\"&LEFT($F70,LEN($F70)-$C70)&\"\",Kredsudvælgelse!$Y$2:$Z$3)/IF(ISNONTEXT($D70)=TRUE,1,DGET(Forespørgsel1[#All],\"\"&$D70&\"\",Kredsudvælgelse!$Y$2:$Z$3))),IF(ISBLANK(HLOOKUP(O$12,'Statiske ejendomme'!$B$3:$OF$80,'Statiske ejendomme'!$A63,FALSE))=FALSE,HLOOKUP(O$12,'Statiske ejendomme'!$B$3:$OF$80,'Statiske ejendomme'!$A63,FALSE),\"\"))),\"\")","v":-155.6881188118812},{"$f":"IFERROR(IF(P$12=Kredsudvælgelse!$Q$20,\"\",IF(Kredsudvælgelse!AG$2=1,IF(ISTEXT(DGET(Forespørgsel1[#All],\"\"&LEFT($F70,LEN($F70)-$C70)&\"\",Kredsudvælgelse!$Q$6:$R$7))=TRUE,DGET(Forespørgsel1[#All],\"\"&LEFT($F70,LEN($F70)-$C70)&\"\",Kredsudvælgelse!$Q$6:$R$7),DGET(Forespørgsel1[#All],\"\"&LEFT($F70,LEN($F70)-$C70)&\"\",Kredsudvælgelse!$Q$6:$R$7)/IF(ISNONTEXT($D70)=TRUE,1,DGET(Forespørgsel1[#All],\"\"&$D70&\"\",Kredsudvælgelse!$Q$6:$R$7))),IF(ISBLANK(HLOOKUP(P$12,'Statiske ejendomme'!$B$3:$OF$80,'Statiske ejendomme'!$A63,FALSE))=FALSE,HLOOKUP(P$12,'Statiske ejendomme'!$B$3:$OF$80,'Statiske ejendomme'!$A63,FALSE),\"\"))),\"\")","v":-258.21656050955414},{"$f":"IFERROR(IF(Q$12=Kredsudvælgelse!$Q$20,\"\",IF(Kredsudvælgelse!AH$2=1,IF(ISTEXT(DGET(Forespørgsel1[#All],\"\"&LEFT($F70,LEN($F70)-$C70)&\"\",Kredsudvælgelse!$S$6:$T$7))=TRUE,DGET(Forespørgsel1[#All],\"\"&LEFT($F70,LEN($F70)-$C70)&\"\",Kredsudvælgelse!$S$6:$T$7),DGET(Forespørgsel1[#All],\"\"&LEFT($F70,LEN($F70)-$C70)&\"\",Kredsudvælgelse!$S$6:$T$7)/IF(ISNONTEXT($D70)=TRUE,1,DGET(Forespørgsel1[#All],\"\"&$D70&\"\",Kredsudvælgelse!$S$6:$T$7))),IF(ISBLANK(HLOOKUP(Q$12,'Statiske ejendomme'!$B$3:$OF$80,'Statiske ejendomme'!$A63,FALSE))=FALSE,HLOOKUP(Q$12,'Statiske ejendomme'!$B$3:$OF$80,'Statiske ejendomme'!$A63,FALSE),\"\"))),\"\")","v":-114.03508771929825},{"$f":"IFERROR(IF(R$12=Kredsudvælgelse!$Q$20,\"\",IF(Kredsudvælgelse!AI$2=1,IF(ISTEXT(DGET(Forespørgsel1[#All],\"\"&LEFT($F70,LEN($F70)-$C70)&\"\",Kredsudvælgelse!$U$6:$V$7))=TRUE,DGET(Forespørgsel1[#All],\"\"&LEFT($F70,LEN($F70)-$C70)&\"\",Kredsudvælgelse!$U$6:$V$7),DGET(Forespørgsel1[#All],\"\"&LEFT($F70,LEN($F70)-$C70)&\"\",Kredsudvælgelse!$U$6:$V$7)/IF(ISNONTEXT($D70)=TRUE,1,DGET(Forespørgsel1[#All],\"\"&$D70&\"\",Kredsudvælgelse!$U$6:$V$7))),IF(ISBLANK(HLOOKUP(R$12,'Statiske ejendomme'!$B$3:$OF$80,'Statiske ejendomme'!$A63,FALSE))=FALSE,HLOOKUP(R$12,'Statiske ejendomme'!$B$3:$OF$80,'Statiske ejendomme'!$A63,FALSE),\"\"))),\"\")","v":-164.80538662033015},{"$f":"IFERROR(IF(S$12=Kredsudvælgelse!$Q$20,\"\",IF(Kredsudvælgelse!AJ$2=1,IF(ISTEXT(DGET(Forespørgsel1[#All],\"\"&LEFT($F70,LEN($F70)-$C70)&\"\",Kredsudvælgelse!$W$6:$X$7))=TRUE,DGET(Forespørgsel1[#All],\"\"&LEFT($F70,LEN($F70)-$C70)&\"\",Kredsudvælgelse!$W$6:$X$7),DGET(Forespørgsel1[#All],\"\"&LEFT($F70,LEN($F70)-$C70)&\"\",Kredsudvælgelse!$W$6:$X$7)/IF(ISNONTEXT($D70)=TRUE,1,DGET(Forespørgsel1[#All],\"\"&$D70&\"\",Kredsudvælgelse!$W$6:$X$7))),IF(ISBLANK(HLOOKUP(S$12,'Statiske ejendomme'!$B$3:$OF$80,'Statiske ejendomme'!$A63,FALSE))=FALSE,HLOOKUP(S$12,'Statiske ejendomme'!$B$3:$OF$80,'Statiske ejendomme'!$A63,FALSE),\"\"))),\"\")","v":-281.6901408450704},{"$f":"IFERROR(IF(T$12=Kredsudvælgelse!$Q$20,\"\",IF(Kredsudvælgelse!AK$2=1,IF(ISTEXT(DGET(Forespørgsel1[#All],\"\"&LEFT($F70,LEN($F70)-$C70)&\"\",Kredsudvælgelse!$Y$6:$Z$7))=TRUE,DGET(Forespørgsel1[#All],\"\"&LEFT($F70,LEN($F70)-$C70)&\"\",Kredsudvælgelse!$Y$6:$Z$7),DGET(Forespørgsel1[#All],\"\"&LEFT($F70,LEN($F70)-$C70)&\"\",Kredsudvælgelse!$Y$6:$Z$7)/IF(ISNONTEXT($D70)=TRUE,1,DGET(Forespørgsel1[#All],\"\"&$D70&\"\",Kredsudvælgelse!$Y$6:$Z$7))),IF(ISBLANK(HLOOKUP(T$12,'Statiske ejendomme'!$B$3:$OF$80,'Statiske ejendomme'!$A63,FALSE))=FALSE,HLOOKUP(T$12,'Statiske ejendomme'!$B$3:$OF$80,'Statiske ejendomme'!$A63,FALSE),\"\"))),\"\")","v":-94.527363184079604}]
[1,{"$f":"Slagtekalve!D143","v":113},{"$f":"Slagtekalve!A62","v":0},{"$f":"Slagtekalve!B62","v":"Antal Producerede kalve"},null,{"$f":"Slagtekalve!C62","v":"Kapacitetsomkostninger i alt"},{"$f":"IF(Choices!$A$1=2,Landsgennemsnit!B62,IF(Choices!$A$1=3,Landsgennemsnit!E62,\"\"))","v":-1060.890850560837},{"$f":"IF(Choices!$A$1=2,Landsgennemsnit!C62,IF(Choices!$A$1=3,Landsgennemsnit!F62,\"\"))","v":-986.3065834767641},{"$f":"IF(OR(Choices!$A$1=2,Choices!$A$1=3),Slagtekalve!F62,\"\")","v":""},{"$f":"IF(OR(Choices!$A$1=2,Choices!$A$1=3),Slagtekalve!G62,\"\")","v":""},{"$f":"IFERROR(IF(K$12=Kredsudvælgelse!$Q$20,\"\",IF(Kredsudvælgelse!AB$2=1,IF(ISTEXT(DGET(Forespørgsel1[#All],\"\"&LEFT($F71,LEN($F71)-$C71)&\"\",Kredsudvælgelse!$Q$2:$R$3))=TRUE,DGET(Forespørgsel1[#All],\"\"&LEFT($F71,LEN($F71)-$C71)&\"\",Kredsudvælgelse!$Q$2:$R$3),DGET(Forespørgsel1[#All],\"\"&LEFT($F71,LEN($F71)-$C71)&\"\",Kredsudvælgelse!$Q$2:$R$3)/IF(ISNONTEXT($D71)=TRUE,1,DGET(Forespørgsel1[#All],\"\"&$D71&\"\",Kredsudvælgelse!$Q$2:$R$3))),IF(ISBLANK(HLOOKUP(K$12,'Statiske ejendomme'!$B$3:$OF$80,'Statiske ejendomme'!$A64,FALSE))=FALSE,HLOOKUP(K$12,'Statiske ejendomme'!$B$3:$OF$80,'Statiske ejendomme'!$A64,FALSE),\"\"))),\"\")","v":-815.31268436578171},{"$f":"IFERROR(IF(L$12=Kredsudvælgelse!$Q$20,\"\",IF(Kredsudvælgelse!AC$2=1,IF(ISTEXT(DGET(Forespørgsel1[#All],\"\"&LEFT($F71,LEN($F71)-$C71)&\"\",Kredsudvælgelse!$S$2:$T$3))=TRUE,DGET(Forespørgsel1[#All],\"\"&LEFT($F71,LEN($F71)-$C71)&\"\",Kredsudvælgelse!$S$2:$T$3),DGET(Forespørgsel1[#All],\"\"&LEFT($F71,LEN($F71)-$C71)&\"\",Kredsudvælgelse!$S$2:$T$3)/IF(ISNONTEXT($D71)=TRUE,1,DGET(Forespørgsel1[#All],\"\"&$D71&\"\",Kredsudvælgelse!$S$2:$T$3))),IF(ISBLANK(HLOOKUP(L$12,'Statiske ejendomme'!$B$3:$OF$80,'Statiske ejendomme'!$A64,FALSE))=FALSE,HLOOKUP(L$12,'Statiske ejendomme'!$B$3:$OF$80,'Statiske ejendomme'!$A64,FALSE),\"\"))),\"\")","v":-1065.1720164609053},{"$f":"IFERROR(IF(M$12=Kredsudvælgelse!$Q$20,\"\",IF(Kredsudvælgelse!AD$2=1,IF(ISTEXT(DGET(Forespørgsel1[#All],\"\"&LEFT($F71,LEN($F71)-$C71)&\"\",Kredsudvælgelse!$U$2:$V$3))=TRUE,DGET(Forespørgsel1[#All],\"\"&LEFT($F71,LEN($F71)-$C71)&\"\",Kredsudvælgelse!$U$2:$V$3),DGET(Forespørgsel1[#All],\"\"&LEFT($F71,LEN($F71)-$C71)&\"\",Kredsudvælgelse!$U$2:$V$3)/IF(ISNONTEXT($D71)=TRUE,1,DGET(Forespørgsel1[#All],\"\"&$D71&\"\",Kredsudvælgelse!$U$2:$V$3))),IF(ISBLANK(HLOOKUP(M$12,'Statiske ejendomme'!$B$3:$OF$80,'Statiske ejendomme'!$A64,FALSE))=FALSE,HLOOKUP(M$12,'Statiske ejendomme'!$B$3:$OF$80,'Statiske ejendomme'!$A64,FALSE),\"\"))),\"\")","v":-794.32386363636363},{"$f":"IFERROR(IF(N$12=Kredsudvælgelse!$Q$20,\"\",IF(Kredsudvælgelse!AE$2=1,IF(ISTEXT(DGET(Forespørgsel1[#All],\"\"&LEFT($F71,LEN($F71)-$C71)&\"\",Kredsudvælgelse!$W$2:$X$3))=TRUE,DGET(Forespørgsel1[#All],\"\"&LEFT($F71,LEN($F71)-$C71)&\"\",Kredsudvælgelse!$W$2:$X$3),DGET(Forespørgsel1[#All],\"\"&LEFT($F71,LEN($F71)-$C71)&\"\",Kredsudvælgelse!$W$2:$X$3)/IF(ISNONTEXT($D71)=TRUE,1,DGET(Forespørgsel1[#All],\"\"&$D71&\"\",Kredsudvælgelse!$W$2:$X$3))),IF(ISBLANK(HLOOKUP(N$12,'Statiske ejendomme'!$B$3:$OF$80,'Statiske ejendomme'!$A64,FALSE))=FALSE,HLOOKUP(N$12,'Statiske ejendomme'!$B$3:$OF$80,'Statiske ejendomme'!$A64,FALSE),\"\"))),\"\")","v":-966.37469975980787},{"$f":"IFERROR(IF(O$12=Kredsudvælgelse!$Q$20,\"\",IF(Kredsudvælgelse!AF$2=1,IF(ISTEXT(DGET(Forespørgsel1[#All],\"\"&LEFT($F71,LEN($F71)-$C71)&\"\",Kredsudvælgelse!$Y$2:$Z$3))=TRUE,DGET(Forespørgsel1[#All],\"\"&LEFT($F71,LEN($F71)-$C71)&\"\",Kredsudvælgelse!$Y$2:$Z$3),DGET(Forespørgsel1[#All],\"\"&LEFT($F71,LEN($F71)-$C71)&\"\",Kredsudvælgelse!$Y$2:$Z$3)/IF(ISNONTEXT($D71)=TRUE,1,DGET(Forespørgsel1[#All],\"\"&$D71&\"\",Kredsudvælgelse!$Y$2:$Z$3))),IF(ISBLANK(HLOOKUP(O$12,'Statiske ejendomme'!$B$3:$OF$80,'Statiske ejendomme'!$A64,FALSE))=FALSE,HLOOKUP(O$12,'Statiske ejendomme'!$B$3:$OF$80,'Statiske ejendomme'!$A64,FALSE),\"\"))),\"\")","v":-1175.3143564356435},{"$f":"IFERROR(IF(P$12=Kredsudvælgelse!$Q$20,\"\",IF(Kredsudvælgelse!AG$2=1,IF(ISTEXT(DGET(Forespørgsel1[#All],\"\"&LEFT($F71,LEN($F71)-$C71)&\"\",Kredsudvælgelse!$Q$6:$R$7))=TRUE,DGET(Forespørgsel1[#All],\"\"&LEFT($F71,LEN($F71)-$C71)&\"\",Kredsudvælgelse!$Q$6:$R$7),DGET(Forespørgsel1[#All],\"\"&LEFT($F71,LEN($F71)-$C71)&\"\",Kredsudvælgelse!$Q$6:$R$7)/IF(ISNONTEXT($D71)=TRUE,1,DGET(Forespørgsel1[#All],\"\"&$D71&\"\",Kredsudvælgelse!$Q$6:$R$7))),IF(ISBLANK(HLOOKUP(P$12,'Statiske ejendomme'!$B$3:$OF$80,'Statiske ejendomme'!$A64,FALSE))=FALSE,HLOOKUP(P$12,'Statiske ejendomme'!$B$3:$OF$80,'Statiske ejendomme'!$A64,FALSE),\"\"))),\"\")","v":-1291.4203821656051},{"$f":"IFERROR(IF(Q$12=Kredsudvælgelse!$Q$20,\"\",IF(Kredsudvælgelse!AH$2=1,IF(ISTEXT(DGET(Forespørgsel1[#All],\"\"&LEFT($F71,LEN($F71)-$C71)&\"\",Kredsudvælgelse!$S$6:$T$7))=TRUE,DGET(Forespørgsel1[#All],\"\"&LEFT($F71,LEN($F71)-$C71)&\"\",Kredsudvælgelse!$S$6:$T$7),DGET(Forespørgsel1[#All],\"\"&LEFT($F71,LEN($F71)-$C71)&\"\",Kredsudvælgelse!$S$6:$T$7)/IF(ISNONTEXT($D71)=TRUE,1,DGET(Forespørgsel1[#All],\"\"&$D71&\"\",Kredsudvælgelse!$S$6:$T$7))),IF(ISBLANK(HLOOKUP(Q$12,'Statiske ejendomme'!$B$3:$OF$80,'Statiske ejendomme'!$A64,FALSE))=FALSE,HLOOKUP(Q$12,'Statiske ejendomme'!$B$3:$OF$80,'Statiske ejendomme'!$A64,FALSE),\"\"))),\"\")","v":-1131.578947368421},{"$f":"IFERROR(IF(R$12=Kredsudvælgelse!$Q$20,\"\",IF(Kredsudvælgelse!AI$2=1,IF(ISTEXT(DGET(Forespørgsel1[#All],\"\"&LEFT($F71,LEN($F71)-$C71)&\"\",Kredsudvælgelse!$U$6:$V$7))=TRUE,DGET(Forespørgsel1[#All],\"\"&LEFT($F71,LEN($F71)-$C71)&\"\",Kredsudvælgelse!$U$6:$V$7),DGET(Forespørgsel1[#All],\"\"&LEFT($F71,LEN($F71)-$C71)&\"\",Kredsudvælgelse!$U$6:$V$7)/IF(ISNONTEXT($D71)=TRUE,1,DGET(Forespørgsel1[#All],\"\"&$D71&\"\",Kredsudvælgelse!$U$6:$V$7))),IF(ISBLANK(HLOOKUP(R$12,'Statiske ejendomme'!$B$3:$OF$80,'Statiske ejendomme'!$A64,FALSE))=FALSE,HLOOKUP(R$12,'Statiske ejendomme'!$B$3:$OF$80,'Statiske ejendomme'!$A64,FALSE),\"\"))),\"\")","v":-1019.5968722849695},{"$f":"IFERROR(IF(S$12=Kredsudvælgelse!$Q$20,\"\",IF(Kredsudvælgelse!AJ$2=1,IF(ISTEXT(DGET(Forespørgsel1[#All],\"\"&LEFT($F71,LEN($F71)-$C71)&\"\",Kredsudvælgelse!$W$6:$X$7))=TRUE,DGET(Forespørgsel1[#All],\"\"&LEFT($F71,LEN($F71)-$C71)&\"\",Kredsudvælgelse!$W$6:$X$7),DGET(Forespørgsel1[#All],\"\"&LEFT($F71,LEN($F71)-$C71)&\"\",Kredsudvælgelse!$W$6:$X$7)/IF(ISNONTEXT($D71)=TRUE,1,DGET(Forespørgsel1[#All],\"\"&$D71&\"\",Kredsudvælgelse!$W$6:$X$7))),IF(ISBLANK(HLOOKUP(S$12,'Statiske ejendomme'!$B$3:$OF$80,'Statiske ejendomme'!$A64,FALSE))=FALSE,HLOOKUP(S$12,'Statiske ejendomme'!$B$3:$OF$80,'Statiske ejendomme'!$A64,FALSE),\"\"))),\"\")","v":-1433.7323943661972},{"$f":"IFERROR(IF(T$12=Kredsudvælgelse!$Q$20,\"\",IF(Kredsudvælgelse!AK$2=1,IF(ISTEXT(DGET(Forespørgsel1[#All],\"\"&LEFT($F71,LEN($F71)-$C71)&\"\",Kredsudvælgelse!$Y$6:$Z$7))=TRUE,DGET(Forespørgsel1[#All],\"\"&LEFT($F71,LEN($F71)-$C71)&\"\",Kredsudvælgelse!$Y$6:$Z$7),DGET(Forespørgsel1[#All],\"\"&LEFT($F71,LEN($F71)-$C71)&\"\",Kredsudvælgelse!$Y$6:$Z$7)/IF(ISNONTEXT($D71)=TRUE,1,DGET(Forespørgsel1[#All],\"\"&$D71&\"\",Kredsudvælgelse!$Y$6:$Z$7))),IF(ISBLANK(HLOOKUP(T$12,'Statiske ejendomme'!$B$3:$OF$80,'Statiske ejendomme'!$A64,FALSE))=FALSE,HLOOKUP(T$12,'Statiske ejendomme'!$B$3:$OF$80,'Statiske ejendomme'!$A64,FALSE),\"\"))),\"\")","v":-1173.9562189054727}]
[1,{"$f":"Slagtekalve!D144","v":9},{"$f":"Slagtekalve!A63","v":0},{"$f":"Slagtekalve!B63","v":0},null,{"$f":"Slagtekalve!C63","v":0},{"$f":"IF(Choices!$A$1=2,Landsgennemsnit!B63,IF(Choices!$A$1=3,Landsgennemsnit!E63,\"\"))","v":""},{"$f":"IF(Choices!$A$1=2,Landsgennemsnit!C63,IF(Choices!$A$1=3,Landsgennemsnit!F63,\"\"))","v":""},{"$f":"IF(OR(Choices!$A$1=2,Choices!$A$1=3),Slagtekalve!F63,\"\")","v":""},{"$f":"IF(OR(Choices!$A$1=2,Choices!$A$1=3),Slagtekalve!G63,\"\")","v":""},{"$f":"IFERROR(IF(K$12=Kredsudvælgelse!$Q$20,\"\",IF(Kredsudvælgelse!AB$2=1,IF(ISTEXT(DGET(Forespørgsel1[#All],\"\"&LEFT($F72,LEN($F72)-$C72)&\"\",Kredsudvælgelse!$Q$2:$R$3))=TRUE,DGET(Forespørgsel1[#All],\"\"&LEFT($F72,LEN($F72)-$C72)&\"\",Kredsudvælgelse!$Q$2:$R$3),DGET(Forespørgsel1[#All],\"\"&LEFT($F72,LEN($F72)-$C72)&\"\",Kredsudvælgelse!$Q$2:$R$3)/IF(ISNONTEXT($D72)=TRUE,1,DGET(Forespørgsel1[#All],\"\"&$D72&\"\",Kredsudvælgelse!$Q$2:$R$3))),IF(ISBLANK(HLOOKUP(K$12,'Statiske ejendomme'!$B$3:$OF$80,'Statiske ejendomme'!$A65,FALSE))=FALSE,HLOOKUP(K$12,'Statiske ejendomme'!$B$3:$OF$80,'Statiske ejendomme'!$A65,FALSE),\"\"))),\"\")","v":""},{"$f":"IFERROR(IF(L$12=Kredsudvælgelse!$Q$20,\"\",IF(Kredsudvælgelse!AC$2=1,IF(ISTEXT(DGET(Forespørgsel1[#All],\"\"&LEFT($F72,LEN($F72)-$C72)&\"\",Kredsudvælgelse!$S$2:$T$3))=TRUE,DGET(Forespørgsel1[#All],\"\"&LEFT($F72,LEN($F72)-$C72)&\"\",Kredsudvælgelse!$S$2:$T$3),DGET(Forespørgsel1[#All],\"\"&LEFT($F72,LEN($F72)-$C72)&\"\",Kredsudvælgelse!$S$2:$T$3)/IF(ISNONTEXT($D72)=TRUE,1,DGET(Forespørgsel1[#All],\"\"&$D72&\"\",Kredsudvælgelse!$S$2:$T$3))),IF(ISBLANK(HLOOKUP(L$12,'Statiske ejendomme'!$B$3:$OF$80,'Statiske ejendomme'!$A65,FALSE))=FALSE,HLOOKUP(L$12,'Statiske ejendomme'!$B$3:$OF$80,'Statiske ejendomme'!$A65,FALSE),\"\"))),\"\")","v":""},{"$f":"IFERROR(IF(M$12=Kredsudvælgelse!$Q$20,\"\",IF(Kredsudvælgelse!AD$2=1,IF(ISTEXT(DGET(Forespørgsel1[#All],\"\"&LEFT($F72,LEN($F72)-$C72)&\"\",Kredsudvælgelse!$U$2:$V$3))=TRUE,DGET(Forespørgsel1[#All],\"\"&LEFT($F72,LEN($F72)-$C72)&\"\",Kredsudvælgelse!$U$2:$V$3),DGET(Forespørgsel1[#All],\"\"&LEFT($F72,LEN($F72)-$C72)&\"\",Kredsudvælgelse!$U$2:$V$3)/IF(ISNONTEXT($D72)=TRUE,1,DGET(Forespørgsel1[#All],\"\"&$D72&\"\",Kredsudvælgelse!$U$2:$V$3))),IF(ISBLANK(HLOOKUP(M$12,'Statiske ejendomme'!$B$3:$OF$80,'Statiske ejendomme'!$A65,FALSE))=FALSE,HLOOKUP(M$12,'Statiske ejendomme'!$B$3:$OF$80,'Statiske ejendomme'!$A65,FALSE),\"\"))),\"\")","v":""},{"$f":"IFERROR(IF(N$12=Kredsudvælgelse!$Q$20,\"\",IF(Kredsudvælgelse!AE$2=1,IF(ISTEXT(DGET(Forespørgsel1[#All],\"\"&LEFT($F72,LEN($F72)-$C72)&\"\",Kredsudvælgelse!$W$2:$X$3))=TRUE,DGET(Forespørgsel1[#All],\"\"&LEFT($F72,LEN($F72)-$C72)&\"\",Kredsudvælgelse!$W$2:$X$3),DGET(Forespørgsel1[#All],\"\"&LEFT($F72,LEN($F72)-$C72)&\"\",Kredsudvælgelse!$W$2:$X$3)/IF(ISNONTEXT($D72)=TRUE,1,DGET(Forespørgsel1[#All],\"\"&$D72&\"\",Kredsudvælgelse!$W$2:$X$3))),IF(ISBLANK(HLOOKUP(N$12,'Statiske ejendomme'!$B$3:$OF$80,'Statiske ejendomme'!$A65,FALSE))=FALSE,HLOOKUP(N$12,'Statiske ejendomme'!$B$3:$OF$80,'Statiske ejendomme'!$A65,FALSE),\"\"))),\"\")","v":""},{"$f":"IFERROR(IF(O$12=Kredsudvælgelse!$Q$20,\"\",IF(Kredsudvælgelse!AF$2=1,IF(ISTEXT(DGET(Forespørgsel1[#All],\"\"&LEFT($F72,LEN($F72)-$C72)&\"\",Kredsudvælgelse!$Y$2:$Z$3))=TRUE,DGET(Forespørgsel1[#All],\"\"&LEFT($F72,LEN($F72)-$C72)&\"\",Kredsudvælgelse!$Y$2:$Z$3),DGET(Forespørgsel1[#All],\"\"&LEFT($F72,LEN($F72)-$C72)&\"\",Kredsudvælgelse!$Y$2:$Z$3)/IF(ISNONTEXT($D72)=TRUE,1,DGET(Forespørgsel1[#All],\"\"&$D72&\"\",Kredsudvælgelse!$Y$2:$Z$3))),IF(ISBLANK(HLOOKUP(O$12,'Statiske ejendomme'!$B$3:$OF$80,'Statiske ejendomme'!$A65,FALSE))=FALSE,HLOOKUP(O$12,'Statiske ejendomme'!$B$3:$OF$80,'Statiske ejendomme'!$A65,FALSE),\"\"))),\"\")","v":""},{"$f":"IFERROR(IF(P$12=Kredsudvælgelse!$Q$20,\"\",IF(Kredsudvælgelse!AG$2=1,IF(ISTEXT(DGET(Forespørgsel1[#All],\"\"&LEFT($F72,LEN($F72)-$C72)&\"\",Kredsudvælgelse!$Q$6:$R$7))=TRUE,DGET(Forespørgsel1[#All],\"\"&LEFT($F72,LEN($F72)-$C72)&\"\",Kredsudvælgelse!$Q$6:$R$7),DGET(Forespørgsel1[#All],\"\"&LEFT($F72,LEN($F72)-$C72)&\"\",Kredsudvælgelse!$Q$6:$R$7)/IF(ISNONTEXT($D72)=TRUE,1,DGET(Forespørgsel1[#All],\"\"&$D72&\"\",Kredsudvælgelse!$Q$6:$R$7))),IF(ISBLANK(HLOOKUP(P$12,'Statiske ejendomme'!$B$3:$OF$80,'Statiske ejendomme'!$A65,FALSE))=FALSE,HLOOKUP(P$12,'Statiske ejendomme'!$B$3:$OF$80,'Statiske ejendomme'!$A65,FALSE),\"\"))),\"\")","v":""},{"$f":"IFERROR(IF(Q$12=Kredsudvælgelse!$Q$20,\"\",IF(Kredsudvælgelse!AH$2=1,IF(ISTEXT(DGET(Forespørgsel1[#All],\"\"&LEFT($F72,LEN($F72)-$C72)&\"\",Kredsudvælgelse!$S$6:$T$7))=TRUE,DGET(Forespørgsel1[#All],\"\"&LEFT($F72,LEN($F72)-$C72)&\"\",Kredsudvælgelse!$S$6:$T$7),DGET(Forespørgsel1[#All],\"\"&LEFT($F72,LEN($F72)-$C72)&\"\",Kredsudvælgelse!$S$6:$T$7)/IF(ISNONTEXT($D72)=TRUE,1,DGET(Forespørgsel1[#All],\"\"&$D72&\"\",Kredsudvælgelse!$S$6:$T$7))),IF(ISBLANK(HLOOKUP(Q$12,'Statiske ejendomme'!$B$3:$OF$80,'Statiske ejendomme'!$A65,FALSE))=FALSE,HLOOKUP(Q$12,'Statiske ejendomme'!$B$3:$OF$80,'Statiske ejendomme'!$A65,FALSE),\"\"))),\"\")","v":""},{"$f":"IFERROR(IF(R$12=Kredsudvælgelse!$Q$20,\"\",IF(Kredsudvælgelse!AI$2=1,IF(ISTEXT(DGET(Forespørgsel1[#All],\"\"&LEFT($F72,LEN($F72)-$C72)&\"\",Kredsudvælgelse!$U$6:$V$7))=TRUE,DGET(Forespørgsel1[#All],\"\"&LEFT($F72,LEN($F72)-$C72)&\"\",Kredsudvælgelse!$U$6:$V$7),DGET(Forespørgsel1[#All],\"\"&LEFT($F72,LEN($F72)-$C72)&\"\",Kredsudvælgelse!$U$6:$V$7)/IF(ISNONTEXT($D72)=TRUE,1,DGET(Forespørgsel1[#All],\"\"&$D72&\"\",Kredsudvælgelse!$U$6:$V$7))),IF(ISBLANK(HLOOKUP(R$12,'Statiske ejendomme'!$B$3:$OF$80,'Statiske ejendomme'!$A65,FALSE))=FALSE,HLOOKUP(R$12,'Statiske ejendomme'!$B$3:$OF$80,'Statiske ejendomme'!$A65,FALSE),\"\"))),\"\")","v":""},{"$f":"IFERROR(IF(S$12=Kredsudvælgelse!$Q$20,\"\",IF(Kredsudvælgelse!AJ$2=1,IF(ISTEXT(DGET(Forespørgsel1[#All],\"\"&LEFT($F72,LEN($F72)-$C72)&\"\",Kredsudvælgelse!$W$6:$X$7))=TRUE,DGET(Forespørgsel1[#All],\"\"&LEFT($F72,LEN($F72)-$C72)&\"\",Kredsudvælgelse!$W$6:$X$7),DGET(Forespørgsel1[#All],\"\"&LEFT($F72,LEN($F72)-$C72)&\"\",Kredsudvælgelse!$W$6:$X$7)/IF(ISNONTEXT($D72)=TRUE,1,DGET(Forespørgsel1[#All],\"\"&$D72&\"\",Kredsudvælgelse!$W$6:$X$7))),IF(ISBLANK(HLOOKUP(S$12,'Statiske ejendomme'!$B$3:$OF$80,'Statiske ejendomme'!$A65,FALSE))=FALSE,HLOOKUP(S$12,'Statiske ejendomme'!$B$3:$OF$80,'Statiske ejendomme'!$A65,FALSE),\"\"))),\"\")","v":""},{"$f":"IFERROR(IF(T$12=Kredsudvælgelse!$Q$20,\"\",IF(Kredsudvælgelse!AK$2=1,IF(ISTEXT(DGET(Forespørgsel1[#All],\"\"&LEFT($F72,LEN($F72)-$C72)&\"\",Kredsudvælgelse!$Y$6:$Z$7))=TRUE,DGET(Forespørgsel1[#All],\"\"&LEFT($F72,LEN($F72)-$C72)&\"\",Kredsudvælgelse!$Y$6:$Z$7),DGET(Forespørgsel1[#All],\"\"&LEFT($F72,LEN($F72)-$C72)&\"\",Kredsudvælgelse!$Y$6:$Z$7)/IF(ISNONTEXT($D72)=TRUE,1,DGET(Forespørgsel1[#All],\"\"&$D72&\"\",Kredsudvælgelse!$Y$6:$Z$7))),IF(ISBLANK(HLOOKUP(T$12,'Statiske ejendomme'!$B$3:$OF$80,'Statiske ejendomme'!$A65,FALSE))=FALSE,HLOOKUP(T$12,'Statiske ejendomme'!$B$3:$OF$80,'Statiske ejendomme'!$A65,FALSE),\"\"))),\"\")","v":""}]
[1,{"$f":"Slagtekalve!D145","v":1},{"$f":"Slagtekalve!A64","v":0},{"$f":"Slagtekalve!B64","v":"Antal Producerede kalve"},null,{"$f":"Slagtekalve!C64","v":"Afskrivning, fast ejendom"},{"$f":"IF(Choices!$A$1=2,Landsgennemsnit!B64,IF(Choices!$A$1=3,Landsgennemsnit!E64,\"\"))","v":-197.87359790754994},{"$f":"IF(Choices!$A$1=2,Landsgennemsnit!C64,IF(Choices!$A$1=3,Landsgennemsnit!F64,\"\"))","v":-200.64522375215145},{"$f":"IF(OR(Choices!$A$1=2,Choices!$A$1=3),Slagtekalve!F64,\"\")","v":""},{"$f":"IF(OR(Choices!$A$1=2,Choices!$A$1=3),Slagtekalve!G64,\"\")","v":""},{"$f":"IFERROR(IF(K$12=Kredsudvælgelse!$Q$20,\"\",IF(Kredsudvælgelse!AB$2=1,IF(ISTEXT(DGET(Forespørgsel1[#All],\"\"&LEFT($F73,LEN($F73)-$C73)&\"\",Kredsudvælgelse!$Q$2:$R$3))=TRUE,DGET(Forespørgsel1[#All],\"\"&LEFT($F73,LEN($F73)-$C73)&\"\",Kredsudvælgelse!$Q$2:$R$3),DGET(Forespørgsel1[#All],\"\"&LEFT($F73,LEN($F73)-$C73)&\"\",Kredsudvælgelse!$Q$2:$R$3)/IF(ISNONTEXT($D73)=TRUE,1,DGET(Forespørgsel1[#All],\"\"&$D73&\"\",Kredsudvælgelse!$Q$2:$R$3))),IF(ISBLANK(HLOOKUP(K$12,'Statiske ejendomme'!$B$3:$OF$80,'Statiske ejendomme'!$A66,FALSE))=FALSE,HLOOKUP(K$12,'Statiske ejendomme'!$B$3:$OF$80,'Statiske ejendomme'!$A66,FALSE),\"\"))),\"\")","v":-156.87905604719765},{"$f":"IFERROR(IF(L$12=Kredsudvælgelse!$Q$20,\"\",IF(Kredsudvælgelse!AC$2=1,IF(ISTEXT(DGET(Forespørgsel1[#All],\"\"&LEFT($F73,LEN($F73)-$C73)&\"\",Kredsudvælgelse!$S$2:$T$3))=TRUE,DGET(Forespørgsel1[#All],\"\"&LEFT($F73,LEN($F73)-$C73)&\"\",Kredsudvælgelse!$S$2:$T$3),DGET(Forespørgsel1[#All],\"\"&LEFT($F73,LEN($F73)-$C73)&\"\",Kredsudvælgelse!$S$2:$T$3)/IF(ISNONTEXT($D73)=TRUE,1,DGET(Forespørgsel1[#All],\"\"&$D73&\"\",Kredsudvælgelse!$S$2:$T$3))),IF(ISBLANK(HLOOKUP(L$12,'Statiske ejendomme'!$B$3:$OF$80,'Statiske ejendomme'!$A66,FALSE))=FALSE,HLOOKUP(L$12,'Statiske ejendomme'!$B$3:$OF$80,'Statiske ejendomme'!$A66,FALSE),\"\"))),\"\")","v":-258.30864197530866},{"$f":"IFERROR(IF(M$12=Kredsudvælgelse!$Q$20,\"\",IF(Kredsudvælgelse!AD$2=1,IF(ISTEXT(DGET(Forespørgsel1[#All],\"\"&LEFT($F73,LEN($F73)-$C73)&\"\",Kredsudvælgelse!$U$2:$V$3))=TRUE,DGET(Forespørgsel1[#All],\"\"&LEFT($F73,LEN($F73)-$C73)&\"\",Kredsudvælgelse!$U$2:$V$3),DGET(Forespørgsel1[#All],\"\"&LEFT($F73,LEN($F73)-$C73)&\"\",Kredsudvælgelse!$U$2:$V$3)/IF(ISNONTEXT($D73)=TRUE,1,DGET(Forespørgsel1[#All],\"\"&$D73&\"\",Kredsudvælgelse!$U$2:$V$3))),IF(ISBLANK(HLOOKUP(M$12,'Statiske ejendomme'!$B$3:$OF$80,'Statiske ejendomme'!$A66,FALSE))=FALSE,HLOOKUP(M$12,'Statiske ejendomme'!$B$3:$OF$80,'Statiske ejendomme'!$A66,FALSE),\"\"))),\"\")","v":-85.227272727272734},{"$f":"IFERROR(IF(N$12=Kredsudvælgelse!$Q$20,\"\",IF(Kredsudvælgelse!AE$2=1,IF(ISTEXT(DGET(Forespørgsel1[#All],\"\"&LEFT($F73,LEN($F73)-$C73)&\"\",Kredsudvælgelse!$W$2:$X$3))=TRUE,DGET(Forespørgsel1[#All],\"\"&LEFT($F73,LEN($F73)-$C73)&\"\",Kredsudvælgelse!$W$2:$X$3),DGET(Forespørgsel1[#All],\"\"&LEFT($F73,LEN($F73)-$C73)&\"\",Kredsudvælgelse!$W$2:$X$3)/IF(ISNONTEXT($D73)=TRUE,1,DGET(Forespørgsel1[#All],\"\"&$D73&\"\",Kredsudvælgelse!$W$2:$X$3))),IF(ISBLANK(HLOOKUP(N$12,'Statiske ejendomme'!$B$3:$OF$80,'Statiske ejendomme'!$A66,FALSE))=FALSE,HLOOKUP(N$12,'Statiske ejendomme'!$B$3:$OF$80,'Statiske ejendomme'!$A66,FALSE),\"\"))),\"\")","v":-278.85108086469177},{"$f":"IFERROR(IF(O$12=Kredsudvælgelse!$Q$20,\"\",IF(Kredsudvælgelse!AF$2=1,IF(ISTEXT(DGET(Forespørgsel1[#All],\"\"&LEFT($F73,LEN($F73)-$C73)&\"\",Kredsudvælgelse!$Y$2:$Z$3))=TRUE,DGET(Forespørgsel1[#All],\"\"&LEFT($F73,LEN($F73)-$C73)&\"\",Kredsudvælgelse!$Y$2:$Z$3),DGET(Forespørgsel1[#All],\"\"&LEFT($F73,LEN($F73)-$C73)&\"\",Kredsudvælgelse!$Y$2:$Z$3)/IF(ISNONTEXT($D73)=TRUE,1,DGET(Forespørgsel1[#All],\"\"&$D73&\"\",Kredsudvælgelse!$Y$2:$Z$3))),IF(ISBLANK(HLOOKUP(O$12,'Statiske ejendomme'!$B$3:$OF$80,'Statiske ejendomme'!$A66,FALSE))=FALSE,HLOOKUP(O$12,'Statiske ejendomme'!$B$3:$OF$80,'Statiske ejendomme'!$A66,FALSE),\"\"))),\"\")","v":-587.78712871287132},{"$f":"IFERROR(IF(P$12=Kredsudvælgelse!$Q$20,\"\",IF(Kredsudvælgelse!AG$2=1,IF(ISTEXT(DGET(Forespørgsel1[#All],\"\"&LEFT($F73,LEN($F73)-$C73)&\"\",Kredsudvælgelse!$Q$6:$R$7))=TRUE,DGET(Forespørgsel1[#All],\"\"&LEFT($F73,LEN($F73)-$C73)&\"\",Kredsudvælgelse!$Q$6:$R$7),DGET(Forespørgsel1[#All],\"\"&LEFT($F73,LEN($F73)-$C73)&\"\",Kredsudvælgelse!$Q$6:$R$7)/IF(ISNONTEXT($D73)=TRUE,1,DGET(Forespørgsel1[#All],\"\"&$D73&\"\",Kredsudvælgelse!$Q$6:$R$7))),IF(ISBLANK(HLOOKUP(P$12,'Statiske ejendomme'!$B$3:$OF$80,'Statiske ejendomme'!$A66,FALSE))=FALSE,HLOOKUP(P$12,'Statiske ejendomme'!$B$3:$OF$80,'Statiske ejendomme'!$A66,FALSE),\"\"))),\"\")","v":-136.22292993630575},{"$f":"IFERROR(IF(Q$12=Kredsudvælgelse!$Q$20,\"\",IF(Kredsudvælgelse!AH$2=1,IF(ISTEXT(DGET(Forespørgsel1[#All],\"\"&LEFT($F73,LEN($F73)-$C73)&\"\",Kredsudvælgelse!$S$6:$T$7))=TRUE,DGET(Forespørgsel1[#All],\"\"&LEFT($F73,LEN($F73)-$C73)&\"\",Kredsudvælgelse!$S$6:$T$7),DGET(Forespørgsel1[#All],\"\"&LEFT($F73,LEN($F73)-$C73)&\"\",Kredsudvælgelse!$S$6:$T$7)/IF(ISNONTEXT($D73)=TRUE,1,DGET(Forespørgsel1[#All],\"\"&$D73&\"\",Kredsudvælgelse!$S$6:$T$7))),IF(ISBLANK(HLOOKUP(Q$12,'Statiske ejendomme'!$B$3:$OF$80,'Statiske ejendomme'!$A66,FALSE))=FALSE,HLOOKUP(Q$12,'Statiske ejendomme'!$B$3:$OF$80,'Statiske ejendomme'!$A66,FALSE),\"\"))),\"\")","v":-596.00877192982455},{"$f":"IFERROR(IF(R$12=Kredsudvælgelse!$Q$20,\"\",IF(Kredsudvælgelse!AI$2=1,IF(ISTEXT(DGET(Forespørgsel1[#All],\"\"&LEFT($F73,LEN($F73)-$C73)&\"\",Kredsudvælgelse!$U$6:$V$7))=TRUE,DGET(Forespørgsel1[#All],\"\"&LEFT($F73,LEN($F73)-$C73)&\"\",Kredsudvælgelse!$U$6:$V$7),DGET(Forespørgsel1[#All],\"\"&LEFT($F73,LEN($F73)-$C73)&\"\",Kredsudvælgelse!$U$6:$V$7)/IF(ISNONTEXT($D73)=TRUE,1,DGET(Forespørgsel1[#All],\"\"&$D73&\"\",Kredsudvælgelse!$U$6:$V$7))),IF(ISBLANK(HLOOKUP(R$12,'Statiske ejendomme'!$B$3:$OF$80,'Statiske ejendomme'!$A66,FALSE))=FALSE,HLOOKUP(R$12,'Statiske ejendomme'!$B$3:$OF$80,'Statiske ejendomme'!$A66,FALSE),\"\"))),\"\")","v":-285.26672458731537},{"$f":"IFERROR(IF(S$12=Kredsudvælgelse!$Q$20,\"\",IF(Kredsudvælgelse!AJ$2=1,IF(ISTEXT(DGET(Forespørgsel1[#All],\"\"&LEFT($F73,LEN($F73)-$C73)&\"\",Kredsudvælgelse!$W$6:$X$7))=TRUE,DGET(Forespørgsel1[#All],\"\"&LEFT($F73,LEN($F73)-$C73)&\"\",Kredsudvælgelse!$W$6:$X$7),DGET(Forespørgsel1[#All],\"\"&LEFT($F73,LEN($F73)-$C73)&\"\",Kredsudvælgelse!$W$6:$X$7)/IF(ISNONTEXT($D73)=TRUE,1,DGET(Forespørgsel1[#All],\"\"&$D73&\"\",Kredsudvælgelse!$W$6:$X$7))),IF(ISBLANK(HLOOKUP(S$12,'Statiske ejendomme'!$B$3:$OF$80,'Statiske ejendomme'!$A66,FALSE))=FALSE,HLOOKUP(S$12,'Statiske ejendomme'!$B$3:$OF$80,'Statiske ejendomme'!$A66,FALSE),\"\"))),\"\")","v":-149.99295774647888},{"$f":"IFERROR(IF(T$12=Kredsudvælgelse!$Q$20,\"\",IF(Kredsudvælgelse!AK$2=1,IF(ISTEXT(DGET(Forespørgsel1[#All],\"\"&LEFT($F73,LEN($F73)-$C73)&\"\",Kredsudvælgelse!$Y$6:$Z$7))=TRUE,DGET(Forespørgsel1[#All],\"\"&LEFT($F73,LEN($F73)-$C73)&\"\",Kredsudvælgelse!$Y$6:$Z$7),DGET(Forespørgsel1[#All],\"\"&LEFT($F73,LEN($F73)-$C73)&\"\",Kredsudvælgelse!$Y$6:$Z$7)/IF(ISNONTEXT($D73)=TRUE,1,DGET(Forespørgsel1[#All],\"\"&$D73&\"\",Kredsudvælgelse!$Y$6:$Z$7))),IF(ISBLANK(HLOOKUP(T$12,'Statiske ejendomme'!$B$3:$OF$80,'Statiske ejendomme'!$A66,FALSE))=FALSE,HLOOKUP(T$12,'Statiske ejendomme'!$B$3:$OF$80,'Statiske ejendomme'!$A66,FALSE),\"\"))),\"\")","v":-135.63482587064678}]
[1,{"$f":"Slagtekalve!D146","v":1},{"$f":"Slagtekalve!A65","v":0},{"$f":"Slagtekalve!B65","v":"Antal Producerede kalve"},null,{"$f":"Slagtekalve!C65","v":"Afskrivning, staldinventar"},{"$f":"IF(Choices!$A$1=2,Landsgennemsnit!B65,IF(Choices!$A$1=3,Landsgennemsnit!E65,\"\"))","v":-128.63613500326946},{"$f":"IF(Choices!$A$1=2,Landsgennemsnit!C65,IF(Choices!$A$1=3,Landsgennemsnit!F65,\"\"))","v":-113.8145438898451},{"$f":"IF(OR(Choices!$A$1=2,Choices!$A$1=3),Slagtekalve!F65,\"\")","v":""},{"$f":"IF(OR(Choices!$A$1=2,Choices!$A$1=3),Slagtekalve!G65,\"\")","v":""},{"$f":"IFERROR(IF(K$12=Kredsudvælgelse!$Q$20,\"\",IF(Kredsudvælgelse!AB$2=1,IF(ISTEXT(DGET(Forespørgsel1[#All],\"\"&LEFT($F74,LEN($F74)-$C74)&\"\",Kredsudvælgelse!$Q$2:$R$3))=TRUE,DGET(Forespørgsel1[#All],\"\"&LEFT($F74,LEN($F74)-$C74)&\"\",Kredsudvælgelse!$Q$2:$R$3),DGET(Forespørgsel1[#All],\"\"&LEFT($F74,LEN($F74)-$C74)&\"\",Kredsudvælgelse!$Q$2:$R$3)/IF(ISNONTEXT($D74)=TRUE,1,DGET(Forespørgsel1[#All],\"\"&$D74&\"\",Kredsudvælgelse!$Q$2:$R$3))),IF(ISBLANK(HLOOKUP(K$12,'Statiske ejendomme'!$B$3:$OF$80,'Statiske ejendomme'!$A67,FALSE))=FALSE,HLOOKUP(K$12,'Statiske ejendomme'!$B$3:$OF$80,'Statiske ejendomme'!$A67,FALSE),\"\"))),\"\")","v":-49.247787610619469},{"$f":"IFERROR(IF(L$12=Kredsudvælgelse!$Q$20,\"\",IF(Kredsudvælgelse!AC$2=1,IF(ISTEXT(DGET(Forespørgsel1[#All],\"\"&LEFT($F74,LEN($F74)-$C74)&\"\",Kredsudvælgelse!$S$2:$T$3))=TRUE,DGET(Forespørgsel1[#All],\"\"&LEFT($F74,LEN($F74)-$C74)&\"\",Kredsudvælgelse!$S$2:$T$3),DGET(Forespørgsel1[#All],\"\"&LEFT($F74,LEN($F74)-$C74)&\"\",Kredsudvælgelse!$S$2:$T$3)/IF(ISNONTEXT($D74)=TRUE,1,DGET(Forespørgsel1[#All],\"\"&$D74&\"\",Kredsudvælgelse!$S$2:$T$3))),IF(ISBLANK(HLOOKUP(L$12,'Statiske ejendomme'!$B$3:$OF$80,'Statiske ejendomme'!$A67,FALSE))=FALSE,HLOOKUP(L$12,'Statiske ejendomme'!$B$3:$OF$80,'Statiske ejendomme'!$A67,FALSE),\"\"))),\"\")","v":-164.38189300411523},{"$f":"IFERROR(IF(M$12=Kredsudvælgelse!$Q$20,\"\",IF(Kredsudvælgelse!AD$2=1,IF(ISTEXT(DGET(Forespørgsel1[#All],\"\"&LEFT($F74,LEN($F74)-$C74)&\"\",Kredsudvælgelse!$U$2:$V$3))=TRUE,DGET(Forespørgsel1[#All],\"\"&LEFT($F74,LEN($F74)-$C74)&\"\",Kredsudvælgelse!$U$2:$V$3),DGET(Forespørgsel1[#All],\"\"&LEFT($F74,LEN($F74)-$C74)&\"\",Kredsudvælgelse!$U$2:$V$3)/IF(ISNONTEXT($D74)=TRUE,1,DGET(Forespørgsel1[#All],\"\"&$D74&\"\",Kredsudvælgelse!$U$2:$V$3))),IF(ISBLANK(HLOOKUP(M$12,'Statiske ejendomme'!$B$3:$OF$80,'Statiske ejendomme'!$A67,FALSE))=FALSE,HLOOKUP(M$12,'Statiske ejendomme'!$B$3:$OF$80,'Statiske ejendomme'!$A67,FALSE),\"\"))),\"\")","v":-39.772727272727273},{"$f":"IFERROR(IF(N$12=Kredsudvælgelse!$Q$20,\"\",IF(Kredsudvælgelse!AE$2=1,IF(ISTEXT(DGET(Forespørgsel1[#All],\"\"&LEFT($F74,LEN($F74)-$C74)&\"\",Kredsudvælgelse!$W$2:$X$3))=TRUE,DGET(Forespørgsel1[#All],\"\"&LEFT($F74,LEN($F74)-$C74)&\"\",Kredsudvælgelse!$W$2:$X$3),DGET(Forespørgsel1[#All],\"\"&LEFT($F74,LEN($F74)-$C74)&\"\",Kredsudvælgelse!$W$2:$X$3)/IF(ISNONTEXT($D74)=TRUE,1,DGET(Forespørgsel1[#All],\"\"&$D74&\"\",Kredsudvælgelse!$W$2:$X$3))),IF(ISBLANK(HLOOKUP(N$12,'Statiske ejendomme'!$B$3:$OF$80,'Statiske ejendomme'!$A67,FALSE))=FALSE,HLOOKUP(N$12,'Statiske ejendomme'!$B$3:$OF$80,'Statiske ejendomme'!$A67,FALSE),\"\"))),\"\")","v":-147.40592473979183},{"$f":"IFERROR(IF(O$12=Kredsudvælgelse!$Q$20,\"\",IF(Kredsudvælgelse!AF$2=1,IF(ISTEXT(DGET(Forespørgsel1[#All],\"\"&LEFT($F74,LEN($F74)-$C74)&\"\",Kredsudvælgelse!$Y$2:$Z$3))=TRUE,DGET(Forespørgsel1[#All],\"\"&LEFT($F74,LEN($F74)-$C74)&\"\",Kredsudvælgelse!$Y$2:$Z$3),DGET(Forespørgsel1[#All],\"\"&LEFT($F74,LEN($F74)-$C74)&\"\",Kredsudvælgelse!$Y$2:$Z$3)/IF(ISNONTEXT($D74)=TRUE,1,DGET(Forespørgsel1[#All],\"\"&$D74&\"\",Kredsudvælgelse!$Y$2:$Z$3))),IF(ISBLANK(HLOOKUP(O$12,'Statiske ejendomme'!$B$3:$OF$80,'Statiske ejendomme'!$A67,FALSE))=FALSE,HLOOKUP(O$12,'Statiske ejendomme'!$B$3:$OF$80,'Statiske ejendomme'!$A67,FALSE),\"\"))),\"\")","v":-201.23762376237624},{"$f":"IFERROR(IF(P$12=Kredsudvælgelse!$Q$20,\"\",IF(Kredsudvælgelse!AG$2=1,IF(ISTEXT(DGET(Forespørgsel1[#All],\"\"&LEFT($F74,LEN($F74)-$C74)&\"\",Kredsudvælgelse!$Q$6:$R$7))=TRUE,DGET(Forespørgsel1[#All],\"\"&LEFT($F74,LEN($F74)-$C74)&\"\",Kredsudvælgelse!$Q$6:$R$7),DGET(Forespørgsel1[#All],\"\"&LEFT($F74,LEN($F74)-$C74)&\"\",Kredsudvælgelse!$Q$6:$R$7)/IF(ISNONTEXT($D74)=TRUE,1,DGET(Forespørgsel1[#All],\"\"&$D74&\"\",Kredsudvælgelse!$Q$6:$R$7))),IF(ISBLANK(HLOOKUP(P$12,'Statiske ejendomme'!$B$3:$OF$80,'Statiske ejendomme'!#REF!,FALSE))=FALSE,HLOOKUP(P$12,'Statiske ejendomme'!$B$3:$OF$80,'Statiske ejendomme'!#REF!,FALSE),\"\"))),\"\")","v":""},{"$f":"IFERROR(IF(Q$12=Kredsudvælgelse!$Q$20,\"\",IF(Kredsudvælgelse!AH$2=1,IF(ISTEXT(DGET(Forespørgsel1[#All],\"\"&LEFT($F74,LEN($F74)-$C74)&\"\",Kredsudvælgelse!$S$6:$T$7))=TRUE,DGET(Forespørgsel1[#All],\"\"&LEFT($F74,LEN($F74)-$C74)&\"\",Kredsudvælgelse!$S$6:$T$7),DGET(Forespørgsel1[#All],\"\"&LEFT($F74,LEN($F74)-$C74)&\"\",Kredsudvælgelse!$S$6:$T$7)/IF(ISNONTEXT($D74)=TRUE,1,DGET(Forespørgsel1[#All],\"\"&$D74&\"\",Kredsudvælgelse!$S$6:$T$7))),IF(ISBLANK(HLOOKUP(Q$12,'Statiske ejendomme'!$B$3:$OF$80,'Statiske ejendomme'!$A67,FALSE))=FALSE,HLOOKUP(Q$12,'Statiske ejendomme'!$B$3:$OF$80,'Statiske ejendomme'!$A67,FALSE),\"\"))),\"\")","v":-219.2982456140351},{"$f":"IFERROR(IF(R$12=Kredsudvælgelse!$Q$20,\"\",IF(Kredsudvælgelse!AI$2=1,IF(ISTEXT(DGET(Forespørgsel1[#All],\"\"&LEFT($F74,LEN($F74)-$C74)&\"\",Kredsudvælgelse!$U$6:$V$7))=TRUE,DGET(Forespørgsel1[#All],\"\"&LEFT($F74,LEN($F74)-$C74)&\"\",Kredsudvælgelse!$U$6:$V$7),DGET(Forespørgsel1[#All],\"\"&LEFT($F74,LEN($F74)-$C74)&\"\",Kredsudvælgelse!$U$6:$V$7)/IF(ISNONTEXT($D74)=TRUE,1,DGET(Forespørgsel1[#All],\"\"&$D74&\"\",Kredsudvælgelse!$U$6:$V$7))),IF(ISBLANK(HLOOKUP(R$12,'Statiske ejendomme'!$B$3:$OF$80,'Statiske ejendomme'!$A67,FALSE))=FALSE,HLOOKUP(R$12,'Statiske ejendomme'!$B$3:$OF$80,'Statiske ejendomme'!$A67,FALSE),\"\"))),\"\")","v":-270.3927019982624},{"$f":"IFERROR(IF(S$12=Kredsudvælgelse!$Q$20,\"\",IF(Kredsudvælgelse!AJ$2=1,IF(ISTEXT(DGET(Forespørgsel1[#All],\"\"&LEFT($F74,LEN($F74)-$C74)&\"\",Kredsudvælgelse!$W$6:$X$7))=TRUE,DGET(Forespørgsel1[#All],\"\"&LEFT($F74,LEN($F74)-$C74)&\"\",Kredsudvælgelse!$W$6:$X$7),DGET(Forespørgsel1[#All],\"\"&LEFT($F74,LEN($F74)-$C74)&\"\",Kredsudvælgelse!$W$6:$X$7)/IF(ISNONTEXT($D74)=TRUE,1,DGET(Forespørgsel1[#All],\"\"&$D74&\"\",Kredsudvælgelse!$W$6:$X$7))),IF(ISBLANK(HLOOKUP(S$12,'Statiske ejendomme'!$B$3:$OF$80,'Statiske ejendomme'!$A67,FALSE))=FALSE,HLOOKUP(S$12,'Statiske ejendomme'!$B$3:$OF$80,'Statiske ejendomme'!$A67,FALSE),\"\"))),\"\")","v":-7.323943661971831},{"$f":"IFERROR(IF(T$12=Kredsudvælgelse!$Q$20,\"\",IF(Kredsudvælgelse!AK$2=1,IF(ISTEXT(DGET(Forespørgsel1[#All],\"\"&LEFT($F74,LEN($F74)-$C74)&\"\",Kredsudvælgelse!$Y$6:$Z$7))=TRUE,DGET(Forespørgsel1[#All],\"\"&LEFT($F74,LEN($F74)-$C74)&\"\",Kredsudvælgelse!$Y$6:$Z$7),DGET(Forespørgsel1[#All],\"\"&LEFT($F74,LEN($F74)-$C74)&\"\",Kredsudvælgelse!$Y$6:$Z$7)/IF(ISNONTEXT($D74)=TRUE,1,DGET(Forespørgsel1[#All],\"\"&$D74&\"\",Kredsudvælgelse!$Y$6:$Z$7))),IF(ISBLANK(HLOOKUP(T$12,'Statiske ejendomme'!$B$3:$OF$80,'Statiske ejendomme'!$A67,FALSE))=FALSE,HLOOKUP(T$12,'Statiske ejendomme'!$B$3:$OF$80,'Statiske ejendomme'!$A67,FALSE),\"\"))),\"\")","v":-110.12139303482587}]
[1,{"$f":"Slagtekalve!D147","v":1},{"$f":"Slagtekalve!A66","v":0},{"$f":"Slagtekalve!B66","v":"Antal Producerede kalve"},null,{"$f":"Slagtekalve!C66","v":"Leje af driftsbygninger"},{"$f":"IF(Choices!$A$1=2,Landsgennemsnit!B66,IF(Choices!$A$1=3,Landsgennemsnit!E66,\"\"))","v":-97.371611085961476},{"$f":"IF(Choices!$A$1=2,Landsgennemsnit!C66,IF(Choices!$A$1=3,Landsgennemsnit!F66,\"\"))","v":0},{"$f":"IF(OR(Choices!$A$1=2,Choices!$A$1=3),Slagtekalve!F66,\"\")","v":""},{"$f":"IF(OR(Choices!$A$1=2,Choices!$A$1=3),Slagtekalve!G66,\"\")","v":""},{"$f":"IFERROR(IF(K$12=Kredsudvælgelse!$Q$20,\"-\",IF(Kredsudvælgelse!AB$2=1,IF(ISTEXT(DGET(Forespørgsel1[#All],\"\"&LEFT($F75,LEN($F75)-$C75)&\"\",Kredsudvælgelse!$Q$2:$R$3))=TRUE,DGET(Forespørgsel1[#All],\"\"&LEFT($F75,LEN($F75)-$C75)&\"\",Kredsudvælgelse!$Q$2:$R$3),DGET(Forespørgsel1[#All],\"\"&LEFT($F75,LEN($F75)-$C75)&\"\",Kredsudvælgelse!$Q$2:$R$3)/IF(ISNONTEXT($D75)=TRUE,1,DGET(Forespørgsel1[#All],\"\"&$D75&\"\",Kredsudvælgelse!$Q$2:$R$3))),IF(ISBLANK(HLOOKUP(K$12,'Statiske ejendomme'!$B$3:$OF$80,'Statiske ejendomme'!$A68,FALSE))=FALSE,HLOOKUP(K$12,'Statiske ejendomme'!$B$3:$OF$80,'Statiske ejendomme'!$A68,FALSE),\"\"))),\"\")","v":0},{"$f":"IFERROR(IF(L$12=Kredsudvælgelse!$Q$20,\"\",IF(Kredsudvælgelse!AC$2=1,IF(ISTEXT(DGET(Forespørgsel1[#All],\"\"&LEFT($F75,LEN($F75)-$C75)&\"\",Kredsudvælgelse!$S$2:$T$3))=TRUE,DGET(Forespørgsel1[#All],\"\"&LEFT($F75,LEN($F75)-$C75)&\"\",Kredsudvælgelse!$S$2:$T$3),DGET(Forespørgsel1[#All],\"\"&LEFT($F75,LEN($F75)-$C75)&\"\",Kredsudvælgelse!$S$2:$T$3)/IF(ISNONTEXT($D75)=TRUE,1,DGET(Forespørgsel1[#All],\"\"&$D75&\"\",Kredsudvælgelse!$S$2:$T$3))),IF(ISBLANK(HLOOKUP(L$12,'Statiske ejendomme'!$B$3:$OF$80,'Statiske ejendomme'!$A68,FALSE))=FALSE,HLOOKUP(L$12,'Statiske ejendomme'!$B$3:$OF$80,'Statiske ejendomme'!$A68,FALSE),\"\"))),\"\")","v":0},{"$f":"IFERROR(IF(M$12=Kredsudvælgelse!$Q$20,\"\",IF(Kredsudvælgelse!AD$2=1,IF(ISTEXT(DGET(Forespørgsel1[#All],\"\"&LEFT($F75,LEN($F75)-$C75)&\"\",Kredsudvælgelse!$U$2:$V$3))=TRUE,DGET(Forespørgsel1[#All],\"\"&LEFT($F75,LEN($F75)-$C75)&\"\",Kredsudvælgelse!$U$2:$V$3),DGET(Forespørgsel1[#All],\"\"&LEFT($F75,LEN($F75)-$C75)&\"\",Kredsudvælgelse!$U$2:$V$3)/IF(ISNONTEXT($D75)=TRUE,1,DGET(Forespørgsel1[#All],\"\"&$D75&\"\",Kredsudvælgelse!$U$2:$V$3))),IF(ISBLANK(HLOOKUP(M$12,'Statiske ejendomme'!$B$3:$OF$80,'Statiske ejendomme'!$A68,FALSE))=FALSE,HLOOKUP(M$12,'Statiske ejendomme'!$B$3:$OF$80,'Statiske ejendomme'!$A68,FALSE),\"\"))),\"\")","v":0},{"$f":"IFERROR(IF(N$12=Kredsudvælgelse!$Q$20,\"\",IF(Kredsudvælgelse!AE$2=1,IF(ISTEXT(DGET(Forespørgsel1[#All],\"\"&LEFT($F75,LEN($F75)-$C75)&\"\",Kredsudvælgelse!$W$2:$X$3))=TRUE,DGET(Forespørgsel1[#All],\"\"&LEFT($F75,LEN($F75)-$C75)&\"\",Kredsudvælgelse!$W$2:$X$3),DGET(Forespørgsel1[#All],\"\"&LEFT($F75,LEN($F75)-$C75)&\"\",Kredsudvælgelse!$W$2:$X$3)/IF(ISNONTEXT($D75)=TRUE,1,DGET(Forespørgsel1[#All],\"\"&$D75&\"\",Kredsudvælgelse!$W$2:$X$3))),IF(ISBLANK(HLOOKUP(N$12,'Statiske ejendomme'!$B$3:$OF$80,'Statiske ejendomme'!$A68,FALSE))=FALSE,HLOOKUP(N$12,'Statiske ejendomme'!$B$3:$OF$80,'Statiske ejendomme'!$A68,FALSE),\"\"))),\"\")","v":0},{"$f":"IFERROR(IF(O$12=Kredsudvælgelse!$Q$20,\"\",IF(Kredsudvælgelse!AF$2=1,IF(ISTEXT(DGET(Forespørgsel1[#All],\"\"&LEFT($F75,LEN($F75)-$C75)&\"\",Kredsudvælgelse!$Y$2:$Z$3))=TRUE,DGET(Forespørgsel1[#All],\"\"&LEFT($F75,LEN($F75)-$C75)&\"\",Kredsudvælgelse!$Y$2:$Z$3),DGET(Forespørgsel1[#All],\"\"&LEFT($F75,LEN($F75)-$C75)&\"\",Kredsudvælgelse!$Y$2:$Z$3)/IF(ISNONTEXT($D75)=TRUE,1,DGET(Forespørgsel1[#All],\"\"&$D75&\"\",Kredsudvælgelse!$Y$2:$Z$3))),IF(ISBLANK(HLOOKUP(O$12,'Statiske ejendomme'!$B$3:$OF$80,'Statiske ejendomme'!$A68,FALSE))=FALSE,HLOOKUP(O$12,'Statiske ejendomme'!$B$3:$OF$80,'Statiske ejendomme'!$A68,FALSE),\"\"))),\"\")","v":0},{"$f":"IFERROR(IF(P$12=Kredsudvælgelse!$Q$20,\"\",IF(Kredsudvælgelse!AG$2=1,IF(ISTEXT(DGET(Forespørgsel1[#All],\"\"&LEFT($F75,LEN($F75)-$C75)&\"\",Kredsudvælgelse!$Q$6:$R$7))=TRUE,DGET(Forespørgsel1[#All],\"\"&LEFT($F75,LEN($F75)-$C75)&\"\",Kredsudvælgelse!$Q$6:$R$7),DGET(Forespørgsel1[#All],\"\"&LEFT($F75,LEN($F75)-$C75)&\"\",Kredsudvælgelse!$Q$6:$R$7)/IF(ISNONTEXT($D75)=TRUE,1,DGET(Forespørgsel1[#All],\"\"&$D75&\"\",Kredsudvælgelse!$Q$6:$R$7))),IF(ISBLANK(HLOOKUP(P$12,'Statiske ejendomme'!$B$3:$OF$80,'Statiske ejendomme'!#REF!,FALSE))=FALSE,HLOOKUP(P$12,'Statiske ejendomme'!$B$3:$OF$80,'Statiske ejendomme'!#REF!,FALSE),\"\"))),\"\")","v":""},{"$f":"IFERROR(IF(Q$12=Kredsudvælgelse!$Q$20,\"\",IF(Kredsudvælgelse!AH$2=1,IF(ISTEXT(DGET(Forespørgsel1[#All],\"\"&LEFT($F75,LEN($F75)-$C75)&\"\",Kredsudvælgelse!$S$6:$T$7))=TRUE,DGET(Forespørgsel1[#All],\"\"&LEFT($F75,LEN($F75)-$C75)&\"\",Kredsudvælgelse!$S$6:$T$7),DGET(Forespørgsel1[#All],\"\"&LEFT($F75,LEN($F75)-$C75)&\"\",Kredsudvælgelse!$S$6:$T$7)/IF(ISNONTEXT($D75)=TRUE,1,DGET(Forespørgsel1[#All],\"\"&$D75&\"\",Kredsudvælgelse!$S$6:$T$7))),IF(ISBLANK(HLOOKUP(Q$12,'Statiske ejendomme'!$B$3:$OF$80,'Statiske ejendomme'!$A68,FALSE))=FALSE,HLOOKUP(Q$12,'Statiske ejendomme'!$B$3:$OF$80,'Statiske ejendomme'!$A68,FALSE),\"\"))),\"\")","v":0},{"$f":"IFERROR(IF(R$12=Kredsudvælgelse!$Q$20,\"\",IF(Kredsudvælgelse!AI$2=1,IF(ISTEXT(DGET(Forespørgsel1[#All],\"\"&LEFT($F75,LEN($F75)-$C75)&\"\",Kredsudvælgelse!$U$6:$V$7))=TRUE,DGET(Forespørgsel1[#All],\"\"&LEFT($F75,LEN($F75)-$C75)&\"\",Kredsudvælgelse!$U$6:$V$7),DGET(Forespørgsel1[#All],\"\"&LEFT($F75,LEN($F75)-$C75)&\"\",Kredsudvælgelse!$U$6:$V$7)/IF(ISNONTEXT($D75)=TRUE,1,DGET(Forespørgsel1[#All],\"\"&$D75&\"\",Kredsudvælgelse!$U$6:$V$7))),IF(ISBLANK(HLOOKUP(R$12,'Statiske ejendomme'!$B$3:$OF$80,'Statiske ejendomme'!$A68,FALSE))=FALSE,HLOOKUP(R$12,'Statiske ejendomme'!$B$3:$OF$80,'Statiske ejendomme'!$A68,FALSE),\"\"))),\"\")","v":-20.851433536055605},{"$f":"IFERROR(IF(S$12=Kredsudvælgelse!$Q$20,\"\",IF(Kredsudvælgelse!AJ$2=1,IF(ISTEXT(DGET(Forespørgsel1[#All],\"\"&LEFT($F75,LEN($F75)-$C75)&\"\",Kredsudvælgelse!$W$6:$X$7))=TRUE,DGET(Forespørgsel1[#All],\"\"&LEFT($F75,LEN($F75)-$C75)&\"\",Kredsudvælgelse!$W$6:$X$7),DGET(Forespørgsel1[#All],\"\"&LEFT($F75,LEN($F75)-$C75)&\"\",Kredsudvælgelse!$W$6:$X$7)/IF(ISNONTEXT($D75)=TRUE,1,DGET(Forespørgsel1[#All],\"\"&$D75&\"\",Kredsudvælgelse!$W$6:$X$7))),IF(ISBLANK(HLOOKUP(S$12,'Statiske ejendomme'!$B$3:$OF$80,'Statiske ejendomme'!$A68,FALSE))=FALSE,HLOOKUP(S$12,'Statiske ejendomme'!$B$3:$OF$80,'Statiske ejendomme'!$A68,FALSE),\"\"))),\"\")","v":0},{"$f":"IFERROR(IF(T$12=Kredsudvælgelse!$Q$20,\"\",IF(Kredsudvælgelse!AK$2=1,IF(ISTEXT(DGET(Forespørgsel1[#All],\"\"&LEFT($F75,LEN($F75)-$C75)&\"\",Kredsudvælgelse!$Y$6:$Z$7))=TRUE,DGET(Forespørgsel1[#All],\"\"&LEFT($F75,LEN($F75)-$C75)&\"\",Kredsudvælgelse!$Y$6:$Z$7),DGET(Forespørgsel1[#All],\"\"&LEFT($F75,LEN($F75)-$C75)&\"\",Kredsudvælgelse!$Y$6:$Z$7)/IF(ISNONTEXT($D75)=TRUE,1,DGET(Forespørgsel1[#All],\"\"&$D75&\"\",Kredsudvælgelse!$Y$6:$Z$7))),IF(ISBLANK(HLOOKUP(T$12,'Statiske ejendomme'!$B$3:$OF$80,'Statiske ejendomme'!$A68,FALSE))=FALSE,HLOOKUP(T$12,'Statiske ejendomme'!$B$3:$OF$80,'Statiske ejendomme'!$A68,FALSE),\"\"))),\"\")","v":0}]
[1,{"$f":"Slagtekalve!D148","v":1},{"$f":"Slagtekalve!A67","v":0},{"$f":"Slagtekalve!B67","v":"Antal Producerede kalve"},null,{"$f":"Slagtekalve!C67","v":"Øvrige kapitalomkostninger"},{"$f":"IF(Choices!$A$1=2,Landsgennemsnit!B67,IF(Choices!$A$1=3,Landsgennemsnit!E67,\"\"))","v":0},{"$f":"IF(Choices!$A$1=2,Landsgennemsnit!C67,IF(Choices!$A$1=3,Landsgennemsnit!F67,\"\"))","v":0},{"$f":"IF(OR(Choices!$A$1=2,Choices!$A$1=3),Slagtekalve!F67,\"\")","v":""},{"$f":"IF(OR(Choices!$A$1=2,Choices!$A$1=3),Slagtekalve!G67,\"\")","v":""},{"$f":"IFERROR(IF(K$12=Kredsudvælgelse!$Q$20,\"\",IF(Kredsudvælgelse!AB$2=1,IF(ISTEXT(DGET(Forespørgsel1[#All],\"\"&LEFT($F76,LEN($F76)-$C76)&\"\",Kredsudvælgelse!$Q$2:$R$3))=TRUE,DGET(Forespørgsel1[#All],\"\"&LEFT($F76,LEN($F76)-$C76)&\"\",Kredsudvælgelse!$Q$2:$R$3),DGET(Forespørgsel1[#All],\"\"&LEFT($F76,LEN($F76)-$C76)&\"\",Kredsudvælgelse!$Q$2:$R$3)/IF(ISNONTEXT($D76)=TRUE,1,DGET(Forespørgsel1[#All],\"\"&$D76&\"\",Kredsudvælgelse!$Q$2:$R$3))),IF(ISBLANK(HLOOKUP(K$12,'Statiske ejendomme'!$B$3:$OF$80,'Statiske ejendomme'!$A69,FALSE))=FALSE,HLOOKUP(K$12,'Statiske ejendomme'!$B$3:$OF$80,'Statiske ejendomme'!$A69,FALSE),\"-\"))),\"-\")","v":0},{"$f":"IFERROR(IF(L$12=Kredsudvælgelse!$Q$20,\"\",IF(Kredsudvælgelse!AC$2=1,IF(ISTEXT(DGET(Forespørgsel1[#All],\"\"&LEFT($F76,LEN($F76)-$C76)&\"\",Kredsudvælgelse!$S$2:$T$3))=TRUE,DGET(Forespørgsel1[#All],\"\"&LEFT($F76,LEN($F76)-$C76)&\"\",Kredsudvælgelse!$S$2:$T$3),DGET(Forespørgsel1[#All],\"\"&LEFT($F76,LEN($F76)-$C76)&\"\",Kredsudvælgelse!$S$2:$T$3)/IF(ISNONTEXT($D76)=TRUE,1,DGET(Forespørgsel1[#All],\"\"&$D76&\"\",Kredsudvælgelse!$S$2:$T$3))),IF(ISBLANK(HLOOKUP(L$12,'Statiske ejendomme'!$B$3:$OF$80,'Statiske ejendomme'!$A69,FALSE))=FALSE,HLOOKUP(L$12,'Statiske ejendomme'!$B$3:$OF$80,'Statiske ejendomme'!$A69,FALSE),\"\"))),\"\")","v":0},{"$f":"IFERROR(IF(M$12=Kredsudvælgelse!$Q$20,\"\",IF(Kredsudvælgelse!AD$2=1,IF(ISTEXT(DGET(Forespørgsel1[#All],\"\"&LEFT($F76,LEN($F76)-$C76)&\"\",Kredsudvælgelse!$U$2:$V$3))=TRUE,DGET(Forespørgsel1[#All],\"\"&LEFT($F76,LEN($F76)-$C76)&\"\",Kredsudvælgelse!$U$2:$V$3),DGET(Forespørgsel1[#All],\"\"&LEFT($F76,LEN($F76)-$C76)&\"\",Kredsudvælgelse!$U$2:$V$3)/IF(ISNONTEXT($D76)=TRUE,1,DGET(Forespørgsel1[#All],\"\"&$D76&\"\",Kredsudvælgelse!$U$2:$V$3))),IF(ISBLANK(HLOOKUP(M$12,'Statiske ejendomme'!$B$3:$OF$80,'Statiske ejendomme'!$A69,FALSE))=FALSE,HLOOKUP(M$12,'Statiske ejendomme'!$B$3:$OF$80,'Statiske ejendomme'!$A69,FALSE),\"\"))),\"\")","v":0},{"$f":"IFERROR(IF(N$12=Kredsudvælgelse!$Q$20,\"\",IF(Kredsudvælgelse!AE$2=1,IF(ISTEXT(DGET(Forespørgsel1[#All],\"\"&LEFT($F76,LEN($F76)-$C76)&\"\",Kredsudvælgelse!$W$2:$X$3))=TRUE,DGET(Forespørgsel1[#All],\"\"&LEFT($F76,LEN($F76)-$C76)&\"\",Kredsudvælgelse!$W$2:$X$3),DGET(Forespørgsel1[#All],\"\"&LEFT($F76,LEN($F76)-$C76)&\"\",Kredsudvælgelse!$W$2:$X$3)/IF(ISNONTEXT($D76)=TRUE,1,DGET(Forespørgsel1[#All],\"\"&$D76&\"\",Kredsudvælgelse!$W$2:$X$3))),IF(ISBLANK(HLOOKUP(N$12,'Statiske ejendomme'!$B$3:$OF$80,'Statiske ejendomme'!$A69,FALSE))=FALSE,HLOOKUP(N$12,'Statiske ejendomme'!$B$3:$OF$80,'Statiske ejendomme'!$A69,FALSE),\"\"))),\"\")","v":0},{"$f":"IFERROR(IF(O$12=Kredsudvælgelse!$Q$20,\"\",IF(Kredsudvælgelse!AF$2=1,IF(ISTEXT(DGET(Forespørgsel1[#All],\"\"&LEFT($F76,LEN($F76)-$C76)&\"\",Kredsudvælgelse!$Y$2:$Z$3))=TRUE,DGET(Forespørgsel1[#All],\"\"&LEFT($F76,LEN($F76)-$C76)&\"\",Kredsudvælgelse!$Y$2:$Z$3),DGET(Forespørgsel1[#All],\"\"&LEFT($F76,LEN($F76)-$C76)&\"\",Kredsudvælgelse!$Y$2:$Z$3)/IF(ISNONTEXT($D76)=TRUE,1,DGET(Forespørgsel1[#All],\"\"&$D76&\"\",Kredsudvælgelse!$Y$2:$Z$3))),IF(ISBLANK(HLOOKUP(O$12,'Statiske ejendomme'!$B$3:$OF$80,'Statiske ejendomme'!$A69,FALSE))=FALSE,HLOOKUP(O$12,'Statiske ejendomme'!$B$3:$OF$80,'Statiske ejendomme'!$A69,FALSE),\"\"))),\"\")","v":0},{"$f":"IFERROR(IF(P$12=Kredsudvælgelse!$Q$20,\"\",IF(Kredsudvælgelse!AG$2=1,IF(ISTEXT(DGET(Forespørgsel1[#All],\"\"&LEFT($F76,LEN($F76)-$C76)&\"\",Kredsudvælgelse!$Q$6:$R$7))=TRUE,DGET(Forespørgsel1[#All],\"\"&LEFT($F76,LEN($F76)-$C76)&\"\",Kredsudvælgelse!$Q$6:$R$7),DGET(Forespørgsel1[#All],\"\"&LEFT($F76,LEN($F76)-$C76)&\"\",Kredsudvælgelse!$Q$6:$R$7)/IF(ISNONTEXT($D76)=TRUE,1,DGET(Forespørgsel1[#All],\"\"&$D76&\"\",Kredsudvælgelse!$Q$6:$R$7))),IF(ISBLANK(HLOOKUP(P$12,'Statiske ejendomme'!$B$3:$OF$80,'Statiske ejendomme'!#REF!,FALSE))=FALSE,HLOOKUP(P$12,'Statiske ejendomme'!$B$3:$OF$80,'Statiske ejendomme'!#REF!,FALSE),\"\"))),\"\")","v":""},{"$f":"IFERROR(IF(Q$12=Kredsudvælgelse!$Q$20,\"\",IF(Kredsudvælgelse!AH$2=1,IF(ISTEXT(DGET(Forespørgsel1[#All],\"\"&LEFT($F76,LEN($F76)-$C76)&\"\",Kredsudvælgelse!$S$6:$T$7))=TRUE,DGET(Forespørgsel1[#All],\"\"&LEFT($F76,LEN($F76)-$C76)&\"\",Kredsudvælgelse!$S$6:$T$7),DGET(Forespørgsel1[#All],\"\"&LEFT($F76,LEN($F76)-$C76)&\"\",Kredsudvælgelse!$S$6:$T$7)/IF(ISNONTEXT($D76)=TRUE,1,DGET(Forespørgsel1[#All],\"\"&$D76&\"\",Kredsudvælgelse!$S$6:$T$7))),IF(ISBLANK(HLOOKUP(Q$12,'Statiske ejendomme'!$B$3:$OF$80,'Statiske ejendomme'!$A69,FALSE))=FALSE,HLOOKUP(Q$12,'Statiske ejendomme'!$B$3:$OF$80,'Statiske ejendomme'!$A69,FALSE),\"\"))),\"\")","v":0},{"$f":"IFERROR(IF(R$12=Kredsudvælgelse!$Q$20,\"\",IF(Kredsudvælgelse!AI$2=1,IF(ISTEXT(DGET(Forespørgsel1[#All],\"\"&LEFT($F76,LEN($F76)-$C76)&\"\",Kredsudvælgelse!$U$6:$V$7))=TRUE,DGET(Forespørgsel1[#All],\"\"&LEFT($F76,LEN($F76)-$C76)&\"\",Kredsudvælgelse!$U$6:$V$7),DGET(Forespørgsel1[#All],\"\"&LEFT($F76,LEN($F76)-$C76)&\"\",Kredsudvælgelse!$U$6:$V$7)/IF(ISNONTEXT($D76)=TRUE,1,DGET(Forespørgsel1[#All],\"\"&$D76&\"\",Kredsudvælgelse!$U$6:$V$7))),IF(ISBLANK(HLOOKUP(R$12,'Statiske ejendomme'!$B$3:$OF$80,'Statiske ejendomme'!$A69,FALSE))=FALSE,HLOOKUP(R$12,'Statiske ejendomme'!$B$3:$OF$80,'Statiske ejendomme'!$A69,FALSE),\"\"))),\"\")","v":0},{"$f":"IFERROR(IF(S$12=Kredsudvælgelse!$Q$20,\"\",IF(Kredsudvælgelse!AJ$2=1,IF(ISTEXT(DGET(Forespørgsel1[#All],\"\"&LEFT($F76,LEN($F76)-$C76)&\"\",Kredsudvælgelse!$W$6:$X$7))=TRUE,DGET(Forespørgsel1[#All],\"\"&LEFT($F76,LEN($F76)-$C76)&\"\",Kredsudvælgelse!$W$6:$X$7),DGET(Forespørgsel1[#All],\"\"&LEFT($F76,LEN($F76)-$C76)&\"\",Kredsudvælgelse!$W$6:$X$7)/IF(ISNONTEXT($D76)=TRUE,1,DGET(Forespørgsel1[#All],\"\"&$D76&\"\",Kredsudvælgelse!$W$6:$X$7))),IF(ISBLANK(HLOOKUP(S$12,'Statiske ejendomme'!$B$3:$OF$80,'Statiske ejendomme'!$A69,FALSE))=FALSE,HLOOKUP(S$12,'Statiske ejendomme'!$B$3:$OF$80,'Statiske ejendomme'!$A69,FALSE),\"\"))),\"\")","v":0},{"$f":"IFERROR(IF(T$12=Kredsudvælgelse!$Q$20,\"\",IF(Kredsudvælgelse!AK$2=1,IF(ISTEXT(DGET(Forespørgsel1[#All],\"\"&LEFT($F76,LEN($F76)-$C76)&\"\",Kredsudvælgelse!$Y$6:$Z$7))=TRUE,DGET(Forespørgsel1[#All],\"\"&LEFT($F76,LEN($F76)-$C76)&\"\",Kredsudvælgelse!$Y$6:$Z$7),DGET(Forespørgsel1[#All],\"\"&LEFT($F76,LEN($F76)-$C76)&\"\",Kredsudvælgelse!$Y$6:$Z$7)/IF(ISNONTEXT($D76)=TRUE,1,DGET(Forespørgsel1[#All],\"\"&$D76&\"\",Kredsudvælgelse!$Y$6:$Z$7))),IF(ISBLANK(HLOOKUP(T$12,'Statiske ejendomme'!$B$3:$OF$80,'Statiske ejendomme'!$A69,FALSE))=FALSE,HLOOKUP(T$12,'Statiske ejendomme'!$B$3:$OF$80,'Statiske ejendomme'!$A69,FALSE),\"\"))),\"\")","v":0}]
[1,{"$f":"Slagtekalve!D149","v":1},{"$f":"Slagtekalve!A68","v":0},{"$f":"Slagtekalve!B68","v":"Antal Producerede kalve"},null,{"$f":"Slagtekalve!C68","v":"Renteomk. af bundet kapital"},{"$f":"IF(Choices!$A$1=2,Landsgennemsnit!B68,IF(Choices!$A$1=3,Landsgennemsnit!E68,\"\"))","v":-185.02867059001056},{"$f":"IF(Choices!$A$1=2,Landsgennemsnit!C68,IF(Choices!$A$1=3,Landsgennemsnit!F68,\"\"))","v":-192.2502151462995},{"$f":"IF(OR(Choices!$A$1=2,Choices!$A$1=3),Slagtekalve!F68,\"\")","v":""},{"$f":"IF(OR(Choices!$A$1=2,Choices!$A$1=3),Slagtekalve!G68,\"\")","v":""},{"$f":"IFERROR(IF(K$12=Kredsudvælgelse!$Q$20,\"\",IF(Kredsudvælgelse!AB$2=1,IF(ISTEXT(DGET(Forespørgsel1[#All],\"\"&LEFT($F77,LEN($F77)-$C77)&\"\",Kredsudvælgelse!$Q$2:$R$3))=TRUE,DGET(Forespørgsel1[#All],\"\"&LEFT($F77,LEN($F77)-$C77)&\"\",Kredsudvælgelse!$Q$2:$R$3),DGET(Forespørgsel1[#All],\"\"&LEFT($F77,LEN($F77)-$C77)&\"\",Kredsudvælgelse!$Q$2:$R$3)/IF(ISNONTEXT($D77)=TRUE,1,DGET(Forespørgsel1[#All],\"\"&$D77&\"\",Kredsudvælgelse!$Q$2:$R$3))),IF(ISBLANK(HLOOKUP(K$12,'Statiske ejendomme'!$B$3:$OF$80,'Statiske ejendomme'!$A70,FALSE))=FALSE,HLOOKUP(K$12,'Statiske ejendomme'!$B$3:$OF$80,'Statiske ejendomme'!$A70,FALSE),\"\"))),\"\")","v":-140.61651917404129},{"$f":"IFERROR(IF(L$12=Kredsudvælgelse!$Q$20,\"\",IF(Kredsudvælgelse!AC$2=1,IF(ISTEXT(DGET(Forespørgsel1[#All],\"\"&LEFT($F77,LEN($F77)-$C77)&\"\",Kredsudvælgelse!$S$2:$T$3))=TRUE,DGET(Forespørgsel1[#All],\"\"&LEFT($F77,LEN($F77)-$C77)&\"\",Kredsudvælgelse!$S$2:$T$3),DGET(Forespørgsel1[#All],\"\"&LEFT($F77,LEN($F77)-$C77)&\"\",Kredsudvælgelse!$S$2:$T$3)/IF(ISNONTEXT($D77)=TRUE,1,DGET(Forespørgsel1[#All],\"\"&$D77&\"\",Kredsudvælgelse!$S$2:$T$3))),IF(ISBLANK(HLOOKUP(L$12,'Statiske ejendomme'!$B$3:$OF$80,'Statiske ejendomme'!$A70,FALSE))=FALSE,HLOOKUP(L$12,'Statiske ejendomme'!$B$3:$OF$80,'Statiske ejendomme'!$A70,FALSE),\"\"))),\"\")","v":-217.9588477366255},{"$f":"IFERROR(IF(M$12=Kredsudvælgelse!$Q$20,\"\",IF(Kredsudvælgelse!AD$2=1,IF(ISTEXT(DGET(Forespørgsel1[#All],\"\"&LEFT($F77,LEN($F77)-$C77)&\"\",Kredsudvælgelse!$U$2:$V$3))=TRUE,DGET(Forespørgsel1[#All],\"\"&LEFT($F77,LEN($F77)-$C77)&\"\",Kredsudvælgelse!$U$2:$V$3),DGET(Forespørgsel1[#All],\"\"&LEFT($F77,LEN($F77)-$C77)&\"\",Kredsudvælgelse!$U$2:$V$3)/IF(ISNONTEXT($D77)=TRUE,1,DGET(Forespørgsel1[#All],\"\"&$D77&\"\",Kredsudvælgelse!$U$2:$V$3))),IF(ISBLANK(HLOOKUP(M$12,'Statiske ejendomme'!$B$3:$OF$80,'Statiske ejendomme'!$A70,FALSE))=FALSE,HLOOKUP(M$12,'Statiske ejendomme'!$B$3:$OF$80,'Statiske ejendomme'!$A70,FALSE),\"\"))),\"\")","v":-181.26704545454547},{"$f":"IFERROR(IF(N$12=Kredsudvælgelse!$Q$20,\"\",IF(Kredsudvælgelse!AE$2=1,IF(ISTEXT(DGET(Forespørgsel1[#All],\"\"&LEFT($F77,LEN($F77)-$C77)&\"\",Kredsudvælgelse!$W$2:$X$3))=TRUE,DGET(Forespørgsel1[#All],\"\"&LEFT($F77,LEN($F77)-$C77)&\"\",Kredsudvælgelse!$W$2:$X$3),DGET(Forespørgsel1[#All],\"\"&LEFT($F77,LEN($F77)-$C77)&\"\",Kredsudvælgelse!$W$2:$X$3)/IF(ISNONTEXT($D77)=TRUE,1,DGET(Forespørgsel1[#All],\"\"&$D77&\"\",Kredsudvælgelse!$W$2:$X$3))),IF(ISBLANK(HLOOKUP(N$12,'Statiske ejendomme'!$B$3:$OF$80,'Statiske ejendomme'!$A70,FALSE))=FALSE,HLOOKUP(N$12,'Statiske ejendomme'!$B$3:$OF$80,'Statiske ejendomme'!$A70,FALSE),\"\"))),\"\")","v":-153.4763811048839},{"$f":"IFERROR(IF(O$12=Kredsudvælgelse!$Q$20,\"\",IF(Kredsudvælgelse!AF$2=1,IF(ISTEXT(DGET(Forespørgsel1[#All],\"\"&LEFT($F77,LEN($F77)-$C77)&\"\",Kredsudvælgelse!$Y$2:$Z$3))=TRUE,DGET(Forespørgsel1[#All],\"\"&LEFT($F77,LEN($F77)-$C77)&\"\",Kredsudvælgelse!$Y$2:$Z$3),DGET(Forespørgsel1[#All],\"\"&LEFT($F77,LEN($F77)-$C77)&\"\",Kredsudvælgelse!$Y$2:$Z$3)/IF(ISNONTEXT($D77)=TRUE,1,DGET(Forespørgsel1[#All],\"\"&$D77&\"\",Kredsudvælgelse!$Y$2:$Z$3))),IF(ISBLANK(HLOOKUP(O$12,'Statiske ejendomme'!$B$3:$OF$80,'Statiske ejendomme'!$A70,FALSE))=FALSE,HLOOKUP(O$12,'Statiske ejendomme'!$B$3:$OF$80,'Statiske ejendomme'!$A70,FALSE),\"\"))),\"\")","v":-130.5891089108911},{"$f":"IFERROR(IF(P$12=Kredsudvælgelse!$Q$20,\"\",IF(Kredsudvælgelse!AG$2=1,IF(ISTEXT(DGET(Forespørgsel1[#All],\"\"&LEFT($F77,LEN($F77)-$C77)&\"\",Kredsudvælgelse!$Q$6:$R$7))=TRUE,DGET(Forespørgsel1[#All],\"\"&LEFT($F77,LEN($F77)-$C77)&\"\",Kredsudvælgelse!$Q$6:$R$7),DGET(Forespørgsel1[#All],\"\"&LEFT($F77,LEN($F77)-$C77)&\"\",Kredsudvælgelse!$Q$6:$R$7)/IF(ISNONTEXT($D77)=TRUE,1,DGET(Forespørgsel1[#All],\"\"&$D77&\"\",Kredsudvælgelse!$Q$6:$R$7))),IF(ISBLANK(HLOOKUP(P$12,'Statiske ejendomme'!$B$3:$OF$80,'Statiske ejendomme'!#REF!,FALSE))=FALSE,HLOOKUP(P$12,'Statiske ejendomme'!$B$3:$OF$80,'Statiske ejendomme'!#REF!,FALSE),\"\"))),\"\")","v":""},{"$f":"IFERROR(IF(Q$12=Kredsudvælgelse!$Q$20,\"\",IF(Kredsudvælgelse!AH$2=1,IF(ISTEXT(DGET(Forespørgsel1[#All],\"\"&LEFT($F77,LEN($F77)-$C77)&\"\",Kredsudvælgelse!$S$6:$T$7))=TRUE,DGET(Forespørgsel1[#All],\"\"&LEFT($F77,LEN($F77)-$C77)&\"\",Kredsudvælgelse!$S$6:$T$7),DGET(Forespørgsel1[#All],\"\"&LEFT($F77,LEN($F77)-$C77)&\"\",Kredsudvælgelse!$S$6:$T$7)/IF(ISNONTEXT($D77)=TRUE,1,DGET(Forespørgsel1[#All],\"\"&$D77&\"\",Kredsudvælgelse!$S$6:$T$7))),IF(ISBLANK(HLOOKUP(Q$12,'Statiske ejendomme'!$B$3:$OF$80,'Statiske ejendomme'!$A70,FALSE))=FALSE,HLOOKUP(Q$12,'Statiske ejendomme'!$B$3:$OF$80,'Statiske ejendomme'!$A70,FALSE),\"\"))),\"\")","v":-413.78947368421052},{"$f":"IFERROR(IF(R$12=Kredsudvælgelse!$Q$20,\"\",IF(Kredsudvælgelse!AI$2=1,IF(ISTEXT(DGET(Forespørgsel1[#All],\"\"&LEFT($F77,LEN($F77)-$C77)&\"\",Kredsudvælgelse!$U$6:$V$7))=TRUE,DGET(Forespørgsel1[#All],\"\"&LEFT($F77,LEN($F77)-$C77)&\"\",Kredsudvælgelse!$U$6:$V$7),DGET(Forespørgsel1[#All],\"\"&LEFT($F77,LEN($F77)-$C77)&\"\",Kredsudvælgelse!$U$6:$V$7)/IF(ISNONTEXT($D77)=TRUE,1,DGET(Forespørgsel1[#All],\"\"&$D77&\"\",Kredsudvælgelse!$U$6:$V$7))),IF(ISBLANK(HLOOKUP(R$12,'Statiske ejendomme'!$B$3:$OF$80,'Statiske ejendomme'!$A70,FALSE))=FALSE,HLOOKUP(R$12,'Statiske ejendomme'!$B$3:$OF$80,'Statiske ejendomme'!$A70,FALSE),\"\"))),\"\")","v":-404.76802780191139},{"$f":"IFERROR(IF(S$12=Kredsudvælgelse!$Q$20,\"\",IF(Kredsudvælgelse!AJ$2=1,IF(ISTEXT(DGET(Forespørgsel1[#All],\"\"&LEFT($F77,LEN($F77)-$C77)&\"\",Kredsudvælgelse!$W$6:$X$7))=TRUE,DGET(Forespørgsel1[#All],\"\"&LEFT($F77,LEN($F77)-$C77)&\"\",Kredsudvælgelse!$W$6:$X$7),DGET(Forespørgsel1[#All],\"\"&LEFT($F77,LEN($F77)-$C77)&\"\",Kredsudvælgelse!$W$6:$X$7)/IF(ISNONTEXT($D77)=TRUE,1,DGET(Forespørgsel1[#All],\"\"&$D77&\"\",Kredsudvælgelse!$W$6:$X$7))),IF(ISBLANK(HLOOKUP(S$12,'Statiske ejendomme'!$B$3:$OF$80,'Statiske ejendomme'!$A70,FALSE))=FALSE,HLOOKUP(S$12,'Statiske ejendomme'!$B$3:$OF$80,'Statiske ejendomme'!$A70,FALSE),\"\"))),\"\")","v":-83.605633802816897},{"$f":"IFERROR(IF(T$12=Kredsudvælgelse!$Q$20,\"\",IF(Kredsudvælgelse!AK$2=1,IF(ISTEXT(DGET(Forespørgsel1[#All],\"\"&LEFT($F77,LEN($F77)-$C77)&\"\",Kredsudvælgelse!$Y$6:$Z$7))=TRUE,DGET(Forespørgsel1[#All],\"\"&LEFT($F77,LEN($F77)-$C77)&\"\",Kredsudvælgelse!$Y$6:$Z$7),DGET(Forespørgsel1[#All],\"\"&LEFT($F77,LEN($F77)-$C77)&\"\",Kredsudvælgelse!$Y$6:$Z$7)/IF(ISNONTEXT($D77)=TRUE,1,DGET(Forespørgsel1[#All],\"\"&$D77&\"\",Kredsudvælgelse!$Y$6:$Z$7))),IF(ISBLANK(HLOOKUP(T$12,'Statiske ejendomme'!$B$3:$OF$80,'Statiske ejendomme'!$A70,FALSE))=FALSE,HLOOKUP(T$12,'Statiske ejendomme'!$B$3:$OF$80,'Statiske ejendomme'!$A70,FALSE),\"\"))),\"\")","v":-249.51641791044776}]
[1,{"$f":"Slagtekalve!D150","v":113},{"$f":"Slagtekalve!A69","v":0},{"$f":"Slagtekalve!B69","v":"Antal Producerede kalve"},null,{"$f":"Slagtekalve!C69","v":"Kapitalomkostninger i alt"},{"$f":"IF(Choices!$A$1=2,Landsgennemsnit!B69,IF(Choices!$A$1=3,Landsgennemsnit!E69,\"\"))","v":-608.91001458679148},{"$f":"IF(Choices!$A$1=2,Landsgennemsnit!C69,IF(Choices!$A$1=3,Landsgennemsnit!F69,\"\"))","v":-506.70998278829609},{"$f":"IF(OR(Choices!$A$1=2,Choices!$A$1=3),Slagtekalve!F69,\"\")","v":""},{"$f":"IF(OR(Choices!$A$1=2,Choices!$A$1=3),Slagtekalve!G69,\"\")","v":""},{"$f":"IFERROR(IF(K$12=Kredsudvælgelse!$Q$20,\"\",IF(Kredsudvælgelse!AB$2=1,IF(ISTEXT(DGET(Forespørgsel1[#All],\"\"&LEFT($F78,LEN($F78)-$C78)&\"\",Kredsudvælgelse!$Q$2:$R$3))=TRUE,DGET(Forespørgsel1[#All],\"\"&LEFT($F78,LEN($F78)-$C78)&\"\",Kredsudvælgelse!$Q$2:$R$3),DGET(Forespørgsel1[#All],\"\"&LEFT($F78,LEN($F78)-$C78)&\"\",Kredsudvælgelse!$Q$2:$R$3)/IF(ISNONTEXT($D78)=TRUE,1,DGET(Forespørgsel1[#All],\"\"&$D78&\"\",Kredsudvælgelse!$Q$2:$R$3))),IF(ISBLANK(HLOOKUP(K$12,'Statiske ejendomme'!$B$3:$OF$80,'Statiske ejendomme'!$A71,FALSE))=FALSE,HLOOKUP(K$12,'Statiske ejendomme'!$B$3:$OF$80,'Statiske ejendomme'!$A71,FALSE),\"\"))),\"\")","v":-346.74336283185841},{"$f":"IFERROR(IF(L$12=Kredsudvælgelse!$Q$20,\"\",IF(Kredsudvælgelse!AC$2=1,IF(ISTEXT(DGET(Forespørgsel1[#All],\"\"&LEFT($F78,LEN($F78)-$C78)&\"\",Kredsudvælgelse!$S$2:$T$3))=TRUE,DGET(Forespørgsel1[#All],\"\"&LEFT($F78,LEN($F78)-$C78)&\"\",Kredsudvælgelse!$S$2:$T$3),DGET(Forespørgsel1[#All],\"\"&LEFT($F78,LEN($F78)-$C78)&\"\",Kredsudvælgelse!$S$2:$T$3)/IF(ISNONTEXT($D78)=TRUE,1,DGET(Forespørgsel1[#All],\"\"&$D78&\"\",Kredsudvælgelse!$S$2:$T$3))),IF(ISBLANK(HLOOKUP(L$12,'Statiske ejendomme'!$B$3:$OF$80,'Statiske ejendomme'!$A71,FALSE))=FALSE,HLOOKUP(L$12,'Statiske ejendomme'!$B$3:$OF$80,'Statiske ejendomme'!$A71,FALSE),\"\"))),\"\")","v":-640.64938271604933},{"$f":"IFERROR(IF(M$12=Kredsudvælgelse!$Q$20,\"\",IF(Kredsudvælgelse!AD$2=1,IF(ISTEXT(DGET(Forespørgsel1[#All],\"\"&LEFT($F78,LEN($F78)-$C78)&\"\",Kredsudvælgelse!$U$2:$V$3))=TRUE,DGET(Forespørgsel1[#All],\"\"&LEFT($F78,LEN($F78)-$C78)&\"\",Kredsudvælgelse!$U$2:$V$3),DGET(Forespørgsel1[#All],\"\"&LEFT($F78,LEN($F78)-$C78)&\"\",Kredsudvælgelse!$U$2:$V$3)/IF(ISNONTEXT($D78)=TRUE,1,DGET(Forespørgsel1[#All],\"\"&$D78&\"\",Kredsudvælgelse!$U$2:$V$3))),IF(ISBLANK(HLOOKUP(M$12,'Statiske ejendomme'!$B$3:$OF$80,'Statiske ejendomme'!$A71,FALSE))=FALSE,HLOOKUP(M$12,'Statiske ejendomme'!$B$3:$OF$80,'Statiske ejendomme'!$A71,FALSE),\"\"))),\"\")","v":-306.26704545454544},{"$f":"IFERROR(IF(N$12=Kredsudvælgelse!$Q$20,\"\",IF(Kredsudvælgelse!AE$2=1,IF(ISTEXT(DGET(Forespørgsel1[#All],\"\"&LEFT($F78,LEN($F78)-$C78)&\"\",Kredsudvælgelse!$W$2:$X$3))=TRUE,DGET(Forespørgsel1[#All],\"\"&LEFT($F78,LEN($F78)-$C78)&\"\",Kredsudvælgelse!$W$2:$X$3),DGET(Forespørgsel1[#All],\"\"&LEFT($F78,LEN($F78)-$C78)&\"\",Kredsudvælgelse!$W$2:$X$3)/IF(ISNONTEXT($D78)=TRUE,1,DGET(Forespørgsel1[#All],\"\"&$D78&\"\",Kredsudvælgelse!$W$2:$X$3))),IF(ISBLANK(HLOOKUP(N$12,'Statiske ejendomme'!$B$3:$OF$80,'Statiske ejendomme'!$A71,FALSE))=FALSE,HLOOKUP(N$12,'Statiske ejendomme'!$B$3:$OF$80,'Statiske ejendomme'!$A71,FALSE),\"\"))),\"\")","v":-579.73338670936755},{"$f":"IFERROR(IF(O$12=Kredsudvælgelse!$Q$20,\"\",IF(Kredsudvælgelse!AF$2=1,IF(ISTEXT(DGET(Forespørgsel1[#All],\"\"&LEFT($F78,LEN($F78)-$C78)&\"\",Kredsudvælgelse!$Y$2:$Z$3))=TRUE,DGET(Forespørgsel1[#All],\"\"&LEFT($F78,LEN($F78)-$C78)&\"\",Kredsudvælgelse!$Y$2:$Z$3),DGET(Forespørgsel1[#All],\"\"&LEFT($F78,LEN($F78)-$C78)&\"\",Kredsudvælgelse!$Y$2:$Z$3)/IF(ISNONTEXT($D78)=TRUE,1,DGET(Forespørgsel1[#All],\"\"&$D78&\"\",Kredsudvælgelse!$Y$2:$Z$3))),IF(ISBLANK(HLOOKUP(O$12,'Statiske ejendomme'!$B$3:$OF$80,'Statiske ejendomme'!$A71,FALSE))=FALSE,HLOOKUP(O$12,'Statiske ejendomme'!$B$3:$OF$80,'Statiske ejendomme'!$A71,FALSE),\"\"))),\"\")","v":-919.61386138613864},{"$f":"IFERROR(IF(P$12=Kredsudvælgelse!$Q$20,\"\",IF(Kredsudvælgelse!AG$2=1,IF(ISTEXT(DGET(Forespørgsel1[#All],\"\"&LEFT($F78,LEN($F78)-$C78)&\"\",Kredsudvælgelse!$Q$6:$R$7))=TRUE,DGET(Forespørgsel1[#All],\"\"&LEFT($F78,LEN($F78)-$C78)&\"\",Kredsudvælgelse!$Q$6:$R$7),DGET(Forespørgsel1[#All],\"\"&LEFT($F78,LEN($F78)-$C78)&\"\",Kredsudvælgelse!$Q$6:$R$7)/IF(ISNONTEXT($D78)=TRUE,1,DGET(Forespørgsel1[#All],\"\"&$D78&\"\",Kredsudvælgelse!$Q$6:$R$7))),IF(ISBLANK(HLOOKUP(P$12,'Statiske ejendomme'!$B$3:$OF$80,'Statiske ejendomme'!#REF!,FALSE))=FALSE,HLOOKUP(P$12,'Statiske ejendomme'!$B$3:$OF$80,'Statiske ejendomme'!#REF!,FALSE),\"\"))),\"\")","v":""},{"$f":"IFERROR(IF(Q$12=Kredsudvælgelse!$Q$20,\"\",IF(Kredsudvælgelse!AH$2=1,IF(ISTEXT(DGET(Forespørgsel1[#All],\"\"&LEFT($F78,LEN($F78)-$C78)&\"\",Kredsudvælgelse!$S$6:$T$7))=TRUE,DGET(Forespørgsel1[#All],\"\"&LEFT($F78,LEN($F78)-$C78)&\"\",Kredsudvælgelse!$S$6:$T$7),DGET(Forespørgsel1[#All],\"\"&LEFT($F78,LEN($F78)-$C78)&\"\",Kredsudvælgelse!$S$6:$T$7)/IF(ISNONTEXT($D78)=TRUE,1,DGET(Forespørgsel1[#All],\"\"&$D78&\"\",Kredsudvælgelse!$S$6:$T$7))),IF(ISBLANK(HLOOKUP(Q$12,'Statiske ejendomme'!$B$3:$OF$80,'Statiske ejendomme'!$A71,FALSE))=FALSE,HLOOKUP(Q$12,'Statiske ejendomme'!$B$3:$OF$80,'Statiske ejendomme'!$A71,FALSE),\"\"))),\"\")","v":-1229.0964912280701},{"$f":"IFERROR(IF(R$12=Kredsudvælgelse!$Q$20,\"\",IF(Kredsudvælgelse!AI$2=1,IF(ISTEXT(DGET(Forespørgsel1[#All],\"\"&LEFT($F78,LEN($F78)-$C78)&\"\",Kredsudvælgelse!$U$6:$V$7))=TRUE,DGET(Forespørgsel1[#All],\"\"&LEFT($F78,LEN($F78)-$C78)&\"\",Kredsudvælgelse!$U$6:$V$7),DGET(Forespørgsel1[#All],\"\"&LEFT($F78,LEN($F78)-$C78)&\"\",Kredsudvælgelse!$U$6:$V$7)/IF(ISNONTEXT($D78)=TRUE,1,DGET(Forespørgsel1[#All],\"\"&$D78&\"\",Kredsudvælgelse!$U$6:$V$7))),IF(ISBLANK(HLOOKUP(R$12,'Statiske ejendomme'!$B$3:$OF$80,'Statiske ejendomme'!$A71,FALSE))=FALSE,HLOOKUP(R$12,'Statiske ejendomme'!$B$3:$OF$80,'Statiske ejendomme'!$A71,FALSE),\"\"))),\"\")","v":-981.27888792354474},{"$f":"IFERROR(IF(S$12=Kredsudvælgelse!$Q$20,\"\",IF(Kredsudvælgelse!AJ$2=1,IF(ISTEXT(DGET(Forespørgsel1[#All],\"\"&LEFT($F78,LEN($F78)-$C78)&\"\",Kredsudvælgelse!$W$6:$X$7))=TRUE,DGET(Forespørgsel1[#All],\"\"&LEFT($F78,LEN($F78)-$C78)&\"\",Kredsudvælgelse!$W$6:$X$7),DGET(Forespørgsel1[#All],\"\"&LEFT($F78,LEN($F78)-$C78)&\"\",Kredsudvælgelse!$W$6:$X$7)/IF(ISNONTEXT($D78)=TRUE,1,DGET(Forespørgsel1[#All],\"\"&$D78&\"\",Kredsudvælgelse!$W$6:$X$7))),IF(ISBLANK(HLOOKUP(S$12,'Statiske ejendomme'!$B$3:$OF$80,'Statiske ejendomme'!$A71,FALSE))=FALSE,HLOOKUP(S$12,'Statiske ejendomme'!$B$3:$OF$80,'Statiske ejendomme'!$A71,FALSE),\"\"))),\"\")","v":-240.92253521126761},{"$f":"IFERROR(IF(T$12=Kredsudvælgelse!$Q$20,\"\",IF(Kredsudvælgelse!AK$2=1,IF(ISTEXT(DGET(Forespørgsel1[#All],\"\"&LEFT($F78,LEN($F78)-$C78)&\"\",Kredsudvælgelse!$Y$6:$Z$7))=TRUE,DGET(Forespørgsel1[#All],\"\"&LEFT($F78,LEN($F78)-$C78)&\"\",Kredsudvælgelse!$Y$6:$Z$7),DGET(Forespørgsel1[#All],\"\"&LEFT($F78,LEN($F78)-$C78)&\"\",Kredsudvælgelse!$Y$6:$Z$7)/IF(ISNONTEXT($D78)=TRUE,1,DGET(Forespørgsel1[#All],\"\"&$D78&\"\",Kredsudvælgelse!$Y$6:$Z$7))),IF(ISBLANK(HLOOKUP(T$12,'Statiske ejendomme'!$B$3:$OF$80,'Statiske ejendomme'!$A71,FALSE))=FALSE,HLOOKUP(T$12,'Statiske ejendomme'!$B$3:$OF$80,'Statiske ejendomme'!$A71,FALSE),\"\"))),\"\")","v":-495.27263681592041}]
[1,{"$f":"Slagtekalve!D151","v":9},{"$f":"Slagtekalve!A70","v":0},{"$f":"Slagtekalve!B70","v":0},null,{"$f":"Slagtekalve!C70","v":0},{"$f":"IF(Choices!$A$1=2,Landsgennemsnit!B70,IF(Choices!$A$1=3,Landsgennemsnit!E70,\"\"))","v":""},{"$f":"IF(Choices!$A$1=2,Landsgennemsnit!C70,IF(Choices!$A$1=3,Landsgennemsnit!F70,\"\"))","v":""},{"$f":"IF(OR(Choices!$A$1=2,Choices!$A$1=3),Slagtekalve!F70,\"\")","v":""},{"$f":"IF(OR(Choices!$A$1=2,Choices!$A$1=3),Slagtekalve!G70,\"\")","v":""},{"$f":"IFERROR(IF(K$12=Kredsudvælgelse!$Q$20,\"\",IF(Kredsudvælgelse!AB$2=1,IF(ISTEXT(DGET(Forespørgsel1[#All],\"\"&LEFT($F79,LEN($F79)-$C79)&\"\",Kredsudvælgelse!$Q$2:$R$3))=TRUE,DGET(Forespørgsel1[#All],\"\"&LEFT($F79,LEN($F79)-$C79)&\"\",Kredsudvælgelse!$Q$2:$R$3),DGET(Forespørgsel1[#All],\"\"&LEFT($F79,LEN($F79)-$C79)&\"\",Kredsudvælgelse!$Q$2:$R$3)/IF(ISNONTEXT($D79)=TRUE,1,DGET(Forespørgsel1[#All],\"\"&$D79&\"\",Kredsudvælgelse!$Q$2:$R$3))),IF(ISBLANK(HLOOKUP(K$12,'Statiske ejendomme'!$B$3:$OF$80,'Statiske ejendomme'!$A72,FALSE))=FALSE,HLOOKUP(K$12,'Statiske ejendomme'!$B$3:$OF$80,'Statiske ejendomme'!$A72,FALSE),\"\"))),\"\")","v":""},{"$f":"IFERROR(IF(L$12=Kredsudvælgelse!$Q$20,\"\",IF(Kredsudvælgelse!AC$2=1,IF(ISTEXT(DGET(Forespørgsel1[#All],\"\"&LEFT($F79,LEN($F79)-$C79)&\"\",Kredsudvælgelse!$S$2:$T$3))=TRUE,DGET(Forespørgsel1[#All],\"\"&LEFT($F79,LEN($F79)-$C79)&\"\",Kredsudvælgelse!$S$2:$T$3),DGET(Forespørgsel1[#All],\"\"&LEFT($F79,LEN($F79)-$C79)&\"\",Kredsudvælgelse!$S$2:$T$3)/IF(ISNONTEXT($D79)=TRUE,1,DGET(Forespørgsel1[#All],\"\"&$D79&\"\",Kredsudvælgelse!$S$2:$T$3))),IF(ISBLANK(HLOOKUP(L$12,'Statiske ejendomme'!$B$3:$OF$80,'Statiske ejendomme'!$A72,FALSE))=FALSE,HLOOKUP(L$12,'Statiske ejendomme'!$B$3:$OF$80,'Statiske ejendomme'!$A72,FALSE),\"\"))),\"\")","v":""},{"$f":"IFERROR(IF(M$12=Kredsudvælgelse!$Q$20,\"\",IF(Kredsudvælgelse!AD$2=1,IF(ISTEXT(DGET(Forespørgsel1[#All],\"\"&LEFT($F79,LEN($F79)-$C79)&\"\",Kredsudvælgelse!$U$2:$V$3))=TRUE,DGET(Forespørgsel1[#All],\"\"&LEFT($F79,LEN($F79)-$C79)&\"\",Kredsudvælgelse!$U$2:$V$3),DGET(Forespørgsel1[#All],\"\"&LEFT($F79,LEN($F79)-$C79)&\"\",Kredsudvælgelse!$U$2:$V$3)/IF(ISNONTEXT($D79)=TRUE,1,DGET(Forespørgsel1[#All],\"\"&$D79&\"\",Kredsudvælgelse!$U$2:$V$3))),IF(ISBLANK(HLOOKUP(M$12,'Statiske ejendomme'!$B$3:$OF$80,'Statiske ejendomme'!$A72,FALSE))=FALSE,HLOOKUP(M$12,'Statiske ejendomme'!$B$3:$OF$80,'Statiske ejendomme'!$A72,FALSE),\"\"))),\"\")","v":""},{"$f":"IFERROR(IF(N$12=Kredsudvælgelse!$Q$20,\"\",IF(Kredsudvælgelse!AE$2=1,IF(ISTEXT(DGET(Forespørgsel1[#All],\"\"&LEFT($F79,LEN($F79)-$C79)&\"\",Kredsudvælgelse!$W$2:$X$3))=TRUE,DGET(Forespørgsel1[#All],\"\"&LEFT($F79,LEN($F79)-$C79)&\"\",Kredsudvælgelse!$W$2:$X$3),DGET(Forespørgsel1[#All],\"\"&LEFT($F79,LEN($F79)-$C79)&\"\",Kredsudvælgelse!$W$2:$X$3)/IF(ISNONTEXT($D79)=TRUE,1,DGET(Forespørgsel1[#All],\"\"&$D79&\"\",Kredsudvælgelse!$W$2:$X$3))),IF(ISBLANK(HLOOKUP(N$12,'Statiske ejendomme'!$B$3:$OF$80,'Statiske ejendomme'!$A72,FALSE))=FALSE,HLOOKUP(N$12,'Statiske ejendomme'!$B$3:$OF$80,'Statiske ejendomme'!$A72,FALSE),\"\"))),\"\")","v":""},{"$f":"IFERROR(IF(O$12=Kredsudvælgelse!$Q$20,\"\",IF(Kredsudvælgelse!AF$2=1,IF(ISTEXT(DGET(Forespørgsel1[#All],\"\"&LEFT($F79,LEN($F79)-$C79)&\"\",Kredsudvælgelse!$Y$2:$Z$3))=TRUE,DGET(Forespørgsel1[#All],\"\"&LEFT($F79,LEN($F79)-$C79)&\"\",Kredsudvælgelse!$Y$2:$Z$3),DGET(Forespørgsel1[#All],\"\"&LEFT($F79,LEN($F79)-$C79)&\"\",Kredsudvælgelse!$Y$2:$Z$3)/IF(ISNONTEXT($D79)=TRUE,1,DGET(Forespørgsel1[#All],\"\"&$D79&\"\",Kredsudvælgelse!$Y$2:$Z$3))),IF(ISBLANK(HLOOKUP(O$12,'Statiske ejendomme'!$B$3:$OF$80,'Statiske ejendomme'!$A72,FALSE))=FALSE,HLOOKUP(O$12,'Statiske ejendomme'!$B$3:$OF$80,'Statiske ejendomme'!$A72,FALSE),\"\"))),\"\")","v":""},{"$f":"IFERROR(IF(P$12=Kredsudvælgelse!$Q$20,\"\",IF(Kredsudvælgelse!AG$2=1,IF(ISTEXT(DGET(Forespørgsel1[#All],\"\"&LEFT($F79,LEN($F79)-$C79)&\"\",Kredsudvælgelse!$Q$6:$R$7))=TRUE,DGET(Forespørgsel1[#All],\"\"&LEFT($F79,LEN($F79)-$C79)&\"\",Kredsudvælgelse!$Q$6:$R$7),DGET(Forespørgsel1[#All],\"\"&LEFT($F79,LEN($F79)-$C79)&\"\",Kredsudvælgelse!$Q$6:$R$7)/IF(ISNONTEXT($D79)=TRUE,1,DGET(Forespørgsel1[#All],\"\"&$D79&\"\",Kredsudvælgelse!$Q$6:$R$7))),IF(ISBLANK(HLOOKUP(P$12,'Statiske ejendomme'!$B$3:$OF$80,'Statiske ejendomme'!#REF!,FALSE))=FALSE,HLOOKUP(P$12,'Statiske ejendomme'!$B$3:$OF$80,'Statiske ejendomme'!#REF!,FALSE),\"\"))),\"\")","v":""},{"$f":"IFERROR(IF(Q$12=Kredsudvælgelse!$Q$20,\"\",IF(Kredsudvælgelse!AH$2=1,IF(ISTEXT(DGET(Forespørgsel1[#All],\"\"&LEFT($F79,LEN($F79)-$C79)&\"\",Kredsudvælgelse!$S$6:$T$7))=TRUE,DGET(Forespørgsel1[#All],\"\"&LEFT($F79,LEN($F79)-$C79)&\"\",Kredsudvælgelse!$S$6:$T$7),DGET(Forespørgsel1[#All],\"\"&LEFT($F79,LEN($F79)-$C79)&\"\",Kredsudvælgelse!$S$6:$T$7)/IF(ISNONTEXT($D79)=TRUE,1,DGET(Forespørgsel1[#All],\"\"&$D79&\"\",Kredsudvælgelse!$S$6:$T$7))),IF(ISBLANK(HLOOKUP(Q$12,'Statiske ejendomme'!$B$3:$OF$80,'Statiske ejendomme'!$A72,FALSE))=FALSE,HLOOKUP(Q$12,'Statiske ejendomme'!$B$3:$OF$80,'Statiske ejendomme'!$A72,FALSE),\"\"))),\"\")","v":""},{"$f":"IFERROR(IF(R$12=Kredsudvælgelse!$Q$20,\"\",IF(Kredsudvælgelse!AI$2=1,IF(ISTEXT(DGET(Forespørgsel1[#All],\"\"&LEFT($F79,LEN($F79)-$C79)&\"\",Kredsudvælgelse!$U$6:$V$7))=TRUE,DGET(Forespørgsel1[#All],\"\"&LEFT($F79,LEN($F79)-$C79)&\"\",Kredsudvælgelse!$U$6:$V$7),DGET(Forespørgsel1[#All],\"\"&LEFT($F79,LEN($F79)-$C79)&\"\",Kredsudvælgelse!$U$6:$V$7)/IF(ISNONTEXT($D79)=TRUE,1,DGET(Forespørgsel1[#All],\"\"&$D79&\"\",Kredsudvælgelse!$U$6:$V$7))),IF(ISBLANK(HLOOKUP(R$12,'Statiske ejendomme'!$B$3:$OF$80,'Statiske ejendomme'!$A72,FALSE))=FALSE,HLOOKUP(R$12,'Statiske ejendomme'!$B$3:$OF$80,'Statiske ejendomme'!$A72,FALSE),\"\"))),\"\")","v":""},{"$f":"IFERROR(IF(S$12=Kredsudvælgelse!$Q$20,\"\",IF(Kredsudvælgelse!AJ$2=1,IF(ISTEXT(DGET(Forespørgsel1[#All],\"\"&LEFT($F79,LEN($F79)-$C79)&\"\",Kredsudvælgelse!$W$6:$X$7))=TRUE,DGET(Forespørgsel1[#All],\"\"&LEFT($F79,LEN($F79)-$C79)&\"\",Kredsudvælgelse!$W$6:$X$7),DGET(Forespørgsel1[#All],\"\"&LEFT($F79,LEN($F79)-$C79)&\"\",Kredsudvælgelse!$W$6:$X$7)/IF(ISNONTEXT($D79)=TRUE,1,DGET(Forespørgsel1[#All],\"\"&$D79&\"\",Kredsudvælgelse!$W$6:$X$7))),IF(ISBLANK(HLOOKUP(S$12,'Statiske ejendomme'!$B$3:$OF$80,'Statiske ejendomme'!$A72,FALSE))=FALSE,HLOOKUP(S$12,'Statiske ejendomme'!$B$3:$OF$80,'Statiske ejendomme'!$A72,FALSE),\"\"))),\"\")","v":""},{"$f":"IFERROR(IF(T$12=Kredsudvælgelse!$Q$20,\"\",IF(Kredsudvælgelse!AK$2=1,IF(ISTEXT(DGET(Forespørgsel1[#All],\"\"&LEFT($F79,LEN($F79)-$C79)&\"\",Kredsudvælgelse!$Y$6:$Z$7))=TRUE,DGET(Forespørgsel1[#All],\"\"&LEFT($F79,LEN($F79)-$C79)&\"\",Kredsudvælgelse!$Y$6:$Z$7),DGET(Forespørgsel1[#All],\"\"&LEFT($F79,LEN($F79)-$C79)&\"\",Kredsudvælgelse!$Y$6:$Z$7)/IF(ISNONTEXT($D79)=TRUE,1,DGET(Forespørgsel1[#All],\"\"&$D79&\"\",Kredsudvælgelse!$Y$6:$Z$7))),IF(ISBLANK(HLOOKUP(T$12,'Statiske ejendomme'!$B$3:$OF$80,'Statiske ejendomme'!$A72,FALSE))=FALSE,HLOOKUP(T$12,'Statiske ejendomme'!$B$3:$OF$80,'Statiske ejendomme'!$A72,FALSE),\"\"))),\"\")","v":""}]
[1,{"$f":"Slagtekalve!D152","v":201},{"$f":"Slagtekalve!A71","v":0},{"$f":"Slagtekalve!B71","v":"Antal Producerede kalve"},null,{"$f":"Slagtekalve!C71","v":"Årets resultat"},{"$f":"IF(Choices!$A$1=2,Landsgennemsnit!B71,IF(Choices!$A$1=3,Landsgennemsnit!E71,\"\"))","v":279.91987324581214},{"$f":"IF(Choices!$A$1=2,Landsgennemsnit!C71,IF(Choices!$A$1=3,Landsgennemsnit!F71,\"\"))","v":929.76721170395842},{"$f":"IF(OR(Choices!$A$1=2,Choices!$A$1=3),Slagtekalve!F71,\"\")","v":""},{"$f":"IF(OR(Choices!$A$1=2,Choices!$A$1=3),Slagtekalve!G71,\"\")","v":""},{"$f":"IFERROR(IF(K$12=Kredsudvælgelse!$Q$20,\"\",IF(Kredsudvælgelse!AB$2=1,IF(ISTEXT(DGET(Forespørgsel1[#All],\"\"&LEFT($F80,LEN($F80)-$C80)&\"\",Kredsudvælgelse!$Q$2:$R$3))=TRUE,DGET(Forespørgsel1[#All],\"\"&LEFT($F80,LEN($F80)-$C80)&\"\",Kredsudvælgelse!$Q$2:$R$3),DGET(Forespørgsel1[#All],\"\"&LEFT($F80,LEN($F80)-$C80)&\"\",Kredsudvælgelse!$Q$2:$R$3)/IF(ISNONTEXT($D80)=TRUE,1,DGET(Forespørgsel1[#All],\"\"&$D80&\"\",Kredsudvælgelse!$Q$2:$R$3))),IF(ISBLANK(HLOOKUP(K$12,'Statiske ejendomme'!$B$3:$OF$80,'Statiske ejendomme'!$A73,FALSE))=FALSE,HLOOKUP(K$12,'Statiske ejendomme'!$B$3:$OF$80,'Statiske ejendomme'!$A73,FALSE),\"\"))),\"\")","v":1176.7433628318583},{"$f":"IFERROR(IF(L$12=Kredsudvælgelse!$Q$20,\"\",IF(Kredsudvælgelse!AC$2=1,IF(ISTEXT(DGET(Forespørgsel1[#All],\"\"&LEFT($F80,LEN($F80)-$C80)&\"\",Kredsudvælgelse!$S$2:$T$3))=TRUE,DGET(Forespørgsel1[#All],\"\"&LEFT($F80,LEN($F80)-$C80)&\"\",Kredsudvælgelse!$S$2:$T$3),DGET(Forespørgsel1[#All],\"\"&LEFT($F80,LEN($F80)-$C80)&\"\",Kredsudvælgelse!$S$2:$T$3)/IF(ISNONTEXT($D80)=TRUE,1,DGET(Forespørgsel1[#All],\"\"&$D80&\"\",Kredsudvælgelse!$S$2:$T$3))),IF(ISBLANK(HLOOKUP(L$12,'Statiske ejendomme'!$B$3:$OF$80,'Statiske ejendomme'!$A73,FALSE))=FALSE,HLOOKUP(L$12,'Statiske ejendomme'!$B$3:$OF$80,'Statiske ejendomme'!$A73,FALSE),\"\"))),\"\")","v":840.98765432098764},{"$f":"IFERROR(IF(M$12=Kredsudvælgelse!$Q$20,\"\",IF(Kredsudvælgelse!AD$2=1,IF(ISTEXT(DGET(Forespørgsel1[#All],\"\"&LEFT($F80,LEN($F80)-$C80)&\"\",Kredsudvælgelse!$U$2:$V$3))=TRUE,DGET(Forespørgsel1[#All],\"\"&LEFT($F80,LEN($F80)-$C80)&\"\",Kredsudvælgelse!$U$2:$V$3),DGET(Forespørgsel1[#All],\"\"&LEFT($F80,LEN($F80)-$C80)&\"\",Kredsudvælgelse!$U$2:$V$3)/IF(ISNONTEXT($D80)=TRUE,1,DGET(Forespørgsel1[#All],\"\"&$D80&\"\",Kredsudvælgelse!$U$2:$V$3))),IF(ISBLANK(HLOOKUP(M$12,'Statiske ejendomme'!$B$3:$OF$80,'Statiske ejendomme'!$A73,FALSE))=FALSE,HLOOKUP(M$12,'Statiske ejendomme'!$B$3:$OF$80,'Statiske ejendomme'!$A73,FALSE),\"\"))),\"\")","v":780.94318181818187},{"$f":"IFERROR(IF(N$12=Kredsudvælgelse!$Q$20,\"\",IF(Kredsudvælgelse!AE$2=1,IF(ISTEXT(DGET(Forespørgsel1[#All],\"\"&LEFT($F80,LEN($F80)-$C80)&\"\",Kredsudvælgelse!$W$2:$X$3))=TRUE,DGET(Forespørgsel1[#All],\"\"&LEFT($F80,LEN($F80)-$C80)&\"\",Kredsudvælgelse!$W$2:$X$3),DGET(Forespørgsel1[#All],\"\"&LEFT($F80,LEN($F80)-$C80)&\"\",Kredsudvælgelse!$W$2:$X$3)/IF(ISNONTEXT($D80)=TRUE,1,DGET(Forespørgsel1[#All],\"\"&$D80&\"\",Kredsudvælgelse!$W$2:$X$3))),IF(ISBLANK(HLOOKUP(N$12,'Statiske ejendomme'!$B$3:$OF$80,'Statiske ejendomme'!$A73,FALSE))=FALSE,HLOOKUP(N$12,'Statiske ejendomme'!$B$3:$OF$80,'Statiske ejendomme'!$A73,FALSE),\"\"))),\"\")","v":696.09847878302639},{"$f":"IFERROR(IF(O$12=Kredsudvælgelse!$Q$20,\"\",IF(Kredsudvælgelse!AF$2=1,IF(ISTEXT(DGET(Forespørgsel1[#All],\"\"&LEFT($F80,LEN($F80)-$C80)&\"\",Kredsudvælgelse!$Y$2:$Z$3))=TRUE,DGET(Forespørgsel1[#All],\"\"&LEFT($F80,LEN($F80)-$C80)&\"\",Kredsudvælgelse!$Y$2:$Z$3),DGET(Forespørgsel1[#All],\"\"&LEFT($F80,LEN($F80)-$C80)&\"\",Kredsudvælgelse!$Y$2:$Z$3)/IF(ISNONTEXT($D80)=TRUE,1,DGET(Forespørgsel1[#All],\"\"&$D80&\"\",Kredsudvælgelse!$Y$2:$Z$3))),IF(ISBLANK(HLOOKUP(O$12,'Statiske ejendomme'!$B$3:$OF$80,'Statiske ejendomme'!$A73,FALSE))=FALSE,HLOOKUP(O$12,'Statiske ejendomme'!$B$3:$OF$80,'Statiske ejendomme'!$A73,FALSE),\"\"))),\"\")","v":354.07425742574259},{"$f":"IFERROR(IF(P$12=Kredsudvælgelse!$Q$20,\"\",IF(Kredsudvælgelse!AG$2=1,IF(ISTEXT(DGET(Forespørgsel1[#All],\"\"&LEFT($F80,LEN($F80)-$C80)&\"\",Kredsudvælgelse!$Q$6:$R$7))=TRUE,DGET(Forespørgsel1[#All],\"\"&LEFT($F80,LEN($F80)-$C80)&\"\",Kredsudvælgelse!$Q$6:$R$7),DGET(Forespørgsel1[#All],\"\"&LEFT($F80,LEN($F80)-$C80)&\"\",Kredsudvælgelse!$Q$6:$R$7)/IF(ISNONTEXT($D80)=TRUE,1,DGET(Forespørgsel1[#All],\"\"&$D80&\"\",Kredsudvælgelse!$Q$6:$R$7))),IF(ISBLANK(HLOOKUP(P$12,'Statiske ejendomme'!$B$3:$OF$80,'Statiske ejendomme'!#REF!,FALSE))=FALSE,HLOOKUP(P$12,'Statiske ejendomme'!$B$3:$OF$80,'Statiske ejendomme'!#REF!,FALSE),\"\"))),\"\")","v":""},{"$f":"IFERROR(IF(Q$12=Kredsudvælgelse!$Q$20,\"\",IF(Kredsudvælgelse!AH$2=1,IF(ISTEXT(DGET(Forespørgsel1[#All],\"\"&LEFT($F80,LEN($F80)-$C80)&\"\",Kredsudvælgelse!$S$6:$T$7))=TRUE,DGET(Forespørgsel1[#All],\"\"&LEFT($F80,LEN($F80)-$C80)&\"\",Kredsudvælgelse!$S$6:$T$7),DGET(Forespørgsel1[#All],\"\"&LEFT($F80,LEN($F80)-$C80)&\"\",Kredsudvælgelse!$S$6:$T$7)/IF(ISNONTEXT($D80)=TRUE,1,DGET(Forespørgsel1[#All],\"\"&$D80&\"\",Kredsudvælgelse!$S$6:$T$7))),IF(ISBLANK(HLOOKUP(Q$12,'Statiske ejendomme'!$B$3:$OF$80,'Statiske ejendomme'!$A73,FALSE))=FALSE,HLOOKUP(Q$12,'Statiske ejendomme'!$B$3:$OF$80,'Statiske ejendomme'!$A73,FALSE),\"\"))),\"\")","v":-37.456140350877192},{"$f":"IFERROR(IF(R$12=Kredsudvælgelse!$Q$20,\"\",IF(Kredsudvælgelse!AI$2=1,IF(ISTEXT(DGET(Forespørgsel1[#All],\"\"&LEFT($F80,LEN($F80)-$C80)&\"\",Kredsudvælgelse!$U$6:$V$7))=TRUE,DGET(Forespørgsel1[#All],\"\"&LEFT($F80,LEN($F80)-$C80)&\"\",Kredsudvælgelse!$U$6:$V$7),DGET(Forespørgsel1[#All],\"\"&LEFT($F80,LEN($F80)-$C80)&\"\",Kredsudvælgelse!$U$6:$V$7)/IF(ISNONTEXT($D80)=TRUE,1,DGET(Forespørgsel1[#All],\"\"&$D80&\"\",Kredsudvælgelse!$U$6:$V$7))),IF(ISBLANK(HLOOKUP(R$12,'Statiske ejendomme'!$B$3:$OF$80,'Statiske ejendomme'!$A73,FALSE))=FALSE,HLOOKUP(R$12,'Statiske ejendomme'!$B$3:$OF$80,'Statiske ejendomme'!$A73,FALSE),\"\"))),\"\")","v":-370.56385751520418},{"$f":"IFERROR(IF(S$12=Kredsudvælgelse!$Q$20,\"\",IF(Kredsudvælgelse!AJ$2=1,IF(ISTEXT(DGET(Forespørgsel1[#All],\"\"&LEFT($F80,LEN($F80)-$C80)&\"\",Kredsudvælgelse!$W$6:$X$7))=TRUE,DGET(Forespørgsel1[#All],\"\"&LEFT($F80,LEN($F80)-$C80)&\"\",Kredsudvælgelse!$W$6:$X$7),DGET(Forespørgsel1[#All],\"\"&LEFT($F80,LEN($F80)-$C80)&\"\",Kredsudvælgelse!$W$6:$X$7)/IF(ISNONTEXT($D80)=TRUE,1,DGET(Forespørgsel1[#All],\"\"&$D80&\"\",Kredsudvælgelse!$W$6:$X$7))),IF(ISBLANK(HLOOKUP(S$12,'Statiske ejendomme'!$B$3:$OF$80,'Statiske ejendomme'!$A73,FALSE))=FALSE,HLOOKUP(S$12,'Statiske ejendomme'!$B$3:$OF$80,'Statiske ejendomme'!$A73,FALSE),\"\"))),\"\")","v":107.86619718309859},{"$f":"IFERROR(IF(T$12=Kredsudvælgelse!$Q$20,\"\",IF(Kredsudvælgelse!AK$2=1,IF(ISTEXT(DGET(Forespørgsel1[#All],\"\"&LEFT($F80,LEN($F80)-$C80)&\"\",Kredsudvælgelse!$Y$6:$Z$7))=TRUE,DGET(Forespørgsel1[#All],\"\"&LEFT($F80,LEN($F80)-$C80)&\"\",Kredsudvælgelse!$Y$6:$Z$7),DGET(Forespørgsel1[#All],\"\"&LEFT($F80,LEN($F80)-$C80)&\"\",Kredsudvælgelse!$Y$6:$Z$7)/IF(ISNONTEXT($D80)=TRUE,1,DGET(Forespørgsel1[#All],\"\"&$D80&\"\",Kredsudvælgelse!$Y$6:$Z$7))),IF(ISBLANK(HLOOKUP(T$12,'Statiske ejendomme'!$B$3:$OF$80,'Statiske ejendomme'!$A73,FALSE))=FALSE,HLOOKUP(T$12,'Statiske ejendomme'!$B$3:$OF$80,'Statiske ejendomme'!$A73,FALSE),\"\"))),\"\")","v":809.07064676616915}]
[null,null,{"$f":"Slagtekalve!A72","v":0},{"$f":"Slagtekalve!B72","v":0},null,null,null,null,{"$f":"IF(OR(Choices!$A$1=2,Choices!$A$1=3),Slagtekalve!F72,\"\")","v":""},{"$f":"IF(OR(Choices!$A$1=2,Choices!$A$1=3),Slagtekalve!G72,\"\")","v":""},{"$f":"IFERROR(IF(K$12=Kredsudvælgelse!$Q$20,\"\",IF(Kredsudvælgelse!AB$2=1,IF(ISTEXT(DGET(Forespørgsel1[#All],\"\"&LEFT($F81,LEN($F81)-$C81)&\"\",Kredsudvælgelse!$Q$2:$R$3))=TRUE,DGET(Forespørgsel1[#All],\"\"&LEFT($F81,LEN($F81)-$C81)&\"\",Kredsudvælgelse!$Q$2:$R$3),DGET(Forespørgsel1[#All],\"\"&LEFT($F81,LEN($F81)-$C81)&\"\",Kredsudvælgelse!$Q$2:$R$3)/IF(ISNONTEXT($D81)=TRUE,1,DGET(Forespørgsel1[#All],\"\"&$D81&\"\",Kredsudvælgelse!$Q$2:$R$3))),IF(ISBLANK(HLOOKUP(K$12,'Statiske ejendomme'!$B$3:$OF$80,'Statiske ejendomme'!$A74,FALSE))=FALSE,HLOOKUP(K$12,'Statiske ejendomme'!$B$3:$OF$80,'Statiske ejendomme'!$A74,FALSE),\"\"))),\"\")","v":""},{"$f":"IFERROR(IF(L$12=Kredsudvælgelse!$Q$20,\"\",IF(Kredsudvælgelse!AC$2=1,IF(ISTEXT(DGET(Forespørgsel1[#All],\"\"&LEFT($F81,LEN($F81)-$C81)&\"\",Kredsudvælgelse!$S$2:$T$3))=TRUE,DGET(Forespørgsel1[#All],\"\"&LEFT($F81,LEN($F81)-$C81)&\"\",Kredsudvælgelse!$S$2:$T$3),DGET(Forespørgsel1[#All],\"\"&LEFT($F81,LEN($F81)-$C81)&\"\",Kredsudvælgelse!$S$2:$T$3)/IF(ISNONTEXT($D81)=TRUE,1,DGET(Forespørgsel1[#All],\"\"&$D81&\"\",Kredsudvælgelse!$S$2:$T$3))),IF(ISBLANK(HLOOKUP(L$12,'Statiske ejendomme'!$B$3:$OF$80,'Statiske ejendomme'!$A74,FALSE))=FALSE,HLOOKUP(L$12,'Statiske ejendomme'!$B$3:$OF$80,'Statiske ejendomme'!$A74,FALSE),\"\"))),\"\")","v":""},{"$f":"IFERROR(IF(M$12=Kredsudvælgelse!$Q$20,\"\",IF(Kredsudvælgelse!AD$2=1,IF(ISTEXT(DGET(Forespørgsel1[#All],\"\"&LEFT($F81,LEN($F81)-$C81)&\"\",Kredsudvælgelse!$U$2:$V$3))=TRUE,DGET(Forespørgsel1[#All],\"\"&LEFT($F81,LEN($F81)-$C81)&\"\",Kredsudvælgelse!$U$2:$V$3),DGET(Forespørgsel1[#All],\"\"&LEFT($F81,LEN($F81)-$C81)&\"\",Kredsudvælgelse!$U$2:$V$3)/IF(ISNONTEXT($D81)=TRUE,1,DGET(Forespørgsel1[#All],\"\"&$D81&\"\",Kredsudvælgelse!$U$2:$V$3))),IF(ISBLANK(HLOOKUP(M$12,'Statiske ejendomme'!$B$3:$OF$80,'Statiske ejendomme'!$A74,FALSE))=FALSE,HLOOKUP(M$12,'Statiske ejendomme'!$B$3:$OF$80,'Statiske ejendomme'!$A74,FALSE),\"\"))),\"\")","v":""},{"$f":"IFERROR(IF(N$12=Kredsudvælgelse!$Q$20,\"\",IF(Kredsudvælgelse!AE$2=1,IF(ISTEXT(DGET(Forespørgsel1[#All],\"\"&LEFT($F81,LEN($F81)-$C81)&\"\",Kredsudvælgelse!$W$2:$X$3))=TRUE,DGET(Forespørgsel1[#All],\"\"&LEFT($F81,LEN($F81)-$C81)&\"\",Kredsudvælgelse!$W$2:$X$3),DGET(Forespørgsel1[#All],\"\"&LEFT($F81,LEN($F81)-$C81)&\"\",Kredsudvælgelse!$W$2:$X$3)/IF(ISNONTEXT($D81)=TRUE,1,DGET(Forespørgsel1[#All],\"\"&$D81&\"\",Kredsudvælgelse!$W$2:$X$3))),IF(ISBLANK(HLOOKUP(N$12,'Statiske ejendomme'!$B$3:$OF$80,'Statiske ejendomme'!$A74,FALSE))=FALSE,HLOOKUP(N$12,'Statiske ejendomme'!$B$3:$OF$80,'Statiske ejendomme'!$A74,FALSE),\"\"))),\"\")","v":""},{"$f":"IFERROR(IF(O$12=Kredsudvælgelse!$Q$20,\"\",IF(Kredsudvælgelse!AF$2=1,IF(ISTEXT(DGET(Forespørgsel1[#All],\"\"&LEFT($F81,LEN($F81)-$C81)&\"\",Kredsudvælgelse!$Y$2:$Z$3))=TRUE,DGET(Forespørgsel1[#All],\"\"&LEFT($F81,LEN($F81)-$C81)&\"\",Kredsudvælgelse!$Y$2:$Z$3),DGET(Forespørgsel1[#All],\"\"&LEFT($F81,LEN($F81)-$C81)&\"\",Kredsudvælgelse!$Y$2:$Z$3)/IF(ISNONTEXT($D81)=TRUE,1,DGET(Forespørgsel1[#All],\"\"&$D81&\"\",Kredsudvælgelse!$Y$2:$Z$3))),IF(ISBLANK(HLOOKUP(O$12,'Statiske ejendomme'!$B$3:$OF$80,'Statiske ejendomme'!$A74,FALSE))=FALSE,HLOOKUP(O$12,'Statiske ejendomme'!$B$3:$OF$80,'Statiske ejendomme'!$A74,FALSE),\"\"))),\"\")","v":""},{"$f":"IFERROR(IF(P$12=Kredsudvælgelse!$Q$20,\"\",IF(Kredsudvælgelse!AG$2=1,IF(ISTEXT(DGET(Forespørgsel1[#All],\"\"&LEFT($F81,LEN($F81)-$C81)&\"\",Kredsudvælgelse!$Q$6:$R$7))=TRUE,DGET(Forespørgsel1[#All],\"\"&LEFT($F81,LEN($F81)-$C81)&\"\",Kredsudvælgelse!$Q$6:$R$7),DGET(Forespørgsel1[#All],\"\"&LEFT($F81,LEN($F81)-$C81)&\"\",Kredsudvælgelse!$Q$6:$R$7)/IF(ISNONTEXT($D81)=TRUE,1,DGET(Forespørgsel1[#All],\"\"&$D81&\"\",Kredsudvælgelse!$Q$6:$R$7))),IF(ISBLANK(HLOOKUP(P$12,'Statiske ejendomme'!$B$3:$OF$80,'Statiske ejendomme'!#REF!,FALSE))=FALSE,HLOOKUP(P$12,'Statiske ejendomme'!$B$3:$OF$80,'Statiske ejendomme'!#REF!,FALSE),\"\"))),\"\")","v":""},{"$f":"IFERROR(IF(Q$12=Kredsudvælgelse!$Q$20,\"\",IF(Kredsudvælgelse!AH$2=1,IF(ISTEXT(DGET(Forespørgsel1[#All],\"\"&LEFT($F81,LEN($F81)-$C81)&\"\",Kredsudvælgelse!$S$6:$T$7))=TRUE,DGET(Forespørgsel1[#All],\"\"&LEFT($F81,LEN($F81)-$C81)&\"\",Kredsudvælgelse!$S$6:$T$7),DGET(Forespørgsel1[#All],\"\"&LEFT($F81,LEN($F81)-$C81)&\"\",Kredsudvælgelse!$S$6:$T$7)/IF(ISNONTEXT($D81)=TRUE,1,DGET(Forespørgsel1[#All],\"\"&$D81&\"\",Kredsudvælgelse!$S$6:$T$7))),IF(ISBLANK(HLOOKUP(Q$12,'Statiske ejendomme'!$B$3:$OF$80,'Statiske ejendomme'!$A74,FALSE))=FALSE,HLOOKUP(Q$12,'Statiske ejendomme'!$B$3:$OF$80,'Statiske ejendomme'!$A74,FALSE),\"\"))),\"\")","v":""},{"$f":"IFERROR(IF(R$12=Kredsudvælgelse!$Q$20,\"\",IF(Kredsudvælgelse!AI$2=1,IF(ISTEXT(DGET(Forespørgsel1[#All],\"\"&LEFT($F81,LEN($F81)-$C81)&\"\",Kredsudvælgelse!$U$6:$V$7))=TRUE,DGET(Forespørgsel1[#All],\"\"&LEFT($F81,LEN($F81)-$C81)&\"\",Kredsudvælgelse!$U$6:$V$7),DGET(Forespørgsel1[#All],\"\"&LEFT($F81,LEN($F81)-$C81)&\"\",Kredsudvælgelse!$U$6:$V$7)/IF(ISNONTEXT($D81)=TRUE,1,DGET(Forespørgsel1[#All],\"\"&$D81&\"\",Kredsudvælgelse!$U$6:$V$7))),IF(ISBLANK(HLOOKUP(R$12,'Statiske ejendomme'!$B$3:$OF$80,'Statiske ejendomme'!$A74,FALSE))=FALSE,HLOOKUP(R$12,'Statiske ejendomme'!$B$3:$OF$80,'Statiske ejendomme'!$A74,FALSE),\"\"))),\"\")","v":""},{"$f":"IFERROR(IF(S$12=Kredsudvælgelse!$Q$20,\"\",IF(Kredsudvælgelse!AJ$2=1,IF(ISTEXT(DGET(Forespørgsel1[#All],\"\"&LEFT($F81,LEN($F81)-$C81)&\"\",Kredsudvælgelse!$W$6:$X$7))=TRUE,DGET(Forespørgsel1[#All],\"\"&LEFT($F81,LEN($F81)-$C81)&\"\",Kredsudvælgelse!$W$6:$X$7),DGET(Forespørgsel1[#All],\"\"&LEFT($F81,LEN($F81)-$C81)&\"\",Kredsudvælgelse!$W$6:$X$7)/IF(ISNONTEXT($D81)=TRUE,1,DGET(Forespørgsel1[#All],\"\"&$D81&\"\",Kredsudvælgelse!$W$6:$X$7))),IF(ISBLANK(HLOOKUP(S$12,'Statiske ejendomme'!$B$3:$OF$80,'Statiske ejendomme'!$A74,FALSE))=FALSE,HLOOKUP(S$12,'Statiske ejendomme'!$B$3:$OF$80,'Statiske ejendomme'!$A74,FALSE),\"\"))),\"\")","v":""},{"$f":"IFERROR(IF(T$12=Kredsudvælgelse!$Q$20,\"\",IF(Kredsudvælgelse!AK$2=1,IF(ISTEXT(DGET(Forespørgsel1[#All],\"\"&LEFT($F81,LEN($F81)-$C81)&\"\",Kredsudvælgelse!$Y$6:$Z$7))=TRUE,DGET(Forespørgsel1[#All],\"\"&LEFT($F81,LEN($F81)-$C81)&\"\",Kredsudvælgelse!$Y$6:$Z$7),DGET(Forespørgsel1[#All],\"\"&LEFT($F81,LEN($F81)-$C81)&\"\",Kredsudvælgelse!$Y$6:$Z$7)/IF(ISNONTEXT($D81)=TRUE,1,DGET(Forespørgsel1[#All],\"\"&$D81&\"\",Kredsudvælgelse!$Y$6:$Z$7))),IF(ISBLANK(HLOOKUP(T$12,'Statiske ejendomme'!$B$3:$OF$80,'Statiske ejendomme'!$A74,FALSE))=FALSE,HLOOKUP(T$12,'Statiske ejendomme'!$B$3:$OF$80,'Statiske ejendomme'!$A74,FALSE),\"\"))),\"\")","v":""}]
[null,null,null,{"$f":"Slagtekalve!B73","v":0},null,null,null,null,{"$f":"IF(OR(Choices!$A$1=2,Choices!$A$1=3),Slagtekalve!F73,\"\")","v":""},{"$f":"IF(OR(Choices!$A$1=2,Choices!$A$1=3),Slagtekalve!G73,\"\")","v":""},{"$f":"IFERROR(IF(K$12=Kredsudvælgelse!$Q$20,\"\",IF(Kredsudvælgelse!AB$2=1,IF(ISTEXT(DGET(Forespørgsel1[#All],\"\"&LEFT($F82,LEN($F82)-$C82)&\"\",Kredsudvælgelse!$Q$2:$R$3))=TRUE,DGET(Forespørgsel1[#All],\"\"&LEFT($F82,LEN($F82)-$C82)&\"\",Kredsudvælgelse!$Q$2:$R$3),DGET(Forespørgsel1[#All],\"\"&LEFT($F82,LEN($F82)-$C82)&\"\",Kredsudvælgelse!$Q$2:$R$3)/IF(ISNONTEXT($D82)=TRUE,1,DGET(Forespørgsel1[#All],\"\"&$D82&\"\",Kredsudvælgelse!$Q$2:$R$3))),IF(ISBLANK(HLOOKUP(K$12,'Statiske ejendomme'!$B$3:$OF$80,'Statiske ejendomme'!#REF!,FALSE))=FALSE,HLOOKUP(K$12,'Statiske ejendomme'!$B$3:$OF$80,'Statiske ejendomme'!#REF!,FALSE),\"\"))),\"\")","v":""},{"$f":"IFERROR(IF(L$12=Kredsudvælgelse!$Q$20,\"\",IF(Kredsudvælgelse!AC$2=1,IF(ISTEXT(DGET(Forespørgsel1[#All],\"\"&LEFT($F82,LEN($F82)-$C82)&\"\",Kredsudvælgelse!$S$2:$T$3))=TRUE,DGET(Forespørgsel1[#All],\"\"&LEFT($F82,LEN($F82)-$C82)&\"\",Kredsudvælgelse!$S$2:$T$3),DGET(Forespørgsel1[#All],\"\"&LEFT($F82,LEN($F82)-$C82)&\"\",Kredsudvælgelse!$S$2:$T$3)/IF(ISNONTEXT($D82)=TRUE,1,DGET(Forespørgsel1[#All],\"\"&$D82&\"\",Kredsudvælgelse!$S$2:$T$3))),IF(ISBLANK(HLOOKUP(L$12,'Statiske ejendomme'!$B$3:$OF$80,'Statiske ejendomme'!#REF!,FALSE))=FALSE,HLOOKUP(L$12,'Statiske ejendomme'!$B$3:$OF$80,'Statiske ejendomme'!#REF!,FALSE),\"\"))),\"\")","v":""},{"$f":"IFERROR(IF(M$12=Kredsudvælgelse!$Q$20,\"\",IF(Kredsudvælgelse!AD$2=1,IF(ISTEXT(DGET(Forespørgsel1[#All],\"\"&LEFT($F82,LEN($F82)-$C82)&\"\",Kredsudvælgelse!$U$2:$V$3))=TRUE,DGET(Forespørgsel1[#All],\"\"&LEFT($F82,LEN($F82)-$C82)&\"\",Kredsudvælgelse!$U$2:$V$3),DGET(Forespørgsel1[#All],\"\"&LEFT($F82,LEN($F82)-$C82)&\"\",Kredsudvælgelse!$U$2:$V$3)/IF(ISNONTEXT($D82)=TRUE,1,DGET(Forespørgsel1[#All],\"\"&$D82&\"\",Kredsudvælgelse!$U$2:$V$3))),IF(ISBLANK(HLOOKUP(M$12,'Statiske ejendomme'!$B$3:$OF$80,'Statiske ejendomme'!#REF!,FALSE))=FALSE,HLOOKUP(M$12,'Statiske ejendomme'!$B$3:$OF$80,'Statiske ejendomme'!#REF!,FALSE),\"\"))),\"\")","v":""},{"$f":"IFERROR(IF(N$12=Kredsudvælgelse!$Q$20,\"\",IF(Kredsudvælgelse!AE$2=1,IF(ISTEXT(DGET(Forespørgsel1[#All],\"\"&LEFT($F82,LEN($F82)-$C82)&\"\",Kredsudvælgelse!$W$2:$X$3))=TRUE,DGET(Forespørgsel1[#All],\"\"&LEFT($F82,LEN($F82)-$C82)&\"\",Kredsudvælgelse!$W$2:$X$3),DGET(Forespørgsel1[#All],\"\"&LEFT($F82,LEN($F82)-$C82)&\"\",Kredsudvælgelse!$W$2:$X$3)/IF(ISNONTEXT($D82)=TRUE,1,DGET(Forespørgsel1[#All],\"\"&$D82&\"\",Kredsudvælgelse!$W$2:$X$3))),IF(ISBLANK(HLOOKUP(N$12,'Statiske ejendomme'!$B$3:$OF$80,'Statiske ejendomme'!#REF!,FALSE))=FALSE,HLOOKUP(N$12,'Statiske ejendomme'!$B$3:$OF$80,'Statiske ejendomme'!#REF!,FALSE),\"\"))),\"\")","v":""},{"$f":"IFERROR(IF(O$12=Kredsudvælgelse!$Q$20,\"\",IF(Kredsudvælgelse!AF$2=1,IF(ISTEXT(DGET(Forespørgsel1[#All],\"\"&LEFT($F82,LEN($F82)-$C82)&\"\",Kredsudvælgelse!$Y$2:$Z$3))=TRUE,DGET(Forespørgsel1[#All],\"\"&LEFT($F82,LEN($F82)-$C82)&\"\",Kredsudvælgelse!$Y$2:$Z$3),DGET(Forespørgsel1[#All],\"\"&LEFT($F82,LEN($F82)-$C82)&\"\",Kredsudvælgelse!$Y$2:$Z$3)/IF(ISNONTEXT($D82)=TRUE,1,DGET(Forespørgsel1[#All],\"\"&$D82&\"\",Kredsudvælgelse!$Y$2:$Z$3))),IF(ISBLANK(HLOOKUP(O$12,'Statiske ejendomme'!$B$3:$OF$80,'Statiske ejendomme'!$A75,FALSE))=FALSE,HLOOKUP(O$12,'Statiske ejendomme'!$B$3:$OF$80,'Statiske ejendomme'!$A75,FALSE),\"\"))),\"\")","v":""},{"$f":"IFERROR(IF(P$12=Kredsudvælgelse!$Q$20,\"\",IF(Kredsudvælgelse!AG$2=1,IF(ISTEXT(DGET(Forespørgsel1[#All],\"\"&LEFT($F82,LEN($F82)-$C82)&\"\",Kredsudvælgelse!$Q$6:$R$7))=TRUE,DGET(Forespørgsel1[#All],\"\"&LEFT($F82,LEN($F82)-$C82)&\"\",Kredsudvælgelse!$Q$6:$R$7),DGET(Forespørgsel1[#All],\"\"&LEFT($F82,LEN($F82)-$C82)&\"\",Kredsudvælgelse!$Q$6:$R$7)/IF(ISNONTEXT($D82)=TRUE,1,DGET(Forespørgsel1[#All],\"\"&$D82&\"\",Kredsudvælgelse!$Q$6:$R$7))),IF(ISBLANK(HLOOKUP(P$12,'Statiske ejendomme'!$B$3:$OF$80,'Statiske ejendomme'!#REF!,FALSE))=FALSE,HLOOKUP(P$12,'Statiske ejendomme'!$B$3:$OF$80,'Statiske ejendomme'!#REF!,FALSE),\"\"))),\"\")","v":""},{"$f":"IFERROR(IF(Q$12=Kredsudvælgelse!$Q$20,\"\",IF(Kredsudvælgelse!AH$2=1,IF(ISTEXT(DGET(Forespørgsel1[#All],\"\"&LEFT($F82,LEN($F82)-$C82)&\"\",Kredsudvælgelse!$S$6:$T$7))=TRUE,DGET(Forespørgsel1[#All],\"\"&LEFT($F82,LEN($F82)-$C82)&\"\",Kredsudvælgelse!$S$6:$T$7),DGET(Forespørgsel1[#All],\"\"&LEFT($F82,LEN($F82)-$C82)&\"\",Kredsudvælgelse!$S$6:$T$7)/IF(ISNONTEXT($D82)=TRUE,1,DGET(Forespørgsel1[#All],\"\"&$D82&\"\",Kredsudvælgelse!$S$6:$T$7))),IF(ISBLANK(HLOOKUP(Q$12,'Statiske ejendomme'!$B$3:$OF$80,'Statiske ejendomme'!#REF!,FALSE))=FALSE,HLOOKUP(Q$12,'Statiske ejendomme'!$B$3:$OF$80,'Statiske ejendomme'!#REF!,FALSE),\"\"))),\"\")","v":""},{"$f":"IFERROR(IF(R$12=Kredsudvælgelse!$Q$20,\"\",IF(Kredsudvælgelse!AI$2=1,IF(ISTEXT(DGET(Forespørgsel1[#All],\"\"&LEFT($F82,LEN($F82)-$C82)&\"\",Kredsudvælgelse!$U$6:$V$7))=TRUE,DGET(Forespørgsel1[#All],\"\"&LEFT($F82,LEN($F82)-$C82)&\"\",Kredsudvælgelse!$U$6:$V$7),DGET(Forespørgsel1[#All],\"\"&LEFT($F82,LEN($F82)-$C82)&\"\",Kredsudvælgelse!$U$6:$V$7)/IF(ISNONTEXT($D82)=TRUE,1,DGET(Forespørgsel1[#All],\"\"&$D82&\"\",Kredsudvælgelse!$U$6:$V$7))),IF(ISBLANK(HLOOKUP(R$12,'Statiske ejendomme'!$B$3:$OF$80,'Statiske ejendomme'!#REF!,FALSE))=FALSE,HLOOKUP(R$12,'Statiske ejendomme'!$B$3:$OF$80,'Statiske ejendomme'!#REF!,FALSE),\"\"))),\"\")","v":""},{"$f":"IFERROR(IF(S$12=Kredsudvælgelse!$Q$20,\"\",IF(Kredsudvælgelse!AJ$2=1,IF(ISTEXT(DGET(Forespørgsel1[#All],\"\"&LEFT($F82,LEN($F82)-$C82)&\"\",Kredsudvælgelse!$W$6:$X$7))=TRUE,DGET(Forespørgsel1[#All],\"\"&LEFT($F82,LEN($F82)-$C82)&\"\",Kredsudvælgelse!$W$6:$X$7),DGET(Forespørgsel1[#All],\"\"&LEFT($F82,LEN($F82)-$C82)&\"\",Kredsudvælgelse!$W$6:$X$7)/IF(ISNONTEXT($D82)=TRUE,1,DGET(Forespørgsel1[#All],\"\"&$D82&\"\",Kredsudvælgelse!$W$6:$X$7))),IF(ISBLANK(HLOOKUP(S$12,'Statiske ejendomme'!$B$3:$OF$80,'Statiske ejendomme'!#REF!,FALSE))=FALSE,HLOOKUP(S$12,'Statiske ejendomme'!$B$3:$OF$80,'Statiske ejendomme'!#REF!,FALSE),\"\"))),\"\")","v":""},{"$f":"IFERROR(IF(T$12=Kredsudvælgelse!$Q$20,\"\",IF(Kredsudvælgelse!AK$2=1,IF(ISTEXT(DGET(Forespørgsel1[#All],\"\"&LEFT($F82,LEN($F82)-$C82)&\"\",Kredsudvælgelse!$Y$6:$Z$7))=TRUE,DGET(Forespørgsel1[#All],\"\"&LEFT($F82,LEN($F82)-$C82)&\"\",Kredsudvælgelse!$Y$6:$Z$7),DGET(Forespørgsel1[#All],\"\"&LEFT($F82,LEN($F82)-$C82)&\"\",Kredsudvælgelse!$Y$6:$Z$7)/IF(ISNONTEXT($D82)=TRUE,1,DGET(Forespørgsel1[#All],\"\"&$D82&\"\",Kredsudvælgelse!$Y$6:$Z$7))),IF(ISBLANK(HLOOKUP(T$12,'Statiske ejendomme'!$B$3:$OF$80,'Statiske ejendomme'!#REF!,FALSE))=FALSE,HLOOKUP(T$12,'Statiske ejendomme'!$B$3:$OF$80,'Statiske ejendomme'!#REF!,FALSE),\"\"))),\"\")","v":""}]
[null,null,null,{"$f":"Slagtekalve!B74","v":0},null,null,null,null,{"$f":"IF(OR(Choices!$A$1=2,Choices!$A$1=3),Slagtekalve!F74,\"\")","v":""},{"$f":"IF(OR(Choices!$A$1=2,Choices!$A$1=3),Slagtekalve!G74,\"\")","v":""},{"$f":"IFERROR(IF(K$12=Kredsudvælgelse!$Q$20,\"\",IF(Kredsudvælgelse!AB$2=1,IF(ISTEXT(DGET(Forespørgsel1[#All],\"\"&LEFT($F83,LEN($F83)-$C83)&\"\",Kredsudvælgelse!$Q$2:$R$3))=TRUE,DGET(Forespørgsel1[#All],\"\"&LEFT($F83,LEN($F83)-$C83)&\"\",Kredsudvælgelse!$Q$2:$R$3),DGET(Forespørgsel1[#All],\"\"&LEFT($F83,LEN($F83)-$C83)&\"\",Kredsudvælgelse!$Q$2:$R$3)/IF(ISNONTEXT($D83)=TRUE,1,DGET(Forespørgsel1[#All],\"\"&$D83&\"\",Kredsudvælgelse!$Q$2:$R$3))),IF(ISBLANK(HLOOKUP(K$12,'Statiske ejendomme'!$B$3:$OF$80,'Statiske ejendomme'!$A75,FALSE))=FALSE,HLOOKUP(K$12,'Statiske ejendomme'!$B$3:$OF$80,'Statiske ejendomme'!$A75,FALSE),\"\"))),\"\")","v":""},{"$f":"IFERROR(IF(L$12=Kredsudvælgelse!$Q$20,\"\",IF(Kredsudvælgelse!AC$2=1,IF(ISTEXT(DGET(Forespørgsel1[#All],\"\"&LEFT($F83,LEN($F83)-$C83)&\"\",Kredsudvælgelse!$S$2:$T$3))=TRUE,DGET(Forespørgsel1[#All],\"\"&LEFT($F83,LEN($F83)-$C83)&\"\",Kredsudvælgelse!$S$2:$T$3),DGET(Forespørgsel1[#All],\"\"&LEFT($F83,LEN($F83)-$C83)&\"\",Kredsudvælgelse!$S$2:$T$3)/IF(ISNONTEXT($D83)=TRUE,1,DGET(Forespørgsel1[#All],\"\"&$D83&\"\",Kredsudvælgelse!$S$2:$T$3))),IF(ISBLANK(HLOOKUP(L$12,'Statiske ejendomme'!$B$3:$OF$80,'Statiske ejendomme'!$A75,FALSE))=FALSE,HLOOKUP(L$12,'Statiske ejendomme'!$B$3:$OF$80,'Statiske ejendomme'!$A75,FALSE),\"\"))),\"\")","v":""},{"$f":"IFERROR(IF(M$12=Kredsudvælgelse!$Q$20,\"\",IF(Kredsudvælgelse!AD$2=1,IF(ISTEXT(DGET(Forespørgsel1[#All],\"\"&LEFT($F83,LEN($F83)-$C83)&\"\",Kredsudvælgelse!$U$2:$V$3))=TRUE,DGET(Forespørgsel1[#All],\"\"&LEFT($F83,LEN($F83)-$C83)&\"\",Kredsudvælgelse!$U$2:$V$3),DGET(Forespørgsel1[#All],\"\"&LEFT($F83,LEN($F83)-$C83)&\"\",Kredsudvælgelse!$U$2:$V$3)/IF(ISNONTEXT($D83)=TRUE,1,DGET(Forespørgsel1[#All],\"\"&$D83&\"\",Kredsudvælgelse!$U$2:$V$3))),IF(ISBLANK(HLOOKUP(M$12,'Statiske ejendomme'!$B$3:$OF$80,'Statiske ejendomme'!$A75,FALSE))=FALSE,HLOOKUP(M$12,'Statiske ejendomme'!$B$3:$OF$80,'Statiske ejendomme'!$A75,FALSE),\"\"))),\"\")","v":""},{"$f":"IFERROR(IF(N$12=Kredsudvælgelse!$Q$20,\"\",IF(Kredsudvælgelse!AE$2=1,IF(ISTEXT(DGET(Forespørgsel1[#All],\"\"&LEFT($F83,LEN($F83)-$C83)&\"\",Kredsudvælgelse!$W$2:$X$3))=TRUE,DGET(Forespørgsel1[#All],\"\"&LEFT($F83,LEN($F83)-$C83)&\"\",Kredsudvælgelse!$W$2:$X$3),DGET(Forespørgsel1[#All],\"\"&LEFT($F83,LEN($F83)-$C83)&\"\",Kredsudvælgelse!$W$2:$X$3)/IF(ISNONTEXT($D83)=TRUE,1,DGET(Forespørgsel1[#All],\"\"&$D83&\"\",Kredsudvælgelse!$W$2:$X$3))),IF(ISBLANK(HLOOKUP(N$12,'Statiske ejendomme'!$B$3:$OF$80,'Statiske ejendomme'!$A75,FALSE))=FALSE,HLOOKUP(N$12,'Statiske ejendomme'!$B$3:$OF$80,'Statiske ejendomme'!$A75,FALSE),\"\"))),\"\")","v":""},{"$f":"IFERROR(IF(O$12=Kredsudvælgelse!$Q$20,\"\",IF(Kredsudvælgelse!AF$2=1,IF(ISTEXT(DGET(Forespørgsel1[#All],\"\"&LEFT($F83,LEN($F83)-$C83)&\"\",Kredsudvælgelse!$Y$2:$Z$3))=TRUE,DGET(Forespørgsel1[#All],\"\"&LEFT($F83,LEN($F83)-$C83)&\"\",Kredsudvælgelse!$Y$2:$Z$3),DGET(Forespørgsel1[#All],\"\"&LEFT($F83,LEN($F83)-$C83)&\"\",Kredsudvælgelse!$Y$2:$Z$3)/IF(ISNONTEXT($D83)=TRUE,1,DGET(Forespørgsel1[#All],\"\"&$D83&\"\",Kredsudvælgelse!$Y$2:$Z$3))),IF(ISBLANK(HLOOKUP(O$12,'Statiske ejendomme'!$B$3:$OF$80,'Statiske ejendomme'!$A76,FALSE))=FALSE,HLOOKUP(O$12,'Statiske ejendomme'!$B$3:$OF$80,'Statiske ejendomme'!$A76,FALSE),\"\"))),\"\")","v":""},{"$f":"IFERROR(IF(P$12=Kredsudvælgelse!$Q$20,\"\",IF(Kredsudvælgelse!AG$2=1,IF(ISTEXT(DGET(Forespørgsel1[#All],\"\"&LEFT($F83,LEN($F83)-$C83)&\"\",Kredsudvælgelse!$Q$6:$R$7))=TRUE,DGET(Forespørgsel1[#All],\"\"&LEFT($F83,LEN($F83)-$C83)&\"\",Kredsudvælgelse!$Q$6:$R$7),DGET(Forespørgsel1[#All],\"\"&LEFT($F83,LEN($F83)-$C83)&\"\",Kredsudvælgelse!$Q$6:$R$7)/IF(ISNONTEXT($D83)=TRUE,1,DGET(Forespørgsel1[#All],\"\"&$D83&\"\",Kredsudvælgelse!$Q$6:$R$7))),IF(ISBLANK(HLOOKUP(P$12,'Statiske ejendomme'!$B$3:$OF$80,'Statiske ejendomme'!#REF!,FALSE))=FALSE,HLOOKUP(P$12,'Statiske ejendomme'!$B$3:$OF$80,'Statiske ejendomme'!#REF!,FALSE),\"\"))),\"\")","v":""},{"$f":"IFERROR(IF(Q$12=Kredsudvælgelse!$Q$20,\"\",IF(Kredsudvælgelse!AH$2=1,IF(ISTEXT(DGET(Forespørgsel1[#All],\"\"&LEFT($F83,LEN($F83)-$C83)&\"\",Kredsudvælgelse!$S$6:$T$7))=TRUE,DGET(Forespørgsel1[#All],\"\"&LEFT($F83,LEN($F83)-$C83)&\"\",Kredsudvælgelse!$S$6:$T$7),DGET(Forespørgsel1[#All],\"\"&LEFT($F83,LEN($F83)-$C83)&\"\",Kredsudvælgelse!$S$6:$T$7)/IF(ISNONTEXT($D83)=TRUE,1,DGET(Forespørgsel1[#All],\"\"&$D83&\"\",Kredsudvælgelse!$S$6:$T$7))),IF(ISBLANK(HLOOKUP(Q$12,'Statiske ejendomme'!$B$3:$OF$80,'Statiske ejendomme'!$A75,FALSE))=FALSE,HLOOKUP(Q$12,'Statiske ejendomme'!$B$3:$OF$80,'Statiske ejendomme'!$A75,FALSE),\"\"))),\"\")","v":""},{"$f":"IFERROR(IF(R$12=Kredsudvælgelse!$Q$20,\"\",IF(Kredsudvælgelse!AI$2=1,IF(ISTEXT(DGET(Forespørgsel1[#All],\"\"&LEFT($F83,LEN($F83)-$C83)&\"\",Kredsudvælgelse!$U$6:$V$7))=TRUE,DGET(Forespørgsel1[#All],\"\"&LEFT($F83,LEN($F83)-$C83)&\"\",Kredsudvælgelse!$U$6:$V$7),DGET(Forespørgsel1[#All],\"\"&LEFT($F83,LEN($F83)-$C83)&\"\",Kredsudvælgelse!$U$6:$V$7)/IF(ISNONTEXT($D83)=TRUE,1,DGET(Forespørgsel1[#All],\"\"&$D83&\"\",Kredsudvælgelse!$U$6:$V$7))),IF(ISBLANK(HLOOKUP(R$12,'Statiske ejendomme'!$B$3:$OF$80,'Statiske ejendomme'!$A75,FALSE))=FALSE,HLOOKUP(R$12,'Statiske ejendomme'!$B$3:$OF$80,'Statiske ejendomme'!$A75,FALSE),\"\"))),\"\")","v":""},{"$f":"IFERROR(IF(S$12=Kredsudvælgelse!$Q$20,\"\",IF(Kredsudvælgelse!AJ$2=1,IF(ISTEXT(DGET(Forespørgsel1[#All],\"\"&LEFT($F83,LEN($F83)-$C83)&\"\",Kredsudvælgelse!$W$6:$X$7))=TRUE,DGET(Forespørgsel1[#All],\"\"&LEFT($F83,LEN($F83)-$C83)&\"\",Kredsudvælgelse!$W$6:$X$7),DGET(Forespørgsel1[#All],\"\"&LEFT($F83,LEN($F83)-$C83)&\"\",Kredsudvælgelse!$W$6:$X$7)/IF(ISNONTEXT($D83)=TRUE,1,DGET(Forespørgsel1[#All],\"\"&$D83&\"\",Kredsudvælgelse!$W$6:$X$7))),IF(ISBLANK(HLOOKUP(S$12,'Statiske ejendomme'!$B$3:$OF$80,'Statiske ejendomme'!$A75,FALSE))=FALSE,HLOOKUP(S$12,'Statiske ejendomme'!$B$3:$OF$80,'Statiske ejendomme'!$A75,FALSE),\"\"))),\"\")","v":""},{"$f":"IFERROR(IF(T$12=Kredsudvælgelse!$Q$20,\"\",IF(Kredsudvælgelse!AK$2=1,IF(ISTEXT(DGET(Forespørgsel1[#All],\"\"&LEFT($F83,LEN($F83)-$C83)&\"\",Kredsudvælgelse!$Y$6:$Z$7))=TRUE,DGET(Forespørgsel1[#All],\"\"&LEFT($F83,LEN($F83)-$C83)&\"\",Kredsudvælgelse!$Y$6:$Z$7),DGET(Forespørgsel1[#All],\"\"&LEFT($F83,LEN($F83)-$C83)&\"\",Kredsudvælgelse!$Y$6:$Z$7)/IF(ISNONTEXT($D83)=TRUE,1,DGET(Forespørgsel1[#All],\"\"&$D83&\"\",Kredsudvælgelse!$Y$6:$Z$7))),IF(ISBLANK(HLOOKUP(T$12,'Statiske ejendomme'!$B$3:$OF$80,'Statiske ejendomme'!$A75,FALSE))=FALSE,HLOOKUP(T$12,'Statiske ejendomme'!$B$3:$OF$80,'Statiske ejendomme'!$A75,FALSE),\"\"))),\"\")","v":""}]
[null,null,null,{"$f":"Slagtekalve!B75","v":0},null,null,null,null,{"$f":"IF(OR(Choices!$A$1=2,Choices!$A$1=3),Slagtekalve!F75,\"\")","v":""},{"$f":"IF(OR(Choices!$A$1=2,Choices!$A$1=3),Slagtekalve!G75,\"\")","v":""},{"$f":"IFERROR(IF(K$12=Kredsudvælgelse!$Q$20,\"\",IF(Kredsudvælgelse!AB$2=1,IF(ISTEXT(DGET(Forespørgsel1[#All],\"\"&LEFT($F84,LEN($F84)-$C84)&\"\",Kredsudvælgelse!$Q$2:$R$3))=TRUE,DGET(Forespørgsel1[#All],\"\"&LEFT($F84,LEN($F84)-$C84)&\"\",Kredsudvælgelse!$Q$2:$R$3),DGET(Forespørgsel1[#All],\"\"&LEFT($F84,LEN($F84)-$C84)&\"\",Kredsudvælgelse!$Q$2:$R$3)/IF(ISNONTEXT($D84)=TRUE,1,DGET(Forespørgsel1[#All],\"\"&$D84&\"\",Kredsudvælgelse!$Q$2:$R$3))),IF(ISBLANK(HLOOKUP(K$12,'Statiske ejendomme'!$B$3:$OF$80,'Statiske ejendomme'!$A77,FALSE))=FALSE,HLOOKUP(K$12,'Statiske ejendomme'!$B$3:$OF$80,'Statiske ejendomme'!$A77,FALSE),\"\"))),\"\")","v":""},{"$f":"IFERROR(IF(L$12=Kredsudvælgelse!$Q$20,\"\",IF(Kredsudvælgelse!AC$2=1,IF(ISTEXT(DGET(Forespørgsel1[#All],\"\"&LEFT($F84,LEN($F84)-$C84)&\"\",Kredsudvælgelse!$S$2:$T$3))=TRUE,DGET(Forespørgsel1[#All],\"\"&LEFT($F84,LEN($F84)-$C84)&\"\",Kredsudvælgelse!$S$2:$T$3),DGET(Forespørgsel1[#All],\"\"&LEFT($F84,LEN($F84)-$C84)&\"\",Kredsudvælgelse!$S$2:$T$3)/IF(ISNONTEXT($D84)=TRUE,1,DGET(Forespørgsel1[#All],\"\"&$D84&\"\",Kredsudvælgelse!$S$2:$T$3))),IF(ISBLANK(HLOOKUP(L$12,'Statiske ejendomme'!$B$3:$OF$80,'Statiske ejendomme'!$A77,FALSE))=FALSE,HLOOKUP(L$12,'Statiske ejendomme'!$B$3:$OF$80,'Statiske ejendomme'!$A77,FALSE),\"\"))),\"\")","v":""},{"$f":"IFERROR(IF(M$12=Kredsudvælgelse!$Q$20,\"\",IF(Kredsudvælgelse!AD$2=1,IF(ISTEXT(DGET(Forespørgsel1[#All],\"\"&LEFT($F84,LEN($F84)-$C84)&\"\",Kredsudvælgelse!$U$2:$V$3))=TRUE,DGET(Forespørgsel1[#All],\"\"&LEFT($F84,LEN($F84)-$C84)&\"\",Kredsudvælgelse!$U$2:$V$3),DGET(Forespørgsel1[#All],\"\"&LEFT($F84,LEN($F84)-$C84)&\"\",Kredsudvælgelse!$U$2:$V$3)/IF(ISNONTEXT($D84)=TRUE,1,DGET(Forespørgsel1[#All],\"\"&$D84&\"\",Kredsudvælgelse!$U$2:$V$3))),IF(ISBLANK(HLOOKUP(M$12,'Statiske ejendomme'!$B$3:$OF$80,'Statiske ejendomme'!$A77,FALSE))=FALSE,HLOOKUP(M$12,'Statiske ejendomme'!$B$3:$OF$80,'Statiske ejendomme'!$A77,FALSE),\"\"))),\"\")","v":""},{"$f":"IFERROR(IF(N$12=Kredsudvælgelse!$Q$20,\"\",IF(Kredsudvælgelse!AE$2=1,IF(ISTEXT(DGET(Forespørgsel1[#All],\"\"&LEFT($F84,LEN($F84)-$C84)&\"\",Kredsudvælgelse!$W$2:$X$3))=TRUE,DGET(Forespørgsel1[#All],\"\"&LEFT($F84,LEN($F84)-$C84)&\"\",Kredsudvælgelse!$W$2:$X$3),DGET(Forespørgsel1[#All],\"\"&LEFT($F84,LEN($F84)-$C84)&\"\",Kredsudvælgelse!$W$2:$X$3)/IF(ISNONTEXT($D84)=TRUE,1,DGET(Forespørgsel1[#All],\"\"&$D84&\"\",Kredsudvælgelse!$W$2:$X$3))),IF(ISBLANK(HLOOKUP(N$12,'Statiske ejendomme'!$B$3:$OF$80,'Statiske ejendomme'!$A77,FALSE))=FALSE,HLOOKUP(N$12,'Statiske ejendomme'!$B$3:$OF$80,'Statiske ejendomme'!$A77,FALSE),\"\"))),\"\")","v":""},{"$f":"IFERROR(IF(O$12=Kredsudvælgelse!$Q$20,\"\",IF(Kredsudvælgelse!AF$2=1,IF(ISTEXT(DGET(Forespørgsel1[#All],\"\"&LEFT($F84,LEN($F84)-$C84)&\"\",Kredsudvælgelse!$Y$2:$Z$3))=TRUE,DGET(Forespørgsel1[#All],\"\"&LEFT($F84,LEN($F84)-$C84)&\"\",Kredsudvælgelse!$Y$2:$Z$3),DGET(Forespørgsel1[#All],\"\"&LEFT($F84,LEN($F84)-$C84)&\"\",Kredsudvælgelse!$Y$2:$Z$3)/IF(ISNONTEXT($D84)=TRUE,1,DGET(Forespørgsel1[#All],\"\"&$D84&\"\",Kredsudvælgelse!$Y$2:$Z$3))),IF(ISBLANK(HLOOKUP(O$12,'Statiske ejendomme'!$B$3:$OF$80,'Statiske ejendomme'!$A77,FALSE))=FALSE,HLOOKUP(O$12,'Statiske ejendomme'!$B$3:$OF$80,'Statiske ejendomme'!$A77,FALSE),\"\"))),\"\")","v":""},{"$f":"IFERROR(IF(P$12=Kredsudvælgelse!$Q$20,\"\",IF(Kredsudvælgelse!AG$2=1,IF(ISTEXT(DGET(Forespørgsel1[#All],\"\"&LEFT($F84,LEN($F84)-$C84)&\"\",Kredsudvælgelse!$Q$6:$R$7))=TRUE,DGET(Forespørgsel1[#All],\"\"&LEFT($F84,LEN($F84)-$C84)&\"\",Kredsudvælgelse!$Q$6:$R$7),DGET(Forespørgsel1[#All],\"\"&LEFT($F84,LEN($F84)-$C84)&\"\",Kredsudvælgelse!$Q$6:$R$7)/IF(ISNONTEXT($D84)=TRUE,1,DGET(Forespørgsel1[#All],\"\"&$D84&\"\",Kredsudvælgelse!$Q$6:$R$7))),IF(ISBLANK(HLOOKUP(P$12,'Statiske ejendomme'!$B$3:$OF$80,'Statiske ejendomme'!#REF!,FALSE))=FALSE,HLOOKUP(P$12,'Statiske ejendomme'!$B$3:$OF$80,'Statiske ejendomme'!#REF!,FALSE),\"\"))),\"\")","v":""},{"$f":"IFERROR(IF(Q$12=Kredsudvælgelse!$Q$20,\"\",IF(Kredsudvælgelse!AH$2=1,IF(ISTEXT(DGET(Forespørgsel1[#All],\"\"&LEFT($F84,LEN($F84)-$C84)&\"\",Kredsudvælgelse!$S$6:$T$7))=TRUE,DGET(Forespørgsel1[#All],\"\"&LEFT($F84,LEN($F84)-$C84)&\"\",Kredsudvælgelse!$S$6:$T$7),DGET(Forespørgsel1[#All],\"\"&LEFT($F84,LEN($F84)-$C84)&\"\",Kredsudvælgelse!$S$6:$T$7)/IF(ISNONTEXT($D84)=TRUE,1,DGET(Forespørgsel1[#All],\"\"&$D84&\"\",Kredsudvælgelse!$S$6:$T$7))),IF(ISBLANK(HLOOKUP(Q$12,'Statiske ejendomme'!$B$3:$OF$80,'Statiske ejendomme'!$A77,FALSE))=FALSE,HLOOKUP(Q$12,'Statiske ejendomme'!$B$3:$OF$80,'Statiske ejendomme'!$A77,FALSE),\"\"))),\"\")","v":""},{"$f":"IFERROR(IF(R$12=Kredsudvælgelse!$Q$20,\"\",IF(Kredsudvælgelse!AI$2=1,IF(ISTEXT(DGET(Forespørgsel1[#All],\"\"&LEFT($F84,LEN($F84)-$C84)&\"\",Kredsudvælgelse!$U$6:$V$7))=TRUE,DGET(Forespørgsel1[#All],\"\"&LEFT($F84,LEN($F84)-$C84)&\"\",Kredsudvælgelse!$U$6:$V$7),DGET(Forespørgsel1[#All],\"\"&LEFT($F84,LEN($F84)-$C84)&\"\",Kredsudvælgelse!$U$6:$V$7)/IF(ISNONTEXT($D84)=TRUE,1,DGET(Forespørgsel1[#All],\"\"&$D84&\"\",Kredsudvælgelse!$U$6:$V$7))),IF(ISBLANK(HLOOKUP(R$12,'Statiske ejendomme'!$B$3:$OF$80,'Statiske ejendomme'!$A77,FALSE))=FALSE,HLOOKUP(R$12,'Statiske ejendomme'!$B$3:$OF$80,'Statiske ejendomme'!$A77,FALSE),\"\"))),\"\")","v":""},{"$f":"IFERROR(IF(S$12=Kredsudvælgelse!$Q$20,\"\",IF(Kredsudvælgelse!AJ$2=1,IF(ISTEXT(DGET(Forespørgsel1[#All],\"\"&LEFT($F84,LEN($F84)-$C84)&\"\",Kredsudvælgelse!$W$6:$X$7))=TRUE,DGET(Forespørgsel1[#All],\"\"&LEFT($F84,LEN($F84)-$C84)&\"\",Kredsudvælgelse!$W$6:$X$7),DGET(Forespørgsel1[#All],\"\"&LEFT($F84,LEN($F84)-$C84)&\"\",Kredsudvælgelse!$W$6:$X$7)/IF(ISNONTEXT($D84)=TRUE,1,DGET(Forespørgsel1[#All],\"\"&$D84&\"\",Kredsudvælgelse!$W$6:$X$7))),IF(ISBLANK(HLOOKUP(S$12,'Statiske ejendomme'!$B$3:$OF$80,'Statiske ejendomme'!$A77,FALSE))=FALSE,HLOOKUP(S$12,'Statiske ejendomme'!$B$3:$OF$80,'Statiske ejendomme'!$A77,FALSE),\"\"))),\"\")","v":""},{"$f":"IFERROR(IF(T$12=Kredsudvælgelse!$Q$20,\"\",IF(Kredsudvælgelse!AK$2=1,IF(ISTEXT(DGET(Forespørgsel1[#All],\"\"&LEFT($F84,LEN($F84)-$C84)&\"\",Kredsudvælgelse!$Y$6:$Z$7))=TRUE,DGET(Forespørgsel1[#All],\"\"&LEFT($F84,LEN($F84)-$C84)&\"\",Kredsudvælgelse!$Y$6:$Z$7),DGET(Forespørgsel1[#All],\"\"&LEFT($F84,LEN($F84)-$C84)&\"\",Kredsudvælgelse!$Y$6:$Z$7)/IF(ISNONTEXT($D84)=TRUE,1,DGET(Forespørgsel1[#All],\"\"&$D84&\"\",Kredsudvælgelse!$Y$6:$Z$7))),IF(ISBLANK(HLOOKUP(T$12,'Statiske ejendomme'!$B$3:$OF$80,'Statiske ejendomme'!$A77,FALSE))=FALSE,HLOOKUP(T$12,'Statiske ejendomme'!$B$3:$OF$80,'Statiske ejendomme'!$A77,FALSE),\"\"))),\"\")","v":""}]
[null,null,null,{"$f":"Slagtekalve!B76","v":0},null,null,null,null,{"$f":"IF(OR(Choices!$A$1=2,Choices!$A$1=3),Slagtekalve!F76,\"\")","v":""},{"$f":"IF(OR(Choices!$A$1=2,Choices!$A$1=3),Slagtekalve!G76,\"\")","v":""},{"$f":"IFERROR(IF(K$12=Kredsudvælgelse!$Q$20,\"\",IF(Kredsudvælgelse!AB$2=1,IF(ISTEXT(DGET(Forespørgsel1[#All],\"\"&LEFT($F85,LEN($F85)-$C85)&\"\",Kredsudvælgelse!$Q$2:$R$3))=TRUE,DGET(Forespørgsel1[#All],\"\"&LEFT($F85,LEN($F85)-$C85)&\"\",Kredsudvælgelse!$Q$2:$R$3),DGET(Forespørgsel1[#All],\"\"&LEFT($F85,LEN($F85)-$C85)&\"\",Kredsudvælgelse!$Q$2:$R$3)/IF(ISNONTEXT($D85)=TRUE,1,DGET(Forespørgsel1[#All],\"\"&$D85&\"\",Kredsudvælgelse!$Q$2:$R$3))),IF(ISBLANK(HLOOKUP(K$12,'Statiske ejendomme'!$B$3:$OF$80,'Statiske ejendomme'!$A78,FALSE))=FALSE,HLOOKUP(K$12,'Statiske ejendomme'!$B$3:$OF$80,'Statiske ejendomme'!$A78,FALSE),\"\"))),\"\")","v":""},{"$f":"IFERROR(IF(L$12=Kredsudvælgelse!$Q$20,\"\",IF(Kredsudvælgelse!AC$2=1,IF(ISTEXT(DGET(Forespørgsel1[#All],\"\"&LEFT($F85,LEN($F85)-$C85)&\"\",Kredsudvælgelse!$S$2:$T$3))=TRUE,DGET(Forespørgsel1[#All],\"\"&LEFT($F85,LEN($F85)-$C85)&\"\",Kredsudvælgelse!$S$2:$T$3),DGET(Forespørgsel1[#All],\"\"&LEFT($F85,LEN($F85)-$C85)&\"\",Kredsudvælgelse!$S$2:$T$3)/IF(ISNONTEXT($D85)=TRUE,1,DGET(Forespørgsel1[#All],\"\"&$D85&\"\",Kredsudvælgelse!$S$2:$T$3))),IF(ISBLANK(HLOOKUP(L$12,'Statiske ejendomme'!$B$3:$OF$80,'Statiske ejendomme'!$A78,FALSE))=FALSE,HLOOKUP(L$12,'Statiske ejendomme'!$B$3:$OF$80,'Statiske ejendomme'!$A78,FALSE),\"\"))),\"\")","v":""},{"$f":"IFERROR(IF(M$12=Kredsudvælgelse!$Q$20,\"\",IF(Kredsudvælgelse!AD$2=1,IF(ISTEXT(DGET(Forespørgsel1[#All],\"\"&LEFT($F85,LEN($F85)-$C85)&\"\",Kredsudvælgelse!$U$2:$V$3))=TRUE,DGET(Forespørgsel1[#All],\"\"&LEFT($F85,LEN($F85)-$C85)&\"\",Kredsudvælgelse!$U$2:$V$3),DGET(Forespørgsel1[#All],\"\"&LEFT($F85,LEN($F85)-$C85)&\"\",Kredsudvælgelse!$U$2:$V$3)/IF(ISNONTEXT($D85)=TRUE,1,DGET(Forespørgsel1[#All],\"\"&$D85&\"\",Kredsudvælgelse!$U$2:$V$3))),IF(ISBLANK(HLOOKUP(M$12,'Statiske ejendomme'!$B$3:$OF$80,'Statiske ejendomme'!$A78,FALSE))=FALSE,HLOOKUP(M$12,'Statiske ejendomme'!$B$3:$OF$80,'Statiske ejendomme'!$A78,FALSE),\"\"))),\"\")","v":""},{"$f":"IFERROR(IF(N$12=Kredsudvælgelse!$Q$20,\"\",IF(Kredsudvælgelse!AE$2=1,IF(ISTEXT(DGET(Forespørgsel1[#All],\"\"&LEFT($F85,LEN($F85)-$C85)&\"\",Kredsudvælgelse!$W$2:$X$3))=TRUE,DGET(Forespørgsel1[#All],\"\"&LEFT($F85,LEN($F85)-$C85)&\"\",Kredsudvælgelse!$W$2:$X$3),DGET(Forespørgsel1[#All],\"\"&LEFT($F85,LEN($F85)-$C85)&\"\",Kredsudvælgelse!$W$2:$X$3)/IF(ISNONTEXT($D85)=TRUE,1,DGET(Forespørgsel1[#All],\"\"&$D85&\"\",Kredsudvælgelse!$W$2:$X$3))),IF(ISBLANK(HLOOKUP(N$12,'Statiske ejendomme'!$B$3:$OF$80,'Statiske ejendomme'!$A78,FALSE))=FALSE,HLOOKUP(N$12,'Statiske ejendomme'!$B$3:$OF$80,'Statiske ejendomme'!$A78,FALSE),\"\"))),\"\")","v":""},{"$f":"IFERROR(IF(O$12=Kredsudvælgelse!$Q$20,\"\",IF(Kredsudvælgelse!AF$2=1,IF(ISTEXT(DGET(Forespørgsel1[#All],\"\"&LEFT($F85,LEN($F85)-$C85)&\"\",Kredsudvælgelse!$Y$2:$Z$3))=TRUE,DGET(Forespørgsel1[#All],\"\"&LEFT($F85,LEN($F85)-$C85)&\"\",Kredsudvælgelse!$Y$2:$Z$3),DGET(Forespørgsel1[#All],\"\"&LEFT($F85,LEN($F85)-$C85)&\"\",Kredsudvælgelse!$Y$2:$Z$3)/IF(ISNONTEXT($D85)=TRUE,1,DGET(Forespørgsel1[#All],\"\"&$D85&\"\",Kredsudvælgelse!$Y$2:$Z$3))),IF(ISBLANK(HLOOKUP(O$12,'Statiske ejendomme'!$B$3:$OF$80,'Statiske ejendomme'!$A78,FALSE))=FALSE,HLOOKUP(O$12,'Statiske ejendomme'!$B$3:$OF$80,'Statiske ejendomme'!$A78,FALSE),\"\"))),\"\")","v":""},{"$f":"IFERROR(IF(P$12=Kredsudvælgelse!$Q$20,\"\",IF(Kredsudvælgelse!AG$2=1,IF(ISTEXT(DGET(Forespørgsel1[#All],\"\"&LEFT($F85,LEN($F85)-$C85)&\"\",Kredsudvælgelse!$Q$6:$R$7))=TRUE,DGET(Forespørgsel1[#All],\"\"&LEFT($F85,LEN($F85)-$C85)&\"\",Kredsudvælgelse!$Q$6:$R$7),DGET(Forespørgsel1[#All],\"\"&LEFT($F85,LEN($F85)-$C85)&\"\",Kredsudvælgelse!$Q$6:$R$7)/IF(ISNONTEXT($D85)=TRUE,1,DGET(Forespørgsel1[#All],\"\"&$D85&\"\",Kredsudvælgelse!$Q$6:$R$7))),IF(ISBLANK(HLOOKUP(P$12,'Statiske ejendomme'!$B$3:$OF$80,'Statiske ejendomme'!#REF!,FALSE))=FALSE,HLOOKUP(P$12,'Statiske ejendomme'!$B$3:$OF$80,'Statiske ejendomme'!#REF!,FALSE),\"\"))),\"\")","v":""},{"$f":"IFERROR(IF(Q$12=Kredsudvælgelse!$Q$20,\"\",IF(Kredsudvælgelse!AH$2=1,IF(ISTEXT(DGET(Forespørgsel1[#All],\"\"&LEFT($F85,LEN($F85)-$C85)&\"\",Kredsudvælgelse!$S$6:$T$7))=TRUE,DGET(Forespørgsel1[#All],\"\"&LEFT($F85,LEN($F85)-$C85)&\"\",Kredsudvælgelse!$S$6:$T$7),DGET(Forespørgsel1[#All],\"\"&LEFT($F85,LEN($F85)-$C85)&\"\",Kredsudvælgelse!$S$6:$T$7)/IF(ISNONTEXT($D85)=TRUE,1,DGET(Forespørgsel1[#All],\"\"&$D85&\"\",Kredsudvælgelse!$S$6:$T$7))),IF(ISBLANK(HLOOKUP(Q$12,'Statiske ejendomme'!$B$3:$OF$80,'Statiske ejendomme'!$A78,FALSE))=FALSE,HLOOKUP(Q$12,'Statiske ejendomme'!$B$3:$OF$80,'Statiske ejendomme'!$A78,FALSE),\"\"))),\"\")","v":""},{"$f":"IFERROR(IF(R$12=Kredsudvælgelse!$Q$20,\"\",IF(Kredsudvælgelse!AI$2=1,IF(ISTEXT(DGET(Forespørgsel1[#All],\"\"&LEFT($F85,LEN($F85)-$C85)&\"\",Kredsudvælgelse!$U$6:$V$7))=TRUE,DGET(Forespørgsel1[#All],\"\"&LEFT($F85,LEN($F85)-$C85)&\"\",Kredsudvælgelse!$U$6:$V$7),DGET(Forespørgsel1[#All],\"\"&LEFT($F85,LEN($F85)-$C85)&\"\",Kredsudvælgelse!$U$6:$V$7)/IF(ISNONTEXT($D85)=TRUE,1,DGET(Forespørgsel1[#All],\"\"&$D85&\"\",Kredsudvælgelse!$U$6:$V$7))),IF(ISBLANK(HLOOKUP(R$12,'Statiske ejendomme'!$B$3:$OF$80,'Statiske ejendomme'!$A78,FALSE))=FALSE,HLOOKUP(R$12,'Statiske ejendomme'!$B$3:$OF$80,'Statiske ejendomme'!$A78,FALSE),\"\"))),\"\")","v":""},{"$f":"IFERROR(IF(S$12=Kredsudvælgelse!$Q$20,\"\",IF(Kredsudvælgelse!AJ$2=1,IF(ISTEXT(DGET(Forespørgsel1[#All],\"\"&LEFT($F85,LEN($F85)-$C85)&\"\",Kredsudvælgelse!$W$6:$X$7))=TRUE,DGET(Forespørgsel1[#All],\"\"&LEFT($F85,LEN($F85)-$C85)&\"\",Kredsudvælgelse!$W$6:$X$7),DGET(Forespørgsel1[#All],\"\"&LEFT($F85,LEN($F85)-$C85)&\"\",Kredsudvælgelse!$W$6:$X$7)/IF(ISNONTEXT($D85)=TRUE,1,DGET(Forespørgsel1[#All],\"\"&$D85&\"\",Kredsudvælgelse!$W$6:$X$7))),IF(ISBLANK(HLOOKUP(S$12,'Statiske ejendomme'!$B$3:$OF$80,'Statiske ejendomme'!$A78,FALSE))=FALSE,HLOOKUP(S$12,'Statiske ejendomme'!$B$3:$OF$80,'Statiske ejendomme'!$A78,FALSE),\"\"))),\"\")","v":""},{"$f":"IFERROR(IF(T$12=Kredsudvælgelse!$Q$20,\"\",IF(Kredsudvælgelse!AK$2=1,IF(ISTEXT(DGET(Forespørgsel1[#All],\"\"&LEFT($F85,LEN($F85)-$C85)&\"\",Kredsudvælgelse!$Y$6:$Z$7))=TRUE,DGET(Forespørgsel1[#All],\"\"&LEFT($F85,LEN($F85)-$C85)&\"\",Kredsudvælgelse!$Y$6:$Z$7),DGET(Forespørgsel1[#All],\"\"&LEFT($F85,LEN($F85)-$C85)&\"\",Kredsudvælgelse!$Y$6:$Z$7)/IF(ISNONTEXT($D85)=TRUE,1,DGET(Forespørgsel1[#All],\"\"&$D85&\"\",Kredsudvælgelse!$Y$6:$Z$7))),IF(ISBLANK(HLOOKUP(T$12,'Statiske ejendomme'!$B$3:$OF$80,'Statiske ejendomme'!$A78,FALSE))=FALSE,HLOOKUP(T$12,'Statiske ejendomme'!$B$3:$OF$80,'Statiske ejendomme'!$A78,FALSE),\"\"))),\"\")","v":""}]
[null,null,null,{"$f":"Slagtekalve!B77","v":0},null,null,null,null,{"$f":"IF(OR(Choices!$A$1=2,Choices!$A$1=3),Slagtekalve!F77,\"\")","v":""},{"$f":"IF(OR(Choices!$A$1=2,Choices!$A$1=3),Slagtekalve!G77,\"\")","v":""},{"$f":"IFERROR(IF(K$12=Kredsudvælgelse!$Q$20,\"\",IF(Kredsudvælgelse!AB$2=1,IF(ISTEXT(DGET(Forespørgsel1[#All],\"\"&LEFT($F86,LEN($F86)-$C86)&\"\",Kredsudvælgelse!$Q$2:$R$3))=TRUE,DGET(Forespørgsel1[#All],\"\"&LEFT($F86,LEN($F86)-$C86)&\"\",Kredsudvælgelse!$Q$2:$R$3),DGET(Forespørgsel1[#All],\"\"&LEFT($F86,LEN($F86)-$C86)&\"\",Kredsudvælgelse!$Q$2:$R$3)/IF(ISNONTEXT($D86)=TRUE,1,DGET(Forespørgsel1[#All],\"\"&$D86&\"\",Kredsudvælgelse!$Q$2:$R$3))),IF(ISBLANK(HLOOKUP(K$12,'Statiske ejendomme'!$B$3:$OF$80,'Statiske ejendomme'!$A79,FALSE))=FALSE,HLOOKUP(K$12,'Statiske ejendomme'!$B$3:$OF$80,'Statiske ejendomme'!$A79,FALSE),\"\"))),\"\")","v":""},{"$f":"IFERROR(IF(L$12=Kredsudvælgelse!$Q$20,\"\",IF(Kredsudvælgelse!AC$2=1,IF(ISTEXT(DGET(Forespørgsel1[#All],\"\"&LEFT($F86,LEN($F86)-$C86)&\"\",Kredsudvælgelse!$S$2:$T$3))=TRUE,DGET(Forespørgsel1[#All],\"\"&LEFT($F86,LEN($F86)-$C86)&\"\",Kredsudvælgelse!$S$2:$T$3),DGET(Forespørgsel1[#All],\"\"&LEFT($F86,LEN($F86)-$C86)&\"\",Kredsudvælgelse!$S$2:$T$3)/IF(ISNONTEXT($D86)=TRUE,1,DGET(Forespørgsel1[#All],\"\"&$D86&\"\",Kredsudvælgelse!$S$2:$T$3))),IF(ISBLANK(HLOOKUP(L$12,'Statiske ejendomme'!$B$3:$OF$80,'Statiske ejendomme'!$A79,FALSE))=FALSE,HLOOKUP(L$12,'Statiske ejendomme'!$B$3:$OF$80,'Statiske ejendomme'!$A79,FALSE),\"\"))),\"\")","v":""},{"$f":"IFERROR(IF(M$12=Kredsudvælgelse!$Q$20,\"\",IF(Kredsudvælgelse!AD$2=1,IF(ISTEXT(DGET(Forespørgsel1[#All],\"\"&LEFT($F86,LEN($F86)-$C86)&\"\",Kredsudvælgelse!$U$2:$V$3))=TRUE,DGET(Forespørgsel1[#All],\"\"&LEFT($F86,LEN($F86)-$C86)&\"\",Kredsudvælgelse!$U$2:$V$3),DGET(Forespørgsel1[#All],\"\"&LEFT($F86,LEN($F86)-$C86)&\"\",Kredsudvælgelse!$U$2:$V$3)/IF(ISNONTEXT($D86)=TRUE,1,DGET(Forespørgsel1[#All],\"\"&$D86&\"\",Kredsudvælgelse!$U$2:$V$3))),IF(ISBLANK(HLOOKUP(M$12,'Statiske ejendomme'!$B$3:$OF$80,'Statiske ejendomme'!$A79,FALSE))=FALSE,HLOOKUP(M$12,'Statiske ejendomme'!$B$3:$OF$80,'Statiske ejendomme'!$A79,FALSE),\"\"))),\"\")","v":""},{"$f":"IFERROR(IF(N$12=Kredsudvælgelse!$Q$20,\"\",IF(Kredsudvælgelse!AE$2=1,IF(ISTEXT(DGET(Forespørgsel1[#All],\"\"&LEFT($F86,LEN($F86)-$C86)&\"\",Kredsudvælgelse!$W$2:$X$3))=TRUE,DGET(Forespørgsel1[#All],\"\"&LEFT($F86,LEN($F86)-$C86)&\"\",Kredsudvælgelse!$W$2:$X$3),DGET(Forespørgsel1[#All],\"\"&LEFT($F86,LEN($F86)-$C86)&\"\",Kredsudvælgelse!$W$2:$X$3)/IF(ISNONTEXT($D86)=TRUE,1,DGET(Forespørgsel1[#All],\"\"&$D86&\"\",Kredsudvælgelse!$W$2:$X$3))),IF(ISBLANK(HLOOKUP(N$12,'Statiske ejendomme'!$B$3:$OF$80,'Statiske ejendomme'!$A79,FALSE))=FALSE,HLOOKUP(N$12,'Statiske ejendomme'!$B$3:$OF$80,'Statiske ejendomme'!$A79,FALSE),\"\"))),\"\")","v":""},{"$f":"IFERROR(IF(O$12=Kredsudvælgelse!$Q$20,\"\",IF(Kredsudvælgelse!AF$2=1,IF(ISTEXT(DGET(Forespørgsel1[#All],\"\"&LEFT($F86,LEN($F86)-$C86)&\"\",Kredsudvælgelse!$Y$2:$Z$3))=TRUE,DGET(Forespørgsel1[#All],\"\"&LEFT($F86,LEN($F86)-$C86)&\"\",Kredsudvælgelse!$Y$2:$Z$3),DGET(Forespørgsel1[#All],\"\"&LEFT($F86,LEN($F86)-$C86)&\"\",Kredsudvælgelse!$Y$2:$Z$3)/IF(ISNONTEXT($D86)=TRUE,1,DGET(Forespørgsel1[#All],\"\"&$D86&\"\",Kredsudvælgelse!$Y$2:$Z$3))),IF(ISBLANK(HLOOKUP(O$12,'Statiske ejendomme'!$B$3:$OF$80,'Statiske ejendomme'!$A79,FALSE))=FALSE,HLOOKUP(O$12,'Statiske ejendomme'!$B$3:$OF$80,'Statiske ejendomme'!$A79,FALSE),\"\"))),\"\")","v":""},{"$f":"IFERROR(IF(P$12=Kredsudvælgelse!$Q$20,\"\",IF(Kredsudvælgelse!AG$2=1,IF(ISTEXT(DGET(Forespørgsel1[#All],\"\"&LEFT($F86,LEN($F86)-$C86)&\"\",Kredsudvælgelse!$Q$6:$R$7))=TRUE,DGET(Forespørgsel1[#All],\"\"&LEFT($F86,LEN($F86)-$C86)&\"\",Kredsudvælgelse!$Q$6:$R$7),DGET(Forespørgsel1[#All],\"\"&LEFT($F86,LEN($F86)-$C86)&\"\",Kredsudvælgelse!$Q$6:$R$7)/IF(ISNONTEXT($D86)=TRUE,1,DGET(Forespørgsel1[#All],\"\"&$D86&\"\",Kredsudvælgelse!$Q$6:$R$7))),IF(ISBLANK(HLOOKUP(P$12,'Statiske ejendomme'!$B$3:$OF$80,'Statiske ejendomme'!#REF!,FALSE))=FALSE,HLOOKUP(P$12,'Statiske ejendomme'!$B$3:$OF$80,'Statiske ejendomme'!#REF!,FALSE),\"\"))),\"\")","v":""},{"$f":"IFERROR(IF(Q$12=Kredsudvælgelse!$Q$20,\"\",IF(Kredsudvælgelse!AH$2=1,IF(ISTEXT(DGET(Forespørgsel1[#All],\"\"&LEFT($F86,LEN($F86)-$C86)&\"\",Kredsudvælgelse!$S$6:$T$7))=TRUE,DGET(Forespørgsel1[#All],\"\"&LEFT($F86,LEN($F86)-$C86)&\"\",Kredsudvælgelse!$S$6:$T$7),DGET(Forespørgsel1[#All],\"\"&LEFT($F86,LEN($F86)-$C86)&\"\",Kredsudvælgelse!$S$6:$T$7)/IF(ISNONTEXT($D86)=TRUE,1,DGET(Forespørgsel1[#All],\"\"&$D86&\"\",Kredsudvælgelse!$S$6:$T$7))),IF(ISBLANK(HLOOKUP(Q$12,'Statiske ejendomme'!$B$3:$OF$80,'Statiske ejendomme'!$A79,FALSE))=FALSE,HLOOKUP(Q$12,'Statiske ejendomme'!$B$3:$OF$80,'Statiske ejendomme'!$A79,FALSE),\"\"))),\"\")","v":""},{"$f":"IFERROR(IF(R$12=Kredsudvælgelse!$Q$20,\"\",IF(Kredsudvælgelse!AI$2=1,IF(ISTEXT(DGET(Forespørgsel1[#All],\"\"&LEFT($F86,LEN($F86)-$C86)&\"\",Kredsudvælgelse!$U$6:$V$7))=TRUE,DGET(Forespørgsel1[#All],\"\"&LEFT($F86,LEN($F86)-$C86)&\"\",Kredsudvælgelse!$U$6:$V$7),DGET(Forespørgsel1[#All],\"\"&LEFT($F86,LEN($F86)-$C86)&\"\",Kredsudvælgelse!$U$6:$V$7)/IF(ISNONTEXT($D86)=TRUE,1,DGET(Forespørgsel1[#All],\"\"&$D86&\"\",Kredsudvælgelse!$U$6:$V$7))),IF(ISBLANK(HLOOKUP(R$12,'Statiske ejendomme'!$B$3:$OF$80,'Statiske ejendomme'!$A79,FALSE))=FALSE,HLOOKUP(R$12,'Statiske ejendomme'!$B$3:$OF$80,'Statiske ejendomme'!$A79,FALSE),\"\"))),\"\")","v":""},{"$f":"IFERROR(IF(S$12=Kredsudvælgelse!$Q$20,\"\",IF(Kredsudvælgelse!AJ$2=1,IF(ISTEXT(DGET(Forespørgsel1[#All],\"\"&LEFT($F86,LEN($F86)-$C86)&\"\",Kredsudvælgelse!$W$6:$X$7))=TRUE,DGET(Forespørgsel1[#All],\"\"&LEFT($F86,LEN($F86)-$C86)&\"\",Kredsudvælgelse!$W$6:$X$7),DGET(Forespørgsel1[#All],\"\"&LEFT($F86,LEN($F86)-$C86)&\"\",Kredsudvælgelse!$W$6:$X$7)/IF(ISNONTEXT($D86)=TRUE,1,DGET(Forespørgsel1[#All],\"\"&$D86&\"\",Kredsudvælgelse!$W$6:$X$7))),IF(ISBLANK(HLOOKUP(S$12,'Statiske ejendomme'!$B$3:$OF$80,'Statiske ejendomme'!$A79,FALSE))=FALSE,HLOOKUP(S$12,'Statiske ejendomme'!$B$3:$OF$80,'Statiske ejendomme'!$A79,FALSE),\"\"))),\"\")","v":""},{"$f":"IFERROR(IF(T$12=Kredsudvælgelse!$Q$20,\"\",IF(Kredsudvælgelse!AK$2=1,IF(ISTEXT(DGET(Forespørgsel1[#All],\"\"&LEFT($F86,LEN($F86)-$C86)&\"\",Kredsudvælgelse!$Y$6:$Z$7))=TRUE,DGET(Forespørgsel1[#All],\"\"&LEFT($F86,LEN($F86)-$C86)&\"\",Kredsudvælgelse!$Y$6:$Z$7),DGET(Forespørgsel1[#All],\"\"&LEFT($F86,LEN($F86)-$C86)&\"\",Kredsudvælgelse!$Y$6:$Z$7)/IF(ISNONTEXT($D86)=TRUE,1,DGET(Forespørgsel1[#All],\"\"&$D86&\"\",Kredsudvælgelse!$Y$6:$Z$7))),IF(ISBLANK(HLOOKUP(T$12,'Statiske ejendomme'!$B$3:$OF$80,'Statiske ejendomme'!$A79,FALSE))=FALSE,HLOOKUP(T$12,'Statiske ejendomme'!$B$3:$OF$80,'Statiske ejendomme'!$A79,FALSE),\"\"))),\"\")","v":""}]
[null,null,null,{"$f":"Slagtekalve!B78","v":0},null,null,null,null,{"$f":"IF(OR(Choices!$A$1=2,Choices!$A$1=3),Slagtekalve!F78,\"\")","v":0},{"$f":"IF(OR(Choices!$A$1=2,Choices!$A$1=3),Slagtekalve!G78,\"\")","v":0},{"$f":"IFERROR(IF(K$12=Kredsudvælgelse!$Q$20,\"\",IF(Kredsudvælgelse!AB$2=1,IF(ISTEXT(DGET(Forespørgsel1[#All],\"\"&LEFT($F87,LEN($F87)-$C87)&\"\",Kredsudvælgelse!$Q$2:$R$3))=TRUE,DGET(Forespørgsel1[#All],\"\"&LEFT($F87,LEN($F87)-$C87)&\"\",Kredsudvælgelse!$Q$2:$R$3),DGET(Forespørgsel1[#All],\"\"&LEFT($F87,LEN($F87)-$C87)&\"\",Kredsudvælgelse!$Q$2:$R$3)/IF(ISNONTEXT($D87)=TRUE,1,DGET(Forespørgsel1[#All],\"\"&$D87&\"\",Kredsudvælgelse!$Q$2:$R$3))),IF(ISBLANK(HLOOKUP(K$12,'Statiske ejendomme'!$B$3:$OF$80,'Statiske ejendomme'!$A80,FALSE))=FALSE,HLOOKUP(K$12,'Statiske ejendomme'!$B$3:$OF$80,'Statiske ejendomme'!$A80,FALSE),\"\"))),\"\")","v":""},{"$f":"IFERROR(IF(L$12=Kredsudvælgelse!$Q$20,\"\",IF(Kredsudvælgelse!AC$2=1,IF(ISTEXT(DGET(Forespørgsel1[#All],\"\"&LEFT($F87,LEN($F87)-$C87)&\"\",Kredsudvælgelse!$S$2:$T$3))=TRUE,DGET(Forespørgsel1[#All],\"\"&LEFT($F87,LEN($F87)-$C87)&\"\",Kredsudvælgelse!$S$2:$T$3),DGET(Forespørgsel1[#All],\"\"&LEFT($F87,LEN($F87)-$C87)&\"\",Kredsudvælgelse!$S$2:$T$3)/IF(ISNONTEXT($D87)=TRUE,1,DGET(Forespørgsel1[#All],\"\"&$D87&\"\",Kredsudvælgelse!$S$2:$T$3))),IF(ISBLANK(HLOOKUP(L$12,'Statiske ejendomme'!$B$3:$OF$80,'Statiske ejendomme'!$A80,FALSE))=FALSE,HLOOKUP(L$12,'Statiske ejendomme'!$B$3:$OF$80,'Statiske ejendomme'!$A80,FALSE),\"\"))),\"\")","v":""},{"$f":"IFERROR(IF(M$12=Kredsudvælgelse!$Q$20,\"\",IF(Kredsudvælgelse!AD$2=1,IF(ISTEXT(DGET(Forespørgsel1[#All],\"\"&LEFT($F87,LEN($F87)-$C87)&\"\",Kredsudvælgelse!$U$2:$V$3))=TRUE,DGET(Forespørgsel1[#All],\"\"&LEFT($F87,LEN($F87)-$C87)&\"\",Kredsudvælgelse!$U$2:$V$3),DGET(Forespørgsel1[#All],\"\"&LEFT($F87,LEN($F87)-$C87)&\"\",Kredsudvælgelse!$U$2:$V$3)/IF(ISNONTEXT($D87)=TRUE,1,DGET(Forespørgsel1[#All],\"\"&$D87&\"\",Kredsudvælgelse!$U$2:$V$3))),IF(ISBLANK(HLOOKUP(M$12,'Statiske ejendomme'!$B$3:$OF$80,'Statiske ejendomme'!$A80,FALSE))=FALSE,HLOOKUP(M$12,'Statiske ejendomme'!$B$3:$OF$80,'Statiske ejendomme'!$A80,FALSE),\"\"))),\"\")","v":""},{"$f":"IFERROR(IF(N$12=Kredsudvælgelse!$Q$20,\"\",IF(Kredsudvælgelse!AE$2=1,IF(ISTEXT(DGET(Forespørgsel1[#All],\"\"&LEFT($F87,LEN($F87)-$C87)&\"\",Kredsudvælgelse!$W$2:$X$3))=TRUE,DGET(Forespørgsel1[#All],\"\"&LEFT($F87,LEN($F87)-$C87)&\"\",Kredsudvælgelse!$W$2:$X$3),DGET(Forespørgsel1[#All],\"\"&LEFT($F87,LEN($F87)-$C87)&\"\",Kredsudvælgelse!$W$2:$X$3)/IF(ISNONTEXT($D87)=TRUE,1,DGET(Forespørgsel1[#All],\"\"&$D87&\"\",Kredsudvælgelse!$W$2:$X$3))),IF(ISBLANK(HLOOKUP(N$12,'Statiske ejendomme'!$B$3:$OF$80,'Statiske ejendomme'!$A80,FALSE))=FALSE,HLOOKUP(N$12,'Statiske ejendomme'!$B$3:$OF$80,'Statiske ejendomme'!$A80,FALSE),\"\"))),\"\")","v":""},{"$f":"IFERROR(IF(O$12=Kredsudvælgelse!$Q$20,\"\",IF(Kredsudvælgelse!AF$2=1,IF(ISTEXT(DGET(Forespørgsel1[#All],\"\"&LEFT($F87,LEN($F87)-$C87)&\"\",Kredsudvælgelse!$Y$2:$Z$3))=TRUE,DGET(Forespørgsel1[#All],\"\"&LEFT($F87,LEN($F87)-$C87)&\"\",Kredsudvælgelse!$Y$2:$Z$3),DGET(Forespørgsel1[#All],\"\"&LEFT($F87,LEN($F87)-$C87)&\"\",Kredsudvælgelse!$Y$2:$Z$3)/IF(ISNONTEXT($D87)=TRUE,1,DGET(Forespørgsel1[#All],\"\"&$D87&\"\",Kredsudvælgelse!$Y$2:$Z$3))),IF(ISBLANK(HLOOKUP(O$12,'Statiske ejendomme'!$B$3:$OF$80,'Statiske ejendomme'!$A80,FALSE))=FALSE,HLOOKUP(O$12,'Statiske ejendomme'!$B$3:$OF$80,'Statiske ejendomme'!$A80,FALSE),\"\"))),\"\")","v":""},{"$f":"IFERROR(IF(P$12=Kredsudvælgelse!$Q$20,\"\",IF(Kredsudvælgelse!AG$2=1,IF(ISTEXT(DGET(Forespørgsel1[#All],\"\"&LEFT($F87,LEN($F87)-$C87)&\"\",Kredsudvælgelse!$Q$6:$R$7))=TRUE,DGET(Forespørgsel1[#All],\"\"&LEFT($F87,LEN($F87)-$C87)&\"\",Kredsudvælgelse!$Q$6:$R$7),DGET(Forespørgsel1[#All],\"\"&LEFT($F87,LEN($F87)-$C87)&\"\",Kredsudvælgelse!$Q$6:$R$7)/IF(ISNONTEXT($D87)=TRUE,1,DGET(Forespørgsel1[#All],\"\"&$D87&\"\",Kredsudvælgelse!$Q$6:$R$7))),IF(ISBLANK(HLOOKUP(P$12,'Statiske ejendomme'!$B$3:$OF$80,'Statiske ejendomme'!#REF!,FALSE))=FALSE,HLOOKUP(P$12,'Statiske ejendomme'!$B$3:$OF$80,'Statiske ejendomme'!#REF!,FALSE),\"\"))),\"\")","v":""},{"$f":"IFERROR(IF(Q$12=Kredsudvælgelse!$Q$20,\"\",IF(Kredsudvælgelse!AH$2=1,IF(ISTEXT(DGET(Forespørgsel1[#All],\"\"&LEFT($F87,LEN($F87)-$C87)&\"\",Kredsudvælgelse!$S$6:$T$7))=TRUE,DGET(Forespørgsel1[#All],\"\"&LEFT($F87,LEN($F87)-$C87)&\"\",Kredsudvælgelse!$S$6:$T$7),DGET(Forespørgsel1[#All],\"\"&LEFT($F87,LEN($F87)-$C87)&\"\",Kredsudvælgelse!$S$6:$T$7)/IF(ISNONTEXT($D87)=TRUE,1,DGET(Forespørgsel1[#All],\"\"&$D87&\"\",Kredsudvælgelse!$S$6:$T$7))),IF(ISBLANK(HLOOKUP(Q$12,'Statiske ejendomme'!$B$3:$OF$80,'Statiske ejendomme'!$A80,FALSE))=FALSE,HLOOKUP(Q$12,'Statiske ejendomme'!$B$3:$OF$80,'Statiske ejendomme'!$A80,FALSE),\"\"))),\"\")","v":""},{"$f":"IFERROR(IF(R$12=Kredsudvælgelse!$Q$20,\"\",IF(Kredsudvælgelse!AI$2=1,IF(ISTEXT(DGET(Forespørgsel1[#All],\"\"&LEFT($F87,LEN($F87)-$C87)&\"\",Kredsudvælgelse!$U$6:$V$7))=TRUE,DGET(Forespørgsel1[#All],\"\"&LEFT($F87,LEN($F87)-$C87)&\"\",Kredsudvælgelse!$U$6:$V$7),DGET(Forespørgsel1[#All],\"\"&LEFT($F87,LEN($F87)-$C87)&\"\",Kredsudvælgelse!$U$6:$V$7)/IF(ISNONTEXT($D87)=TRUE,1,DGET(Forespørgsel1[#All],\"\"&$D87&\"\",Kredsudvælgelse!$U$6:$V$7))),IF(ISBLANK(HLOOKUP(R$12,'Statiske ejendomme'!$B$3:$OF$80,'Statiske ejendomme'!$A80,FALSE))=FALSE,HLOOKUP(R$12,'Statiske ejendomme'!$B$3:$OF$80,'Statiske ejendomme'!$A80,FALSE),\"\"))),\"\")","v":""},{"$f":"IFERROR(IF(S$12=Kredsudvælgelse!$Q$20,\"\",IF(Kredsudvælgelse!AJ$2=1,IF(ISTEXT(DGET(Forespørgsel1[#All],\"\"&LEFT($F87,LEN($F87)-$C87)&\"\",Kredsudvælgelse!$W$6:$X$7))=TRUE,DGET(Forespørgsel1[#All],\"\"&LEFT($F87,LEN($F87)-$C87)&\"\",Kredsudvælgelse!$W$6:$X$7),DGET(Forespørgsel1[#All],\"\"&LEFT($F87,LEN($F87)-$C87)&\"\",Kredsudvælgelse!$W$6:$X$7)/IF(ISNONTEXT($D87)=TRUE,1,DGET(Forespørgsel1[#All],\"\"&$D87&\"\",Kredsudvælgelse!$W$6:$X$7))),IF(ISBLANK(HLOOKUP(S$12,'Statiske ejendomme'!$B$3:$OF$80,'Statiske ejendomme'!$A80,FALSE))=FALSE,HLOOKUP(S$12,'Statiske ejendomme'!$B$3:$OF$80,'Statiske ejendomme'!$A80,FALSE),\"\"))),\"\")","v":""},{"$f":"IFERROR(IF(T$12=Kredsudvælgelse!$Q$20,\"\",IF(Kredsudvælgelse!AK$2=1,IF(ISTEXT(DGET(Forespørgsel1[#All],\"\"&LEFT($F87,LEN($F87)-$C87)&\"\",Kredsudvælgelse!$Y$6:$Z$7))=TRUE,DGET(Forespørgsel1[#All],\"\"&LEFT($F87,LEN($F87)-$C87)&\"\",Kredsudvælgelse!$Y$6:$Z$7),DGET(Forespørgsel1[#All],\"\"&LEFT($F87,LEN($F87)-$C87)&\"\",Kredsudvælgelse!$Y$6:$Z$7)/IF(ISNONTEXT($D87)=TRUE,1,DGET(Forespørgsel1[#All],\"\"&$D87&\"\",Kredsudvælgelse!$Y$6:$Z$7))),IF(ISBLANK(HLOOKUP(T$12,'Statiske ejendomme'!$B$3:$OF$80,'Statiske ejendomme'!$A80,FALSE))=FALSE,HLOOKUP(T$12,'Statiske ejendomme'!$B$3:$OF$80,'Statiske ejendomme'!$A80,FALSE),\"\"))),\"\")","v":""}]
[null,null,null,{"$f":"Slagtekalve!B79","v":0},null,null,null,null,{"$f":"IF(OR(Choices!$A$1=2,Choices!$A$1=3),Slagtekalve!F79,\"\")","v":0},{"$f":"IF(OR(Choices!$A$1=2,Choices!$A$1=3),Slagtekalve!G79,\"\")","v":0},{"$f":"IFERROR(IF(K$12=Kredsudvælgelse!$Q$20,\"\",IF(Kredsudvælgelse!AB$2=1,IF(ISTEXT(DGET(Forespørgsel1[#All],\"\"&LEFT($F88,LEN($F88)-$C88)&\"\",Kredsudvælgelse!$Q$2:$R$3))=TRUE,DGET(Forespørgsel1[#All],\"\"&LEFT($F88,LEN($F88)-$C88)&\"\",Kredsudvælgelse!$Q$2:$R$3),DGET(Forespørgsel1[#All],\"\"&LEFT($F88,LEN($F88)-$C88)&\"\",Kredsudvælgelse!$Q$2:$R$3)/IF(ISNONTEXT($D88)=TRUE,1,DGET(Forespørgsel1[#All],\"\"&$D88&\"\",Kredsudvælgelse!$Q$2:$R$3))),IF(ISBLANK(HLOOKUP(K$12,'Statiske ejendomme'!$B$3:$OF$80,'Statiske ejendomme'!#REF!,FALSE))=FALSE,HLOOKUP(K$12,'Statiske ejendomme'!$B$3:$OF$80,'Statiske ejendomme'!#REF!,FALSE),\"\"))),\"\")","v":""},null,null,{"$f":"IFERROR(IF(N$12=Kredsudvælgelse!$Q$20,\"\",IF(Kredsudvælgelse!AE$2=1,IF(ISTEXT(DGET(Forespørgsel1[#All],\"\"&LEFT($F88,LEN($F88)-$C88)&\"\",Kredsudvælgelse!$W$2:$X$3))=TRUE,DGET(Forespørgsel1[#All],\"\"&LEFT($F88,LEN($F88)-$C88)&\"\",Kredsudvælgelse!$W$2:$X$3),DGET(Forespørgsel1[#All],\"\"&LEFT($F88,LEN($F88)-$C88)&\"\",Kredsudvælgelse!$W$2:$X$3)/IF(ISNONTEXT($D88)=TRUE,1,DGET(Forespørgsel1[#All],\"\"&$D88&\"\",Kredsudvælgelse!$W$2:$X$3))),IF(ISBLANK(HLOOKUP(N$12,'Statiske ejendomme'!$B$3:$OF$80,'Statiske ejendomme'!#REF!,FALSE))=FALSE,HLOOKUP(N$12,'Statiske ejendomme'!$B$3:$OF$80,'Statiske ejendomme'!#REF!,FALSE),\"\"))),\"\")","v":""}]
[null,null,null,{"$f":"Slagtekalve!B80","v":0},null,null,null,null,{"$f":"IF(OR(Choices!$A$1=2,Choices!$A$1=3),Slagtekalve!F80,\"\")","v":0},{"$f":"IF(OR(Choices!$A$1=2,Choices!$A$1=3),Slagtekalve!G80,\"\")","v":0},{"$f":"IFERROR(IF(K$12=Kredsudvælgelse!$Q$20,\"\",IF(Kredsudvælgelse!AB$2=1,IF(ISTEXT(DGET(Forespørgsel1[#All],\"\"&LEFT($F89,LEN($F89)-$C89)&\"\",Kredsudvælgelse!$Q$2:$R$3))=TRUE,DGET(Forespørgsel1[#All],\"\"&LEFT($F89,LEN($F89)-$C89)&\"\",Kredsudvælgelse!$Q$2:$R$3),DGET(Forespørgsel1[#All],\"\"&LEFT($F89,LEN($F89)-$C89)&\"\",Kredsudvælgelse!$Q$2:$R$3)/IF(ISNONTEXT($D89)=TRUE,1,DGET(Forespørgsel1[#All],\"\"&$D89&\"\",Kredsudvælgelse!$Q$2:$R$3))),IF(ISBLANK(HLOOKUP(K$12,'Statiske ejendomme'!$B$3:$OF$80,'Statiske ejendomme'!#REF!,FALSE))=FALSE,HLOOKUP(K$12,'Statiske ejendomme'!$B$3:$OF$80,'Statiske ejendomme'!#REF!,FALSE),\"\"))),\"\")","v":""},null,null,{"$f":"IFERROR(IF(N$12=Kredsudvælgelse!$Q$20,\"\",IF(Kredsudvælgelse!AE$2=1,IF(ISTEXT(DGET(Forespørgsel1[#All],\"\"&LEFT($F89,LEN($F89)-$C89)&\"\",Kredsudvælgelse!$W$2:$X$3))=TRUE,DGET(Forespørgsel1[#All],\"\"&LEFT($F89,LEN($F89)-$C89)&\"\",Kredsudvælgelse!$W$2:$X$3),DGET(Forespørgsel1[#All],\"\"&LEFT($F89,LEN($F89)-$C89)&\"\",Kredsudvælgelse!$W$2:$X$3)/IF(ISNONTEXT($D89)=TRUE,1,DGET(Forespørgsel1[#All],\"\"&$D89&\"\",Kredsudvælgelse!$W$2:$X$3))),IF(ISBLANK(HLOOKUP(N$12,'Statiske ejendomme'!$B$3:$OF$80,'Statiske ejendomme'!#REF!,FALSE))=FALSE,HLOOKUP(N$12,'Statiske ejendomme'!$B$3:$OF$80,'Statiske ejendomme'!#REF!,FALSE),\"\"))),\"\")","v":""}]
[null,null,null,{"$f":"Slagtekalve!B81","v":0},null,null,null,null,{"$f":"IF(OR(Choices!$A$1=2,Choices!$A$1=3),Slagtekalve!F81,\"\")","v":0},{"$f":"IF(OR(Choices!$A$1=2,Choices!$A$1=3),Slagtekalve!G81,\"\")","v":0}]
[null,null,null,{"$f":"Slagtekalve!B82","v":0}]
[null,null,null,{"$f":"Slagtekalve!B83","v":0}]
[null,null,null,{"$f":"Slagtekalve!B84","v":0}]
[null,null,null,{"$f":"Slagtekalve!B85","v":0}]
[null,null,null,{"$f":"Slagtekalve!B86","v":0}]
[null,null,null,{"$f":"Slagtekalve!B87","v":0}]
[null,null,null,{"$f":"Slagtekalve!B88","v":0}]
[null,null,null,{"$f":"Slagtekalve!B89","v":0}]
[null,null,null,{"$f":"Slagtekalve!B90","v":0}]
[null,null,null,{"$f":"Slagtekalve!B91","v":0}]
[null,null,null,{"$f":"Slagtekalve!B92","v":0}]
[null,null,null,{"$f":"Slagtekalve!B93","v":0}]
[null,null,null,{"$f":"Slagtekalve!B94","v":0}]
[null,null,null,{"$f":"Slagtekalve!B95","v":0}]
[null,null,null,{"$f":"Slagtekalve!B96","v":0}]
[null,null,null,{"$f":"Slagtekalve!B97","v":0}]
[null,null,null,{"$f":"Slagtekalve!B98","v":0}]
[null,null,null,{"$f":"Slagtekalve!B99","v":0}]
[null,null,null,{"$f":"Slagtekalve!B100","v":0}]
[null,null,null,{"$f":"Slagtekalve!B101","v":0}]
[null,null,null,{"$f":"Slagtekalve!B102","v":0}]
[null,null,null,{"$f":"Slagtekalve!B103","v":0}]
[null,null,null,{"$f":"Slagtekalve!B104","v":0}]
[null,null,null,{"$f":"Slagtekalve!B105","v":0}]
[null,null,null,{"$f":"Slagtekalve!B106","v":0}]
[null,null,null,{"$f":"Slagtekalve!B107","v":0}]
[null,null,null,{"$f":"Slagtekalve!B108","v":0}]
[null,null,null,{"$f":"Slagtekalve!B109","v":0}]
[null,null,null,{"$f":"Slagtekalve!B110","v":0}]
[null,null,null,{"$f":"Slagtekalve!B111","v":0}]
[null,null,null,{"$f":"Slagtekalve!B112","v":0}]
[null,null,null,{"$f":"Slagtekalve!B113","v":0}]
[null,null,null,{"$f":"Slagtekalve!B114","v":0}]
[null,null,null,{"$f":"Slagtekalve!B115","v":0}]

{"sheet":"Diagrammer-orig","index":4,"n_rows":126,"n_cols":107,"rows_kept":126,"cut":false,"hidden":true,"merged":[[0,82,2,85],[11,25,11,28],[46,53,48,56],[92,53,94,56],[2,0,3,22],[43,0,44,22],[0,25,2,28],[0,53,2,56],[55,25,55,28]]}
[null,null,null,null,null,null,null,null,null,null,null,null,null,null,null,null,null,null,null,null,null,null,null,null,null,"Slagtekalve",null,null,null,null,"Løbenummer/",null,"Løbenummer/","Løbenummer/","Løbenummer/","Løbenummer/","Løbenummer/","Løbenummer/","Løbenummer/","Løbenummer/",null,null,null,null,"Løbenummer/",null,null,null,null,"Løbenummer/",null,null,null,"SVIN, Søer med smågrise og fravænnede",null,null,null,null,null,null,"Løbenummer/","Løbenummer/","Løbenummer/","Løbenummer/","Løbenummer/","Løbenummer/","Løbenummer/","Løbenummer/","Løbenummer/",null,"Løbenummer/","Løbenummer/","Løbenummer/","Løbenummer/","Løbenummer/","Løbenummer/",null,null,null,null,null,null,"Slagtekalve",null,null,null,null,null,null,"Løbenummer/","Løbenummer/","Løbenummer/","Løbenummer/","Løbenummer/","Løbenummer/","Løbenummer/","Løbenummer/","Løbenummer/","Løbenummer/","Løbenummer/","Løbenummer/","Løbenummer/","Løbenummer/","Løbenummer/"]
[null,null,null,null,null,null,null,null,null,null,null,null,null,null,null,null,null,null,null,null,null,null,null,null,null,null,null,null,null,null,"Kg EKM pr. årsko (leveret)",null,"Dyreomsætning og andre landbrugsindtægter ekskl. værdiændringer pr. kg EKM","Foderomkostninger ekskl. værdiændring pr. kg EKM","Dyrlæge og diverse pr. kg EKM","Arbejdsomkostninger pr. kg EKM","Bygninger pr. kg EKM","Inventar inkl. Energi pr. kg EKM","Forrentning driftskapital pr. kg EKM","Øvrige omkostninger pr. kg EKM",null,null,null,null,"Arbejdsomkostninger pr. årsko",null,null,null,null,"Fremstillingspris pr. kg EKM",null,null,null,null,null,null,null,null,null,null,"Bruttoudbytte i alt","Foderomkostninger pr. enhed","Dyrlæge og medicin","Arbejdsomkostninger pr. enhed","Energi svin","kapitalomkostninger i alt",{"$f":"IF($AB$13=BF5,$BO$4,$BO$5)","v":{"$error":"#VALUE!"}},null,"Øvrige omkostninger pr. enhed",null,"Bruttoudbytte i alt","Foderomkostninger pr. enhed","Dyrlæge og medicin","Arbejdsomkostninger pr. enhed","Energi svin","kapitalomkostninger i alt",null,null,null,null,null,null,null,null,null,null,null,null,null,"Bruttoudbytte i alt","kvæg andet",null,null,null,null,null,null,null,"foderomkostninger","Dyrlæge og medicin","Arbejdsomkostninger","bygninger","inventar inkl. Energi","diverse kapacitetsomkostninger"]
[{"$f":"IF(Choices!$A$1=4,VLOOKUP(Choices!$A$1*10+Choices!$D$1,'Diagrammer-orig'!$Z$13:$AA$23,2,FALSE)&\" \"&VLOOKUP(Choices!$A$1*10+Choices!$D$1,$Z$13:$AB$23,3,FALSE),\nVLOOKUP(Choices!$A$1,'Diagrammer-orig'!$Z$13:$AA$23,2,FALSE)&\" \"&VLOOKUP(Choices!$A$1,$Z$13:$AB$23,3,FALSE))","v":{"$error":"#VALUE!"}},null,null,null,null,null,null,null,null,null,null,null,null,null,null,null,null,null,null,null,null,null,null,null,null,null,null,null,null,null,null,null,"Dyreomsætning","Foder","Dyrlæge og diverse","Arbejdsomkostninger","Bygninger","Inventar inkl. energi","Forrentning driftskapital","Øvrige omkostninger","Total","Dyreomsætning","Foder","Dyrlæge og diverse","Arbejdsomkostninger","Bygninger","Inventar inkl. energi","Forrentning driftskapital","Øvrige omkostninger","Total",null,null,null,null,null,null,null,null,null,null,"Salg/overførsel smågrise",null,"Avl, rådgivning og kontrol",null,"vedligehold",null,null,null,null,null,"Salg/overførsel smågrise",null,"Avl, rådgivning og kontrol",null,"vedligehold",null,null,null,null,null,null,null,null,null,null,null,null,null,null,null,null,null,null,null,null,null,null,null,null,"Avl, Rådgivning og Kontrol",null,null,null,"afskrivning, øvrigt"]
[null,null,null,null,null,null,null,null,null,null,null,null,null,null,null,null,null,null,null,null,null,null,null,null,null,"Akserne","Først","Anden",null,{"$f":"IF(OR(Præsentation!$G$11=0,Præsentation!$G$11=\"Vælg\")=TRUE,\"Ingen valgt\",Præsentation!$G$11)","v":"BC gns. gruppen"},{"$f":"IFERROR(\"EKM pr. ko:  \"&ROUND(DGET(Præsentation!$F$11:$T$87,\"\"&'Diagrammer-orig'!$AD4&\"\",$AE$1:$AE$2),0),\"\")","v":""},"Kr. pr. årsko",{"$f":"IF($AF4=$AF$4,IFERROR(AP5*DGET(Præsentation!$F$11:$T$87,\"\"&'Diagrammer-orig'!$AD4&\"\",$AE$1:$AE$2)/100,0),\"\")","v":0},{"$f":"IF($AF4=$AF$4,IFERROR(AQ5*DGET(Præsentation!$F$11:$T$87,\"\"&'Diagrammer-orig'!$AD4&\"\",$AE$1:$AE$2)/100,0),\"\")","v":0},{"$f":"-IFERROR(DGET(Præsentation!$F$11:$T$87,\"\"&'Diagrammer-orig'!$AD4&\"\",$AH$30:$AH$31)+DGET(Præsentation!$F$11:$T$87,\"\"&'Diagrammer-orig'!$AD4&\"\",$AJ$30:$AJ$31)+DGET(Præsentation!$F$11:$T$87,\"\"&'Diagrammer-orig'!$AD4&\"\",$AI$30:$AI$31),0)","v":0},{"$f":"IFERROR(DGET(Præsentation!$F$11:$T$87,\"\"&'Diagrammer-orig'!$AD4&\"\",'Diagrammer-orig'!AS$1:AS$2),0)","v":0},{"$f":"IFERROR(DGET(Præsentation!$F$11:$T$87,\"\"&'Diagrammer-orig'!$AD4&\"\",'Diagrammer-orig'!AK$30:AK$31),0)","v":0},{"$f":"IFERROR(DGET(Præsentation!$F$11:$T$87,\"\"&'Diagrammer-orig'!$AD4&\"\",'Diagrammer-orig'!AL$30:AL$31),0)","v":0},{"$f":"IFERROR(DGET(Præsentation!$F$11:$T$87,\"\"&'Diagrammer-orig'!$AD4&\"\",'Diagrammer-orig'!AM$30:AM$31),0)","v":0},{"$f":"IFERROR(DGET(Præsentation!$F$11:$T$87,\"\"&'Diagrammer-orig'!$AD4&\"\",'Diagrammer-orig'!AN$30:AN$31),0)","v":0},{"$f":"IF($AF4=$AF$4,IFERROR(AX5*DGET(Præsentation!$F$11:$T$87,\"\"&'Diagrammer-orig'!$AD4&\"\",$AE$1:$AE$2)/100,0),\"\")","v":0},null,null,null,null,null,null,null,null,null,null,null,null,null,null,null,null,null,null,null,"værdiændring besætning",null,"Diverse vedr. husdyr",null,"forsikring",null,"Fremstillingspris pr. smågris",null,null,null,"værdiændring besætning",null,"Diverse vedr. husdyr",null,"forsikring",null,null,null,null,null,null,null,null,null,null,null,null,null,null,null,null,null,null,null,null,null,null,null,null,"diverse stykomkostninger",null,null,null,"øvrige kapitalomkostninger"]
[null,null,null,null,null,null,null,null,null,null,null,null,null,null,null,null,null,null,null,null,null,null,null,null,null,"min",{"$f":"MIN(AG4:AG29)*$AA$8","v":0},{"$f":"MIN(AP4:AP29)","v":0},null,null,null,"Øre pr. kg EKM",null,null,null,null,null,null,null,null,null,{"$f":"IFERROR(DGET(Præsentation!$F$11:$T$87,\"\"&'Diagrammer-orig'!$AD4&\"\",'Diagrammer-orig'!AG$1:AG$2)*100,0)","v":0},{"$f":"IFERROR(DGET(Præsentation!$F$11:$T$87,\"\"&'Diagrammer-orig'!$AD4&\"\",'Diagrammer-orig'!AH$1:AH$2)*100,0)","v":0},{"$f":"(AI4*100)/(IFERROR(DGET(Præsentation!$F$11:$T$87,\"\"&'Diagrammer-orig'!$AD4&\"\",$AE$1:$AE$2),0))","v":{"$error":"#DIV/0!"}},{"$f":"(AJ4*100)/(IFERROR(DGET(Præsentation!$F$11:$T$87,\"\"&'Diagrammer-orig'!$AD4&\"\",$AE$1:$AE$2),0))","v":{"$error":"#DIV/0!"}},{"$f":"(AK4*100)/(IFERROR(DGET(Præsentation!$F$11:$T$87,\"\"&'Diagrammer-orig'!$AD4&\"\",$AE$1:$AE$2),0))","v":{"$error":"#DIV/0!"}},{"$f":"(AL4*100)/(IFERROR(DGET(Præsentation!$F$11:$T$87,\"\"&'Diagrammer-orig'!$AD4&\"\",$AE$1:$AE$2),0))","v":{"$error":"#DIV/0!"}},{"$f":"(AM4*100)/(IFERROR(DGET(Præsentation!$F$11:$T$87,\"\"&'Diagrammer-orig'!$AD4&\"\",$AE$1:$AE$2),0))","v":{"$error":"#DIV/0!"}},{"$f":"(AN4*100)/(IFERROR(DGET(Præsentation!$F$11:$T$87,\"\"&'Diagrammer-orig'!$AD4&\"\",$AE$1:$AE$2),0))","v":{"$error":"#DIV/0!"}},{"$f":"IFERROR(DGET(Præsentation!$F$11:$T$87,\"\"&'Diagrammer-orig'!$AD4&\"\",'Diagrammer-orig'!AX$1:AX$2)*100,0)","v":0},null,null,"Akserne","Primær","Sekundær",null,null,"Søer med smågrise","og",null,null,null,null,null,"diverse kapacitetsomkostninger",null,"Fremstillingspris pr. frav. smågris",null,null,null,null,null,null,null,"diverse kapacitetsomkostninger",null,null,null,null,null,null,null,null,null,null,null,null,null,null,null,null,null,null,null,null,null,null,null,null,null,null,null,null,"renteomk. af bundet kapital"]
[null,null,null,null,null,null,null,null,null,null,null,null,null,null,null,null,null,null,null,null,null,null,null,null,null,null,{"$f":"MAX(AO4:AO29)-IF(AA5<0,AA5,0)","v":0},{"$f":"MAX(AX4:AX29)-IF(AB5<0,AB5,0)","v":0},null,{"$f":"IF(OR(Præsentation!$H$11=0,Præsentation!$H$11=\"Vælg\")=TRUE,\"Ingen valgt\",Præsentation!$H$11)","v":"BC top 5"},{"$f":"IFERROR(\"EKM pr. ko:  \"&ROUND(DGET(Præsentation!$F$11:$T$87,\"\"&'Diagrammer-orig'!$AD6&\"\",$AE$1:$AE$2),0),\"\")","v":""},"Kr. pr. årsko",{"$f":"IF($AF6=$AF$4,IFERROR(AP7*DGET(Præsentation!$F$11:$T$87,\"\"&'Diagrammer-orig'!$AD6&\"\",$AE$1:$AE$2)/100,0),\"\")","v":0},{"$f":"IF($AF6=$AF$4,IFERROR(AQ7*DGET(Præsentation!$F$11:$T$87,\"\"&'Diagrammer-orig'!$AD6&\"\",$AE$1:$AE$2)/100,0),\"\")","v":0},{"$f":"-IFERROR(DGET(Præsentation!$F$11:$T$87,\"\"&'Diagrammer-orig'!$AD6&\"\",$AH$30:$AH$31)+DGET(Præsentation!$F$11:$T$87,\"\"&'Diagrammer-orig'!$AD6&\"\",$AJ$30:$AJ$31)+DGET(Præsentation!$F$11:$T$87,\"\"&'Diagrammer-orig'!$AD6&\"\",$AI$30:$AI$31),0)","v":0},{"$f":"IFERROR(DGET(Præsentation!$F$11:$T$87,\"\"&'Diagrammer-orig'!$AD6&\"\",'Diagrammer-orig'!AS$1:AS$2),0)","v":0},{"$f":"IFERROR(DGET(Præsentation!$F$11:$T$87,\"\"&'Diagrammer-orig'!$AD6&\"\",'Diagrammer-orig'!AK$30:AK$31),0)","v":0},{"$f":"IFERROR(DGET(Præsentation!$F$11:$T$87,\"\"&'Diagrammer-orig'!$AD6&\"\",'Diagrammer-orig'!AL$30:AL$31),0)","v":0},{"$f":"IFERROR(DGET(Præsentation!$F$11:$T$87,\"\"&'Diagrammer-orig'!$AD6&\"\",'Diagrammer-orig'!AM$30:AM$31),0)","v":0},{"$f":"IFERROR(DGET(Præsentation!$F$11:$T$87,\"\"&'Diagrammer-orig'!$AD6&\"\",'Diagrammer-orig'!AN$30:AN$31),0)","v":0},{"$f":"IF($AF6=$AF$4,IFERROR(AX7*DGET(Præsentation!$F$11:$T$87,\"\"&'Diagrammer-orig'!$AD6&\"\",$AE$1:$AE$2)/100,0),\"\")","v":0},null,null,null,null,null,null,null,null,null,null,null,"Min værdi",{"$f":"MIN(BI8:BI32)","v":0},{"$f":"MIN(BS9:BS33)","v":-6059.8471337579622},null,null,"Søer med fravænnede",null,null,null,null,null,null,null,null,null,null,null,null,null,null,null,null,null,null,null,null,null,null,null,null,"Akserne","Først",null,null,"Slagtekalve"]
[null,null,null,null,null,null,null,null,null,null,null,null,null,null,null,null,null,null,null,null,null,null,null,null,null,"maks",{"$f":"IFERROR(IF(AB6/AB5*AA5<AA6,AA6,AB6/AB5*AA5),0)","v":0},{"$f":"IFERROR(IF(AA6/AA5*AB5<AB6,AB6,AA6/AA5*AB5),0)","v":0},null,null,null,"Øre pr. kg EKM",null,null,null,null,null,null,null,null,null,{"$f":"IFERROR(DGET(Præsentation!$F$11:$T$87,\"\"&'Diagrammer-orig'!$AD6&\"\",'Diagrammer-orig'!AG$1:AG$2)*100,0)","v":0},{"$f":"IFERROR(DGET(Præsentation!$F$11:$T$87,\"\"&'Diagrammer-orig'!$AD6&\"\",'Diagrammer-orig'!AH$1:AH$2)*100,0)","v":0},{"$f":"(AI6*100)/(IFERROR(DGET(Præsentation!$F$11:$T$87,\"\"&'Diagrammer-orig'!$AD6&\"\",$AE$1:$AE$2),0))","v":{"$error":"#DIV/0!"}},{"$f":"(AJ6*100)/(IFERROR(DGET(Præsentation!$F$11:$T$87,\"\"&'Diagrammer-orig'!$AD6&\"\",$AE$1:$AE$2),0))","v":{"$error":"#DIV/0!"}},{"$f":"(AK6*100)/(IFERROR(DGET(Præsentation!$F$11:$T$87,\"\"&'Diagrammer-orig'!$AD6&\"\",$AE$1:$AE$2),0))","v":{"$error":"#DIV/0!"}},{"$f":"(AL6*100)/(IFERROR(DGET(Præsentation!$F$11:$T$87,\"\"&'Diagrammer-orig'!$AD6&\"\",$AE$1:$AE$2),0))","v":{"$error":"#DIV/0!"}},{"$f":"(AM6*100)/(IFERROR(DGET(Præsentation!$F$11:$T$87,\"\"&'Diagrammer-orig'!$AD6&\"\",$AE$1:$AE$2),0))","v":{"$error":"#DIV/0!"}},{"$f":"(AN6*100)/(IFERROR(DGET(Præsentation!$F$11:$T$87,\"\"&'Diagrammer-orig'!$AD6&\"\",$AE$1:$AE$2),0))","v":{"$error":"#DIV/0!"}},{"$f":"IFERROR(DGET(Præsentation!$F$11:$T$87,\"\"&'Diagrammer-orig'!$AD6&\"\",'Diagrammer-orig'!AX$1:AX$2)*100,0)","v":0},null,null,"Skale. min",{"$f":"IF(BB6<0,BB6*1.1,BB6*0.9)","v":0},{"$f":"IF(BC6<0,BC6*1.1,BC6*0.9)","v":-6665.8318471337589},null,null,null,null,null,"Køb af grise og andre indtægter","Foderomkostninger","Dyrlæge, medicin og diverse","Arbejdsomkostninger","Energi, vedl. bygn. mv.","Forrentning driftskapital og øvrige omk.",null,null,null,null,"Køb af grise og andre indtægter","Foderomkostninger","Dyrlæge, medicin og diverse","Arbejdsomkostninger","Energi, vedl. bygn. mv.","Forrentning driftskapital og øvrige omk.","(total (bruges kun til at finde størrelsen af grafen))",{"$f":"BP7","v":0},0,null,null,null,"min",{"$f":"-(MAX(CT8:CT33,DB8:DB33)-MIN(0,MIN(CL8:CS33,CU8:DA33)))*($CF$9-1)-MIN(0,MIN(CL8:CS33,CU8:DA33))","v":0},null,null,null,null,null,"Bruttoudbytte","Handypræmie","øvrige omkostnigner","Inventar inkl. Energi","Stykomkostninger","Maskinomk. inkl. Arbejde","Dyrlæge og medicin","Jordleje","Total","foderomkostninger","Dyrlæge og diverse","Arbejdsomkostninger","Bygninger","Inventar inkl. Energi","Øvrige omkostninger",null,{"$f":"CT7","v":"Total"}]
[null,null,null,null,null,null,null,null,null,null,null,null,null,null,null,null,null,null,null,null,null,null,null,null,null,"Skalering nedre",1.1299999999999999,null,null,{"$f":"IF(OR(Præsentation!$I$11=0,Præsentation!$I$11=\"vælg\")=TRUE,\"Ingen valgt\",Præsentation!$I$11)","v":"Gns. Kreds \n"},{"$f":"IFERROR(\"EKM pr. ko:  \"&ROUND(DGET(Præsentation!$F$11:$T$87,\"\"&'Diagrammer-orig'!$AD8&\"\",$AE$1:$AE$2),0),\"\")","v":""},"Kr. pr. årsko",{"$f":"IF($AF8=$AF$4,IFERROR(AP9*DGET(Præsentation!$F$11:$T$87,\"\"&'Diagrammer-orig'!$AD8&\"\",$AE$1:$AE$2)/100,0),\"\")","v":0},{"$f":"IF($AF8=$AF$4,IFERROR(AQ9*DGET(Præsentation!$F$11:$T$87,\"\"&'Diagrammer-orig'!$AD8&\"\",$AE$1:$AE$2)/100,0),\"\")","v":0},{"$f":"IF($AF8=$AF$4,IFERROR(AR9*DGET(Præsentation!$F$11:$T$87,\"\"&'Diagrammer-orig'!$AD8&\"\",$AE$1:$AE$2)/100,0),\"\")","v":0},{"$f":"IF($AF8=$AF$4,IFERROR(AS9*DGET(Præsentation!$F$11:$T$87,\"\"&'Diagrammer-orig'!$AD8&\"\",$AE$1:$AE$2)/100,0),\"\")","v":0},{"$f":"IF($AF8=$AF$4,IFERROR(AT9*DGET(Præsentation!$F$11:$T$87,\"\"&'Diagrammer-orig'!$AD8&\"\",$AE$1:$AE$2)/100,0),\"\")","v":0},{"$f":"IF($AF8=$AF$4,IFERROR(AU9*DGET(Præsentation!$F$11:$T$87,\"\"&'Diagrammer-orig'!$AD8&\"\",$AE$1:$AE$2)/100,0),\"\")","v":0},{"$f":"IF($AF8=$AF$4,IFERROR(AV9*DGET(Præsentation!$F$11:$T$87,\"\"&'Diagrammer-orig'!$AD8&\"\",$AE$1:$AE$2)/100,0),\"\")","v":0},{"$f":"IF($AF8=$AF$4,IFERROR(AW9*DGET(Præsentation!$F$11:$T$87,\"\"&'Diagrammer-orig'!$AD8&\"\",$AE$1:$AE$2)/100,0),\"\")","v":0},{"$f":"IFERROR(SUM(AG8:AN8),0)","v":0},null,null,null,null,null,null,null,null,null,null,null,"Max værdi",{"$f":"MAX(BO8:BO33)","v":0},{"$f":"MAX(BY8:BY33)","v":0},2,{"$f":"BF8","v":"BC gns. gruppen"},{"$f":"$AD4","v":"BC gns. gruppen"},{"$f":"IFERROR(\"Grise pr årsso: \"&ROUND(VLOOKUP($BB$14,Præsentation!$F$11:$T$78,$BD8,FALSE),1),\"\")","v":""},"Smågris",{"$f":"IFERROR((BS9)/IFERROR(VLOOKUP($BB$14,Præsentation!$F$11:$T$78,$BD8,FALSE),0),\"\")","v":""},{"$f":"IFERROR((BT9)/IFERROR(VLOOKUP($BB$14,Præsentation!$F$11:$T$78,$BD8,FALSE),0),\"\")","v":""},{"$f":"IFERROR((BU9)/IFERROR(VLOOKUP($BB$14,Præsentation!$F$11:$T$78,$BD8,FALSE),0),\"\")","v":""},{"$f":"IFERROR((BV9)/IFERROR(VLOOKUP($BB$14,Præsentation!$F$11:$T$78,$BD8,FALSE),0),\"\")","v":""},{"$f":"IFERROR((BW9)/IFERROR(VLOOKUP($BB$14,Præsentation!$F$11:$T$78,$BD8,FALSE),0),\"\")","v":""},{"$f":"IFERROR((BX9)/IFERROR(VLOOKUP($BB$14,Præsentation!$F$11:$T$78,$BD8,FALSE),0),\"\")","v":""},{"$f":"IFERROR(ABS(IFERROR(VLOOKUP(BO$2,Præsentation!$F$11:$T$78,$BD8,FALSE),0)),\"\")","v":0},{"$f":"IFERROR(ABS(IFERROR(VLOOKUP(BP$2,Præsentation!$F$11:$T$78,$BD8,FALSE),0)+IFERROR(VLOOKUP(BP$3,Præsentation!$F$11:$T$78,$BD8,FALSE),0)+IFERROR(VLOOKUP(BP$4,Præsentation!$F$11:$T$78,$BD8,FALSE),0)+IFERROR(VLOOKUP(BP$5,Præsentation!$F$11:$T$78,$BD8,FALSE),0))/IFERROR(VLOOKUP($BB$14,Præsentation!$F$11:$T$78,$BD8,FALSE),0),\"\")","v":""},null,null,null,null,null,null,null,null,null,null,null,null,null,null,"maks",{"$f":"MAX(CT8:CT33,DB8:DB33)*CF10","v":0},2,{"$f":"CI8","v":"BC gns. gruppen"},{"$f":"$AD4","v":"BC gns. gruppen"},null,"Bruttoudbytte",{"$f":"IFERROR(ABS(DSUM(Præsentation!$F$11:$T$87,\"\"&'Diagrammer-orig'!$CH8&\"\",'Diagrammer-orig'!CL$1:INDIRECT(ADDRESS(SUMPRODUCT(--(LEN(CL$1:CL$4)>1)),COLUMN(CL$1)))))/ABS(DGET(Præsentation!$F$11:$T$87,\"\"&$CH9&\"\",CL$34:CL$35))-CM8,\"\")","v":""},{"$f":"IFERROR((ABS(DSUM(Præsentation!$F$11:$T$87,\"\"&'Diagrammer-orig'!$CH8&\"\",'Diagrammer-orig'!CM$1:INDIRECT(ADDRESS(SUMPRODUCT(--(LEN(CM$1:CM$5)>1)),COLUMN(CM$1))))))/ABS(DGET(Præsentation!$F$11:$T$87,\"\"&$CH9&\"\",CM$34:CM$35)),\"\")","v":""},{"$f":"IFERROR(ABS(DSUM(Præsentation!$F$11:$T$87,\"\"&'Diagrammer-orig'!$CH8&\"\",'Diagrammer-orig'!CN$1:INDIRECT(ADDRESS(SUMPRODUCT(--(LEN(CN$1:CN$5)>1)),COLUMN(CN$1))))),\"\")","v":""},null,null,null,null,null,{"$f":"IFERROR(SUM(CL8:CS8),0)","v":0}]
[null,null,null,null,null,null,null,null,null,null,null,null,null,null,null,null,null,null,null,null,null,null,null,null,null,"Skalering øvre",1.03,null,null,null,null,"Øre pr. kg EKM",null,null,null,null,null,null,null,null,null,{"$f":"IFERROR(DGET(Præsentation!$F$11:$T$87,\"\"&'Diagrammer-orig'!$AD8&\"\",'Diagrammer-orig'!AG$1:AG$2)*100,0)","v":0},{"$f":"IFERROR(DGET(Præsentation!$F$11:$T$87,\"\"&'Diagrammer-orig'!$AD8&\"\",'Diagrammer-orig'!AH$1:AH$2)*100,0)","v":0},{"$f":"IFERROR(DGET(Præsentation!$F$11:$T$87,\"\"&'Diagrammer-orig'!$AD8&\"\",'Diagrammer-orig'!AI$1:AI$2)*100,0)","v":0},{"$f":"IFERROR(DGET(Præsentation!$F$11:$T$87,\"\"&'Diagrammer-orig'!$AD8&\"\",'Diagrammer-orig'!AJ$1:AJ$2)*100,0)","v":0},{"$f":"IFERROR(DGET(Præsentation!$F$11:$T$87,\"\"&'Diagrammer-orig'!$AD8&\"\",'Diagrammer-orig'!AK$1:AK$2)*100,0)","v":0},{"$f":"IFERROR(DGET(Præsentation!$F$11:$T$87,\"\"&'Diagrammer-orig'!$AD8&\"\",'Diagrammer-orig'!AL$1:AL$2)*100,0)","v":0},{"$f":"IFERROR(DGET(Præsentation!$F$11:$T$87,\"\"&'Diagrammer-orig'!$AD8&\"\",'Diagrammer-orig'!AM$1:AM$2)*100,0)","v":0},{"$f":"IFERROR(DGET(Præsentation!$F$11:$T$87,\"\"&'Diagrammer-orig'!$AD8&\"\",'Diagrammer-orig'!AN$1:AN$2)*100,0)","v":0},{"$f":"IFERROR(SUM(AP9:AW9),0)","v":0},null,null,"Skale. Max",{"$f":"IF(BB8>0,BB8*1.1,BB8*0.9)","v":0},{"$f":"IF(BC8>0,BC8*1.1,BC8*0.9)","v":0},2,{"$f":"BE8","v":"BC gns. gruppen"},null,null,"Årsso",null,null,null,null,null,null,null,null,null,null,{"$f":"IFERROR(-IFERROR((IFERROR(VLOOKUP(BS$2,Præsentation!$F$11:$T$78,$BD8,FALSE),0)-IFERROR(VLOOKUP(BS$3,Præsentation!$F$11:$T$78,$BD8,FALSE),0)-IFERROR(VLOOKUP(BS$4,Præsentation!$F$11:$T$78,$BD8,FALSE),0)),\"\"),\"\")","v":-5017.8297872340418},{"$f":"IFERROR(ABS(IFERROR(VLOOKUP(BT$2,Præsentation!$F$11:$T$78,$BD9,FALSE),0)+IFERROR(VLOOKUP(BT$3,Præsentation!$F$11:$T$78,$BD9,FALSE),0)+IFERROR(VLOOKUP(BT$4,Præsentation!$F$11:$T$78,$BD9,FALSE),0)+IFERROR(VLOOKUP(BT$5,Præsentation!$F$11:$T$78,$BD9,FALSE),0)),\"\")","v":0},{"$f":"IFERROR(ABS(IFERROR(VLOOKUP(BU$2,Præsentation!$F$11:$T$78,$BD9,FALSE),0)+IFERROR(VLOOKUP(BU$3,Præsentation!$F$11:$T$78,$BD9,FALSE),0)+IFERROR(VLOOKUP(BU$4,Præsentation!$F$11:$T$78,$BD9,FALSE),0)+IFERROR(VLOOKUP(BU$5,Præsentation!$F$11:$T$78,$BD9,FALSE),0)),\"\")","v":125.07947286353806},{"$f":"IFERROR(ABS(IFERROR(VLOOKUP(BV$2,Præsentation!$F$11:$T$78,$BD9,FALSE),0)+IFERROR(VLOOKUP(BV$3,Præsentation!$F$11:$T$78,$BD9,FALSE),0)+IFERROR(VLOOKUP(BV$4,Præsentation!$F$11:$T$78,$BD9,FALSE),0)+IFERROR(VLOOKUP(BV$5,Præsentation!$F$11:$T$78,$BD9,FALSE),0)),\"\")","v":0},{"$f":"IFERROR(ABS(IFERROR(VLOOKUP(BW$2,Præsentation!$F$11:$T$78,$BD9,FALSE),0)+IFERROR(VLOOKUP(BW$3,Præsentation!$F$11:$T$78,$BD9,FALSE),0)+IFERROR(VLOOKUP(BW$4,Præsentation!$F$11:$T$78,$BD9,FALSE),0)+IFERROR(VLOOKUP(BW$5,Præsentation!$F$11:$T$78,$BD9,FALSE),0)),\"\")","v":332.40174035511291},{"$f":"IFERROR(ABS(IFERROR(VLOOKUP(BX$2,Præsentation!$F$11:$T$78,$BD9,FALSE),0)+IFERROR(VLOOKUP(BX$3,Præsentation!$F$11:$T$78,$BD9,FALSE),0)+IFERROR(VLOOKUP(BX$4,Præsentation!$F$11:$T$78,$BD9,FALSE),0)+IFERROR(VLOOKUP(BX$5,Præsentation!$F$11:$T$78,$BD9,FALSE),0)),\"\")","v":608.91001458679148},{"$f":"SUM(BS9:BX9)","v":-3951.4385594285986},null,null,null,null,null,"Skalering nedre",1.01,2,{"$f":"CH8","v":"BC gns. gruppen"},null,null,"Omkostninger",null,null,null,null,null,null,null,null,null,{"$f":"IFERROR(ABS(DSUM(Præsentation!$F$11:$T$87,\"\"&'Diagrammer-orig'!$CH8&\"\",'Diagrammer-orig'!CU$1:INDIRECT(ADDRESS(SUMPRODUCT(--(LEN(CU$1:CU$6)>1)),COLUMN(CU$1)))))/ABS(DGET(Præsentation!$F$11:$T$87,\"\"&$CH9&\"\",CU$34:CU$35)),\"\")","v":""},{"$f":"IFERROR(ABS(DSUM(Præsentation!$F$11:$T$87,\"\"&'Diagrammer-orig'!$CH8&\"\",'Diagrammer-orig'!CV$1:INDIRECT(ADDRESS(SUMPRODUCT(--(LEN(CV$1:CV$6)>1)),COLUMN(CV$1)))))/ABS(DGET(Præsentation!$F$11:$T$87,\"\"&$CH9&\"\",CV$34:CV$35)),\"\")","v":""},{"$f":"IFERROR(ABS(DSUM(Præsentation!$F$11:$T$87,\"\"&'Diagrammer-orig'!$CH8&\"\",'Diagrammer-orig'!CW$1:INDIRECT(ADDRESS(SUMPRODUCT(--(LEN(CW$1:CW$6)>1)),COLUMN(CW$1)))))/ABS(DGET(Præsentation!$F$11:$T$87,\"\"&$CH9&\"\",CW$34:CW$35)),\"\")","v":""},{"$f":"IFERROR(ABS(DSUM(Præsentation!$F$11:$T$87,\"\"&'Diagrammer-orig'!$CH8&\"\",'Diagrammer-orig'!CX$1:INDIRECT(ADDRESS(SUMPRODUCT(--(LEN(CX$1:CX$6)>1)),COLUMN(CX$1)))))/ABS(DGET(Præsentation!$F$11:$T$87,\"\"&$CH9&\"\",CX$34:CX$35)),\"\")","v":""},{"$f":"IFERROR(ABS(DSUM(Præsentation!$F$11:$T$87,\"\"&'Diagrammer-orig'!$CH8&\"\",'Diagrammer-orig'!CY$1:INDIRECT(ADDRESS(SUMPRODUCT(--(LEN(CY$1:CY$6)>1)),COLUMN(CY$1)))))/ABS(DGET(Præsentation!$F$11:$T$87,\"\"&$CH9&\"\",CY$34:CY$35)),\"\")","v":""},{"$f":"IFERROR(ABS(DSUM(Præsentation!$F$11:$T$87,\"\"&'Diagrammer-orig'!$CH8&\"\",'Diagrammer-orig'!CZ$1:INDIRECT(ADDRESS(SUMPRODUCT(--(LEN(CZ$1:CZ$6)>1)),COLUMN(CZ$1)))))/ABS(DGET(Præsentation!$F$11:$T$87,\"\"&$CH9&\"\",CZ$34:CZ$35)),\"\")","v":""},null,{"$f":"IFERROR(SUM(CU9:DA9),0)","v":0},{"$f":"12839-13690","v":-851}]
[null,null,null,null,null,null,null,null,null,null,null,null,null,null,null,null,null,null,null,null,null,null,null,null,null,null,null,null,null,{"$f":"IF(OR(Præsentation!$K$11=0,Præsentation!$K$11=\"vælg\")=TRUE,\"Ingen valgt\",Præsentation!$K$11)","v":"D1"},{"$f":"IFERROR(\"EKM pr. ko:  \"&ROUND(DGET(Præsentation!$F$11:$T$87,\"\"&'Diagrammer-orig'!$AD10&\"\",$AE$1:$AE$2),0),\"\")","v":""},"Kr. pr. årsko",{"$f":"IF($AF10=$AF$4,IFERROR(AP11*DGET(Præsentation!$F$11:$T$87,\"\"&'Diagrammer-orig'!$AD10&\"\",$AE$1:$AE$2)/100,0),\"\")","v":0},{"$f":"IF($AF10=$AF$4,IFERROR(AQ11*DGET(Præsentation!$F$11:$T$87,\"\"&'Diagrammer-orig'!$AD10&\"\",$AE$1:$AE$2)/100,0),\"\")","v":0},{"$f":"IF($AF10=$AF$4,IFERROR(AR11*DGET(Præsentation!$F$11:$T$87,\"\"&'Diagrammer-orig'!$AD10&\"\",$AE$1:$AE$2)/100,0),\"\")","v":0},{"$f":"IF($AF10=$AF$4,IFERROR(AS11*DGET(Præsentation!$F$11:$T$87,\"\"&'Diagrammer-orig'!$AD10&\"\",$AE$1:$AE$2)/100,0),\"\")","v":0},{"$f":"IF($AF10=$AF$4,IFERROR(AT11*DGET(Præsentation!$F$11:$T$87,\"\"&'Diagrammer-orig'!$AD10&\"\",$AE$1:$AE$2)/100,0),\"\")","v":0},{"$f":"IF($AF10=$AF$4,IFERROR(AU11*DGET(Præsentation!$F$11:$T$87,\"\"&'Diagrammer-orig'!$AD10&\"\",$AE$1:$AE$2)/100,0),\"\")","v":0},{"$f":"IF($AF10=$AF$4,IFERROR(AV11*DGET(Præsentation!$F$11:$T$87,\"\"&'Diagrammer-orig'!$AD10&\"\",$AE$1:$AE$2)/100,0),\"\")","v":0},{"$f":"IF($AF10=$AF$4,IFERROR(AW11*DGET(Præsentation!$F$11:$T$87,\"\"&'Diagrammer-orig'!$AD10&\"\",$AE$1:$AE$2)/100,0),\"\")","v":0},{"$f":"IFERROR(SUM(AG10:AN10),0)","v":0},null,null,null,null,null,null,null,null,null,null,null,"Forhold (mellem de to akser)",null,{"$f":"MAX((BC7/BB7),BC9/BB9)","v":{"$error":"#DIV/0!"}},3,{"$f":"BF10","v":"BC top 5"},{"$f":"$AD6","v":"BC top 5"},{"$f":"IFERROR(\"Grise pr årsso: \"&ROUND(VLOOKUP($BB$14,Præsentation!$F$11:$T$78,$BD10,FALSE),1),\"\")","v":""},"Smågris",{"$f":"IFERROR((BS11)/IFERROR(VLOOKUP($BB$14,Præsentation!$F$11:$T$78,$BD10,FALSE),0),\"\")","v":""},{"$f":"IFERROR((BT11)/IFERROR(VLOOKUP($BB$14,Præsentation!$F$11:$T$78,$BD10,FALSE),0),\"\")","v":""},{"$f":"IFERROR((BU11)/IFERROR(VLOOKUP($BB$14,Præsentation!$F$11:$T$78,$BD10,FALSE),0),\"\")","v":""},{"$f":"IFERROR((BV11)/IFERROR(VLOOKUP($BB$14,Præsentation!$F$11:$T$78,$BD10,FALSE),0),\"\")","v":""},{"$f":"IFERROR((BW11)/IFERROR(VLOOKUP($BB$14,Præsentation!$F$11:$T$78,$BD10,FALSE),0),\"\")","v":""},{"$f":"IFERROR((BX11)/IFERROR(VLOOKUP($BB$14,Præsentation!$F$11:$T$78,$BD10,FALSE),0),\"\")","v":""},{"$f":"IFERROR(ABS(IFERROR(VLOOKUP(BO$2,Præsentation!$F$11:$T$78,$BD10,FALSE),0)),\"\")","v":0},null,null,null,null,null,null,null,null,null,null,null,null,null,null,null,"Skalering øvre",1.0249999999999999,3,{"$f":"CI10","v":"BC top 5"},{"$f":"$AD6","v":"BC top 5"},null,"Bruttoudbytte",{"$f":"IFERROR(ABS(DSUM(Præsentation!$F$11:$T$87,\"\"&'Diagrammer-orig'!$CH10&\"\",'Diagrammer-orig'!CL$1:INDIRECT(ADDRESS(SUMPRODUCT(--(LEN(CL$1:CL$4)>1)),COLUMN(CL$1)))))/ABS(DGET(Præsentation!$F$11:$T$87,\"\"&$CH11&\"\",CL$34:CL$35))-CM10,\"\")","v":""},{"$f":"IFERROR((ABS(DSUM(Præsentation!$F$11:$T$87,\"\"&'Diagrammer-orig'!$CH10&\"\",'Diagrammer-orig'!CM$1:INDIRECT(ADDRESS(SUMPRODUCT(--(LEN(CM$1:CM$5)>1)),COLUMN(CM$1))))))/ABS(DGET(Præsentation!$F$11:$T$87,\"\"&$CH11&\"\",CM$34:CM$35)),\"\")","v":""},{"$f":"IFERROR(ABS(DSUM(Præsentation!$F$11:$T$87,\"\"&'Diagrammer-orig'!$CH10&\"\",'Diagrammer-orig'!CN$1:INDIRECT(ADDRESS(SUMPRODUCT(--(LEN(CN$1:CN$5)>1)),COLUMN(CN$1))))),\"\")","v":""},null,null,null,null,null,{"$f":"IFERROR(SUM(CL10:CS10),0)","v":0},null,null,null,null,null,null,null,null,{"$f":"12863-13690","v":-827}]
[null,null,null,null,null,null,null,null,null,null,null,null,null,null,null,null,null,null,null,null,null,null,null,null,null,null,null,null,null,null,null,"Øre pr. kg EKM",null,null,null,null,null,null,null,null,null,{"$f":"IFERROR(DGET(Præsentation!$F$11:$T$87,\"\"&'Diagrammer-orig'!$AD10&\"\",'Diagrammer-orig'!AG$1:AG$2)*100,0)","v":0},{"$f":"IFERROR(DGET(Præsentation!$F$11:$T$87,\"\"&'Diagrammer-orig'!$AD10&\"\",'Diagrammer-orig'!AH$1:AH$2)*100,0)","v":0},{"$f":"IFERROR(DGET(Præsentation!$F$11:$T$87,\"\"&'Diagrammer-orig'!$AD10&\"\",'Diagrammer-orig'!AI$1:AI$2)*100,0)","v":0},{"$f":"IFERROR(DGET(Præsentation!$F$11:$T$87,\"\"&'Diagrammer-orig'!$AD10&\"\",'Diagrammer-orig'!AJ$1:AJ$2)*100,0)","v":0},{"$f":"IFERROR(DGET(Præsentation!$F$11:$T$87,\"\"&'Diagrammer-orig'!$AD10&\"\",'Diagrammer-orig'!AK$1:AK$2)*100,0)","v":0},{"$f":"IFERROR(DGET(Præsentation!$F$11:$T$87,\"\"&'Diagrammer-orig'!$AD10&\"\",'Diagrammer-orig'!AL$1:AL$2)*100,0)","v":0},{"$f":"IFERROR(DGET(Præsentation!$F$11:$T$87,\"\"&'Diagrammer-orig'!$AD10&\"\",'Diagrammer-orig'!AM$1:AM$2)*100,0)","v":0},{"$f":"IFERROR(DGET(Præsentation!$F$11:$T$87,\"\"&'Diagrammer-orig'!$AD10&\"\",'Diagrammer-orig'!AN$1:AN$2)*100,0)","v":0},{"$f":"IFERROR(SUM(AP11:AW11),0)","v":0},null,null,"Min y-akse",{"$f":"BB7","v":0},{"$f":"IFERROR(BB11*BC10,0)","v":0},3,{"$f":"BE10","v":"BC top 5"},null,null,"Årsso",null,null,null,null,null,null,null,null,null,null,{"$f":"IFERROR(-IFERROR((IFERROR(VLOOKUP(BS$2,Præsentation!$F$11:$T$78,$BD10,FALSE),0)-IFERROR(VLOOKUP(BS$3,Præsentation!$F$11:$T$78,$BD10,FALSE),0)-IFERROR(VLOOKUP(BS$4,Præsentation!$F$11:$T$78,$BD10,FALSE),0)),\"\"),\"\")","v":-5355.416092943201},{"$f":"IFERROR(ABS(IFERROR(VLOOKUP(BT$2,Præsentation!$F$11:$T$78,$BD11,FALSE),0)+IFERROR(VLOOKUP(BT$3,Præsentation!$F$11:$T$78,$BD11,FALSE),0)+IFERROR(VLOOKUP(BT$4,Præsentation!$F$11:$T$78,$BD11,FALSE),0)+IFERROR(VLOOKUP(BT$5,Præsentation!$F$11:$T$78,$BD11,FALSE),0)),\"\")","v":0},{"$f":"IFERROR(ABS(IFERROR(VLOOKUP(BU$2,Præsentation!$F$11:$T$78,$BD11,FALSE),0)+IFERROR(VLOOKUP(BU$3,Præsentation!$F$11:$T$78,$BD11,FALSE),0)+IFERROR(VLOOKUP(BU$4,Præsentation!$F$11:$T$78,$BD11,FALSE),0)+IFERROR(VLOOKUP(BU$5,Præsentation!$F$11:$T$78,$BD11,FALSE),0)),\"\")","v":95.394578313253007},{"$f":"IFERROR(ABS(IFERROR(VLOOKUP(BV$2,Præsentation!$F$11:$T$78,$BD11,FALSE),0)+IFERROR(VLOOKUP(BV$3,Præsentation!$F$11:$T$78,$BD11,FALSE),0)+IFERROR(VLOOKUP(BV$4,Præsentation!$F$11:$T$78,$BD11,FALSE),0)+IFERROR(VLOOKUP(BV$5,Præsentation!$F$11:$T$78,$BD11,FALSE),0)),\"\")","v":0},{"$f":"IFERROR(ABS(IFERROR(VLOOKUP(BW$2,Præsentation!$F$11:$T$78,$BD11,FALSE),0)+IFERROR(VLOOKUP(BW$3,Præsentation!$F$11:$T$78,$BD11,FALSE),0)+IFERROR(VLOOKUP(BW$4,Præsentation!$F$11:$T$78,$BD11,FALSE),0)+IFERROR(VLOOKUP(BW$5,Præsentation!$F$11:$T$78,$BD11,FALSE),0)),\"\")","v":277.09100688468158},{"$f":"IFERROR(ABS(IFERROR(VLOOKUP(BX$2,Præsentation!$F$11:$T$78,$BD11,FALSE),0)+IFERROR(VLOOKUP(BX$3,Præsentation!$F$11:$T$78,$BD11,FALSE),0)+IFERROR(VLOOKUP(BX$4,Præsentation!$F$11:$T$78,$BD11,FALSE),0)+IFERROR(VLOOKUP(BX$5,Præsentation!$F$11:$T$78,$BD11,FALSE),0)),\"\")","v":506.70998278829609},{"$f":"SUM(BS11:BX11)","v":-4476.2205249569706},null,null,null,null,"Divisor:","Antal foderdage pr. produceret slagtekalv",null,3,{"$f":"CH10","v":"BC top 5"},null,null,"Omkostninger",null,null,null,null,null,null,null,null,null,{"$f":"IFERROR(ABS(DSUM(Præsentation!$F$11:$T$87,\"\"&'Diagrammer-orig'!$CH10&\"\",'Diagrammer-orig'!CU$1:INDIRECT(ADDRESS(SUMPRODUCT(--(LEN(CU$1:CU$6)>1)),COLUMN(CU$1)))))/ABS(DGET(Præsentation!$F$11:$T$87,\"\"&$CH11&\"\",CU$34:CU$35)),\"\")","v":""},{"$f":"IFERROR(ABS(DSUM(Præsentation!$F$11:$T$87,\"\"&'Diagrammer-orig'!$CH10&\"\",'Diagrammer-orig'!CV$1:INDIRECT(ADDRESS(SUMPRODUCT(--(LEN(CV$1:CV$6)>1)),COLUMN(CV$1)))))/ABS(DGET(Præsentation!$F$11:$T$87,\"\"&$CH11&\"\",CV$34:CV$35)),\"\")","v":""},{"$f":"IFERROR(ABS(DSUM(Præsentation!$F$11:$T$87,\"\"&'Diagrammer-orig'!$CH10&\"\",'Diagrammer-orig'!CW$1:INDIRECT(ADDRESS(SUMPRODUCT(--(LEN(CW$1:CW$6)>1)),COLUMN(CW$1)))))/ABS(DGET(Præsentation!$F$11:$T$87,\"\"&$CH11&\"\",CW$34:CW$35)),\"\")","v":""},{"$f":"IFERROR(ABS(DSUM(Præsentation!$F$11:$T$87,\"\"&'Diagrammer-orig'!$CH10&\"\",'Diagrammer-orig'!CX$1:INDIRECT(ADDRESS(SUMPRODUCT(--(LEN(CX$1:CX$6)>1)),COLUMN(CX$1)))))/ABS(DGET(Præsentation!$F$11:$T$87,\"\"&$CH11&\"\",CX$34:CX$35)),\"\")","v":""},{"$f":"IFERROR(ABS(DSUM(Præsentation!$F$11:$T$87,\"\"&'Diagrammer-orig'!$CH10&\"\",'Diagrammer-orig'!CY$1:INDIRECT(ADDRESS(SUMPRODUCT(--(LEN(CY$1:CY$6)>1)),COLUMN(CY$1)))))/ABS(DGET(Præsentation!$F$11:$T$87,\"\"&$CH11&\"\",CY$34:CY$35)),\"\")","v":""},{"$f":"IFERROR(ABS(DSUM(Præsentation!$F$11:$T$87,\"\"&'Diagrammer-orig'!$CH10&\"\",'Diagrammer-orig'!CZ$1:INDIRECT(ADDRESS(SUMPRODUCT(--(LEN(CZ$1:CZ$6)>1)),COLUMN(CZ$1)))))/ABS(DGET(Præsentation!$F$11:$T$87,\"\"&$CH11&\"\",CZ$34:CZ$35)),\"\")","v":""},null,{"$f":"IFERROR(SUM(CU11:DA11),0)","v":0}]
[null,null,null,null,null,null,null,null,null,null,null,null,null,null,null,null,null,null,null,null,null,null,null,null,null,"Tekst til ovenover grafen",null,null,null,{"$f":"IF(OR(Præsentation!$L$11=0,Præsentation!$L$11=\"vælg\")=TRUE,\"Ingen valgt\",Præsentation!$L$11)","v":"D4"},{"$f":"IFERROR(\"EKM pr. ko:  \"&ROUND(DGET(Præsentation!$F$11:$T$87,\"\"&'Diagrammer-orig'!$AD12&\"\",$AE$1:$AE$2),0),\"\")","v":""},"Kr. pr. årsko",{"$f":"IF($AF12=$AF$4,IFERROR(AP13*DGET(Præsentation!$F$11:$T$87,\"\"&'Diagrammer-orig'!$AD12&\"\",$AE$1:$AE$2)/100,0),\"\")","v":0},{"$f":"IF($AF12=$AF$4,IFERROR(AQ13*DGET(Præsentation!$F$11:$T$87,\"\"&'Diagrammer-orig'!$AD12&\"\",$AE$1:$AE$2)/100,0),\"\")","v":0},{"$f":"IF($AF12=$AF$4,IFERROR(AR13*DGET(Præsentation!$F$11:$T$87,\"\"&'Diagrammer-orig'!$AD12&\"\",$AE$1:$AE$2)/100,0),\"\")","v":0},{"$f":"IF($AF12=$AF$4,IFERROR(AS13*DGET(Præsentation!$F$11:$T$87,\"\"&'Diagrammer-orig'!$AD12&\"\",$AE$1:$AE$2)/100,0),\"\")","v":0},{"$f":"IF($AF12=$AF$4,IFERROR(AT13*DGET(Præsentation!$F$11:$T$87,\"\"&'Diagrammer-orig'!$AD12&\"\",$AE$1:$AE$2)/100,0),\"\")","v":0},{"$f":"IF($AF12=$AF$4,IFERROR(AU13*DGET(Præsentation!$F$11:$T$87,\"\"&'Diagrammer-orig'!$AD12&\"\",$AE$1:$AE$2)/100,0),\"\")","v":0},{"$f":"IF($AF12=$AF$4,IFERROR(AV13*DGET(Præsentation!$F$11:$T$87,\"\"&'Diagrammer-orig'!$AD12&\"\",$AE$1:$AE$2)/100,0),\"\")","v":0},{"$f":"IF($AF12=$AF$4,IFERROR(AW13*DGET(Præsentation!$F$11:$T$87,\"\"&'Diagrammer-orig'!$AD12&\"\",$AE$1:$AE$2)/100,0),\"\")","v":0},{"$f":"IFERROR(SUM(AG12:AN12),0)","v":0},null,null,null,null,null,null,null,null,null,null,null,"Max y-akse",{"$f":"BB9","v":0},{"$f":"IFERROR(BB12*BC10,0)","v":0},4,{"$f":"BF12","v":"Gns. Kreds \n"},{"$f":"$AD8","v":"Gns. Kreds \n"},{"$f":"IFERROR(\"Grise pr årsso: \"&ROUND(VLOOKUP($BB$14,Præsentation!$F$11:$T$78,$BD12,FALSE),1),\"\")","v":""},"Smågris",{"$f":"IFERROR((BS13)/IFERROR(VLOOKUP($BB$14,Præsentation!$F$11:$T$78,$BD12,FALSE),0),\"\")","v":""},{"$f":"IFERROR((BT13)/IFERROR(VLOOKUP($BB$14,Præsentation!$F$11:$T$78,$BD12,FALSE),0),\"\")","v":""},{"$f":"IFERROR((BU13)/IFERROR(VLOOKUP($BB$14,Præsentation!$F$11:$T$78,$BD12,FALSE),0),\"\")","v":""},{"$f":"IFERROR((BV13)/IFERROR(VLOOKUP($BB$14,Præsentation!$F$11:$T$78,$BD12,FALSE),0),\"\")","v":""},{"$f":"IFERROR((BW13)/IFERROR(VLOOKUP($BB$14,Præsentation!$F$11:$T$78,$BD12,FALSE),0),\"\")","v":""},{"$f":"IFERROR((BX13)/IFERROR(VLOOKUP($BB$14,Præsentation!$F$11:$T$78,$BD12,FALSE),0),\"\")","v":""},{"$f":"IFERROR(ABS(IFERROR(VLOOKUP(BO$2,Præsentation!$F$11:$T$78,$BD12,FALSE),0)),\"\")","v":0},null,null,null,null,null,null,null,null,null,null,null,null,null,null,null,null,null,4,{"$f":"CI12","v":"Gns. Kreds \n"},{"$f":"$AD8","v":"Gns. Kreds \n"},null,"Bruttoudbytte",{"$f":"IFERROR(ABS(DSUM(Præsentation!$F$11:$T$87,\"\"&'Diagrammer-orig'!$CH12&\"\",'Diagrammer-orig'!CL$1:INDIRECT(ADDRESS(SUMPRODUCT(--(LEN(CL$1:CL$4)>1)),COLUMN(CL$1)))))/ABS(DGET(Præsentation!$F$11:$T$87,\"\"&$CH13&\"\",CL$34:CL$35))-CM12,\"\")","v":""},{"$f":"IFERROR((ABS(DSUM(Præsentation!$F$11:$T$87,\"\"&'Diagrammer-orig'!$CH12&\"\",'Diagrammer-orig'!CM$1:INDIRECT(ADDRESS(SUMPRODUCT(--(LEN(CM$1:CM$5)>1)),COLUMN(CM$1))))))/ABS(DGET(Præsentation!$F$11:$T$87,\"\"&$CH13&\"\",CM$34:CM$35)),\"\")","v":""},{"$f":"IFERROR(ABS(DSUM(Præsentation!$F$11:$T$87,\"\"&'Diagrammer-orig'!$CH12&\"\",'Diagrammer-orig'!CN$1:INDIRECT(ADDRESS(SUMPRODUCT(--(LEN(CN$1:CN$5)>1)),COLUMN(CN$1))))),\"\")","v":""},null,null,null,null,null,{"$f":"IFERROR(SUM(CL12:CS12),0)","v":0}]
[null,null,null,null,null,null,null,null,null,null,null,null,null,null,null,null,null,null,null,null,null,null,null,null,null,2,"Fremstillingspris på mælk pr. årsko og kg EKM for ",{"$f":"INDIRECT(ADDRESS(Choices!$D$1,COLUMN(Choices!$E$1),1,,\"Choices\"))","v":{"$error":"#VALUE!"}},"KVÆG",null,null,"Øre pr. kg EKM",null,null,null,null,null,null,null,null,null,{"$f":"IFERROR(DGET(Præsentation!$F$11:$T$87,\"\"&'Diagrammer-orig'!$AD12&\"\",'Diagrammer-orig'!AG$1:AG$2)*100,0)","v":0},{"$f":"IFERROR(DGET(Præsentation!$F$11:$T$87,\"\"&'Diagrammer-orig'!$AD12&\"\",'Diagrammer-orig'!AH$1:AH$2)*100,0)","v":0},{"$f":"IFERROR(DGET(Præsentation!$F$11:$T$87,\"\"&'Diagrammer-orig'!$AD12&\"\",'Diagrammer-orig'!AI$1:AI$2)*100,0)","v":0},{"$f":"IFERROR(DGET(Præsentation!$F$11:$T$87,\"\"&'Diagrammer-orig'!$AD12&\"\",'Diagrammer-orig'!AJ$1:AJ$2)*100,0)","v":0},{"$f":"IFERROR(DGET(Præsentation!$F$11:$T$87,\"\"&'Diagrammer-orig'!$AD12&\"\",'Diagrammer-orig'!AK$1:AK$2)*100,0)","v":0},{"$f":"IFERROR(DGET(Præsentation!$F$11:$T$87,\"\"&'Diagrammer-orig'!$AD12&\"\",'Diagrammer-orig'!AL$1:AL$2)*100,0)","v":0},{"$f":"IFERROR(DGET(Præsentation!$F$11:$T$87,\"\"&'Diagrammer-orig'!$AD12&\"\",'Diagrammer-orig'!AM$1:AM$2)*100,0)","v":0},{"$f":"IFERROR(DGET(Præsentation!$F$11:$T$87,\"\"&'Diagrammer-orig'!$AD12&\"\",'Diagrammer-orig'!AN$1:AN$2)*100,0)","v":0},{"$f":"IFERROR(SUM(AP13:AW13),0)","v":0},null,null,null,"#GS",null,4,{"$f":"BE12","v":"Gns. Kreds \n"},null,null,"Årsso",null,null,null,null,null,null,null,null,null,null,{"$f":"IFERROR(-IFERROR((IFERROR(VLOOKUP(BS$2,Præsentation!$F$11:$T$78,$BD12,FALSE),0)-IFERROR(VLOOKUP(BS$3,Præsentation!$F$11:$T$78,$BD12,FALSE),0)-IFERROR(VLOOKUP(BS$4,Præsentation!$F$11:$T$78,$BD12,FALSE),0)),\"\"),\"\")","v":""},{"$f":"IFERROR(ABS(IFERROR(VLOOKUP(BT$2,Præsentation!$F$11:$T$78,$BD13,FALSE),0)+IFERROR(VLOOKUP(BT$3,Præsentation!$F$11:$T$78,$BD13,FALSE),0)+IFERROR(VLOOKUP(BT$4,Præsentation!$F$11:$T$78,$BD13,FALSE),0)+IFERROR(VLOOKUP(BT$5,Præsentation!$F$11:$T$78,$BD13,FALSE),0)),\"\")","v":""},{"$f":"IFERROR(ABS(IFERROR(VLOOKUP(BU$2,Præsentation!$F$11:$T$78,$BD13,FALSE),0)+IFERROR(VLOOKUP(BU$3,Præsentation!$F$11:$T$78,$BD13,FALSE),0)+IFERROR(VLOOKUP(BU$4,Præsentation!$F$11:$T$78,$BD13,FALSE),0)+IFERROR(VLOOKUP(BU$5,Præsentation!$F$11:$T$78,$BD13,FALSE),0)),\"\")","v":""},{"$f":"IFERROR(ABS(IFERROR(VLOOKUP(BV$2,Præsentation!$F$11:$T$78,$BD13,FALSE),0)+IFERROR(VLOOKUP(BV$3,Præsentation!$F$11:$T$78,$BD13,FALSE),0)+IFERROR(VLOOKUP(BV$4,Præsentation!$F$11:$T$78,$BD13,FALSE),0)+IFERROR(VLOOKUP(BV$5,Præsentation!$F$11:$T$78,$BD13,FALSE),0)),\"\")","v":""},{"$f":"IFERROR(ABS(IFERROR(VLOOKUP(BW$2,Præsentation!$F$11:$T$78,$BD13,FALSE),0)+IFERROR(VLOOKUP(BW$3,Præsentation!$F$11:$T$78,$BD13,FALSE),0)+IFERROR(VLOOKUP(BW$4,Præsentation!$F$11:$T$78,$BD13,FALSE),0)+IFERROR(VLOOKUP(BW$5,Præsentation!$F$11:$T$78,$BD13,FALSE),0)),\"\")","v":""},{"$f":"IFERROR(ABS(IFERROR(VLOOKUP(BX$2,Præsentation!$F$11:$T$78,$BD13,FALSE),0)+IFERROR(VLOOKUP(BX$3,Præsentation!$F$11:$T$78,$BD13,FALSE),0)+IFERROR(VLOOKUP(BX$4,Præsentation!$F$11:$T$78,$BD13,FALSE),0)+IFERROR(VLOOKUP(BX$5,Præsentation!$F$11:$T$78,$BD13,FALSE),0)),\"\")","v":""},{"$f":"SUM(BS13:BX13)","v":0},null,null,null,null,null,null,null,4,{"$f":"CH12","v":"Gns. Kreds \n"},null,null,"Omkostninger",null,null,null,null,null,null,null,null,null,{"$f":"IFERROR(ABS(DSUM(Præsentation!$F$11:$T$87,\"\"&'Diagrammer-orig'!$CH12&\"\",'Diagrammer-orig'!CU$1:INDIRECT(ADDRESS(SUMPRODUCT(--(LEN(CU$1:CU$6)>1)),COLUMN(CU$1)))))/ABS(DGET(Præsentation!$F$11:$T$87,\"\"&$CH13&\"\",CU$34:CU$35)),\"\")","v":""},{"$f":"IFERROR(ABS(DSUM(Præsentation!$F$11:$T$87,\"\"&'Diagrammer-orig'!$CH12&\"\",'Diagrammer-orig'!CV$1:INDIRECT(ADDRESS(SUMPRODUCT(--(LEN(CV$1:CV$6)>1)),COLUMN(CV$1)))))/ABS(DGET(Præsentation!$F$11:$T$87,\"\"&$CH13&\"\",CV$34:CV$35)),\"\")","v":""},{"$f":"IFERROR(ABS(DSUM(Præsentation!$F$11:$T$87,\"\"&'Diagrammer-orig'!$CH12&\"\",'Diagrammer-orig'!CW$1:INDIRECT(ADDRESS(SUMPRODUCT(--(LEN(CW$1:CW$6)>1)),COLUMN(CW$1)))))/ABS(DGET(Præsentation!$F$11:$T$87,\"\"&$CH13&\"\",CW$34:CW$35)),\"\")","v":""},{"$f":"IFERROR(ABS(DSUM(Præsentation!$F$11:$T$87,\"\"&'Diagrammer-orig'!$CH12&\"\",'Diagrammer-orig'!CX$1:INDIRECT(ADDRESS(SUMPRODUCT(--(LEN(CX$1:CX$6)>1)),COLUMN(CX$1)))))/ABS(DGET(Præsentation!$F$11:$T$87,\"\"&$CH13&\"\",CX$34:CX$35)),\"\")","v":""},{"$f":"IFERROR(ABS(DSUM(Præsentation!$F$11:$T$87,\"\"&'Diagrammer-orig'!$CH12&\"\",'Diagrammer-orig'!CY$1:INDIRECT(ADDRESS(SUMPRODUCT(--(LEN(CY$1:CY$6)>1)),COLUMN(CY$1)))))/ABS(DGET(Præsentation!$F$11:$T$87,\"\"&$CH13&\"\",CY$34:CY$35)),\"\")","v":""},{"$f":"IFERROR(ABS(DSUM(Præsentation!$F$11:$T$87,\"\"&'Diagrammer-orig'!$CH12&\"\",'Diagrammer-orig'!CZ$1:INDIRECT(ADDRESS(SUMPRODUCT(--(LEN(CZ$1:CZ$6)>1)),COLUMN(CZ$1)))))/ABS(DGET(Præsentation!$F$11:$T$87,\"\"&$CH13&\"\",CZ$34:CZ$35)),\"\")","v":""},null,{"$f":"IFERROR(SUM(CU13:DA13),0)","v":0}]
[null,null,null,null,null,null,null,null,null,null,null,null,null,null,null,null,null,null,null,null,null,null,null,null,null,3,"Fremstillingspris",{"$f":"INDIRECT(ADDRESS(Choices!$G$1,COLUMN(Choices!$H$1),1,,\"Choices\"))","v":{"$error":"#VALUE!"}},"SVIN",{"$f":"IF(OR(Præsentation!$M$11=0,Præsentation!$M$11=\"vælg\")=TRUE,\"Ingen valgt\",Præsentation!$M$11)","v":"D6"},{"$f":"IFERROR(\"EKM pr. ko:  \"&ROUND(DGET(Præsentation!$F$11:$T$87,\"\"&'Diagrammer-orig'!$AD14&\"\",$AE$1:$AE$2),0),\"\")","v":""},"Kr. pr. årsko",{"$f":"IF($AF14=$AF$4,IFERROR(AP15*DGET(Præsentation!$F$11:$T$87,\"\"&'Diagrammer-orig'!$AD14&\"\",$AE$1:$AE$2)/100,0),\"\")","v":0},{"$f":"IF($AF14=$AF$4,IFERROR(AQ15*DGET(Præsentation!$F$11:$T$87,\"\"&'Diagrammer-orig'!$AD14&\"\",$AE$1:$AE$2)/100,0),\"\")","v":0},{"$f":"IF($AF14=$AF$4,IFERROR(AR15*DGET(Præsentation!$F$11:$T$87,\"\"&'Diagrammer-orig'!$AD14&\"\",$AE$1:$AE$2)/100,0),\"\")","v":0},{"$f":"IF($AF14=$AF$4,IFERROR(AS15*DGET(Præsentation!$F$11:$T$87,\"\"&'Diagrammer-orig'!$AD14&\"\",$AE$1:$AE$2)/100,0),\"\")","v":0},{"$f":"IF($AF14=$AF$4,IFERROR(AT15*DGET(Præsentation!$F$11:$T$87,\"\"&'Diagrammer-orig'!$AD14&\"\",$AE$1:$AE$2)/100,0),\"\")","v":0},{"$f":"IF($AF14=$AF$4,IFERROR(AU15*DGET(Præsentation!$F$11:$T$87,\"\"&'Diagrammer-orig'!$AD14&\"\",$AE$1:$AE$2)/100,0),\"\")","v":0},{"$f":"IF($AF14=$AF$4,IFERROR(AV15*DGET(Præsentation!$F$11:$T$87,\"\"&'Diagrammer-orig'!$AD14&\"\",$AE$1:$AE$2)/100,0),\"\")","v":0},{"$f":"IF($AF14=$AF$4,IFERROR(AW15*DGET(Præsentation!$F$11:$T$87,\"\"&'Diagrammer-orig'!$AD14&\"\",$AE$1:$AE$2)/100,0),\"\")","v":0},{"$f":"IFERROR(SUM(AG14:AN14),0)","v":0},null,null,null,null,null,null,null,null,null,null,null,null,{"$f":"IF($AB$13=BF5,$BB$17,$BB$18)","v":{"$error":"#VALUE!"}}," ",5,{"$f":"BF14","v":"D1"},{"$f":"$AD10","v":"D1"},{"$f":"IFERROR(\"Grise pr årsso: \"&ROUND(VLOOKUP($BB$14,Præsentation!$F$11:$T$78,$BD14,FALSE),1),\"\")","v":""},"Smågris",{"$f":"IFERROR((BS15)/IFERROR(VLOOKUP($BB$14,Præsentation!$F$11:$T$78,$BD14,FALSE),0),\"\")","v":""},{"$f":"IFERROR((BT15)/IFERROR(VLOOKUP($BB$14,Præsentation!$F$11:$T$78,$BD14,FALSE),0),\"\")","v":""},{"$f":"IFERROR((BU15)/IFERROR(VLOOKUP($BB$14,Præsentation!$F$11:$T$78,$BD14,FALSE),0),\"\")","v":""},{"$f":"IFERROR((BV15)/IFERROR(VLOOKUP($BB$14,Præsentation!$F$11:$T$78,$BD14,FALSE),0),\"\")","v":""},{"$f":"IFERROR((BW15)/IFERROR(VLOOKUP($BB$14,Præsentation!$F$11:$T$78,$BD14,FALSE),0),\"\")","v":""},{"$f":"IFERROR((BX15)/IFERROR(VLOOKUP($BB$14,Præsentation!$F$11:$T$78,$BD14,FALSE),0),\"\")","v":""},{"$f":"IFERROR(ABS(IFERROR(VLOOKUP(BO$2,Præsentation!$F$11:$T$78,$BD14,FALSE),0)),\"\")","v":0},null,null,null,null,null,null,null,null,null,null,null,null,null,null,null,null,null,5,{"$f":"CI14","v":"D1"},{"$f":"$AD10","v":"D1"},null,"Bruttoudbytte",{"$f":"IFERROR(ABS(DSUM(Præsentation!$F$11:$T$87,\"\"&'Diagrammer-orig'!$CH14&\"\",'Diagrammer-orig'!CL$1:INDIRECT(ADDRESS(SUMPRODUCT(--(LEN(CL$1:CL$4)>1)),COLUMN(CL$1)))))/ABS(DGET(Præsentation!$F$11:$T$87,\"\"&$CH15&\"\",CL$34:CL$35))-CM14,\"\")","v":""},{"$f":"IFERROR((ABS(DSUM(Præsentation!$F$11:$T$87,\"\"&'Diagrammer-orig'!$CH14&\"\",'Diagrammer-orig'!CM$1:INDIRECT(ADDRESS(SUMPRODUCT(--(LEN(CM$1:CM$5)>1)),COLUMN(CM$1))))))/ABS(DGET(Præsentation!$F$11:$T$87,\"\"&$CH15&\"\",CM$34:CM$35)),\"\")","v":""},{"$f":"IFERROR(ABS(DSUM(Præsentation!$F$11:$T$87,\"\"&'Diagrammer-orig'!$CH14&\"\",'Diagrammer-orig'!CN$1:INDIRECT(ADDRESS(SUMPRODUCT(--(LEN(CN$1:CN$5)>1)),COLUMN(CN$1))))),\"\")","v":""},null,null,null,null,null,{"$f":"IFERROR(SUM(CL14:CS14),0)","v":0}]
[null,null,null,null,null,null,null,null,null,null,null,null,null,null,null,null,null,null,null,null,null,null,null,null,null,42,"Kr. Pr. foderdag",{"$f":"INDIRECT(ADDRESS(Choices!$G$1,COLUMN(Choices!$H$1),1,,\"Choices\"))","v":{"$error":"#VALUE!"}},"PLANTER",null,null,"Øre pr. kg EKM",null,null,null,null,null,null,null,null,null,{"$f":"IFERROR(DGET(Præsentation!$F$11:$T$87,\"\"&'Diagrammer-orig'!$AD14&\"\",'Diagrammer-orig'!AG$1:AG$2)*100,0)","v":0},{"$f":"IFERROR(DGET(Præsentation!$F$11:$T$87,\"\"&'Diagrammer-orig'!$AD14&\"\",'Diagrammer-orig'!AH$1:AH$2)*100,0)","v":0},{"$f":"IFERROR(DGET(Præsentation!$F$11:$T$87,\"\"&'Diagrammer-orig'!$AD14&\"\",'Diagrammer-orig'!AI$1:AI$2)*100,0)","v":0},{"$f":"IFERROR(DGET(Præsentation!$F$11:$T$87,\"\"&'Diagrammer-orig'!$AD14&\"\",'Diagrammer-orig'!AJ$1:AJ$2)*100,0)","v":0},{"$f":"IFERROR(DGET(Præsentation!$F$11:$T$87,\"\"&'Diagrammer-orig'!$AD14&\"\",'Diagrammer-orig'!AK$1:AK$2)*100,0)","v":0},{"$f":"IFERROR(DGET(Præsentation!$F$11:$T$87,\"\"&'Diagrammer-orig'!$AD14&\"\",'Diagrammer-orig'!AL$1:AL$2)*100,0)","v":0},{"$f":"IFERROR(DGET(Præsentation!$F$11:$T$87,\"\"&'Diagrammer-orig'!$AD14&\"\",'Diagrammer-orig'!AM$1:AM$2)*100,0)","v":0},{"$f":"IFERROR(DGET(Præsentation!$F$11:$T$87,\"\"&'Diagrammer-orig'!$AD14&\"\",'Diagrammer-orig'!AN$1:AN$2)*100,0)","v":0},{"$f":"IFERROR(SUM(AP15:AW15),0)","v":0},null,null,null,null,null,5,{"$f":"BE14","v":"D1"},null,null,"Årsso",null,null,null,null,null,null,null,null,null,null,{"$f":"IFERROR(-IFERROR((IFERROR(VLOOKUP(BS$2,Præsentation!$F$11:$T$78,$BD14,FALSE),0)-IFERROR(VLOOKUP(BS$3,Præsentation!$F$11:$T$78,$BD14,FALSE),0)-IFERROR(VLOOKUP(BS$4,Præsentation!$F$11:$T$78,$BD14,FALSE),0)),\"\"),\"\")","v":""},{"$f":"IFERROR(ABS(IFERROR(VLOOKUP(BT$2,Præsentation!$F$11:$T$78,$BD15,FALSE),0)+IFERROR(VLOOKUP(BT$3,Præsentation!$F$11:$T$78,$BD15,FALSE),0)+IFERROR(VLOOKUP(BT$4,Præsentation!$F$11:$T$78,$BD15,FALSE),0)+IFERROR(VLOOKUP(BT$5,Præsentation!$F$11:$T$78,$BD15,FALSE),0)),\"\")","v":""},{"$f":"IFERROR(ABS(IFERROR(VLOOKUP(BU$2,Præsentation!$F$11:$T$78,$BD15,FALSE),0)+IFERROR(VLOOKUP(BU$3,Præsentation!$F$11:$T$78,$BD15,FALSE),0)+IFERROR(VLOOKUP(BU$4,Præsentation!$F$11:$T$78,$BD15,FALSE),0)+IFERROR(VLOOKUP(BU$5,Præsentation!$F$11:$T$78,$BD15,FALSE),0)),\"\")","v":""},{"$f":"IFERROR(ABS(IFERROR(VLOOKUP(BV$2,Præsentation!$F$11:$T$78,$BD15,FALSE),0)+IFERROR(VLOOKUP(BV$3,Præsentation!$F$11:$T$78,$BD15,FALSE),0)+IFERROR(VLOOKUP(BV$4,Præsentation!$F$11:$T$78,$BD15,FALSE),0)+IFERROR(VLOOKUP(BV$5,Præsentation!$F$11:$T$78,$BD15,FALSE),0)),\"\")","v":""},{"$f":"IFERROR(ABS(IFERROR(VLOOKUP(BW$2,Præsentation!$F$11:$T$78,$BD15,FALSE),0)+IFERROR(VLOOKUP(BW$3,Præsentation!$F$11:$T$78,$BD15,FALSE),0)+IFERROR(VLOOKUP(BW$4,Præsentation!$F$11:$T$78,$BD15,FALSE),0)+IFERROR(VLOOKUP(BW$5,Præsentation!$F$11:$T$78,$BD15,FALSE),0)),\"\")","v":""},{"$f":"IFERROR(ABS(IFERROR(VLOOKUP(BX$2,Præsentation!$F$11:$T$78,$BD15,FALSE),0)+IFERROR(VLOOKUP(BX$3,Præsentation!$F$11:$T$78,$BD15,FALSE),0)+IFERROR(VLOOKUP(BX$4,Præsentation!$F$11:$T$78,$BD15,FALSE),0)+IFERROR(VLOOKUP(BX$5,Præsentation!$F$11:$T$78,$BD15,FALSE),0)),\"\")","v":""},{"$f":"SUM(BS15:BX15)","v":0},null,null,null,null,null,null,null,5,{"$f":"CH14","v":"D1"},null,null,"Omkostninger",null,null,null,null,null,null,null,null,null,{"$f":"IFERROR(ABS(DSUM(Præsentation!$F$11:$T$87,\"\"&'Diagrammer-orig'!$CH14&\"\",'Diagrammer-orig'!CU$1:INDIRECT(ADDRESS(SUMPRODUCT(--(LEN(CU$1:CU$6)>1)),COLUMN(CU$1)))))/ABS(DGET(Præsentation!$F$11:$T$87,\"\"&$CH15&\"\",CU$34:CU$35)),\"\")","v":""},{"$f":"IFERROR(ABS(DSUM(Præsentation!$F$11:$T$87,\"\"&'Diagrammer-orig'!$CH14&\"\",'Diagrammer-orig'!CV$1:INDIRECT(ADDRESS(SUMPRODUCT(--(LEN(CV$1:CV$6)>1)),COLUMN(CV$1)))))/ABS(DGET(Præsentation!$F$11:$T$87,\"\"&$CH15&\"\",CV$34:CV$35)),\"\")","v":""},{"$f":"IFERROR(ABS(DSUM(Præsentation!$F$11:$T$87,\"\"&'Diagrammer-orig'!$CH14&\"\",'Diagrammer-orig'!CW$1:INDIRECT(ADDRESS(SUMPRODUCT(--(LEN(CW$1:CW$6)>1)),COLUMN(CW$1)))))/ABS(DGET(Præsentation!$F$11:$T$87,\"\"&$CH15&\"\",CW$34:CW$35)),\"\")","v":""},{"$f":"IFERROR(ABS(DSUM(Præsentation!$F$11:$T$87,\"\"&'Diagrammer-orig'!$CH14&\"\",'Diagrammer-orig'!CX$1:INDIRECT(ADDRESS(SUMPRODUCT(--(LEN(CX$1:CX$6)>1)),COLUMN(CX$1)))))/ABS(DGET(Præsentation!$F$11:$T$87,\"\"&$CH15&\"\",CX$34:CX$35)),\"\")","v":""},{"$f":"IFERROR(ABS(DSUM(Præsentation!$F$11:$T$87,\"\"&'Diagrammer-orig'!$CH14&\"\",'Diagrammer-orig'!CY$1:INDIRECT(ADDRESS(SUMPRODUCT(--(LEN(CY$1:CY$6)>1)),COLUMN(CY$1)))))/ABS(DGET(Præsentation!$F$11:$T$87,\"\"&$CH15&\"\",CY$34:CY$35)),\"\")","v":""},{"$f":"IFERROR(ABS(DSUM(Præsentation!$F$11:$T$87,\"\"&'Diagrammer-orig'!$CH14&\"\",'Diagrammer-orig'!CZ$1:INDIRECT(ADDRESS(SUMPRODUCT(--(LEN(CZ$1:CZ$6)>1)),COLUMN(CZ$1)))))/ABS(DGET(Præsentation!$F$11:$T$87,\"\"&$CH15&\"\",CZ$34:CZ$35)),\"\")","v":""},null,{"$f":"IFERROR(SUM(CU15:DA15),0)","v":0}]
[null,null,null,null,null,null,null,null,null,null,null,null,null,null,null,null,null,null,null,null,null,null,null,null,null,43,"Kr. pr. foderdag",{"$f":"INDIRECT(ADDRESS(Choices!$G$1,COLUMN(Choices!$H$1),1,,\"Choices\"))","v":{"$error":"#VALUE!"}},null,{"$f":"IF(OR(Præsentation!$N$11=0,Præsentation!$N$11=\"vælg\")=TRUE,\"Ingen valgt\",Præsentation!$N$11)","v":"D7"},{"$f":"IFERROR(\"EKM pr. ko:  \"&ROUND(DGET(Præsentation!$F$11:$T$87,\"\"&'Diagrammer-orig'!$AD16&\"\",$AE$1:$AE$2),0),\"\")","v":""},"Kr. pr. årsko",{"$f":"IF($AF16=$AF$4,IFERROR(AP17*DGET(Præsentation!$F$11:$T$87,\"\"&'Diagrammer-orig'!$AD16&\"\",$AE$1:$AE$2)/100,0),\"\")","v":0},{"$f":"IF($AF16=$AF$4,IFERROR(AQ17*DGET(Præsentation!$F$11:$T$87,\"\"&'Diagrammer-orig'!$AD16&\"\",$AE$1:$AE$2)/100,0),\"\")","v":0},{"$f":"IF($AF16=$AF$4,IFERROR(AR17*DGET(Præsentation!$F$11:$T$87,\"\"&'Diagrammer-orig'!$AD16&\"\",$AE$1:$AE$2)/100,0),\"\")","v":0},{"$f":"IF($AF16=$AF$4,IFERROR(AS17*DGET(Præsentation!$F$11:$T$87,\"\"&'Diagrammer-orig'!$AD16&\"\",$AE$1:$AE$2)/100,0),\"\")","v":0},{"$f":"IF($AF16=$AF$4,IFERROR(AT17*DGET(Præsentation!$F$11:$T$87,\"\"&'Diagrammer-orig'!$AD16&\"\",$AE$1:$AE$2)/100,0),\"\")","v":0},{"$f":"IF($AF16=$AF$4,IFERROR(AU17*DGET(Præsentation!$F$11:$T$87,\"\"&'Diagrammer-orig'!$AD16&\"\",$AE$1:$AE$2)/100,0),\"\")","v":0},{"$f":"IF($AF16=$AF$4,IFERROR(AV17*DGET(Præsentation!$F$11:$T$87,\"\"&'Diagrammer-orig'!$AD16&\"\",$AE$1:$AE$2)/100,0),\"\")","v":0},{"$f":"IF($AF16=$AF$4,IFERROR(AW17*DGET(Præsentation!$F$11:$T$87,\"\"&'Diagrammer-orig'!$AD16&\"\",$AE$1:$AE$2)/100,0),\"\")","v":0},{"$f":"IFERROR(SUM(AG16:AN16),0)","v":0},null,null,null,null,null,null,null,null,null,null,null,null,null,null,6,{"$f":"BF16","v":"D4"},{"$f":"$AD12","v":"D4"},{"$f":"IFERROR(\"Grise pr årsso: \"&ROUND(VLOOKUP($BB$14,Præsentation!$F$11:$T$78,$BD16,FALSE),1),\"\")","v":""},"Smågris",{"$f":"IFERROR((BS17)/IFERROR(VLOOKUP($BB$14,Præsentation!$F$11:$T$78,$BD16,FALSE),0),\"\")","v":""},{"$f":"IFERROR((BT17)/IFERROR(VLOOKUP($BB$14,Præsentation!$F$11:$T$78,$BD16,FALSE),0),\"\")","v":""},{"$f":"IFERROR((BU17)/IFERROR(VLOOKUP($BB$14,Præsentation!$F$11:$T$78,$BD16,FALSE),0),\"\")","v":""},{"$f":"IFERROR((BV17)/IFERROR(VLOOKUP($BB$14,Præsentation!$F$11:$T$78,$BD16,FALSE),0),\"\")","v":""},{"$f":"IFERROR((BW17)/IFERROR(VLOOKUP($BB$14,Præsentation!$F$11:$T$78,$BD16,FALSE),0),\"\")","v":""},{"$f":"IFERROR((BX17)/IFERROR(VLOOKUP($BB$14,Præsentation!$F$11:$T$78,$BD16,FALSE),0),\"\")","v":""},{"$f":"IFERROR(ABS(IFERROR(VLOOKUP(BO$2,Præsentation!$F$11:$T$78,$BD16,FALSE),0)),\"\")","v":0},null,null,null,null,null,null,null,null,null,null,null,null,null,null,null,null,null,6,{"$f":"CI16","v":"D4"},{"$f":"$AD12","v":"D4"},null,"Bruttoudbytte",{"$f":"IFERROR(ABS(DSUM(Præsentation!$F$11:$T$87,\"\"&'Diagrammer-orig'!$CH16&\"\",'Diagrammer-orig'!CL$1:INDIRECT(ADDRESS(SUMPRODUCT(--(LEN(CL$1:CL$4)>1)),COLUMN(CL$1)))))/ABS(DGET(Præsentation!$F$11:$T$87,\"\"&$CH17&\"\",CL$34:CL$35))-CM16,\"\")","v":""},{"$f":"IFERROR((ABS(DSUM(Præsentation!$F$11:$T$87,\"\"&'Diagrammer-orig'!$CH16&\"\",'Diagrammer-orig'!CM$1:INDIRECT(ADDRESS(SUMPRODUCT(--(LEN(CM$1:CM$5)>1)),COLUMN(CM$1))))))/ABS(DGET(Præsentation!$F$11:$T$87,\"\"&$CH17&\"\",CM$34:CM$35)),\"\")","v":""},{"$f":"IFERROR(ABS(DSUM(Præsentation!$F$11:$T$87,\"\"&'Diagrammer-orig'!$CH16&\"\",'Diagrammer-orig'!CN$1:INDIRECT(ADDRESS(SUMPRODUCT(--(LEN(CN$1:CN$5)>1)),COLUMN(CN$1))))),\"\")","v":""},null,null,null,null,null,{"$f":"IFERROR(SUM(CL16:CS16),0)","v":0}]
[null,null,null,null,null,null,null,null,null,null,null,null,null,null,null,null,null,null,null,null,null,null,null,null,null,null,null,null,null,null,null,"Øre pr. kg EKM",null,null,null,null,null,null,null,null,null,{"$f":"IFERROR(DGET(Præsentation!$F$11:$T$87,\"\"&'Diagrammer-orig'!$AD16&\"\",'Diagrammer-orig'!AG$1:AG$2)*100,0)","v":0},{"$f":"IFERROR(DGET(Præsentation!$F$11:$T$87,\"\"&'Diagrammer-orig'!$AD16&\"\",'Diagrammer-orig'!AH$1:AH$2)*100,0)","v":0},{"$f":"IFERROR(DGET(Præsentation!$F$11:$T$87,\"\"&'Diagrammer-orig'!$AD16&\"\",'Diagrammer-orig'!AI$1:AI$2)*100,0)","v":0},{"$f":"IFERROR(DGET(Præsentation!$F$11:$T$87,\"\"&'Diagrammer-orig'!$AD16&\"\",'Diagrammer-orig'!AJ$1:AJ$2)*100,0)","v":0},{"$f":"IFERROR(DGET(Præsentation!$F$11:$T$87,\"\"&'Diagrammer-orig'!$AD16&\"\",'Diagrammer-orig'!AK$1:AK$2)*100,0)","v":0},{"$f":"IFERROR(DGET(Præsentation!$F$11:$T$87,\"\"&'Diagrammer-orig'!$AD16&\"\",'Diagrammer-orig'!AL$1:AL$2)*100,0)","v":0},{"$f":"IFERROR(DGET(Præsentation!$F$11:$T$87,\"\"&'Diagrammer-orig'!$AD16&\"\",'Diagrammer-orig'!AM$1:AM$2)*100,0)","v":0},{"$f":"IFERROR(DGET(Præsentation!$F$11:$T$87,\"\"&'Diagrammer-orig'!$AD16&\"\",'Diagrammer-orig'!AN$1:AN$2)*100,0)","v":0},{"$f":"IFERROR(SUM(AP17:AW17),0)","v":0},null,null,null,"Producerede grise pr. årsso",null,6,{"$f":"BE16","v":"D4"},null,null,"Årsso",null,null,null,null,null,null,null,null,null,null,{"$f":"IFERROR(-IFERROR((IFERROR(VLOOKUP(BS$2,Præsentation!$F$11:$T$78,$BD16,FALSE),0)-IFERROR(VLOOKUP(BS$3,Præsentation!$F$11:$T$78,$BD16,FALSE),0)-IFERROR(VLOOKUP(BS$4,Præsentation!$F$11:$T$78,$BD16,FALSE),0)),\"\"),\"\")","v":-5541.1120943952801},{"$f":"IFERROR(ABS(IFERROR(VLOOKUP(BT$2,Præsentation!$F$11:$T$78,$BD17,FALSE),0)+IFERROR(VLOOKUP(BT$3,Præsentation!$F$11:$T$78,$BD17,FALSE),0)+IFERROR(VLOOKUP(BT$4,Præsentation!$F$11:$T$78,$BD17,FALSE),0)+IFERROR(VLOOKUP(BT$5,Præsentation!$F$11:$T$78,$BD17,FALSE),0)),\"\")","v":""},{"$f":"IFERROR(ABS(IFERROR(VLOOKUP(BU$2,Præsentation!$F$11:$T$78,$BD17,FALSE),0)+IFERROR(VLOOKUP(BU$3,Præsentation!$F$11:$T$78,$BD17,FALSE),0)+IFERROR(VLOOKUP(BU$4,Præsentation!$F$11:$T$78,$BD17,FALSE),0)+IFERROR(VLOOKUP(BU$5,Præsentation!$F$11:$T$78,$BD17,FALSE),0)),\"\")","v":""},{"$f":"IFERROR(ABS(IFERROR(VLOOKUP(BV$2,Præsentation!$F$11:$T$78,$BD17,FALSE),0)+IFERROR(VLOOKUP(BV$3,Præsentation!$F$11:$T$78,$BD17,FALSE),0)+IFERROR(VLOOKUP(BV$4,Præsentation!$F$11:$T$78,$BD17,FALSE),0)+IFERROR(VLOOKUP(BV$5,Præsentation!$F$11:$T$78,$BD17,FALSE),0)),\"\")","v":""},{"$f":"IFERROR(ABS(IFERROR(VLOOKUP(BW$2,Præsentation!$F$11:$T$78,$BD17,FALSE),0)+IFERROR(VLOOKUP(BW$3,Præsentation!$F$11:$T$78,$BD17,FALSE),0)+IFERROR(VLOOKUP(BW$4,Præsentation!$F$11:$T$78,$BD17,FALSE),0)+IFERROR(VLOOKUP(BW$5,Præsentation!$F$11:$T$78,$BD17,FALSE),0)),\"\")","v":260.67551622418881},{"$f":"IFERROR(ABS(IFERROR(VLOOKUP(BX$2,Præsentation!$F$11:$T$78,$BD17,FALSE),0)+IFERROR(VLOOKUP(BX$3,Præsentation!$F$11:$T$78,$BD17,FALSE),0)+IFERROR(VLOOKUP(BX$4,Præsentation!$F$11:$T$78,$BD17,FALSE),0)+IFERROR(VLOOKUP(BX$5,Præsentation!$F$11:$T$78,$BD17,FALSE),0)),\"\")","v":""},{"$f":"SUM(BS17:BX17)","v":-5280.4365781710912},null,null,null,null,null,null,null,6,{"$f":"CH16","v":"D4"},null,null,"Omkostninger",null,null,null,null,null,null,null,null,null,{"$f":"IFERROR(ABS(DSUM(Præsentation!$F$11:$T$87,\"\"&'Diagrammer-orig'!$CH16&\"\",'Diagrammer-orig'!CU$1:INDIRECT(ADDRESS(SUMPRODUCT(--(LEN(CU$1:CU$6)>1)),COLUMN(CU$1)))))/ABS(DGET(Præsentation!$F$11:$T$87,\"\"&$CH17&\"\",CU$34:CU$35)),\"\")","v":""},{"$f":"IFERROR(ABS(DSUM(Præsentation!$F$11:$T$87,\"\"&'Diagrammer-orig'!$CH16&\"\",'Diagrammer-orig'!CV$1:INDIRECT(ADDRESS(SUMPRODUCT(--(LEN(CV$1:CV$6)>1)),COLUMN(CV$1)))))/ABS(DGET(Præsentation!$F$11:$T$87,\"\"&$CH17&\"\",CV$34:CV$35)),\"\")","v":""},{"$f":"IFERROR(ABS(DSUM(Præsentation!$F$11:$T$87,\"\"&'Diagrammer-orig'!$CH16&\"\",'Diagrammer-orig'!CW$1:INDIRECT(ADDRESS(SUMPRODUCT(--(LEN(CW$1:CW$6)>1)),COLUMN(CW$1)))))/ABS(DGET(Præsentation!$F$11:$T$87,\"\"&$CH17&\"\",CW$34:CW$35)),\"\")","v":""},{"$f":"IFERROR(ABS(DSUM(Præsentation!$F$11:$T$87,\"\"&'Diagrammer-orig'!$CH16&\"\",'Diagrammer-orig'!CX$1:INDIRECT(ADDRESS(SUMPRODUCT(--(LEN(CX$1:CX$6)>1)),COLUMN(CX$1)))))/ABS(DGET(Præsentation!$F$11:$T$87,\"\"&$CH17&\"\",CX$34:CX$35)),\"\")","v":""},{"$f":"IFERROR(ABS(DSUM(Præsentation!$F$11:$T$87,\"\"&'Diagrammer-orig'!$CH16&\"\",'Diagrammer-orig'!CY$1:INDIRECT(ADDRESS(SUMPRODUCT(--(LEN(CY$1:CY$6)>1)),COLUMN(CY$1)))))/ABS(DGET(Præsentation!$F$11:$T$87,\"\"&$CH17&\"\",CY$34:CY$35)),\"\")","v":""},{"$f":"IFERROR(ABS(DSUM(Præsentation!$F$11:$T$87,\"\"&'Diagrammer-orig'!$CH16&\"\",'Diagrammer-orig'!CZ$1:INDIRECT(ADDRESS(SUMPRODUCT(--(LEN(CZ$1:CZ$6)>1)),COLUMN(CZ$1)))))/ABS(DGET(Præsentation!$F$11:$T$87,\"\"&$CH17&\"\",CZ$34:CZ$35)),\"\")","v":""},null,{"$f":"IFERROR(SUM(CU17:DA17),0)","v":0}]
[null,null,null,null,null,null,null,null,null,null,null,null,null,null,null,null,null,null,null,null,null,null,null,null,null,null,null,null,null,{"$f":"IF(OR(Præsentation!$O$11=0,Præsentation!$O$11=\"vælg\")=TRUE,\"Ingen valgt\",Præsentation!$O$11)","v":"D10"},{"$f":"IFERROR(\"EKM pr. ko:  \"&ROUND(DGET(Præsentation!$F$11:$T$87,\"\"&'Diagrammer-orig'!$AD18&\"\",$AE$1:$AE$2),0),\"\")","v":""},"Kr. pr. årsko",{"$f":"IF($AF18=$AF$4,IFERROR(AP19*DGET(Præsentation!$F$11:$T$87,\"\"&'Diagrammer-orig'!$AD18&\"\",$AE$1:$AE$2)/100,0),\"\")","v":0},{"$f":"IF($AF18=$AF$4,IFERROR(AQ19*DGET(Præsentation!$F$11:$T$87,\"\"&'Diagrammer-orig'!$AD18&\"\",$AE$1:$AE$2)/100,0),\"\")","v":0},{"$f":"IF($AF18=$AF$4,IFERROR(AR19*DGET(Præsentation!$F$11:$T$87,\"\"&'Diagrammer-orig'!$AD18&\"\",$AE$1:$AE$2)/100,0),\"\")","v":0},{"$f":"IF($AF18=$AF$4,IFERROR(AS19*DGET(Præsentation!$F$11:$T$87,\"\"&'Diagrammer-orig'!$AD18&\"\",$AE$1:$AE$2)/100,0),\"\")","v":0},{"$f":"IF($AF18=$AF$4,IFERROR(AT19*DGET(Præsentation!$F$11:$T$87,\"\"&'Diagrammer-orig'!$AD18&\"\",$AE$1:$AE$2)/100,0),\"\")","v":0},{"$f":"IF($AF18=$AF$4,IFERROR(AU19*DGET(Præsentation!$F$11:$T$87,\"\"&'Diagrammer-orig'!$AD18&\"\",$AE$1:$AE$2)/100,0),\"\")","v":0},{"$f":"IF($AF18=$AF$4,IFERROR(AV19*DGET(Præsentation!$F$11:$T$87,\"\"&'Diagrammer-orig'!$AD18&\"\",$AE$1:$AE$2)/100,0),\"\")","v":0},{"$f":"IF($AF18=$AF$4,IFERROR(AW19*DGET(Præsentation!$F$11:$T$87,\"\"&'Diagrammer-orig'!$AD18&\"\",$AE$1:$AE$2)/100,0),\"\")","v":0},{"$f":"IFERROR(SUM(AG18:AN18),0)","v":0},null,null,null,null,null,null,null,null,null,null,null,null,"Fravænnede grise pr. årsso",null,7,{"$f":"BF18","v":"D6"},{"$f":"$AD14","v":"D6"},{"$f":"IFERROR(\"Grise pr årsso: \"&ROUND(VLOOKUP($BB$14,Præsentation!$F$11:$T$78,$BD18,FALSE),1),\"\")","v":""},"Smågris",{"$f":"IFERROR((BS19)/IFERROR(VLOOKUP($BB$14,Præsentation!$F$11:$T$78,$BD18,FALSE),0),\"\")","v":""},{"$f":"IFERROR((BT19)/IFERROR(VLOOKUP($BB$14,Præsentation!$F$11:$T$78,$BD18,FALSE),0),\"\")","v":""},{"$f":"IFERROR((BU19)/IFERROR(VLOOKUP($BB$14,Præsentation!$F$11:$T$78,$BD18,FALSE),0),\"\")","v":""},{"$f":"IFERROR((BV19)/IFERROR(VLOOKUP($BB$14,Præsentation!$F$11:$T$78,$BD18,FALSE),0),\"\")","v":""},{"$f":"IFERROR((BW19)/IFERROR(VLOOKUP($BB$14,Præsentation!$F$11:$T$78,$BD18,FALSE),0),\"\")","v":""},{"$f":"IFERROR((BX19)/IFERROR(VLOOKUP($BB$14,Præsentation!$F$11:$T$78,$BD18,FALSE),0),\"\")","v":""},{"$f":"IFERROR(ABS(IFERROR(VLOOKUP(BO$2,Præsentation!$F$11:$T$78,$BD18,FALSE),0)),\"\")","v":0},null,null,null,null,null,null,null,null,null,null,null,null,null,null,null,null,null,7,{"$f":"CI18","v":"D6"},{"$f":"$AD14","v":"D6"},null,"Bruttoudbytte",{"$f":"IFERROR(ABS(DSUM(Præsentation!$F$11:$T$87,\"\"&'Diagrammer-orig'!$CH18&\"\",'Diagrammer-orig'!CL$1:INDIRECT(ADDRESS(SUMPRODUCT(--(LEN(CL$1:CL$4)>1)),COLUMN(CL$1)))))/ABS(DGET(Præsentation!$F$11:$T$87,\"\"&$CH19&\"\",CL$34:CL$35))-CM18,\"\")","v":""},{"$f":"IFERROR((ABS(DSUM(Præsentation!$F$11:$T$87,\"\"&'Diagrammer-orig'!$CH18&\"\",'Diagrammer-orig'!CM$1:INDIRECT(ADDRESS(SUMPRODUCT(--(LEN(CM$1:CM$5)>1)),COLUMN(CM$1))))))/ABS(DGET(Præsentation!$F$11:$T$87,\"\"&$CH19&\"\",CM$34:CM$35)),\"\")","v":""},{"$f":"IFERROR(ABS(DSUM(Præsentation!$F$11:$T$87,\"\"&'Diagrammer-orig'!$CH18&\"\",'Diagrammer-orig'!CN$1:INDIRECT(ADDRESS(SUMPRODUCT(--(LEN(CN$1:CN$5)>1)),COLUMN(CN$1))))),\"\")","v":""},null,null,null,null,null,{"$f":"IFERROR(SUM(CL18:CS18),0)","v":0}]
[null,null,null,null,null,null,null,null,null,null,null,null,null,null,null,null,null,null,null,null,null,null,null,null,null,{"$f":"102+23+144+57-45","v":281},null,null,null,null,null,"Øre pr. kg EKM",null,null,null,null,null,null,null,null,null,{"$f":"IFERROR(DGET(Præsentation!$F$11:$T$87,\"\"&'Diagrammer-orig'!$AD18&\"\",'Diagrammer-orig'!AG$1:AG$2)*100,0)","v":0},{"$f":"IFERROR(DGET(Præsentation!$F$11:$T$87,\"\"&'Diagrammer-orig'!$AD18&\"\",'Diagrammer-orig'!AH$1:AH$2)*100,0)","v":0},{"$f":"IFERROR(DGET(Præsentation!$F$11:$T$87,\"\"&'Diagrammer-orig'!$AD18&\"\",'Diagrammer-orig'!AI$1:AI$2)*100,0)","v":0},{"$f":"IFERROR(DGET(Præsentation!$F$11:$T$87,\"\"&'Diagrammer-orig'!$AD18&\"\",'Diagrammer-orig'!AJ$1:AJ$2)*100,0)","v":0},{"$f":"IFERROR(DGET(Præsentation!$F$11:$T$87,\"\"&'Diagrammer-orig'!$AD18&\"\",'Diagrammer-orig'!AK$1:AK$2)*100,0)","v":0},{"$f":"IFERROR(DGET(Præsentation!$F$11:$T$87,\"\"&'Diagrammer-orig'!$AD18&\"\",'Diagrammer-orig'!AL$1:AL$2)*100,0)","v":0},{"$f":"IFERROR(DGET(Præsentation!$F$11:$T$87,\"\"&'Diagrammer-orig'!$AD18&\"\",'Diagrammer-orig'!AM$1:AM$2)*100,0)","v":0},{"$f":"IFERROR(DGET(Præsentation!$F$11:$T$87,\"\"&'Diagrammer-orig'!$AD18&\"\",'Diagrammer-orig'!AN$1:AN$2)*100,0)","v":0},{"$f":"IFERROR(SUM(AP19:AW19),0)","v":0},null,null,null,null,null,7,{"$f":"BE18","v":"D6"},null,null,"Årsso",null,null,null,null,null,null,null,null,null,null,{"$f":"IFERROR(-IFERROR((IFERROR(VLOOKUP(BS$2,Præsentation!$F$11:$T$78,$BD18,FALSE),0)-IFERROR(VLOOKUP(BS$3,Præsentation!$F$11:$T$78,$BD18,FALSE),0)-IFERROR(VLOOKUP(BS$4,Præsentation!$F$11:$T$78,$BD18,FALSE),0)),\"\"),\"\")","v":-5611.5432098765432},{"$f":"IFERROR(ABS(IFERROR(VLOOKUP(BT$2,Præsentation!$F$11:$T$78,$BD19,FALSE),0)+IFERROR(VLOOKUP(BT$3,Præsentation!$F$11:$T$78,$BD19,FALSE),0)+IFERROR(VLOOKUP(BT$4,Præsentation!$F$11:$T$78,$BD19,FALSE),0)+IFERROR(VLOOKUP(BT$5,Præsentation!$F$11:$T$78,$BD19,FALSE),0)),\"\")","v":""},{"$f":"IFERROR(ABS(IFERROR(VLOOKUP(BU$2,Præsentation!$F$11:$T$78,$BD19,FALSE),0)+IFERROR(VLOOKUP(BU$3,Præsentation!$F$11:$T$78,$BD19,FALSE),0)+IFERROR(VLOOKUP(BU$4,Præsentation!$F$11:$T$78,$BD19,FALSE),0)+IFERROR(VLOOKUP(BU$5,Præsentation!$F$11:$T$78,$BD19,FALSE),0)),\"\")","v":""},{"$f":"IFERROR(ABS(IFERROR(VLOOKUP(BV$2,Præsentation!$F$11:$T$78,$BD19,FALSE),0)+IFERROR(VLOOKUP(BV$3,Præsentation!$F$11:$T$78,$BD19,FALSE),0)+IFERROR(VLOOKUP(BV$4,Præsentation!$F$11:$T$78,$BD19,FALSE),0)+IFERROR(VLOOKUP(BV$5,Præsentation!$F$11:$T$78,$BD19,FALSE),0)),\"\")","v":""},{"$f":"IFERROR(ABS(IFERROR(VLOOKUP(BW$2,Præsentation!$F$11:$T$78,$BD19,FALSE),0)+IFERROR(VLOOKUP(BW$3,Præsentation!$F$11:$T$78,$BD19,FALSE),0)+IFERROR(VLOOKUP(BW$4,Præsentation!$F$11:$T$78,$BD19,FALSE),0)+IFERROR(VLOOKUP(BW$5,Præsentation!$F$11:$T$78,$BD19,FALSE),0)),\"\")","v":236.77613168724281},{"$f":"IFERROR(ABS(IFERROR(VLOOKUP(BX$2,Præsentation!$F$11:$T$78,$BD19,FALSE),0)+IFERROR(VLOOKUP(BX$3,Præsentation!$F$11:$T$78,$BD19,FALSE),0)+IFERROR(VLOOKUP(BX$4,Præsentation!$F$11:$T$78,$BD19,FALSE),0)+IFERROR(VLOOKUP(BX$5,Præsentation!$F$11:$T$78,$BD19,FALSE),0)),\"\")","v":""},{"$f":"SUM(BS19:BX19)","v":-5374.7670781893003},null,null,null,null,null,null,null,7,{"$f":"CH18","v":"D6"},null,null,"Omkostninger",null,null,null,null,null,null,null,null,null,{"$f":"IFERROR(ABS(DSUM(Præsentation!$F$11:$T$87,\"\"&'Diagrammer-orig'!$CH18&\"\",'Diagrammer-orig'!CU$1:INDIRECT(ADDRESS(SUMPRODUCT(--(LEN(CU$1:CU$6)>1)),COLUMN(CU$1)))))/ABS(DGET(Præsentation!$F$11:$T$87,\"\"&$CH19&\"\",CU$34:CU$35)),\"\")","v":""},{"$f":"IFERROR(ABS(DSUM(Præsentation!$F$11:$T$87,\"\"&'Diagrammer-orig'!$CH18&\"\",'Diagrammer-orig'!CV$1:INDIRECT(ADDRESS(SUMPRODUCT(--(LEN(CV$1:CV$6)>1)),COLUMN(CV$1)))))/ABS(DGET(Præsentation!$F$11:$T$87,\"\"&$CH19&\"\",CV$34:CV$35)),\"\")","v":""},{"$f":"IFERROR(ABS(DSUM(Præsentation!$F$11:$T$87,\"\"&'Diagrammer-orig'!$CH18&\"\",'Diagrammer-orig'!CW$1:INDIRECT(ADDRESS(SUMPRODUCT(--(LEN(CW$1:CW$6)>1)),COLUMN(CW$1)))))/ABS(DGET(Præsentation!$F$11:$T$87,\"\"&$CH19&\"\",CW$34:CW$35)),\"\")","v":""},{"$f":"IFERROR(ABS(DSUM(Præsentation!$F$11:$T$87,\"\"&'Diagrammer-orig'!$CH18&\"\",'Diagrammer-orig'!CX$1:INDIRECT(ADDRESS(SUMPRODUCT(--(LEN(CX$1:CX$6)>1)),COLUMN(CX$1)))))/ABS(DGET(Præsentation!$F$11:$T$87,\"\"&$CH19&\"\",CX$34:CX$35)),\"\")","v":""},{"$f":"IFERROR(ABS(DSUM(Præsentation!$F$11:$T$87,\"\"&'Diagrammer-orig'!$CH18&\"\",'Diagrammer-orig'!CY$1:INDIRECT(ADDRESS(SUMPRODUCT(--(LEN(CY$1:CY$6)>1)),COLUMN(CY$1)))))/ABS(DGET(Præsentation!$F$11:$T$87,\"\"&$CH19&\"\",CY$34:CY$35)),\"\")","v":""},{"$f":"IFERROR(ABS(DSUM(Præsentation!$F$11:$T$87,\"\"&'Diagrammer-orig'!$CH18&\"\",'Diagrammer-orig'!CZ$1:INDIRECT(ADDRESS(SUMPRODUCT(--(LEN(CZ$1:CZ$6)>1)),COLUMN(CZ$1)))))/ABS(DGET(Præsentation!$F$11:$T$87,\"\"&$CH19&\"\",CZ$34:CZ$35)),\"\")","v":""},null,{"$f":"IFERROR(SUM(CU19:DA19),0)","v":0}]
[null,null,null,null,null,null,null,null,null,null,null,null,null,null,null,null,null,null,null,null,null,null,null,null,null,{"$f":"77+21+106+26-56-17","v":157},null,null,null,{"$f":"IF(OR(Præsentation!$P$11=0,Præsentation!$P$11=\"vælg\")=TRUE,\"Ingen valgt\",Præsentation!$P$11)","v":"U6"},{"$f":"IFERROR(\"EKM pr. ko:  \"&ROUND(DGET(Præsentation!$F$11:$T$87,\"\"&'Diagrammer-orig'!$AD20&\"\",$AE$1:$AE$2),0),\"\")","v":""},"Kr. pr. årsko",{"$f":"IF($AF20=$AF$4,IFERROR(AP21*DGET(Præsentation!$F$11:$T$87,\"\"&'Diagrammer-orig'!$AD20&\"\",$AE$1:$AE$2)/100,0),\"\")","v":0},{"$f":"IF($AF20=$AF$4,IFERROR(AQ21*DGET(Præsentation!$F$11:$T$87,\"\"&'Diagrammer-orig'!$AD20&\"\",$AE$1:$AE$2)/100,0),\"\")","v":0},{"$f":"IF($AF20=$AF$4,IFERROR(AR21*DGET(Præsentation!$F$11:$T$87,\"\"&'Diagrammer-orig'!$AD20&\"\",$AE$1:$AE$2)/100,0),\"\")","v":0},{"$f":"IF($AF20=$AF$4,IFERROR(AS21*DGET(Præsentation!$F$11:$T$87,\"\"&'Diagrammer-orig'!$AD20&\"\",$AE$1:$AE$2)/100,0),\"\")","v":0},{"$f":"IF($AF20=$AF$4,IFERROR(AT21*DGET(Præsentation!$F$11:$T$87,\"\"&'Diagrammer-orig'!$AD20&\"\",$AE$1:$AE$2)/100,0),\"\")","v":0},{"$f":"IF($AF20=$AF$4,IFERROR(AU21*DGET(Præsentation!$F$11:$T$87,\"\"&'Diagrammer-orig'!$AD20&\"\",$AE$1:$AE$2)/100,0),\"\")","v":0},{"$f":"IF($AF20=$AF$4,IFERROR(AV21*DGET(Præsentation!$F$11:$T$87,\"\"&'Diagrammer-orig'!$AD20&\"\",$AE$1:$AE$2)/100,0),\"\")","v":0},{"$f":"IF($AF20=$AF$4,IFERROR(AW21*DGET(Præsentation!$F$11:$T$87,\"\"&'Diagrammer-orig'!$AD20&\"\",$AE$1:$AE$2)/100,0),\"\")","v":0},{"$f":"IFERROR(SUM(AG20:AN20),0)","v":0},null,null,null,null,null,null,null,null,null,null,null,null,null,null,8,{"$f":"BF20","v":"D7"},{"$f":"$AD16","v":"D7"},{"$f":"IFERROR(\"Grise pr årsso: \"&ROUND(VLOOKUP($BB$14,Præsentation!$F$11:$T$78,$BD20,FALSE),1),\"\")","v":""},"Smågris",{"$f":"IFERROR((BS21)/IFERROR(VLOOKUP($BB$14,Præsentation!$F$11:$T$78,$BD20,FALSE),0),\"\")","v":""},{"$f":"IFERROR((BT21)/IFERROR(VLOOKUP($BB$14,Præsentation!$F$11:$T$78,$BD20,FALSE),0),\"\")","v":""},{"$f":"IFERROR((BU21)/IFERROR(VLOOKUP($BB$14,Præsentation!$F$11:$T$78,$BD20,FALSE),0),\"\")","v":""},{"$f":"IFERROR((BV21)/IFERROR(VLOOKUP($BB$14,Præsentation!$F$11:$T$78,$BD20,FALSE),0),\"\")","v":""},{"$f":"IFERROR((BW21)/IFERROR(VLOOKUP($BB$14,Præsentation!$F$11:$T$78,$BD20,FALSE),0),\"\")","v":""},{"$f":"IFERROR((BX21)/IFERROR(VLOOKUP($BB$14,Præsentation!$F$11:$T$78,$BD20,FALSE),0),\"\")","v":""},{"$f":"IFERROR(ABS(IFERROR(VLOOKUP(BO$2,Præsentation!$F$11:$T$78,$BD20,FALSE),0)),\"\")","v":0},null,null,null,null,null,null,null,null,null,null,null,null,null,null,null,null,null,8,{"$f":"CI20","v":"D7"},{"$f":"$AD16","v":"D7"},null,"Bruttoudbytte",{"$f":"IFERROR(ABS(DSUM(Præsentation!$F$11:$T$87,\"\"&'Diagrammer-orig'!$CH20&\"\",'Diagrammer-orig'!CL$1:INDIRECT(ADDRESS(SUMPRODUCT(--(LEN(CL$1:CL$4)>1)),COLUMN(CL$1)))))/ABS(DGET(Præsentation!$F$11:$T$87,\"\"&$CH21&\"\",CL$34:CL$35))-CM20,\"\")","v":""},{"$f":"IFERROR((ABS(DSUM(Præsentation!$F$11:$T$87,\"\"&'Diagrammer-orig'!$CH20&\"\",'Diagrammer-orig'!CM$1:INDIRECT(ADDRESS(SUMPRODUCT(--(LEN(CM$1:CM$5)>1)),COLUMN(CM$1))))))/ABS(DGET(Præsentation!$F$11:$T$87,\"\"&$CH21&\"\",CM$34:CM$35)),\"\")","v":""},{"$f":"IFERROR(ABS(DSUM(Præsentation!$F$11:$T$87,\"\"&'Diagrammer-orig'!$CH20&\"\",'Diagrammer-orig'!CN$1:INDIRECT(ADDRESS(SUMPRODUCT(--(LEN(CN$1:CN$5)>1)),COLUMN(CN$1))))),\"\")","v":""},null,null,null,null,null,{"$f":"IFERROR(SUM(CL20:CS20),0)","v":0}]
[null,null,null,null,null,null,null,null,null,null,null,null,null,null,null,null,null,null,null,null,null,null,null,null,null,null,null,null,null,null,null,"Øre pr. kg EKM",null,null,null,null,null,null,null,null,null,{"$f":"IFERROR(DGET(Præsentation!$F$11:$T$87,\"\"&'Diagrammer-orig'!$AD20&\"\",'Diagrammer-orig'!AG$1:AG$2)*100,0)","v":0},{"$f":"IFERROR(DGET(Præsentation!$F$11:$T$87,\"\"&'Diagrammer-orig'!$AD20&\"\",'Diagrammer-orig'!AH$1:AH$2)*100,0)","v":0},{"$f":"IFERROR(DGET(Præsentation!$F$11:$T$87,\"\"&'Diagrammer-orig'!$AD20&\"\",'Diagrammer-orig'!AI$1:AI$2)*100,0)","v":0},{"$f":"IFERROR(DGET(Præsentation!$F$11:$T$87,\"\"&'Diagrammer-orig'!$AD20&\"\",'Diagrammer-orig'!AJ$1:AJ$2)*100,0)","v":0},{"$f":"IFERROR(DGET(Præsentation!$F$11:$T$87,\"\"&'Diagrammer-orig'!$AD20&\"\",'Diagrammer-orig'!AK$1:AK$2)*100,0)","v":0},{"$f":"IFERROR(DGET(Præsentation!$F$11:$T$87,\"\"&'Diagrammer-orig'!$AD20&\"\",'Diagrammer-orig'!AL$1:AL$2)*100,0)","v":0},{"$f":"IFERROR(DGET(Præsentation!$F$11:$T$87,\"\"&'Diagrammer-orig'!$AD20&\"\",'Diagrammer-orig'!AM$1:AM$2)*100,0)","v":0},{"$f":"IFERROR(DGET(Præsentation!$F$11:$T$87,\"\"&'Diagrammer-orig'!$AD20&\"\",'Diagrammer-orig'!AN$1:AN$2)*100,0)","v":0},{"$f":"IFERROR(SUM(AP21:AW21),0)","v":0},null,null,null,null,null,8,{"$f":"BE20","v":"D7"},null,null,"Årsso",null,null,null,null,null,null,null,null,null,null,{"$f":"IFERROR(-IFERROR((IFERROR(VLOOKUP(BS$2,Præsentation!$F$11:$T$78,$BD20,FALSE),0)-IFERROR(VLOOKUP(BS$3,Præsentation!$F$11:$T$78,$BD20,FALSE),0)-IFERROR(VLOOKUP(BS$4,Præsentation!$F$11:$T$78,$BD20,FALSE),0)),\"\"),\"\")","v":-4736.534090909091},{"$f":"IFERROR(ABS(IFERROR(VLOOKUP(BT$2,Præsentation!$F$11:$T$78,$BD21,FALSE),0)+IFERROR(VLOOKUP(BT$3,Præsentation!$F$11:$T$78,$BD21,FALSE),0)+IFERROR(VLOOKUP(BT$4,Præsentation!$F$11:$T$78,$BD21,FALSE),0)+IFERROR(VLOOKUP(BT$5,Præsentation!$F$11:$T$78,$BD21,FALSE),0)),\"\")","v":""},{"$f":"IFERROR(ABS(IFERROR(VLOOKUP(BU$2,Præsentation!$F$11:$T$78,$BD21,FALSE),0)+IFERROR(VLOOKUP(BU$3,Præsentation!$F$11:$T$78,$BD21,FALSE),0)+IFERROR(VLOOKUP(BU$4,Præsentation!$F$11:$T$78,$BD21,FALSE),0)+IFERROR(VLOOKUP(BU$5,Præsentation!$F$11:$T$78,$BD21,FALSE),0)),\"\")","v":""},{"$f":"IFERROR(ABS(IFERROR(VLOOKUP(BV$2,Præsentation!$F$11:$T$78,$BD21,FALSE),0)+IFERROR(VLOOKUP(BV$3,Præsentation!$F$11:$T$78,$BD21,FALSE),0)+IFERROR(VLOOKUP(BV$4,Præsentation!$F$11:$T$78,$BD21,FALSE),0)+IFERROR(VLOOKUP(BV$5,Præsentation!$F$11:$T$78,$BD21,FALSE),0)),\"\")","v":""},{"$f":"IFERROR(ABS(IFERROR(VLOOKUP(BW$2,Præsentation!$F$11:$T$78,$BD21,FALSE),0)+IFERROR(VLOOKUP(BW$3,Præsentation!$F$11:$T$78,$BD21,FALSE),0)+IFERROR(VLOOKUP(BW$4,Præsentation!$F$11:$T$78,$BD21,FALSE),0)+IFERROR(VLOOKUP(BW$5,Præsentation!$F$11:$T$78,$BD21,FALSE),0)),\"\")","v":244.31818181818181},{"$f":"IFERROR(ABS(IFERROR(VLOOKUP(BX$2,Præsentation!$F$11:$T$78,$BD21,FALSE),0)+IFERROR(VLOOKUP(BX$3,Præsentation!$F$11:$T$78,$BD21,FALSE),0)+IFERROR(VLOOKUP(BX$4,Præsentation!$F$11:$T$78,$BD21,FALSE),0)+IFERROR(VLOOKUP(BX$5,Præsentation!$F$11:$T$78,$BD21,FALSE),0)),\"\")","v":""},{"$f":"SUM(BS21:BX21)","v":-4492.215909090909},null,null,null,null,null,null,null,8,{"$f":"CH20","v":"D7"},null,null,"Omkostninger",null,null,null,null,null,null,null,null,null,{"$f":"IFERROR(ABS(DSUM(Præsentation!$F$11:$T$87,\"\"&'Diagrammer-orig'!$CH20&\"\",'Diagrammer-orig'!CU$1:INDIRECT(ADDRESS(SUMPRODUCT(--(LEN(CU$1:CU$6)>1)),COLUMN(CU$1)))))/ABS(DGET(Præsentation!$F$11:$T$87,\"\"&$CH21&\"\",CU$34:CU$35)),\"\")","v":""},{"$f":"IFERROR(ABS(DSUM(Præsentation!$F$11:$T$87,\"\"&'Diagrammer-orig'!$CH20&\"\",'Diagrammer-orig'!CV$1:INDIRECT(ADDRESS(SUMPRODUCT(--(LEN(CV$1:CV$6)>1)),COLUMN(CV$1)))))/ABS(DGET(Præsentation!$F$11:$T$87,\"\"&$CH21&\"\",CV$34:CV$35)),\"\")","v":""},{"$f":"IFERROR(ABS(DSUM(Præsentation!$F$11:$T$87,\"\"&'Diagrammer-orig'!$CH20&\"\",'Diagrammer-orig'!CW$1:INDIRECT(ADDRESS(SUMPRODUCT(--(LEN(CW$1:CW$6)>1)),COLUMN(CW$1)))))/ABS(DGET(Præsentation!$F$11:$T$87,\"\"&$CH21&\"\",CW$34:CW$35)),\"\")","v":""},{"$f":"IFERROR(ABS(DSUM(Præsentation!$F$11:$T$87,\"\"&'Diagrammer-orig'!$CH20&\"\",'Diagrammer-orig'!CX$1:INDIRECT(ADDRESS(SUMPRODUCT(--(LEN(CX$1:CX$6)>1)),COLUMN(CX$1)))))/ABS(DGET(Præsentation!$F$11:$T$87,\"\"&$CH21&\"\",CX$34:CX$35)),\"\")","v":""},{"$f":"IFERROR(ABS(DSUM(Præsentation!$F$11:$T$87,\"\"&'Diagrammer-orig'!$CH20&\"\",'Diagrammer-orig'!CY$1:INDIRECT(ADDRESS(SUMPRODUCT(--(LEN(CY$1:CY$6)>1)),COLUMN(CY$1)))))/ABS(DGET(Præsentation!$F$11:$T$87,\"\"&$CH21&\"\",CY$34:CY$35)),\"\")","v":""},{"$f":"IFERROR(ABS(DSUM(Præsentation!$F$11:$T$87,\"\"&'Diagrammer-orig'!$CH20&\"\",'Diagrammer-orig'!CZ$1:INDIRECT(ADDRESS(SUMPRODUCT(--(LEN(CZ$1:CZ$6)>1)),COLUMN(CZ$1)))))/ABS(DGET(Præsentation!$F$11:$T$87,\"\"&$CH21&\"\",CZ$34:CZ$35)),\"\")","v":""},null,{"$f":"IFERROR(SUM(CU21:DA21),0)","v":0}]
[null,null,null,null,null,null,null,null,null,null,null,null,null,null,null,null,null,null,null,null,null,null,null,null,null,null,null,null,null,{"$f":"IF(OR(Præsentation!$Q$11=0,Præsentation!$Q$11=\"vælg\")=TRUE,\"Ingen valgt\",Præsentation!$Q$11)","v":"U10"},{"$f":"IFERROR(\"EKM pr. ko:  \"&ROUND(DGET(Præsentation!$F$11:$T$87,\"\"&'Diagrammer-orig'!$AD22&\"\",$AE$1:$AE$2),0),\"\")","v":""},"Kr. pr. årsko",{"$f":"IF($AF22=$AF$4,IFERROR(AP23*DGET(Præsentation!$F$11:$T$87,\"\"&'Diagrammer-orig'!$AD22&\"\",$AE$1:$AE$2)/100,0),\"\")","v":0},{"$f":"IF($AF22=$AF$4,IFERROR(AQ23*DGET(Præsentation!$F$11:$T$87,\"\"&'Diagrammer-orig'!$AD22&\"\",$AE$1:$AE$2)/100,0),\"\")","v":0},{"$f":"IF($AF22=$AF$4,IFERROR(AR23*DGET(Præsentation!$F$11:$T$87,\"\"&'Diagrammer-orig'!$AD22&\"\",$AE$1:$AE$2)/100,0),\"\")","v":0},{"$f":"IF($AF22=$AF$4,IFERROR(AS23*DGET(Præsentation!$F$11:$T$87,\"\"&'Diagrammer-orig'!$AD22&\"\",$AE$1:$AE$2)/100,0),\"\")","v":0},{"$f":"IF($AF22=$AF$4,IFERROR(AT23*DGET(Præsentation!$F$11:$T$87,\"\"&'Diagrammer-orig'!$AD22&\"\",$AE$1:$AE$2)/100,0),\"\")","v":0},{"$f":"IF($AF22=$AF$4,IFERROR(AU23*DGET(Præsentation!$F$11:$T$87,\"\"&'Diagrammer-orig'!$AD22&\"\",$AE$1:$AE$2)/100,0),\"\")","v":0},{"$f":"IF($AF22=$AF$4,IFERROR(AV23*DGET(Præsentation!$F$11:$T$87,\"\"&'Diagrammer-orig'!$AD22&\"\",$AE$1:$AE$2)/100,0),\"\")","v":0},{"$f":"IF($AF22=$AF$4,IFERROR(AW23*DGET(Præsentation!$F$11:$T$87,\"\"&'Diagrammer-orig'!$AD22&\"\",$AE$1:$AE$2)/100,0),\"\")","v":0},{"$f":"IFERROR(SUM(AG22:AN22),0)","v":0},null,null,null,null,null,null,null,null,null,null,null,null,null,null,9,{"$f":"BF22","v":"D10"},{"$f":"$AD18","v":"D10"},{"$f":"IFERROR(\"Grise pr årsso: \"&ROUND(VLOOKUP($BB$14,Præsentation!$F$11:$T$78,$BD22,FALSE),1),\"\")","v":""},"Smågris",{"$f":"IFERROR((BS23)/IFERROR(VLOOKUP($BB$14,Præsentation!$F$11:$T$78,$BD22,FALSE),0),\"\")","v":""},{"$f":"IFERROR((BT23)/IFERROR(VLOOKUP($BB$14,Præsentation!$F$11:$T$78,$BD22,FALSE),0),\"\")","v":""},{"$f":"IFERROR((BU23)/IFERROR(VLOOKUP($BB$14,Præsentation!$F$11:$T$78,$BD22,FALSE),0),\"\")","v":""},{"$f":"IFERROR((BV23)/IFERROR(VLOOKUP($BB$14,Præsentation!$F$11:$T$78,$BD22,FALSE),0),\"\")","v":""},{"$f":"IFERROR((BW23)/IFERROR(VLOOKUP($BB$14,Præsentation!$F$11:$T$78,$BD22,FALSE),0),\"\")","v":""},{"$f":"IFERROR((BX23)/IFERROR(VLOOKUP($BB$14,Præsentation!$F$11:$T$78,$BD22,FALSE),0),\"\")","v":""},{"$f":"IFERROR(ABS(IFERROR(VLOOKUP(BO$2,Præsentation!$F$11:$T$78,$BD22,FALSE),0)),\"\")","v":0},null,null,null,null,null,null,null,null,null,null,null,null,null,null,null,null,null,9,{"$f":"CI22","v":"D10"},{"$f":"$AD18","v":"D10"},null,"Bruttoudbytte",{"$f":"IFERROR(ABS(DSUM(Præsentation!$F$11:$T$87,\"\"&'Diagrammer-orig'!$CH22&\"\",'Diagrammer-orig'!CL$1:INDIRECT(ADDRESS(SUMPRODUCT(--(LEN(CL$1:CL$4)>1)),COLUMN(CL$1)))))/ABS(DGET(Præsentation!$F$11:$T$87,\"\"&$CH23&\"\",CL$34:CL$35))-CM22,\"\")","v":""},{"$f":"IFERROR((ABS(DSUM(Præsentation!$F$11:$T$87,\"\"&'Diagrammer-orig'!$CH22&\"\",'Diagrammer-orig'!CM$1:INDIRECT(ADDRESS(SUMPRODUCT(--(LEN(CM$1:CM$5)>1)),COLUMN(CM$1))))))/ABS(DGET(Præsentation!$F$11:$T$87,\"\"&$CH23&\"\",CM$34:CM$35)),\"\")","v":""},{"$f":"IFERROR(ABS(DSUM(Præsentation!$F$11:$T$87,\"\"&'Diagrammer-orig'!$CH22&\"\",'Diagrammer-orig'!CN$1:INDIRECT(ADDRESS(SUMPRODUCT(--(LEN(CN$1:CN$5)>1)),COLUMN(CN$1))))),\"\")","v":""},null,null,null,null,null,{"$f":"IFERROR(SUM(CL22:CS22),0)","v":0}]
[null,null,null,null,null,null,null,null,null,null,null,null,null,null,null,null,null,null,null,null,null,null,null,null,null,1,"Ingen valgt ",".. Gå om og vælg en gruppe",null,null,null,"Øre pr. kg EKM",null,null,null,null,null,null,null,null,null,{"$f":"IFERROR(DGET(Præsentation!$F$11:$T$87,\"\"&'Diagrammer-orig'!$AD22&\"\",'Diagrammer-orig'!AG$1:AG$2)*100,0)","v":0},{"$f":"IFERROR(DGET(Præsentation!$F$11:$T$87,\"\"&'Diagrammer-orig'!$AD22&\"\",'Diagrammer-orig'!AH$1:AH$2)*100,0)","v":0},{"$f":"IFERROR(DGET(Præsentation!$F$11:$T$87,\"\"&'Diagrammer-orig'!$AD22&\"\",'Diagrammer-orig'!AI$1:AI$2)*100,0)","v":0},{"$f":"IFERROR(DGET(Præsentation!$F$11:$T$87,\"\"&'Diagrammer-orig'!$AD22&\"\",'Diagrammer-orig'!AJ$1:AJ$2)*100,0)","v":0},{"$f":"IFERROR(DGET(Præsentation!$F$11:$T$87,\"\"&'Diagrammer-orig'!$AD22&\"\",'Diagrammer-orig'!AK$1:AK$2)*100,0)","v":0},{"$f":"IFERROR(DGET(Præsentation!$F$11:$T$87,\"\"&'Diagrammer-orig'!$AD22&\"\",'Diagrammer-orig'!AL$1:AL$2)*100,0)","v":0},{"$f":"IFERROR(DGET(Præsentation!$F$11:$T$87,\"\"&'Diagrammer-orig'!$AD22&\"\",'Diagrammer-orig'!AM$1:AM$2)*100,0)","v":0},{"$f":"IFERROR(DGET(Præsentation!$F$11:$T$87,\"\"&'Diagrammer-orig'!$AD22&\"\",'Diagrammer-orig'!AN$1:AN$2)*100,0)","v":0},{"$f":"IFERROR(SUM(AP23:AW23),0)","v":0},null,null,null,null,null,9,{"$f":"BE22","v":"D10"},null,null,"Årsso",null,null,null,null,null,null,null,null,null,null,{"$f":"IFERROR(-IFERROR((IFERROR(VLOOKUP(BS$2,Præsentation!$F$11:$T$78,$BD22,FALSE),0)-IFERROR(VLOOKUP(BS$3,Præsentation!$F$11:$T$78,$BD22,FALSE),0)-IFERROR(VLOOKUP(BS$4,Præsentation!$F$11:$T$78,$BD22,FALSE),0)),\"\"),\"\")","v":-5297.0320256204968},{"$f":"IFERROR(ABS(IFERROR(VLOOKUP(BT$2,Præsentation!$F$11:$T$78,$BD23,FALSE),0)+IFERROR(VLOOKUP(BT$3,Præsentation!$F$11:$T$78,$BD23,FALSE),0)+IFERROR(VLOOKUP(BT$4,Præsentation!$F$11:$T$78,$BD23,FALSE),0)+IFERROR(VLOOKUP(BT$5,Præsentation!$F$11:$T$78,$BD23,FALSE),0)),\"\")","v":""},{"$f":"IFERROR(ABS(IFERROR(VLOOKUP(BU$2,Præsentation!$F$11:$T$78,$BD23,FALSE),0)+IFERROR(VLOOKUP(BU$3,Præsentation!$F$11:$T$78,$BD23,FALSE),0)+IFERROR(VLOOKUP(BU$4,Præsentation!$F$11:$T$78,$BD23,FALSE),0)+IFERROR(VLOOKUP(BU$5,Præsentation!$F$11:$T$78,$BD23,FALSE),0)),\"\")","v":""},{"$f":"IFERROR(ABS(IFERROR(VLOOKUP(BV$2,Præsentation!$F$11:$T$78,$BD23,FALSE),0)+IFERROR(VLOOKUP(BV$3,Præsentation!$F$11:$T$78,$BD23,FALSE),0)+IFERROR(VLOOKUP(BV$4,Præsentation!$F$11:$T$78,$BD23,FALSE),0)+IFERROR(VLOOKUP(BV$5,Præsentation!$F$11:$T$78,$BD23,FALSE),0)),\"\")","v":""},{"$f":"IFERROR(ABS(IFERROR(VLOOKUP(BW$2,Præsentation!$F$11:$T$78,$BD23,FALSE),0)+IFERROR(VLOOKUP(BW$3,Præsentation!$F$11:$T$78,$BD23,FALSE),0)+IFERROR(VLOOKUP(BW$4,Præsentation!$F$11:$T$78,$BD23,FALSE),0)+IFERROR(VLOOKUP(BW$5,Præsentation!$F$11:$T$78,$BD23,FALSE),0)),\"\")","v":350.36669335468378},{"$f":"IFERROR(ABS(IFERROR(VLOOKUP(BX$2,Præsentation!$F$11:$T$78,$BD23,FALSE),0)+IFERROR(VLOOKUP(BX$3,Præsentation!$F$11:$T$78,$BD23,FALSE),0)+IFERROR(VLOOKUP(BX$4,Præsentation!$F$11:$T$78,$BD23,FALSE),0)+IFERROR(VLOOKUP(BX$5,Præsentation!$F$11:$T$78,$BD23,FALSE),0)),\"\")","v":""},{"$f":"SUM(BS23:BX23)","v":-4946.665332265813},null,null,null,null,null,null,null,9,{"$f":"CH22","v":"D10"},null,null,"Omkostninger",null,null,null,null,null,null,null,null,null,{"$f":"IFERROR(ABS(DSUM(Præsentation!$F$11:$T$87,\"\"&'Diagrammer-orig'!$CH22&\"\",'Diagrammer-orig'!CU$1:INDIRECT(ADDRESS(SUMPRODUCT(--(LEN(CU$1:CU$6)>1)),COLUMN(CU$1)))))/ABS(DGET(Præsentation!$F$11:$T$87,\"\"&$CH23&\"\",CU$34:CU$35)),\"\")","v":""},{"$f":"IFERROR(ABS(DSUM(Præsentation!$F$11:$T$87,\"\"&'Diagrammer-orig'!$CH22&\"\",'Diagrammer-orig'!CV$1:INDIRECT(ADDRESS(SUMPRODUCT(--(LEN(CV$1:CV$6)>1)),COLUMN(CV$1)))))/ABS(DGET(Præsentation!$F$11:$T$87,\"\"&$CH23&\"\",CV$34:CV$35)),\"\")","v":""},{"$f":"IFERROR(ABS(DSUM(Præsentation!$F$11:$T$87,\"\"&'Diagrammer-orig'!$CH22&\"\",'Diagrammer-orig'!CW$1:INDIRECT(ADDRESS(SUMPRODUCT(--(LEN(CW$1:CW$6)>1)),COLUMN(CW$1)))))/ABS(DGET(Præsentation!$F$11:$T$87,\"\"&$CH23&\"\",CW$34:CW$35)),\"\")","v":""},{"$f":"IFERROR(ABS(DSUM(Præsentation!$F$11:$T$87,\"\"&'Diagrammer-orig'!$CH22&\"\",'Diagrammer-orig'!CX$1:INDIRECT(ADDRESS(SUMPRODUCT(--(LEN(CX$1:CX$6)>1)),COLUMN(CX$1)))))/ABS(DGET(Præsentation!$F$11:$T$87,\"\"&$CH23&\"\",CX$34:CX$35)),\"\")","v":""},{"$f":"IFERROR(ABS(DSUM(Præsentation!$F$11:$T$87,\"\"&'Diagrammer-orig'!$CH22&\"\",'Diagrammer-orig'!CY$1:INDIRECT(ADDRESS(SUMPRODUCT(--(LEN(CY$1:CY$6)>1)),COLUMN(CY$1)))))/ABS(DGET(Præsentation!$F$11:$T$87,\"\"&$CH23&\"\",CY$34:CY$35)),\"\")","v":""},{"$f":"IFERROR(ABS(DSUM(Præsentation!$F$11:$T$87,\"\"&'Diagrammer-orig'!$CH22&\"\",'Diagrammer-orig'!CZ$1:INDIRECT(ADDRESS(SUMPRODUCT(--(LEN(CZ$1:CZ$6)>1)),COLUMN(CZ$1)))))/ABS(DGET(Præsentation!$F$11:$T$87,\"\"&$CH23&\"\",CZ$34:CZ$35)),\"\")","v":""},null,{"$f":"IFERROR(SUM(CU23:DA23),0)","v":0}]
[null,null,null,null,null,null,null,null,null,null,null,null,null,null,null,null,null,null,null,null,null,null,null,null,null,null,null,null,null,{"$f":"IF(OR(Præsentation!$R$11=0,Præsentation!$R$11=\"vælg\")=TRUE,\"Ingen valgt\",Præsentation!$R$11)","v":"D23"},{"$f":"IFERROR(\"EKM pr. ko:  \"&ROUND(DGET(Præsentation!$F$11:$T$87,\"\"&'Diagrammer-orig'!$AD24&\"\",$AE$1:$AE$2),0),\"\")","v":""},"Kr. pr. årsko",{"$f":"IF($AF24=$AF$4,IFERROR(AP25*DGET(Præsentation!$F$11:$T$87,\"\"&'Diagrammer-orig'!$AD24&\"\",$AE$1:$AE$2)/100,0),\"\")","v":0},{"$f":"IF($AF24=$AF$4,IFERROR(AQ25*DGET(Præsentation!$F$11:$T$87,\"\"&'Diagrammer-orig'!$AD24&\"\",$AE$1:$AE$2)/100,0),\"\")","v":0},{"$f":"IF($AF24=$AF$4,IFERROR(AR25*DGET(Præsentation!$F$11:$T$87,\"\"&'Diagrammer-orig'!$AD24&\"\",$AE$1:$AE$2)/100,0),\"\")","v":0},{"$f":"IF($AF24=$AF$4,IFERROR(AS25*DGET(Præsentation!$F$11:$T$87,\"\"&'Diagrammer-orig'!$AD24&\"\",$AE$1:$AE$2)/100,0),\"\")","v":0},{"$f":"IF($AF24=$AF$4,IFERROR(AT25*DGET(Præsentation!$F$11:$T$87,\"\"&'Diagrammer-orig'!$AD24&\"\",$AE$1:$AE$2)/100,0),\"\")","v":0},{"$f":"IF($AF24=$AF$4,IFERROR(AU25*DGET(Præsentation!$F$11:$T$87,\"\"&'Diagrammer-orig'!$AD24&\"\",$AE$1:$AE$2)/100,0),\"\")","v":0},{"$f":"IF($AF24=$AF$4,IFERROR(AV25*DGET(Præsentation!$F$11:$T$87,\"\"&'Diagrammer-orig'!$AD24&\"\",$AE$1:$AE$2)/100,0),\"\")","v":0},{"$f":"IF($AF24=$AF$4,IFERROR(AW25*DGET(Præsentation!$F$11:$T$87,\"\"&'Diagrammer-orig'!$AD24&\"\",$AE$1:$AE$2)/100,0),\"\")","v":0},{"$f":"IFERROR(SUM(AG24:AN24),0)","v":0},null,null,null,null,null,null,null,null,null,null,null,null,null,null,10,{"$f":"BF24","v":"U6"},{"$f":"$AD20","v":"U6"},{"$f":"IFERROR(\"Grise pr årsso: \"&ROUND(VLOOKUP($BB$14,Præsentation!$F$11:$T$78,$BD24,FALSE),1),\"\")","v":""},"Smågris",{"$f":"IFERROR((BS25)/IFERROR(VLOOKUP($BB$14,Præsentation!$F$11:$T$78,$BD24,FALSE),0),\"\")","v":""},{"$f":"IFERROR((BT25)/IFERROR(VLOOKUP($BB$14,Præsentation!$F$11:$T$78,$BD24,FALSE),0),\"\")","v":""},{"$f":"IFERROR((BU25)/IFERROR(VLOOKUP($BB$14,Præsentation!$F$11:$T$78,$BD24,FALSE),0),\"\")","v":""},{"$f":"IFERROR((BV25)/IFERROR(VLOOKUP($BB$14,Præsentation!$F$11:$T$78,$BD24,FALSE),0),\"\")","v":""},{"$f":"IFERROR((BW25)/IFERROR(VLOOKUP($BB$14,Præsentation!$F$11:$T$78,$BD24,FALSE),0),\"\")","v":""},{"$f":"IFERROR((BX25)/IFERROR(VLOOKUP($BB$14,Præsentation!$F$11:$T$78,$BD24,FALSE),0),\"\")","v":""},{"$f":"IFERROR(ABS(IFERROR(VLOOKUP(BO$2,Præsentation!$F$11:$T$78,$BD24,FALSE),0)),\"\")","v":0},null,null,null,null,null,null,null,null,null,null,null,null,null,null,null,null,null,10,{"$f":"CI24","v":"U6"},{"$f":"$AD20","v":"U6"},null,"Bruttoudbytte",{"$f":"IFERROR(ABS(DSUM(Præsentation!$F$11:$T$87,\"\"&'Diagrammer-orig'!$CH24&\"\",'Diagrammer-orig'!CL$1:INDIRECT(ADDRESS(SUMPRODUCT(--(LEN(CL$1:CL$4)>1)),COLUMN(CL$1)))))/ABS(DGET(Præsentation!$F$11:$T$87,\"\"&$CH25&\"\",CL$34:CL$35))-CM24,\"\")","v":""},{"$f":"IFERROR((ABS(DSUM(Præsentation!$F$11:$T$87,\"\"&'Diagrammer-orig'!$CH24&\"\",'Diagrammer-orig'!CM$1:INDIRECT(ADDRESS(SUMPRODUCT(--(LEN(CM$1:CM$5)>1)),COLUMN(CM$1))))))/ABS(DGET(Præsentation!$F$11:$T$87,\"\"&$CH25&\"\",CM$34:CM$35)),\"\")","v":""},{"$f":"IFERROR(ABS(DSUM(Præsentation!$F$11:$T$87,\"\"&'Diagrammer-orig'!$CH24&\"\",'Diagrammer-orig'!CN$1:INDIRECT(ADDRESS(SUMPRODUCT(--(LEN(CN$1:CN$5)>1)),COLUMN(CN$1))))),\"\")","v":""},null,null,null,null,null,{"$f":"IFERROR(SUM(CL24:CS24),0)","v":0}]
[null,null,null,null,null,null,null,null,null,null,null,null,null,null,null,null,null,null,null,null,null,null,null,null,null,null,null,null,null,null,null,"Øre pr. kg EKM",null,null,null,null,null,null,null,null,null,{"$f":"IFERROR(DGET(Præsentation!$F$11:$T$87,\"\"&'Diagrammer-orig'!$AD24&\"\",'Diagrammer-orig'!AG$1:AG$2)*100,0)","v":0},{"$f":"IFERROR(DGET(Præsentation!$F$11:$T$87,\"\"&'Diagrammer-orig'!$AD24&\"\",'Diagrammer-orig'!AH$1:AH$2)*100,0)","v":0},{"$f":"IFERROR(DGET(Præsentation!$F$11:$T$87,\"\"&'Diagrammer-orig'!$AD24&\"\",'Diagrammer-orig'!AI$1:AI$2)*100,0)","v":0},{"$f":"IFERROR(DGET(Præsentation!$F$11:$T$87,\"\"&'Diagrammer-orig'!$AD24&\"\",'Diagrammer-orig'!AJ$1:AJ$2)*100,0)","v":0},{"$f":"IFERROR(DGET(Præsentation!$F$11:$T$87,\"\"&'Diagrammer-orig'!$AD24&\"\",'Diagrammer-orig'!AK$1:AK$2)*100,0)","v":0},{"$f":"IFERROR(DGET(Præsentation!$F$11:$T$87,\"\"&'Diagrammer-orig'!$AD24&\"\",'Diagrammer-orig'!AL$1:AL$2)*100,0)","v":0},{"$f":"IFERROR(DGET(Præsentation!$F$11:$T$87,\"\"&'Diagrammer-orig'!$AD24&\"\",'Diagrammer-orig'!AM$1:AM$2)*100,0)","v":0},{"$f":"IFERROR(DGET(Præsentation!$F$11:$T$87,\"\"&'Diagrammer-orig'!$AD24&\"\",'Diagrammer-orig'!AN$1:AN$2)*100,0)","v":0},{"$f":"IFERROR(SUM(AP25:AW25),0)","v":0},null,null,null,null,null,10,{"$f":"BE24","v":"U6"},null,null,"Årsso",null,null,null,null,null,null,null,null,null,null,{"$f":"IFERROR(-IFERROR((IFERROR(VLOOKUP(BS$2,Præsentation!$F$11:$T$78,$BD24,FALSE),0)-IFERROR(VLOOKUP(BS$3,Præsentation!$F$11:$T$78,$BD24,FALSE),0)-IFERROR(VLOOKUP(BS$4,Præsentation!$F$11:$T$78,$BD24,FALSE),0)),\"\"),\"\")","v":-5214.8168316831679},{"$f":"IFERROR(ABS(IFERROR(VLOOKUP(BT$2,Præsentation!$F$11:$T$78,$BD25,FALSE),0)+IFERROR(VLOOKUP(BT$3,Præsentation!$F$11:$T$78,$BD25,FALSE),0)+IFERROR(VLOOKUP(BT$4,Præsentation!$F$11:$T$78,$BD25,FALSE),0)+IFERROR(VLOOKUP(BT$5,Præsentation!$F$11:$T$78,$BD25,FALSE),0)),\"\")","v":""},{"$f":"IFERROR(ABS(IFERROR(VLOOKUP(BU$2,Præsentation!$F$11:$T$78,$BD25,FALSE),0)+IFERROR(VLOOKUP(BU$3,Præsentation!$F$11:$T$78,$BD25,FALSE),0)+IFERROR(VLOOKUP(BU$4,Præsentation!$F$11:$T$78,$BD25,FALSE),0)+IFERROR(VLOOKUP(BU$5,Præsentation!$F$11:$T$78,$BD25,FALSE),0)),\"\")","v":""},{"$f":"IFERROR(ABS(IFERROR(VLOOKUP(BV$2,Præsentation!$F$11:$T$78,$BD25,FALSE),0)+IFERROR(VLOOKUP(BV$3,Præsentation!$F$11:$T$78,$BD25,FALSE),0)+IFERROR(VLOOKUP(BV$4,Præsentation!$F$11:$T$78,$BD25,FALSE),0)+IFERROR(VLOOKUP(BV$5,Præsentation!$F$11:$T$78,$BD25,FALSE),0)),\"\")","v":""},{"$f":"IFERROR(ABS(IFERROR(VLOOKUP(BW$2,Præsentation!$F$11:$T$78,$BD25,FALSE),0)+IFERROR(VLOOKUP(BW$3,Præsentation!$F$11:$T$78,$BD25,FALSE),0)+IFERROR(VLOOKUP(BW$4,Præsentation!$F$11:$T$78,$BD25,FALSE),0)+IFERROR(VLOOKUP(BW$5,Præsentation!$F$11:$T$78,$BD25,FALSE),0)),\"\")","v":465.88366336633669},{"$f":"IFERROR(ABS(IFERROR(VLOOKUP(BX$2,Præsentation!$F$11:$T$78,$BD25,FALSE),0)+IFERROR(VLOOKUP(BX$3,Præsentation!$F$11:$T$78,$BD25,FALSE),0)+IFERROR(VLOOKUP(BX$4,Præsentation!$F$11:$T$78,$BD25,FALSE),0)+IFERROR(VLOOKUP(BX$5,Præsentation!$F$11:$T$78,$BD25,FALSE),0)),\"\")","v":""},{"$f":"SUM(BS25:BX25)","v":-4748.9331683168311},null,null,null,null,null,null,null,10,{"$f":"CH24","v":"U6"},null,null,"Omkostninger",null,null,null,null,null,null,null,null,null,{"$f":"IFERROR(ABS(DSUM(Præsentation!$F$11:$T$87,\"\"&'Diagrammer-orig'!$CH24&\"\",'Diagrammer-orig'!CU$1:INDIRECT(ADDRESS(SUMPRODUCT(--(LEN(CU$1:CU$6)>1)),COLUMN(CU$1)))))/ABS(DGET(Præsentation!$F$11:$T$87,\"\"&$CH25&\"\",CU$34:CU$35)),\"\")","v":""},{"$f":"IFERROR(ABS(DSUM(Præsentation!$F$11:$T$87,\"\"&'Diagrammer-orig'!$CH24&\"\",'Diagrammer-orig'!CV$1:INDIRECT(ADDRESS(SUMPRODUCT(--(LEN(CV$1:CV$6)>1)),COLUMN(CV$1)))))/ABS(DGET(Præsentation!$F$11:$T$87,\"\"&$CH25&\"\",CV$34:CV$35)),\"\")","v":""},{"$f":"IFERROR(ABS(DSUM(Præsentation!$F$11:$T$87,\"\"&'Diagrammer-orig'!$CH24&\"\",'Diagrammer-orig'!CW$1:INDIRECT(ADDRESS(SUMPRODUCT(--(LEN(CW$1:CW$6)>1)),COLUMN(CW$1)))))/ABS(DGET(Præsentation!$F$11:$T$87,\"\"&$CH25&\"\",CW$34:CW$35)),\"\")","v":""},{"$f":"IFERROR(ABS(DSUM(Præsentation!$F$11:$T$87,\"\"&'Diagrammer-orig'!$CH24&\"\",'Diagrammer-orig'!CX$1:INDIRECT(ADDRESS(SUMPRODUCT(--(LEN(CX$1:CX$6)>1)),COLUMN(CX$1)))))/ABS(DGET(Præsentation!$F$11:$T$87,\"\"&$CH25&\"\",CX$34:CX$35)),\"\")","v":""},{"$f":"IFERROR(ABS(DSUM(Præsentation!$F$11:$T$87,\"\"&'Diagrammer-orig'!$CH24&\"\",'Diagrammer-orig'!CY$1:INDIRECT(ADDRESS(SUMPRODUCT(--(LEN(CY$1:CY$6)>1)),COLUMN(CY$1)))))/ABS(DGET(Præsentation!$F$11:$T$87,\"\"&$CH25&\"\",CY$34:CY$35)),\"\")","v":""},{"$f":"IFERROR(ABS(DSUM(Præsentation!$F$11:$T$87,\"\"&'Diagrammer-orig'!$CH24&\"\",'Diagrammer-orig'!CZ$1:INDIRECT(ADDRESS(SUMPRODUCT(--(LEN(CZ$1:CZ$6)>1)),COLUMN(CZ$1)))))/ABS(DGET(Præsentation!$F$11:$T$87,\"\"&$CH25&\"\",CZ$34:CZ$35)),\"\")","v":""},null,{"$f":"IFERROR(SUM(CU25:DA25),0)","v":0}]
[null,null,null,null,null,null,null,null,null,null,null,null,null,null,null,null,null,null,null,null,null,null,null,null,null,null,null,null,null,{"$f":"IF(OR(Præsentation!$S$11=0,Præsentation!$S$11=\"vælg\")=TRUE,\"Ingen valgt\",Præsentation!$S$12)","v":"U7"},{"$f":"IFERROR(\"EKM pr. ko:  \"&ROUND(DGET(Præsentation!$F$11:$T$87,\"\"&'Diagrammer-orig'!$AD26&\"\",$AE$1:$AE$2),0),\"\")","v":""},"Kr. pr. årsko",{"$f":"IF($AF26=$AF$4,IFERROR(AP27*DGET(Præsentation!$F$11:$T$87,\"\"&'Diagrammer-orig'!$AD26&\"\",$AE$1:$AE$2)/100,0),\"\")","v":0},{"$f":"IF($AF26=$AF$4,IFERROR(AQ27*DGET(Præsentation!$F$11:$T$87,\"\"&'Diagrammer-orig'!$AD26&\"\",$AE$1:$AE$2)/100,0),\"\")","v":0},{"$f":"IF($AF26=$AF$4,IFERROR(AR27*DGET(Præsentation!$F$11:$T$87,\"\"&'Diagrammer-orig'!$AD26&\"\",$AE$1:$AE$2)/100,0),\"\")","v":0},{"$f":"IF($AF26=$AF$4,IFERROR(AS27*DGET(Præsentation!$F$11:$T$87,\"\"&'Diagrammer-orig'!$AD26&\"\",$AE$1:$AE$2)/100,0),\"\")","v":0},{"$f":"IF($AF26=$AF$4,IFERROR(AT27*DGET(Præsentation!$F$11:$T$87,\"\"&'Diagrammer-orig'!$AD26&\"\",$AE$1:$AE$2)/100,0),\"\")","v":0},{"$f":"IF($AF26=$AF$4,IFERROR(AU27*DGET(Præsentation!$F$11:$T$87,\"\"&'Diagrammer-orig'!$AD26&\"\",$AE$1:$AE$2)/100,0),\"\")","v":0},{"$f":"IF($AF26=$AF$4,IFERROR(AV27*DGET(Præsentation!$F$11:$T$87,\"\"&'Diagrammer-orig'!$AD26&\"\",$AE$1:$AE$2)/100,0),\"\")","v":0},{"$f":"IF($AF26=$AF$4,IFERROR(AW27*DGET(Præsentation!$F$11:$T$87,\"\"&'Diagrammer-orig'!$AD26&\"\",$AE$1:$AE$2)/100,0),\"\")","v":0},{"$f":"IFERROR(SUM(AG26:AN26),0)","v":0},null,null,null,null,null,null,null,null,null,null,null,null,null,null,11,{"$f":"BF26","v":"U10"},{"$f":"$AD22","v":"U10"},{"$f":"IFERROR(\"Grise pr årsso: \"&ROUND(VLOOKUP($BB$14,Præsentation!$F$11:$T$78,$BD26,FALSE),1),\"\")","v":""},"Smågris",{"$f":"IFERROR((BS27)/IFERROR(VLOOKUP($BB$14,Præsentation!$F$11:$T$78,$BD26,FALSE),0),\"\")","v":""},{"$f":"IFERROR((BT27)/IFERROR(VLOOKUP($BB$14,Præsentation!$F$11:$T$78,$BD26,FALSE),0),\"\")","v":""},{"$f":"IFERROR((BU27)/IFERROR(VLOOKUP($BB$14,Præsentation!$F$11:$T$78,$BD26,FALSE),0),\"\")","v":""},{"$f":"IFERROR((BV27)/IFERROR(VLOOKUP($BB$14,Præsentation!$F$11:$T$78,$BD26,FALSE),0),\"\")","v":""},{"$f":"IFERROR((BW27)/IFERROR(VLOOKUP($BB$14,Præsentation!$F$11:$T$78,$BD26,FALSE),0),\"\")","v":""},{"$f":"IFERROR((BX27)/IFERROR(VLOOKUP($BB$14,Præsentation!$F$11:$T$78,$BD26,FALSE),0),\"\")","v":""},{"$f":"IFERROR(ABS(IFERROR(VLOOKUP(BO$2,Præsentation!$F$11:$T$78,$BD26,FALSE),0)),\"\")","v":0},null,null,null,null,null,null,null,null,null,null,null,null,null,null,null,null,null,11,{"$f":"CI26","v":"U10"},{"$f":"$AD22","v":"U10"},null,"Bruttoudbytte",{"$f":"IFERROR(ABS(DSUM(Præsentation!$F$11:$T$87,\"\"&'Diagrammer-orig'!$CH26&\"\",'Diagrammer-orig'!CL$1:INDIRECT(ADDRESS(SUMPRODUCT(--(LEN(CL$1:CL$4)>1)),COLUMN(CL$1)))))/ABS(DGET(Præsentation!$F$11:$T$87,\"\"&$CH27&\"\",CL$34:CL$35))-CM26,\"\")","v":""},{"$f":"IFERROR((ABS(DSUM(Præsentation!$F$11:$T$87,\"\"&'Diagrammer-orig'!$CH26&\"\",'Diagrammer-orig'!CM$1:INDIRECT(ADDRESS(SUMPRODUCT(--(LEN(CM$1:CM$5)>1)),COLUMN(CM$1))))))/ABS(DGET(Præsentation!$F$11:$T$87,\"\"&$CH27&\"\",CM$34:CM$35)),\"\")","v":""},{"$f":"IFERROR(ABS(DSUM(Præsentation!$F$11:$T$87,\"\"&'Diagrammer-orig'!$CH26&\"\",'Diagrammer-orig'!CN$1:INDIRECT(ADDRESS(SUMPRODUCT(--(LEN(CN$1:CN$5)>1)),COLUMN(CN$1))))),\"\")","v":""},null,null,null,null,null,{"$f":"IFERROR(SUM(CL26:CS26),0)","v":0}]
[null,null,null,null,null,null,null,null,null,null,null,null,null,null,null,null,null,null,null,null,null,null,null,null,null,null,null,null,null,null,null,"Øre pr. kg EKM",null,null,null,null,null,null,null,null,null,{"$f":"IFERROR(DGET(Præsentation!$F$11:$T$87,\"\"&'Diagrammer-orig'!$AD26&\"\",'Diagrammer-orig'!AG$1:AG$2)*100,0)","v":0},{"$f":"IFERROR(DGET(Præsentation!$F$11:$T$87,\"\"&'Diagrammer-orig'!$AD26&\"\",'Diagrammer-orig'!AH$1:AH$2)*100,0)","v":0},{"$f":"IFERROR(DGET(Præsentation!$F$11:$T$87,\"\"&'Diagrammer-orig'!$AD26&\"\",'Diagrammer-orig'!AI$1:AI$2)*100,0)","v":0},{"$f":"IFERROR(DGET(Præsentation!$F$11:$T$87,\"\"&'Diagrammer-orig'!$AD26&\"\",'Diagrammer-orig'!AJ$1:AJ$2)*100,0)","v":0},{"$f":"IFERROR(DGET(Præsentation!$F$11:$T$87,\"\"&'Diagrammer-orig'!$AD26&\"\",'Diagrammer-orig'!AK$1:AK$2)*100,0)","v":0},{"$f":"IFERROR(DGET(Præsentation!$F$11:$T$87,\"\"&'Diagrammer-orig'!$AD26&\"\",'Diagrammer-orig'!AL$1:AL$2)*100,0)","v":0},{"$f":"IFERROR(DGET(Præsentation!$F$11:$T$87,\"\"&'Diagrammer-orig'!$AD26&\"\",'Diagrammer-orig'!AM$1:AM$2)*100,0)","v":0},{"$f":"IFERROR(DGET(Præsentation!$F$11:$T$87,\"\"&'Diagrammer-orig'!$AD26&\"\",'Diagrammer-orig'!AN$1:AN$2)*100,0)","v":0},{"$f":"IFERROR(SUM(AP27:AW27),0)","v":0},null,null,null,null,null,11,{"$f":"BE26","v":"U10"},null,null,"Årsso",null,null,null,null,null,null,null,null,null,null,{"$f":"IFERROR(-IFERROR((IFERROR(VLOOKUP(BS$2,Præsentation!$F$11:$T$78,$BD26,FALSE),0)-IFERROR(VLOOKUP(BS$3,Præsentation!$F$11:$T$78,$BD26,FALSE),0)-IFERROR(VLOOKUP(BS$4,Præsentation!$F$11:$T$78,$BD26,FALSE),0)),\"\"),\"\")","v":-6059.8471337579622},{"$f":"IFERROR(ABS(IFERROR(VLOOKUP(BT$2,Præsentation!$F$11:$T$78,$BD27,FALSE),0)+IFERROR(VLOOKUP(BT$3,Præsentation!$F$11:$T$78,$BD27,FALSE),0)+IFERROR(VLOOKUP(BT$4,Præsentation!$F$11:$T$78,$BD27,FALSE),0)+IFERROR(VLOOKUP(BT$5,Præsentation!$F$11:$T$78,$BD27,FALSE),0)),\"\")","v":""},{"$f":"IFERROR(ABS(IFERROR(VLOOKUP(BU$2,Præsentation!$F$11:$T$78,$BD27,FALSE),0)+IFERROR(VLOOKUP(BU$3,Præsentation!$F$11:$T$78,$BD27,FALSE),0)+IFERROR(VLOOKUP(BU$4,Præsentation!$F$11:$T$78,$BD27,FALSE),0)+IFERROR(VLOOKUP(BU$5,Præsentation!$F$11:$T$78,$BD27,FALSE),0)),\"\")","v":""},{"$f":"IFERROR(ABS(IFERROR(VLOOKUP(BV$2,Præsentation!$F$11:$T$78,$BD27,FALSE),0)+IFERROR(VLOOKUP(BV$3,Præsentation!$F$11:$T$78,$BD27,FALSE),0)+IFERROR(VLOOKUP(BV$4,Præsentation!$F$11:$T$78,$BD27,FALSE),0)+IFERROR(VLOOKUP(BV$5,Præsentation!$F$11:$T$78,$BD27,FALSE),0)),\"\")","v":""},{"$f":"IFERROR(ABS(IFERROR(VLOOKUP(BW$2,Præsentation!$F$11:$T$78,$BD27,FALSE),0)+IFERROR(VLOOKUP(BW$3,Præsentation!$F$11:$T$78,$BD27,FALSE),0)+IFERROR(VLOOKUP(BW$4,Præsentation!$F$11:$T$78,$BD27,FALSE),0)+IFERROR(VLOOKUP(BW$5,Præsentation!$F$11:$T$78,$BD27,FALSE),0)),\"\")","v":448.5859872611465},{"$f":"IFERROR(ABS(IFERROR(VLOOKUP(BX$2,Præsentation!$F$11:$T$78,$BD27,FALSE),0)+IFERROR(VLOOKUP(BX$3,Præsentation!$F$11:$T$78,$BD27,FALSE),0)+IFERROR(VLOOKUP(BX$4,Præsentation!$F$11:$T$78,$BD27,FALSE),0)+IFERROR(VLOOKUP(BX$5,Præsentation!$F$11:$T$78,$BD27,FALSE),0)),\"\")","v":""},{"$f":"SUM(BS27:BX27)","v":-5611.2611464968159},null,null,null,null,null,null,null,11,{"$f":"CH26","v":"U10"},null,null,"Omkostninger",null,null,null,null,null,null,null,null,null,{"$f":"IFERROR(ABS(DSUM(Præsentation!$F$11:$T$87,\"\"&'Diagrammer-orig'!$CH26&\"\",'Diagrammer-orig'!CU$1:INDIRECT(ADDRESS(SUMPRODUCT(--(LEN(CU$1:CU$6)>1)),COLUMN(CU$1)))))/ABS(DGET(Præsentation!$F$11:$T$87,\"\"&$CH27&\"\",CU$34:CU$35)),\"\")","v":""},{"$f":"IFERROR(ABS(DSUM(Præsentation!$F$11:$T$87,\"\"&'Diagrammer-orig'!$CH26&\"\",'Diagrammer-orig'!CV$1:INDIRECT(ADDRESS(SUMPRODUCT(--(LEN(CV$1:CV$6)>1)),COLUMN(CV$1)))))/ABS(DGET(Præsentation!$F$11:$T$87,\"\"&$CH27&\"\",CV$34:CV$35)),\"\")","v":""},{"$f":"IFERROR(ABS(DSUM(Præsentation!$F$11:$T$87,\"\"&'Diagrammer-orig'!$CH26&\"\",'Diagrammer-orig'!CW$1:INDIRECT(ADDRESS(SUMPRODUCT(--(LEN(CW$1:CW$6)>1)),COLUMN(CW$1)))))/ABS(DGET(Præsentation!$F$11:$T$87,\"\"&$CH27&\"\",CW$34:CW$35)),\"\")","v":""},{"$f":"IFERROR(ABS(DSUM(Præsentation!$F$11:$T$87,\"\"&'Diagrammer-orig'!$CH26&\"\",'Diagrammer-orig'!CX$1:INDIRECT(ADDRESS(SUMPRODUCT(--(LEN(CX$1:CX$6)>1)),COLUMN(CX$1)))))/ABS(DGET(Præsentation!$F$11:$T$87,\"\"&$CH27&\"\",CX$34:CX$35)),\"\")","v":""},{"$f":"IFERROR(ABS(DSUM(Præsentation!$F$11:$T$87,\"\"&'Diagrammer-orig'!$CH26&\"\",'Diagrammer-orig'!CY$1:INDIRECT(ADDRESS(SUMPRODUCT(--(LEN(CY$1:CY$6)>1)),COLUMN(CY$1)))))/ABS(DGET(Præsentation!$F$11:$T$87,\"\"&$CH27&\"\",CY$34:CY$35)),\"\")","v":""},{"$f":"IFERROR(ABS(DSUM(Præsentation!$F$11:$T$87,\"\"&'Diagrammer-orig'!$CH26&\"\",'Diagrammer-orig'!CZ$1:INDIRECT(ADDRESS(SUMPRODUCT(--(LEN(CZ$1:CZ$6)>1)),COLUMN(CZ$1)))))/ABS(DGET(Præsentation!$F$11:$T$87,\"\"&$CH27&\"\",CZ$34:CZ$35)),\"\")","v":""},null,{"$f":"IFERROR(SUM(CU27:DA27),0)","v":0}]
[null,null,null,null,null,null,null,null,null,null,null,null,null,null,null,null,null,null,null,null,null,null,null,null,null,null,null,null,null,{"$f":"IF(OR(Præsentation!$T$11=0,Præsentation!$T$11=\"vælg\")=TRUE,\"Ingen valgt\",Præsentation!$T$12)","v":"D5"},{"$f":"IFERROR(\"EKM pr. ko:  \"&ROUND(DGET(Præsentation!$F$11:$T$87,\"\"&'Diagrammer-orig'!$AD28&\"\",$AE$1:$AE$2),0),\"\")","v":""},"Kr. pr. årsko",{"$f":"IF($AF28=$AF$4,IFERROR(AP29*DGET(Præsentation!$F$11:$T$87,\"\"&'Diagrammer-orig'!$AD28&\"\",$AE$1:$AE$2)/100,0),\"\")","v":0},{"$f":"IF($AF28=$AF$4,IFERROR(AQ29*DGET(Præsentation!$F$11:$T$87,\"\"&'Diagrammer-orig'!$AD28&\"\",$AE$1:$AE$2)/100,0),\"\")","v":0},{"$f":"IF($AF28=$AF$4,IFERROR(AR29*DGET(Præsentation!$F$11:$T$87,\"\"&'Diagrammer-orig'!$AD28&\"\",$AE$1:$AE$2)/100,0),\"\")","v":0},{"$f":"IF($AF28=$AF$4,IFERROR(AS29*DGET(Præsentation!$F$11:$T$87,\"\"&'Diagrammer-orig'!$AD28&\"\",$AE$1:$AE$2)/100,0),\"\")","v":0},{"$f":"IF($AF28=$AF$4,IFERROR(AT29*DGET(Præsentation!$F$11:$T$87,\"\"&'Diagrammer-orig'!$AD28&\"\",$AE$1:$AE$2)/100,0),\"\")","v":0},{"$f":"IF($AF28=$AF$4,IFERROR(AU29*DGET(Præsentation!$F$11:$T$87,\"\"&'Diagrammer-orig'!$AD28&\"\",$AE$1:$AE$2)/100,0),\"\")","v":0},{"$f":"IF($AF28=$AF$4,IFERROR(AV29*DGET(Præsentation!$F$11:$T$87,\"\"&'Diagrammer-orig'!$AD28&\"\",$AE$1:$AE$2)/100,0),\"\")","v":0},{"$f":"IF($AF28=$AF$4,IFERROR(AW29*DGET(Præsentation!$F$11:$T$87,\"\"&'Diagrammer-orig'!$AD28&\"\",$AE$1:$AE$2)/100,0),\"\")","v":0},{"$f":"IFERROR(SUM(AG28:AN28),0)","v":0},null,null,null,null,null,null,null,null,null,null,null,null,null,null,12,{"$f":"BF28","v":"D23"},{"$f":"$AD24","v":"D23"},{"$f":"IFERROR(\"Grise pr årsso: \"&ROUND(VLOOKUP($BB$14,Præsentation!$F$11:$T$78,$BD28,FALSE),1),\"\")","v":""},"Smågris",{"$f":"IFERROR((BS29)/IFERROR(VLOOKUP($BB$14,Præsentation!$F$11:$T$78,$BD28,FALSE),0),\"\")","v":""},{"$f":"IFERROR((BT29)/IFERROR(VLOOKUP($BB$14,Præsentation!$F$11:$T$78,$BD28,FALSE),0),\"\")","v":""},{"$f":"IFERROR((BU29)/IFERROR(VLOOKUP($BB$14,Præsentation!$F$11:$T$78,$BD28,FALSE),0),\"\")","v":""},{"$f":"IFERROR((BV29)/IFERROR(VLOOKUP($BB$14,Præsentation!$F$11:$T$78,$BD28,FALSE),0),\"\")","v":""},{"$f":"IFERROR((BW29)/IFERROR(VLOOKUP($BB$14,Præsentation!$F$11:$T$78,$BD28,FALSE),0),\"\")","v":""},{"$f":"IFERROR((BX29)/IFERROR(VLOOKUP($BB$14,Præsentation!$F$11:$T$78,$BD28,FALSE),0),\"\")","v":""},{"$f":"IFERROR(ABS(IFERROR(VLOOKUP(BO$2,Præsentation!$F$11:$T$78,$BD28,FALSE),0)),\"\")","v":0},null,null,null,null,null,null,null,null,null,null,null,null,null,null,null,null,null,12,{"$f":"CI28","v":"D23"},{"$f":"$AD24","v":"D23"},null,"Bruttoudbytte",{"$f":"IFERROR(ABS(DSUM(Præsentation!$F$11:$T$87,\"\"&'Diagrammer-orig'!$CH28&\"\",'Diagrammer-orig'!CL$1:INDIRECT(ADDRESS(SUMPRODUCT(--(LEN(CL$1:CL$4)>1)),COLUMN(CL$1)))))/ABS(DGET(Præsentation!$F$11:$T$87,\"\"&$CH29&\"\",CL$34:CL$35))-CM28,\"\")","v":""},{"$f":"IFERROR((ABS(DSUM(Præsentation!$F$11:$T$87,\"\"&'Diagrammer-orig'!$CH28&\"\",'Diagrammer-orig'!CM$1:INDIRECT(ADDRESS(SUMPRODUCT(--(LEN(CM$1:CM$5)>1)),COLUMN(CM$1))))))/ABS(DGET(Præsentation!$F$11:$T$87,\"\"&$CH29&\"\",CM$34:CM$35)),\"\")","v":""},{"$f":"IFERROR(ABS(DSUM(Præsentation!$F$11:$T$87,\"\"&'Diagrammer-orig'!$CH28&\"\",'Diagrammer-orig'!CN$1:INDIRECT(ADDRESS(SUMPRODUCT(--(LEN(CN$1:CN$5)>1)),COLUMN(CN$1))))),\"\")","v":""},null,null,null,null,null,{"$f":"IFERROR(SUM(CL28:CS28),0)","v":0}]
[null,null,null,null,null,null,null,null,null,null,null,null,null,null,null,null,null,null,null,null,null,null,null,null,null,null,null,null,null,null,null,"Øre pr. kg EKM",null,null,null,null,null,null,null,null,null,{"$f":"IFERROR(DGET(Præsentation!$F$11:$T$87,\"\"&'Diagrammer-orig'!$AD28&\"\",'Diagrammer-orig'!AG$1:AG$2)*100,0)","v":0},{"$f":"IFERROR(DGET(Præsentation!$F$11:$T$87,\"\"&'Diagrammer-orig'!$AD28&\"\",'Diagrammer-orig'!AH$1:AH$2)*100,0)","v":0},{"$f":"IFERROR(DGET(Præsentation!$F$11:$T$87,\"\"&'Diagrammer-orig'!$AD28&\"\",'Diagrammer-orig'!AI$1:AI$2)*100,0)","v":0},{"$f":"IFERROR(DGET(Præsentation!$F$11:$T$87,\"\"&'Diagrammer-orig'!$AD28&\"\",'Diagrammer-orig'!AJ$1:AJ$2)*100,0)","v":0},{"$f":"IFERROR(DGET(Præsentation!$F$11:$T$87,\"\"&'Diagrammer-orig'!$AD28&\"\",'Diagrammer-orig'!AK$1:AK$2)*100,0)","v":0},{"$f":"IFERROR(DGET(Præsentation!$F$11:$T$87,\"\"&'Diagrammer-orig'!$AD28&\"\",'Diagrammer-orig'!AL$1:AL$2)*100,0)","v":0},{"$f":"IFERROR(DGET(Præsentation!$F$11:$T$87,\"\"&'Diagrammer-orig'!$AD28&\"\",'Diagrammer-orig'!AM$1:AM$2)*100,0)","v":0},{"$f":"IFERROR(DGET(Præsentation!$F$11:$T$87,\"\"&'Diagrammer-orig'!$AD28&\"\",'Diagrammer-orig'!AN$1:AN$2)*100,0)","v":0},{"$f":"IFERROR(SUM(AP29:AW29),0)","v":0},null,null,null,null,null,12,{"$f":"BE28","v":"D23"},null,null,"Årsso",null,null,null,null,null,null,null,null,null,null,{"$f":"IFERROR(-IFERROR((IFERROR(VLOOKUP(BS$2,Præsentation!$F$11:$T$78,$BD28,FALSE),0)-IFERROR(VLOOKUP(BS$3,Præsentation!$F$11:$T$78,$BD28,FALSE),0)-IFERROR(VLOOKUP(BS$4,Præsentation!$F$11:$T$78,$BD28,FALSE),0)),\"\"),\"\")","v":-5870.6228070175439},{"$f":"IFERROR(ABS(IFERROR(VLOOKUP(BT$2,Præsentation!$F$11:$T$78,$BD29,FALSE),0)+IFERROR(VLOOKUP(BT$3,Præsentation!$F$11:$T$78,$BD29,FALSE),0)+IFERROR(VLOOKUP(BT$4,Præsentation!$F$11:$T$78,$BD29,FALSE),0)+IFERROR(VLOOKUP(BT$5,Præsentation!$F$11:$T$78,$BD29,FALSE),0)),\"\")","v":""},{"$f":"IFERROR(ABS(IFERROR(VLOOKUP(BU$2,Præsentation!$F$11:$T$78,$BD29,FALSE),0)+IFERROR(VLOOKUP(BU$3,Præsentation!$F$11:$T$78,$BD29,FALSE),0)+IFERROR(VLOOKUP(BU$4,Præsentation!$F$11:$T$78,$BD29,FALSE),0)+IFERROR(VLOOKUP(BU$5,Præsentation!$F$11:$T$78,$BD29,FALSE),0)),\"\")","v":""},{"$f":"IFERROR(ABS(IFERROR(VLOOKUP(BV$2,Præsentation!$F$11:$T$78,$BD29,FALSE),0)+IFERROR(VLOOKUP(BV$3,Præsentation!$F$11:$T$78,$BD29,FALSE),0)+IFERROR(VLOOKUP(BV$4,Præsentation!$F$11:$T$78,$BD29,FALSE),0)+IFERROR(VLOOKUP(BV$5,Præsentation!$F$11:$T$78,$BD29,FALSE),0)),\"\")","v":""},{"$f":"IFERROR(ABS(IFERROR(VLOOKUP(BW$2,Præsentation!$F$11:$T$78,$BD29,FALSE),0)+IFERROR(VLOOKUP(BW$3,Præsentation!$F$11:$T$78,$BD29,FALSE),0)+IFERROR(VLOOKUP(BW$4,Præsentation!$F$11:$T$78,$BD29,FALSE),0)+IFERROR(VLOOKUP(BW$5,Præsentation!$F$11:$T$78,$BD29,FALSE),0)),\"\")","v":385.96491228070175},{"$f":"IFERROR(ABS(IFERROR(VLOOKUP(BX$2,Præsentation!$F$11:$T$78,$BD29,FALSE),0)+IFERROR(VLOOKUP(BX$3,Præsentation!$F$11:$T$78,$BD29,FALSE),0)+IFERROR(VLOOKUP(BX$4,Præsentation!$F$11:$T$78,$BD29,FALSE),0)+IFERROR(VLOOKUP(BX$5,Præsentation!$F$11:$T$78,$BD29,FALSE),0)),\"\")","v":""},{"$f":"SUM(BS29:BX29)","v":-5484.6578947368425},null,null,null,null,null,null,null,12,{"$f":"CH28","v":"D23"},null,null,"Omkostninger",null,null,null,null,null,null,null,null,null,{"$f":"IFERROR(ABS(DSUM(Præsentation!$F$11:$T$87,\"\"&'Diagrammer-orig'!$CH28&\"\",'Diagrammer-orig'!CU$1:INDIRECT(ADDRESS(SUMPRODUCT(--(LEN(CU$1:CU$6)>1)),COLUMN(CU$1)))))/ABS(DGET(Præsentation!$F$11:$T$87,\"\"&$CH29&\"\",CU$34:CU$35)),\"\")","v":""},{"$f":"IFERROR(ABS(DSUM(Præsentation!$F$11:$T$87,\"\"&'Diagrammer-orig'!$CH28&\"\",'Diagrammer-orig'!CV$1:INDIRECT(ADDRESS(SUMPRODUCT(--(LEN(CV$1:CV$6)>1)),COLUMN(CV$1)))))/ABS(DGET(Præsentation!$F$11:$T$87,\"\"&$CH29&\"\",CV$34:CV$35)),\"\")","v":""},{"$f":"IFERROR(ABS(DSUM(Præsentation!$F$11:$T$87,\"\"&'Diagrammer-orig'!$CH28&\"\",'Diagrammer-orig'!CW$1:INDIRECT(ADDRESS(SUMPRODUCT(--(LEN(CW$1:CW$6)>1)),COLUMN(CW$1)))))/ABS(DGET(Præsentation!$F$11:$T$87,\"\"&$CH29&\"\",CW$34:CW$35)),\"\")","v":""},{"$f":"IFERROR(ABS(DSUM(Præsentation!$F$11:$T$87,\"\"&'Diagrammer-orig'!$CH28&\"\",'Diagrammer-orig'!CX$1:INDIRECT(ADDRESS(SUMPRODUCT(--(LEN(CX$1:CX$6)>1)),COLUMN(CX$1)))))/ABS(DGET(Præsentation!$F$11:$T$87,\"\"&$CH29&\"\",CX$34:CX$35)),\"\")","v":""},{"$f":"IFERROR(ABS(DSUM(Præsentation!$F$11:$T$87,\"\"&'Diagrammer-orig'!$CH28&\"\",'Diagrammer-orig'!CY$1:INDIRECT(ADDRESS(SUMPRODUCT(--(LEN(CY$1:CY$6)>1)),COLUMN(CY$1)))))/ABS(DGET(Præsentation!$F$11:$T$87,\"\"&$CH29&\"\",CY$34:CY$35)),\"\")","v":""},{"$f":"IFERROR(ABS(DSUM(Præsentation!$F$11:$T$87,\"\"&'Diagrammer-orig'!$CH28&\"\",'Diagrammer-orig'!CZ$1:INDIRECT(ADDRESS(SUMPRODUCT(--(LEN(CZ$1:CZ$6)>1)),COLUMN(CZ$1)))))/ABS(DGET(Præsentation!$F$11:$T$87,\"\"&$CH29&\"\",CZ$34:CZ$35)),\"\")","v":""},null,{"$f":"IFERROR(SUM(CU29:DA29),0)","v":0}]
[null,null,null,null,null,null,null,null,null,null,null,null,null,null,null,null,null,null,null,null,null,null,null,null,null,null,null,null,null,null,null,null,null,"Løbenummer/","Løbenummer/","Løbenummer/","Løbenummer/","Løbenummer/","Løbenummer/","Løbenummer/",null,null,null,null,null,null,null,null,null,null,null,null,null,null,null,13,{"$f":"BF30","v":"U7"},{"$f":"$AD26","v":"U7"},{"$f":"IFERROR(\"Grise pr årsso: \"&ROUND(VLOOKUP($BB$14,Præsentation!$F$11:$T$78,$BD30,FALSE),1),\"\")","v":""},"Smågris",{"$f":"IFERROR((BS31)/IFERROR(VLOOKUP($BB$14,Præsentation!$F$11:$T$78,$BD30,FALSE),0),\"\")","v":""},{"$f":"IFERROR((BT31)/IFERROR(VLOOKUP($BB$14,Præsentation!$F$11:$T$78,$BD30,FALSE),0),\"\")","v":""},{"$f":"IFERROR((BU31)/IFERROR(VLOOKUP($BB$14,Præsentation!$F$11:$T$78,$BD30,FALSE),0),\"\")","v":""},{"$f":"IFERROR((BV31)/IFERROR(VLOOKUP($BB$14,Præsentation!$F$11:$T$78,$BD30,FALSE),0),\"\")","v":""},{"$f":"IFERROR((BW31)/IFERROR(VLOOKUP($BB$14,Præsentation!$F$11:$T$78,$BD30,FALSE),0),\"\")","v":""},{"$f":"IFERROR((BX31)/IFERROR(VLOOKUP($BB$14,Præsentation!$F$11:$T$78,$BD30,FALSE),0),\"\")","v":""},{"$f":"IFERROR(ABS(IFERROR(VLOOKUP(BO$2,Præsentation!$F$11:$T$78,$BD30,FALSE),0)),\"\")","v":0},null,null,null,null,null,null,null,null,null,null,null,null,null,null,null,null,null,13,{"$f":"CI30","v":"U7"},{"$f":"$AD26","v":"U7"},null,"Bruttoudbytte",{"$f":"IFERROR(ABS(DSUM(Præsentation!$F$11:$T$87,\"\"&'Diagrammer-orig'!$CH30&\"\",'Diagrammer-orig'!CL$1:INDIRECT(ADDRESS(SUMPRODUCT(--(LEN(CL$1:CL$4)>1)),COLUMN(CL$1)))))/ABS(DGET(Præsentation!$F$11:$T$87,\"\"&$CH31&\"\",CL$34:CL$35))-CM30,\"\")","v":""},{"$f":"IFERROR((ABS(DSUM(Præsentation!$F$11:$T$87,\"\"&'Diagrammer-orig'!$CH30&\"\",'Diagrammer-orig'!CM$1:INDIRECT(ADDRESS(SUMPRODUCT(--(LEN(CM$1:CM$5)>1)),COLUMN(CM$1))))))/ABS(DGET(Præsentation!$F$11:$T$87,\"\"&$CH31&\"\",CM$34:CM$35)),\"\")","v":""},{"$f":"IFERROR(ABS(DSUM(Præsentation!$F$11:$T$87,\"\"&'Diagrammer-orig'!$CH30&\"\",'Diagrammer-orig'!CN$1:INDIRECT(ADDRESS(SUMPRODUCT(--(LEN(CN$1:CN$5)>1)),COLUMN(CN$1))))),\"\")","v":""},null,null,null,null,null,{"$f":"IFERROR(SUM(CL30:CS30),0)","v":0}]
[null,null,null,null,null,null,null,null,null,null,null,null,null,null,null,null,null,null,null,null,null,null,null,null,null,null,null,null,null,null,null,null,null,"Avl, rådgivning og kontrol","Dyrlæge og medicin","Diverse stykomkostninger, inkl. pasningsaftale","Bygninger pr. årsko","Inventar inkl. Energi pr. årsko","Forrentning driftskapital pr. årsko","Øvrige omkostninger pr. årsko",null,null,null,null,null,null,null,null,null,null,null,null,null,null,null,13,{"$f":"BE30","v":"U7"},null,null,"Årsso",null,null,null,null,null,null,null,null,null,null,{"$f":"IFERROR(-IFERROR((IFERROR(VLOOKUP(BS$2,Præsentation!$F$11:$T$78,$BD30,FALSE),0)-IFERROR(VLOOKUP(BS$3,Præsentation!$F$11:$T$78,$BD30,FALSE),0)-IFERROR(VLOOKUP(BS$4,Præsentation!$F$11:$T$78,$BD30,FALSE),0)),\"\"),\"\")","v":-4808.9991311902695},{"$f":"IFERROR(ABS(IFERROR(VLOOKUP(BT$2,Præsentation!$F$11:$T$78,$BD31,FALSE),0)+IFERROR(VLOOKUP(BT$3,Præsentation!$F$11:$T$78,$BD31,FALSE),0)+IFERROR(VLOOKUP(BT$4,Præsentation!$F$11:$T$78,$BD31,FALSE),0)+IFERROR(VLOOKUP(BT$5,Præsentation!$F$11:$T$78,$BD31,FALSE),0)),\"\")","v":""},{"$f":"IFERROR(ABS(IFERROR(VLOOKUP(BU$2,Præsentation!$F$11:$T$78,$BD31,FALSE),0)+IFERROR(VLOOKUP(BU$3,Præsentation!$F$11:$T$78,$BD31,FALSE),0)+IFERROR(VLOOKUP(BU$4,Præsentation!$F$11:$T$78,$BD31,FALSE),0)+IFERROR(VLOOKUP(BU$5,Præsentation!$F$11:$T$78,$BD31,FALSE),0)),\"\")","v":""},{"$f":"IFERROR(ABS(IFERROR(VLOOKUP(BV$2,Præsentation!$F$11:$T$78,$BD31,FALSE),0)+IFERROR(VLOOKUP(BV$3,Præsentation!$F$11:$T$78,$BD31,FALSE),0)+IFERROR(VLOOKUP(BV$4,Præsentation!$F$11:$T$78,$BD31,FALSE),0)+IFERROR(VLOOKUP(BV$5,Præsentation!$F$11:$T$78,$BD31,FALSE),0)),\"\")","v":""},{"$f":"IFERROR(ABS(IFERROR(VLOOKUP(BW$2,Præsentation!$F$11:$T$78,$BD31,FALSE),0)+IFERROR(VLOOKUP(BW$3,Præsentation!$F$11:$T$78,$BD31,FALSE),0)+IFERROR(VLOOKUP(BW$4,Præsentation!$F$11:$T$78,$BD31,FALSE),0)+IFERROR(VLOOKUP(BW$5,Præsentation!$F$11:$T$78,$BD31,FALSE),0)),\"\")","v":396.46568201563855},{"$f":"IFERROR(ABS(IFERROR(VLOOKUP(BX$2,Præsentation!$F$11:$T$78,$BD31,FALSE),0)+IFERROR(VLOOKUP(BX$3,Præsentation!$F$11:$T$78,$BD31,FALSE),0)+IFERROR(VLOOKUP(BX$4,Præsentation!$F$11:$T$78,$BD31,FALSE),0)+IFERROR(VLOOKUP(BX$5,Præsentation!$F$11:$T$78,$BD31,FALSE),0)),\"\")","v":""},{"$f":"SUM(BS31:BX31)","v":-4412.5334491746307},null,null,null,null,null,null,null,13,{"$f":"CH30","v":"U7"},null,null,"Omkostninger",null,null,null,null,null,null,null,null,null,{"$f":"IFERROR(ABS(DSUM(Præsentation!$F$11:$T$87,\"\"&'Diagrammer-orig'!$CH30&\"\",'Diagrammer-orig'!CU$1:INDIRECT(ADDRESS(SUMPRODUCT(--(LEN(CU$1:CU$6)>1)),COLUMN(CU$1)))))/ABS(DGET(Præsentation!$F$11:$T$87,\"\"&$CH31&\"\",CU$34:CU$35)),\"\")","v":""},{"$f":"IFERROR(ABS(DSUM(Præsentation!$F$11:$T$87,\"\"&'Diagrammer-orig'!$CH30&\"\",'Diagrammer-orig'!CV$1:INDIRECT(ADDRESS(SUMPRODUCT(--(LEN(CV$1:CV$6)>1)),COLUMN(CV$1)))))/ABS(DGET(Præsentation!$F$11:$T$87,\"\"&$CH31&\"\",CV$34:CV$35)),\"\")","v":""},{"$f":"IFERROR(ABS(DSUM(Præsentation!$F$11:$T$87,\"\"&'Diagrammer-orig'!$CH30&\"\",'Diagrammer-orig'!CW$1:INDIRECT(ADDRESS(SUMPRODUCT(--(LEN(CW$1:CW$6)>1)),COLUMN(CW$1)))))/ABS(DGET(Præsentation!$F$11:$T$87,\"\"&$CH31&\"\",CW$34:CW$35)),\"\")","v":""},{"$f":"IFERROR(ABS(DSUM(Præsentation!$F$11:$T$87,\"\"&'Diagrammer-orig'!$CH30&\"\",'Diagrammer-orig'!CX$1:INDIRECT(ADDRESS(SUMPRODUCT(--(LEN(CX$1:CX$6)>1)),COLUMN(CX$1)))))/ABS(DGET(Præsentation!$F$11:$T$87,\"\"&$CH31&\"\",CX$34:CX$35)),\"\")","v":""},{"$f":"IFERROR(ABS(DSUM(Præsentation!$F$11:$T$87,\"\"&'Diagrammer-orig'!$CH30&\"\",'Diagrammer-orig'!CY$1:INDIRECT(ADDRESS(SUMPRODUCT(--(LEN(CY$1:CY$6)>1)),COLUMN(CY$1)))))/ABS(DGET(Præsentation!$F$11:$T$87,\"\"&$CH31&\"\",CY$34:CY$35)),\"\")","v":""},{"$f":"IFERROR(ABS(DSUM(Præsentation!$F$11:$T$87,\"\"&'Diagrammer-orig'!$CH30&\"\",'Diagrammer-orig'!CZ$1:INDIRECT(ADDRESS(SUMPRODUCT(--(LEN(CZ$1:CZ$6)>1)),COLUMN(CZ$1)))))/ABS(DGET(Præsentation!$F$11:$T$87,\"\"&$CH31&\"\",CZ$34:CZ$35)),\"\")","v":""},null,{"$f":"IFERROR(SUM(CU31:DA31),0)","v":0}]
[null,null,null,null,null,null,null,null,null,null,null,null,null,null,null,null,null,null,null,null,null,null,null,null,null,null,null,null,null,null,null,null,null,null,null,null,null,null,null,null,null,null,null,null,null,null,null,null,null,null,null,null,null,null,null,14,{"$f":"BF32","v":"D5"},{"$f":"$AD28","v":"D5"},{"$f":"IFERROR(\"Grise pr årsso: \"&ROUND(VLOOKUP($BB$14,Præsentation!$F$11:$T$78,$BD32,FALSE),1),\"\")","v":""},"Smågris",{"$f":"IFERROR((BS33)/IFERROR(VLOOKUP($BB$14,Præsentation!$F$11:$T$78,$BD32,FALSE),0),\"\")","v":""},{"$f":"IFERROR((BT33)/IFERROR(VLOOKUP($BB$14,Præsentation!$F$11:$T$78,$BD32,FALSE),0),\"\")","v":""},{"$f":"IFERROR((BU33)/IFERROR(VLOOKUP($BB$14,Præsentation!$F$11:$T$78,$BD32,FALSE),0),\"\")","v":""},{"$f":"IFERROR((BV33)/IFERROR(VLOOKUP($BB$14,Præsentation!$F$11:$T$78,$BD32,FALSE),0),\"\")","v":""},{"$f":"IFERROR((BW33)/IFERROR(VLOOKUP($BB$14,Præsentation!$F$11:$T$78,$BD32,FALSE),0),\"\")","v":""},{"$f":"IFERROR((BX33)/IFERROR(VLOOKUP($BB$14,Præsentation!$F$11:$T$78,$BD32,FALSE),0),\"\")","v":""},{"$f":"IFERROR(ABS(IFERROR(VLOOKUP(BO$2,Præsentation!$F$11:$T$78,$BD32,FALSE),0)),\"\")","v":0},null,null,null,null,null,null,null,null,null,null,null,null,null,null,null,null,null,14,{"$f":"CI32","v":"D5"},{"$f":"$AD28","v":"D5"},null,"Bruttoudbytte",{"$f":"IFERROR(ABS(DSUM(Præsentation!$F$11:$T$87,\"\"&'Diagrammer-orig'!$CH32&\"\",'Diagrammer-orig'!CL$1:INDIRECT(ADDRESS(SUMPRODUCT(--(LEN(CL$1:CL$4)>1)),COLUMN(CL$1)))))/ABS(DGET(Præsentation!$F$11:$T$87,\"\"&$CH33&\"\",CL$34:CL$35))-CM32,\"\")","v":""},{"$f":"IFERROR((ABS(DSUM(Præsentation!$F$11:$T$87,\"\"&'Diagrammer-orig'!$CH32&\"\",'Diagrammer-orig'!CM$1:INDIRECT(ADDRESS(SUMPRODUCT(--(LEN(CM$1:CM$5)>1)),COLUMN(CM$1))))))/ABS(DGET(Præsentation!$F$11:$T$87,\"\"&$CH33&\"\",CM$34:CM$35)),\"\")","v":""},{"$f":"IFERROR(ABS(DSUM(Præsentation!$F$11:$T$87,\"\"&'Diagrammer-orig'!$CH32&\"\",'Diagrammer-orig'!CN$1:INDIRECT(ADDRESS(SUMPRODUCT(--(LEN(CN$1:CN$5)>1)),COLUMN(CN$1))))),\"\")","v":""},null,null,null,null,null,{"$f":"IFERROR(SUM(CL32:CS32),0)","v":0}]
[null,null,null,null,null,null,null,null,null,null,null,null,null,null,null,null,null,null,null,null,null,null,null,null,null,"Stykomkostninger øre pr. FEN","Maskinomk. inkl. arbejde øre pr. FEN","Øvrige omkostninger øre pr. FEN","Jordleje øre pr. FEN","EU-støtte øre pr. FEN","Andre landbrugsindtægter øre pr. FEN",null,null,null,null,null,null,null,null,null,null,null,null,null,null,null,null,null,null,null,null,null,null,null,null,14,{"$f":"BE32","v":"D5"},null,null,"Årsso",null,null,null,null,null,null,null,null,null,null,{"$f":"IFERROR(-IFERROR((IFERROR(VLOOKUP(BS$2,Præsentation!$F$11:$T$78,$BD32,FALSE),0)-IFERROR(VLOOKUP(BS$3,Præsentation!$F$11:$T$78,$BD32,FALSE),0)-IFERROR(VLOOKUP(BS$4,Præsentation!$F$11:$T$78,$BD32,FALSE),0)),\"\"),\"\")","v":-5565.0633802816901},{"$f":"IFERROR(ABS(IFERROR(VLOOKUP(BT$2,Præsentation!$F$11:$T$78,$BD33,FALSE),0)+IFERROR(VLOOKUP(BT$3,Præsentation!$F$11:$T$78,$BD33,FALSE),0)+IFERROR(VLOOKUP(BT$4,Præsentation!$F$11:$T$78,$BD33,FALSE),0)+IFERROR(VLOOKUP(BT$5,Præsentation!$F$11:$T$78,$BD33,FALSE),0)),\"\")","v":""},{"$f":"IFERROR(ABS(IFERROR(VLOOKUP(BU$2,Præsentation!$F$11:$T$78,$BD33,FALSE),0)+IFERROR(VLOOKUP(BU$3,Præsentation!$F$11:$T$78,$BD33,FALSE),0)+IFERROR(VLOOKUP(BU$4,Præsentation!$F$11:$T$78,$BD33,FALSE),0)+IFERROR(VLOOKUP(BU$5,Præsentation!$F$11:$T$78,$BD33,FALSE),0)),\"\")","v":""},{"$f":"IFERROR(ABS(IFERROR(VLOOKUP(BV$2,Præsentation!$F$11:$T$78,$BD33,FALSE),0)+IFERROR(VLOOKUP(BV$3,Præsentation!$F$11:$T$78,$BD33,FALSE),0)+IFERROR(VLOOKUP(BV$4,Præsentation!$F$11:$T$78,$BD33,FALSE),0)+IFERROR(VLOOKUP(BV$5,Præsentation!$F$11:$T$78,$BD33,FALSE),0)),\"\")","v":""},{"$f":"IFERROR(ABS(IFERROR(VLOOKUP(BW$2,Præsentation!$F$11:$T$78,$BD33,FALSE),0)+IFERROR(VLOOKUP(BW$3,Præsentation!$F$11:$T$78,$BD33,FALSE),0)+IFERROR(VLOOKUP(BW$4,Præsentation!$F$11:$T$78,$BD33,FALSE),0)+IFERROR(VLOOKUP(BW$5,Præsentation!$F$11:$T$78,$BD33,FALSE),0)),\"\")","v":733.57746478873241},{"$f":"IFERROR(ABS(IFERROR(VLOOKUP(BX$2,Præsentation!$F$11:$T$78,$BD33,FALSE),0)+IFERROR(VLOOKUP(BX$3,Præsentation!$F$11:$T$78,$BD33,FALSE),0)+IFERROR(VLOOKUP(BX$4,Præsentation!$F$11:$T$78,$BD33,FALSE),0)+IFERROR(VLOOKUP(BX$5,Præsentation!$F$11:$T$78,$BD33,FALSE),0)),\"\")","v":""},{"$f":"SUM(BS33:BX33)","v":-4831.4859154929582},null,null,null,null,null,null,null,14,{"$f":"CH32","v":"D5"},null,null,"Omkostninger",null,null,null,null,null,null,null,null,null,{"$f":"IFERROR(ABS(DSUM(Præsentation!$F$11:$T$87,\"\"&'Diagrammer-orig'!$CH32&\"\",'Diagrammer-orig'!CU$1:INDIRECT(ADDRESS(SUMPRODUCT(--(LEN(CU$1:CU$6)>1)),COLUMN(CU$1)))))/ABS(DGET(Præsentation!$F$11:$T$87,\"\"&$CH33&\"\",CU$34:CU$35)),\"\")","v":""},{"$f":"IFERROR(ABS(DSUM(Præsentation!$F$11:$T$87,\"\"&'Diagrammer-orig'!$CH32&\"\",'Diagrammer-orig'!CV$1:INDIRECT(ADDRESS(SUMPRODUCT(--(LEN(CV$1:CV$6)>1)),COLUMN(CV$1)))))/ABS(DGET(Præsentation!$F$11:$T$87,\"\"&$CH33&\"\",CV$34:CV$35)),\"\")","v":""},{"$f":"IFERROR(ABS(DSUM(Præsentation!$F$11:$T$87,\"\"&'Diagrammer-orig'!$CH32&\"\",'Diagrammer-orig'!CW$1:INDIRECT(ADDRESS(SUMPRODUCT(--(LEN(CW$1:CW$6)>1)),COLUMN(CW$1)))))/ABS(DGET(Præsentation!$F$11:$T$87,\"\"&$CH33&\"\",CW$34:CW$35)),\"\")","v":""},{"$f":"IFERROR(ABS(DSUM(Præsentation!$F$11:$T$87,\"\"&'Diagrammer-orig'!$CH32&\"\",'Diagrammer-orig'!CX$1:INDIRECT(ADDRESS(SUMPRODUCT(--(LEN(CX$1:CX$6)>1)),COLUMN(CX$1)))))/ABS(DGET(Præsentation!$F$11:$T$87,\"\"&$CH33&\"\",CX$34:CX$35)),\"\")","v":""},{"$f":"IFERROR(ABS(DSUM(Præsentation!$F$11:$T$87,\"\"&'Diagrammer-orig'!$CH32&\"\",'Diagrammer-orig'!CY$1:INDIRECT(ADDRESS(SUMPRODUCT(--(LEN(CY$1:CY$6)>1)),COLUMN(CY$1)))))/ABS(DGET(Præsentation!$F$11:$T$87,\"\"&$CH33&\"\",CY$34:CY$35)),\"\")","v":""},{"$f":"IFERROR(ABS(DSUM(Præsentation!$F$11:$T$87,\"\"&'Diagrammer-orig'!$CH32&\"\",'Diagrammer-orig'!CZ$1:INDIRECT(ADDRESS(SUMPRODUCT(--(LEN(CZ$1:CZ$6)>1)),COLUMN(CZ$1)))))/ABS(DGET(Præsentation!$F$11:$T$87,\"\"&$CH33&\"\",CZ$34:CZ$35)),\"\")","v":""},null,{"$f":"IFERROR(SUM(CU33:DA33),0)","v":0}]
[null,null,null,null,null,null,null,null,null,null,null,null,null,null,null,null,null,null,null,null,null,null,null,null,null,null,null,null,null,null,null,null,null,null,null,null,null,null,null,null,null,null,null,null,null,null,null,null,null,null,null,null,null,null,null,null,null,null,null,"0=negative",{"$f":"IFERROR(ABS(IFERROR(VLOOKUP(BI$2,Præsentation!$F$11:$T$78,$BD34,FALSE),0)-IFERROR(VLOOKUP(BI$3,Præsentation!$F$11:$T$78,$BD34,FALSE),0)-IFERROR(VLOOKUP(BI$4,Præsentation!$F$11:$T$78,$BD34,FALSE),0))/IFERROR(VLOOKUP($BB$14,Præsentation!$F$11:$T$78,$BD34,FALSE),0),\"\")","v":""},{"$f":"IFERROR(ABS(IFERROR(VLOOKUP(BJ$2,Præsentation!$F$11:$T$78,$BD34,FALSE),0)-IFERROR(VLOOKUP(BJ$3,Præsentation!$F$11:$T$78,$BD34,FALSE),0)-IFERROR(VLOOKUP(BJ$4,Præsentation!$F$11:$T$78,$BD34,FALSE),0))/IFERROR(VLOOKUP($BB$14,Præsentation!$F$11:$T$78,$BD34,FALSE),0),\"\")","v":""},{"$f":"IFERROR(ABS(IFERROR(VLOOKUP(BK$2,Præsentation!$F$11:$T$78,$BD34,FALSE),0)-IFERROR(VLOOKUP(BK$3,Præsentation!$F$11:$T$78,$BD34,FALSE),0)-IFERROR(VLOOKUP(BK$4,Præsentation!$F$11:$T$78,$BD34,FALSE),0))/IFERROR(VLOOKUP($BB$14,Præsentation!$F$11:$T$78,$BD34,FALSE),0),\"\")","v":""},{"$f":"IFERROR(ABS(IFERROR(VLOOKUP(BL$2,Præsentation!$F$11:$T$78,$BD34,FALSE),0)-IFERROR(VLOOKUP(BL$3,Præsentation!$F$11:$T$78,$BD34,FALSE),0)-IFERROR(VLOOKUP(BL$4,Præsentation!$F$11:$T$78,$BD34,FALSE),0))/IFERROR(VLOOKUP($BB$14,Præsentation!$F$11:$T$78,$BD34,FALSE),0),\"\")","v":""},{"$f":"IFERROR(ABS(IFERROR(VLOOKUP(BM$2,Præsentation!$F$11:$T$78,$BD34,FALSE),0)-IFERROR(VLOOKUP(BM$3,Præsentation!$F$11:$T$78,$BD34,FALSE),0)-IFERROR(VLOOKUP(BM$4,Præsentation!$F$11:$T$78,$BD34,FALSE),0))/IFERROR(VLOOKUP($BB$14,Præsentation!$F$11:$T$78,$BD34,FALSE),0),\"\")","v":""},{"$f":"IFERROR(ABS(IFERROR(VLOOKUP(BN$2,Præsentation!$F$11:$T$78,$BD34,FALSE),0)-IFERROR(VLOOKUP(BN$3,Præsentation!$F$11:$T$78,$BD34,FALSE),0)-IFERROR(VLOOKUP(BN$4,Præsentation!$F$11:$T$78,$BD34,FALSE),0))/IFERROR(VLOOKUP($BB$14,Præsentation!$F$11:$T$78,$BD34,FALSE),0),\"\")","v":""},null,null,null,null,{"$f":"IF(BI34=0,1,0)","v":0},{"$f":"IF(BJ34=0,1,0)","v":0},0,0,0,0,1,1,1,null,null,null,null,null,null,null,null,null,null,"Løbenummer/","Løbenummer/","Løbenummer/","Løbenummer/","Løbenummer/","Løbenummer/","Løbenummer/","Løbenummer/","Løbenummer/","Løbenummer/","Løbenummer/","Løbenummer/","Løbenummer/","Løbenummer/","Løbenummer/","Løbenummer/","Løbenummer/"]
[null,null,null,null,null,null,null,null,null,null,null,null,null,null,null,null,null,null,null,null,null,null,null,null,null,null,null,null,null,null,null,null,null,null,null,null,null,null,null,null,null,null,null,null,null,null,null,null,null,null,null,null,null,null,null,null,null,null,null,null,null,null,null,null,null,null,null,null,null,null,null,null,null,null,null,null,null,null,null,null,null,null,null,null,null,null,null,null,null,"Antal foderdage pr. produceret slagtekalv","Antal foderdage pr. produceret slagtekalv","Antal foderdage pr. produceret slagtekalv","Antal foderdage pr. produceret slagtekalv","Antal foderdage pr. produceret slagtekalv","Antal foderdage pr. produceret slagtekalv","Antal foderdage pr. produceret slagtekalv","Antal foderdage pr. produceret slagtekalv","Antal foderdage pr. produceret slagtekalv","Antal foderdage pr. produceret slagtekalv","Antal foderdage pr. produceret slagtekalv","Antal foderdage pr. produceret slagtekalv","Antal foderdage pr. produceret slagtekalv","Antal foderdage pr. produceret slagtekalv","Antal foderdage pr. produceret slagtekalv","Antal foderdage pr. produceret slagtekalv","Antal foderdage pr. produceret slagtekalv"]
[]
[]
[null,null,null,null,null,null,null,null,null,null,null,null,null,null,null,null,null,null,null,null,null,null,null,null,null,null,{"$f":"2266/170","v":13.329411764705883}]
[]
[]
[]
[]
[]
[{"$f":"\"\"&VLOOKUP(Choices!$A$1,'Diagrammer-orig'!$Z$57:$AA$67,2,FALSE)&\" \"&VLOOKUP(Choices!$A$1,$Z$57:$AB$67,3,FALSE)&\"\"","v":{"$error":"#VALUE!"}}]
[]
[null,null,null,null,null,null,null,null,null,null,null,null,null,null,null,null,null,null,null,null,null,null,null,null,null,null,null,null,null,null,"Løbenummer/",null,"Løbenummer/","Løbenummer/","Løbenummer/","Løbenummer/","Løbenummer/","Løbenummer/"]
[null,null,null,null,null,null,null,null,null,null,null,null,null,null,null,null,null,null,null,null,null,null,null,null,null,null,null,null,null,null,null,null,"Arbejdsomkostninger pr. årsko","Bygninger pr. årsko","Inventar inkl. energi pr. årsko","Forrentning driftskapital pr. årsko","Øvrige omkostninger pr. årsko","Dækningsbidrag ekskl. værdiændringer pr. årsko",null,null,null,null,null,null,null,null,null,null,null,null,null,null,null,"SVIN, Slagtesvin",null,null,null,null,null,null,"Løbenummer/","Løbenummer/","Løbenummer/","Løbenummer/","Løbenummer/","Løbenummer/","Løbenummer/","Løbenummer/","Løbenummer/",null,"Løbenummer/","Løbenummer/","Løbenummer/","Løbenummer/","Løbenummer/","Løbenummer/"]
[null,null,null,null,null,null,null,null,null,null,null,null,null,null,null,null,null,null,null,null,null,null,null,null,null,null,null,null,null,null,null,null,"Arbejdsomkostninger","Bygninger","Inventar inkl. energi","Forrentning driftskapital","Øvrige omkostninger","Dækningsbidrag","Total",null,null,null,null,null,null,null,null,null,null,null,null,null,null,null,null,null,null,null,null,null,"Bruttoudbytte i alt","Foderomkostninger pr. enhed","Dyrlæge og medicin","Arbejdsomkostninger pr. enhed","Energi svin","kapitalomkostninger i alt","Fremstillingspris pr. kg sl.svin",null,"Øvrige omkostninger pr. enhed",null,"Bruttoudbytte i alt","Foderomkostninger pr. enhed","Dyrlæge og medicin","Arbejdsomkostninger pr. enhed","Energi svin","kapitalomkostninger i alt"]
[null,null,null,null,null,null,null,null,null,null,null,null,null,null,null,null,null,null,null,null,null,null,null,null,null,"Akserne","Først",null,null,{"$f":"AD4","v":"BC gns. gruppen"},null,"Krav til DB",{"$f":"IFERROR(DGET(Præsentation!$F$11:$T$87,\"\"&'Diagrammer-orig'!$AD49&\"\",'Diagrammer-orig'!AG$46:AG$47),0)","v":0},{"$f":"IFERROR(DGET(Præsentation!$F$11:$T$87,\"\"&'Diagrammer-orig'!$AD49&\"\",'Diagrammer-orig'!AH$46:AH$47),0)","v":0},{"$f":"IFERROR(DGET(Præsentation!$F$11:$T$87,\"\"&'Diagrammer-orig'!$AD49&\"\",'Diagrammer-orig'!AI$46:AI$47),0)","v":0},{"$f":"IFERROR(DGET(Præsentation!$F$11:$T$87,\"\"&'Diagrammer-orig'!$AD49&\"\",'Diagrammer-orig'!AJ$46:AJ$47),0)","v":0},{"$f":"IFERROR(DGET(Præsentation!$F$11:$T$87,\"\"&'Diagrammer-orig'!$AD49&\"\",'Diagrammer-orig'!AK$46:AK$47),0)","v":0},null,{"$f":"SUM(AG49:AL49)","v":0},null,null,null,null,null,null,null,null,null,null,null,null,null,null,null,null,null,null,null,null,null,"Salg slagtesvin",null,"Avl, rådgivning og kontrol",null,"vedligehold",null,null,null,null,null,"Salg slagtesvin",null,"Avl, rådgivning og kontrol",null,"vedligehold"]
[null,null,null,null,null,null,null,null,null,null,null,null,null,null,null,null,null,null,null,null,null,null,null,null,null,"min",{"$f":"-(MAX(AM49:AM74)-MIN(0,MIN(AG49:AL74)))*($AA$52-1)-MIN(0,MIN(AG49:AL74))","v":0},null,null,null,null,"Opnået DB",null,null,null,null,null,{"$f":"IFERROR(DGET(Præsentation!$F$11:$T$87,\"\"&'Diagrammer-orig'!$AD49&\"\",'Diagrammer-orig'!AL$46:AL$47),0)","v":0},{"$f":"SUM(AG50:AL50)","v":0},null,null,null,null,null,null,null,null,null,null,null,null,null,null,null,null,null,null,null,null,null,"værdiændring besætning",null,"Diverse vedr. husdyr",null,"forsikring",null,null,null,null,null,"værdiændring besætning",null,"Diverse vedr. husdyr",null,"forsikring"]
[null,null,null,null,null,null,null,null,null,null,null,null,null,null,null,null,null,null,null,null,null,null,null,null,null,"maks",{"$f":"MAX(AM49:AM74)*AA53","v":0},null,null,{"$f":"AD6","v":"BC top 5"},null,"Krav til DB",{"$f":"IFERROR(DGET(Præsentation!$F$11:$T$87,\"\"&'Diagrammer-orig'!$AD51&\"\",'Diagrammer-orig'!AG$46:AG$47),0)","v":0},{"$f":"IFERROR(DGET(Præsentation!$F$11:$T$87,\"\"&'Diagrammer-orig'!$AD51&\"\",'Diagrammer-orig'!AH$46:AH$47),0)","v":0},{"$f":"IFERROR(DGET(Præsentation!$F$11:$T$87,\"\"&'Diagrammer-orig'!$AD51&\"\",'Diagrammer-orig'!AI$46:AI$47),0)","v":0},{"$f":"IFERROR(DGET(Præsentation!$F$11:$T$87,\"\"&'Diagrammer-orig'!$AD51&\"\",'Diagrammer-orig'!AJ$46:AJ$47),0)","v":0},{"$f":"IFERROR(DGET(Præsentation!$F$11:$T$87,\"\"&'Diagrammer-orig'!$AD51&\"\",'Diagrammer-orig'!AK$46:AK$47),0)","v":0},null,0,null,null,null,null,null,null,null,null,null,null,null,null,null,"Akserne","Primær","Sekundær",null,null,"Slagtesvin",null,null,null,null,null,null,"diverse kapacitetsomkostninger",null,null,null,null,null,null,null,null,null,"diverse kapacitetsomkostninger"]
[null,null,null,null,null,null,null,null,null,null,null,null,null,null,null,null,null,null,null,null,null,null,null,null,null,"Skalering nedre",1.01,null,null,null,null,"Opnået DB",null,null,null,null,null,{"$f":"IFERROR(DGET(Præsentation!$F$11:$T$87,\"\"&'Diagrammer-orig'!$AD51&\"\",'Diagrammer-orig'!AL$46:AL$47),0)","v":0},0,null,null,null,null,null,null,null,null,null,null,null,null,null,"Min værdi",{"$f":"MIN(BI54:BI78)","v":0},{"$f":"MIN(BS55:BS79)","v":{"$error":"#VALUE!"}},null,null,null,null,null,null,null,null,null,null,null,"Fremstillingspris pr. kg. sl.svin"]
[null,null,null,null,null,null,null,null,null,null,null,null,null,null,null,null,null,null,null,null,null,null,null,null,null,"Skalering øvre",1.0249999999999999,null,null,"Gns. Kreds \n",null,"Krav til DB",{"$f":"IFERROR(DGET(Præsentation!$F$11:$T$87,\"\"&'Diagrammer-orig'!$AD53&\"\",'Diagrammer-orig'!AG$46:AG$47),0)","v":0},{"$f":"IFERROR(DGET(Præsentation!$F$11:$T$87,\"\"&'Diagrammer-orig'!$AD53&\"\",'Diagrammer-orig'!AH$46:AH$47),0)","v":0},{"$f":"IFERROR(DGET(Præsentation!$F$11:$T$87,\"\"&'Diagrammer-orig'!$AD53&\"\",'Diagrammer-orig'!AI$46:AI$47),0)","v":0},{"$f":"IFERROR(DGET(Præsentation!$F$11:$T$87,\"\"&'Diagrammer-orig'!$AD53&\"\",'Diagrammer-orig'!AJ$46:AJ$47),0)","v":0},{"$f":"IFERROR(DGET(Præsentation!$F$11:$T$87,\"\"&'Diagrammer-orig'!$AD53&\"\",'Diagrammer-orig'!AK$46:AK$47),0)","v":0},null,0,null,null,null,null,null,null,null,null,null,null,null,null,null,"Skale. min",{"$f":"IF(BB52<0,BB52*1.1,BB52*0.9)","v":0},{"$f":"IF(BC52<0,BC52*1.1,BC52*0.9)","v":{"$error":"#VALUE!"}},null,null,null,null,null,"Køb af grise og andre landbrugsindtægter","Foderomkostninger","Dyrlæge, medicin og diverse","Arbejdsomkostninger","Energi, vedl. bygn. mv.","Forrentning driftskapital og øvrige omk.",null,null,null,null,"Køb af grise og andre indtægter","Foderomkostninger","Dyrlæge, medicin og diverse","Arbejdsomkostninger","Energi, vedl. bygn. mv.","Forrentning driftskapital og øvrige omk.","(total (bruges kun til at finde størrelsen af grafen))",{"$f":"BP53","v":0},{"$f":"BQ53","v":0}]
[null,null,null,null,null,null,null,null,null,null,null,null,null,null,null,null,null,null,null,null,null,null,null,null,null,null,null,null,null,null,null,"Opnået DB",null,null,null,null,null,{"$f":"IFERROR(DGET(Præsentation!$F$11:$T$87,\"\"&'Diagrammer-orig'!$AD53&\"\",'Diagrammer-orig'!AL$46:AL$47),0)","v":0},0,null,null,null,null,null,null,null,null,null,null,null,null,null,"Max værdi",{"$f":"MAX(BO54:BO79)","v":0},{"$f":"MAX(BY54:BY79)","v":{"$error":"#VALUE!"}},2,{"$f":"BF54","v":"BC gns. gruppen"},{"$f":"BF8","v":"BC gns. gruppen"},{"$f":"IFERROR(\"Slagtevægt:   \"&ROUND(VLOOKUP($BB$60,Præsentation!$F$11:$T$78,$BD54,FALSE),1),\"\")","v":""},"Kg. Slagtesvin",{"$f":"IFERROR(BS55/IFERROR(VLOOKUP($BB$60,Præsentation!$F$11:$T$78,$BD54,FALSE),0),\"\")","v":""},{"$f":"IFERROR(BT55/IFERROR(VLOOKUP($BB$60,Præsentation!$F$11:$T$78,$BD54,FALSE),0),\"\")","v":""},{"$f":"IFERROR(BU55/IFERROR(VLOOKUP($BB$60,Præsentation!$F$11:$T$78,$BD54,FALSE),0),\"\")","v":""},{"$f":"IFERROR(BV55/IFERROR(VLOOKUP($BB$60,Præsentation!$F$11:$T$78,$BD54,FALSE),0),\"\")","v":""},{"$f":"IFERROR(BW55/IFERROR(VLOOKUP($BB$60,Præsentation!$F$11:$T$78,$BD54,FALSE),0),\"\")","v":""},{"$f":"IFERROR(BX55/IFERROR(VLOOKUP($BB$60,Præsentation!$F$11:$T$78,$BD54,FALSE),0),\"\")","v":""},{"$f":"IFERROR(ABS(IFERROR(VLOOKUP(BO$48,Præsentation!$F$11:$T$78,$BD54,FALSE),0)),\"\")","v":0},{"$f":"IFERROR(ABS(IFERROR(VLOOKUP(BP$2,Præsentation!$F$11:$T$78,$BD54,FALSE),0)+IFERROR(VLOOKUP(BP$3,Præsentation!$F$11:$T$78,$BD54,FALSE),0)+IFERROR(VLOOKUP(BP$4,Præsentation!$F$11:$T$78,$BD54,FALSE),0)+IFERROR(VLOOKUP(BP$5,Præsentation!$F$11:$T$78,$BD54,FALSE),0))/IFERROR(VLOOKUP($BB$14,Præsentation!$F$11:$T$78,$BD54,FALSE),0),\"\")","v":""}]
[null,null,null,null,null,null,null,null,null,null,null,null,null,null,null,null,null,null,null,null,null,null,null,null,null,null,null,null,null,"D1",null,"Krav til DB",{"$f":"IFERROR(DGET(Præsentation!$F$11:$T$87,\"\"&'Diagrammer-orig'!$AD55&\"\",'Diagrammer-orig'!AG$46:AG$47),0)","v":0},{"$f":"IFERROR(DGET(Præsentation!$F$11:$T$87,\"\"&'Diagrammer-orig'!$AD55&\"\",'Diagrammer-orig'!AH$46:AH$47),0)","v":0},{"$f":"IFERROR(DGET(Præsentation!$F$11:$T$87,\"\"&'Diagrammer-orig'!$AD55&\"\",'Diagrammer-orig'!AI$46:AI$47),0)","v":0},{"$f":"IFERROR(DGET(Præsentation!$F$11:$T$87,\"\"&'Diagrammer-orig'!$AD55&\"\",'Diagrammer-orig'!AJ$46:AJ$47),0)","v":0},{"$f":"IFERROR(DGET(Præsentation!$F$11:$T$87,\"\"&'Diagrammer-orig'!$AD55&\"\",'Diagrammer-orig'!AK$46:AK$47),0)","v":0},null,0,null,null,null,null,null,null,null,null,null,null,null,null,null,"Skale. Max",{"$f":"IF(BB54>0,BB54*1.1,BB54*0.9)","v":0},{"$f":"IF(BC54>0,BC54*1.1,BC54*0.9)","v":{"$error":"#VALUE!"}},2,{"$f":"BE54","v":"BC gns. gruppen"},null,null,"Slagtesvin",null,null,null,null,null,null,null,null,null,null,{"$f":"-IFERROR((IFERROR(VLOOKUP(BS$48,Præsentation!$F$11:$T$78,$BD55,FALSE),0)-IFERROR(VLOOKUP(BS$49,Præsentation!$F$11:$T$78,$BD55,FALSE),0)-IFERROR(VLOOKUP(BS$50,Præsentation!$F$11:$T$78,$BD55,FALSE),0)),\"\")","v":-5017.8297872340418},{"$f":"IFERROR((IFERROR(VLOOKUP(BT$48,Præsentation!$F$11:$T$78,$BD54,FALSE),0)-IFERROR(VLOOKUP(BT$49,Præsentation!$F$11:$T$78,$BD54,FALSE),0)-IFERROR(VLOOKUP(BT$50,Præsentation!$F$11:$T$78,$BD54,FALSE),0)),\"\")","v":0},{"$f":"IFERROR((IFERROR(-VLOOKUP(BU$48,Præsentation!$F$11:$T$78,$BD54,FALSE),0)-IFERROR(VLOOKUP(BU$49,Præsentation!$F$11:$T$78,$BD54,FALSE),0)-IFERROR(VLOOKUP(BU$50,Præsentation!$F$11:$T$78,$BD54,FALSE),0)),\"\")","v":125.07947286353806},{"$f":"IFERROR((IFERROR(VLOOKUP(BV$48,Præsentation!$F$11:$T$78,$BD54,FALSE),0)-IFERROR(VLOOKUP(BV$49,Præsentation!$F$11:$T$78,$BD54,FALSE),0)-IFERROR(VLOOKUP(BV$50,Præsentation!$F$11:$T$78,$BD54,FALSE),0)),\"\")","v":0},{"$f":"IFERROR((IFERROR(-VLOOKUP(BW$48,Præsentation!$F$11:$T$78,$BD54,FALSE),0)-IFERROR(VLOOKUP(BW$49,Præsentation!$F$11:$T$78,$BD54,FALSE),0)-IFERROR(VLOOKUP(BW$50,Præsentation!$F$11:$T$78,$BD54,FALSE),0)-IFERROR(VLOOKUP(BW$51,Præsentation!$F$11:$T$78,$BD54,FALSE),0)),\"\")","v":332.40174035511291},{"$f":"IFERROR(-(IFERROR(VLOOKUP(BX$48,Præsentation!$F$11:$T$78,$BD54,FALSE),0)-IFERROR(VLOOKUP(BX$49,Præsentation!$F$11:$T$78,$BD54,FALSE),0)-IFERROR(VLOOKUP(BX$50,Præsentation!$F$11:$T$78,$BD54,FALSE),0)),\"\")","v":608.91001458679148}]
[null,null,null,null,null,null,null,null,null,null,null,null,null,null,null,null,null,null,null,null,null,null,null,null,null,"Tekst til ovenover grafen",null,null,null,null,null,"Opnået DB",null,null,null,null,null,{"$f":"IFERROR(DGET(Præsentation!$F$11:$T$87,\"\"&'Diagrammer-orig'!$AD55&\"\",'Diagrammer-orig'!AL$46:AL$47),0)","v":0},0,null,null,null,null,null,null,null,null,null,null,null,null,null,"Forhold (mellem de to akser)",null,{"$f":"MAX((BC53/BB53),BC55/BB55)","v":{"$error":"#VALUE!"}},3,{"$f":"BF56","v":"BC top 5"},{"$f":"BF10","v":"BC top 5"},{"$f":"IFERROR(\"Slagtevægt:    \"&ROUND(VLOOKUP($BB$60,Præsentation!$F$11:$T$78,$BD56,FALSE),1),\"\")","v":""},"Kg. Slagtesvin",{"$f":"IFERROR(BS57/IFERROR(VLOOKUP($BB$60,Præsentation!$F$11:$T$78,$BD56,FALSE),0),\"\")","v":""},{"$f":"IFERROR(BT57/IFERROR(VLOOKUP($BB$60,Præsentation!$F$11:$T$78,$BD56,FALSE),0),\"\")","v":""},{"$f":"IFERROR(BU57/IFERROR(VLOOKUP($BB$60,Præsentation!$F$11:$T$78,$BD56,FALSE),0),\"\")","v":""},{"$f":"IFERROR(BV57/IFERROR(VLOOKUP($BB$60,Præsentation!$F$11:$T$78,$BD56,FALSE),0),\"\")","v":""},{"$f":"IFERROR(BW57/IFERROR(VLOOKUP($BB$60,Præsentation!$F$11:$T$78,$BD56,FALSE),0),\"\")","v":""},{"$f":"IFERROR(BX57/IFERROR(VLOOKUP($BB$60,Præsentation!$F$11:$T$78,$BD56,FALSE),0),\"\")","v":""},{"$f":"IFERROR(ABS(IFERROR(VLOOKUP(BO$48,Præsentation!$F$11:$T$78,$BD56,FALSE),0)),\"\")","v":0}]
[null,null,null,null,null,null,null,null,null,null,null,null,null,null,null,null,null,null,null,null,null,null,null,null,null,2,"Dækningsbidrag og \"krav til DB\", kr. pr. årsko",{"$f":"INDIRECT(ADDRESS(Choices!$D$1,COLUMN(Choices!$E$1),1,,\"Choices\"))","v":{"$error":"#VALUE!"}},"KVÆG","D4",null,"Krav til DB",{"$f":"IFERROR(DGET(Præsentation!$F$11:$T$87,\"\"&'Diagrammer-orig'!$AD57&\"\",'Diagrammer-orig'!AG$46:AG$47),0)","v":0},{"$f":"IFERROR(DGET(Præsentation!$F$11:$T$87,\"\"&'Diagrammer-orig'!$AD57&\"\",'Diagrammer-orig'!AH$46:AH$47),0)","v":0},{"$f":"IFERROR(DGET(Præsentation!$F$11:$T$87,\"\"&'Diagrammer-orig'!$AD57&\"\",'Diagrammer-orig'!AI$46:AI$47),0)","v":0},{"$f":"IFERROR(DGET(Præsentation!$F$11:$T$87,\"\"&'Diagrammer-orig'!$AD57&\"\",'Diagrammer-orig'!AJ$46:AJ$47),0)","v":0},{"$f":"IFERROR(DGET(Præsentation!$F$11:$T$87,\"\"&'Diagrammer-orig'!$AD57&\"\",'Diagrammer-orig'!AK$46:AK$47),0)","v":0},null,0,null,null,null,null,null,null,null,null,null,null,null,null,null,"Min y-akse",{"$f":"BB53","v":0},{"$f":"IFERROR(BB57*BC56,0)","v":0},3,{"$f":"BE56","v":"BC top 5"},null,null,"Slagtesvin",null,null,null,null,null,null,null,null,null,null,{"$f":"-IFERROR((IFERROR(VLOOKUP(BS$48,Præsentation!$F$11:$T$78,$BD57,FALSE),0)-IFERROR(VLOOKUP(BS$49,Præsentation!$F$11:$T$78,$BD57,FALSE),0)-IFERROR(VLOOKUP(BS$50,Præsentation!$F$11:$T$78,$BD57,FALSE),0)),\"\")","v":-5355.416092943201},{"$f":"IFERROR((IFERROR(VLOOKUP(BT$48,Præsentation!$F$11:$T$78,$BD56,FALSE),0)-IFERROR(VLOOKUP(BT$49,Præsentation!$F$11:$T$78,$BD56,FALSE),0)-IFERROR(VLOOKUP(BT$50,Præsentation!$F$11:$T$78,$BD56,FALSE),0)),\"\")","v":0},{"$f":"IFERROR((IFERROR(-VLOOKUP(BU$48,Præsentation!$F$11:$T$78,$BD56,FALSE),0)-IFERROR(VLOOKUP(BU$49,Præsentation!$F$11:$T$78,$BD56,FALSE),0)-IFERROR(VLOOKUP(BU$50,Præsentation!$F$11:$T$78,$BD56,FALSE),0)),\"\")","v":95.394578313253007},{"$f":"IFERROR((IFERROR(VLOOKUP(BV$48,Præsentation!$F$11:$T$78,$BD56,FALSE),0)-IFERROR(VLOOKUP(BV$49,Præsentation!$F$11:$T$78,$BD56,FALSE),0)-IFERROR(VLOOKUP(BV$50,Præsentation!$F$11:$T$78,$BD56,FALSE),0)),\"\")","v":0},{"$f":"IFERROR((IFERROR(-VLOOKUP(BW$48,Præsentation!$F$11:$T$78,$BD56,FALSE),0)-IFERROR(VLOOKUP(BW$49,Præsentation!$F$11:$T$78,$BD56,FALSE),0)-IFERROR(VLOOKUP(BW$50,Præsentation!$F$11:$T$78,$BD56,FALSE),0)-IFERROR(VLOOKUP(BW$51,Præsentation!$F$11:$T$78,$BD56,FALSE),0)),\"\")","v":277.09100688468158},{"$f":"IFERROR(-(IFERROR(VLOOKUP(BX$48,Præsentation!$F$11:$T$78,$BD56,FALSE),0)-IFERROR(VLOOKUP(BX$49,Præsentation!$F$11:$T$78,$BD56,FALSE),0)-IFERROR(VLOOKUP(BX$50,Præsentation!$F$11:$T$78,$BD56,FALSE),0)),\"\")","v":506.70998278829609},{"$f":"SUM(BS57:BX57)","v":-4476.2205249569706}]
[null,null,null,null,null,null,null,null,null,null,null,null,null,null,null,null,null,null,null,null,null,null,null,null,null,3,"Dækningsbidrag og \"krav til DB\"",{"$f":"INDIRECT(ADDRESS(Choices!$G$1,COLUMN(Choices!$H$1),1,,\"Choices\"))","v":{"$error":"#VALUE!"}},"SVIN",null,null,"Opnået DB",null,null,null,null,null,{"$f":"IFERROR(DGET(Præsentation!$F$11:$T$87,\"\"&'Diagrammer-orig'!$AD57&\"\",'Diagrammer-orig'!AL$46:AL$47),0)","v":0},0,null,null,null,null,null,null,null,null,null,null,null,null,null,"Max y-akse",{"$f":"BB55","v":0},{"$f":"IFERROR(BB58*BC56,0)","v":0},4,{"$f":"BF58","v":"Gns. Kreds \n"},{"$f":"BF12","v":"Gns. Kreds \n"},{"$f":"IFERROR(\"Slagtevægt:    \"&ROUND(VLOOKUP($BB$60,Præsentation!$F$11:$T$78,$BD58,FALSE),1),\"\")","v":""},"Kg. Slagtesvin",{"$f":"IFERROR(BS59/IFERROR(VLOOKUP($BB$60,Præsentation!$F$11:$T$78,$BD58,FALSE),0),\"\")","v":""},{"$f":"IFERROR(BT59/IFERROR(VLOOKUP($BB$60,Præsentation!$F$11:$T$78,$BD58,FALSE),0),\"\")","v":""},{"$f":"IFERROR(BU59/IFERROR(VLOOKUP($BB$60,Præsentation!$F$11:$T$78,$BD58,FALSE),0),\"\")","v":""},{"$f":"IFERROR(BV59/IFERROR(VLOOKUP($BB$60,Præsentation!$F$11:$T$78,$BD58,FALSE),0),\"\")","v":""},{"$f":"IFERROR(BW59/IFERROR(VLOOKUP($BB$60,Præsentation!$F$11:$T$78,$BD58,FALSE),0),\"\")","v":""},{"$f":"IFERROR(BX59/IFERROR(VLOOKUP($BB$60,Præsentation!$F$11:$T$78,$BD58,FALSE),0),\"\")","v":""},{"$f":"IFERROR(ABS(IFERROR(VLOOKUP(BO$48,Præsentation!$F$11:$T$78,$BD58,FALSE),0)),\"\")","v":0}]
[null,null,null,null,null,null,null,null,null,null,null,null,null,null,null,null,null,null,null,null,null,null,null,null,null,4,"Dækningsbidrag og \"krav til DB\" - Øre pr. FEN og kr. pr. ha for",{"$f":"INDIRECT(ADDRESS(Choices!$G$1,COLUMN(Choices!$H$1),1,,\"Choices\"))","v":{"$error":"#VALUE!"}},"PLANTER","D6",null,"Krav til DB",{"$f":"IFERROR(DGET(Præsentation!$F$11:$T$87,\"\"&'Diagrammer-orig'!$AD59&\"\",'Diagrammer-orig'!AG$46:AG$47),0)","v":0},{"$f":"IFERROR(DGET(Præsentation!$F$11:$T$87,\"\"&'Diagrammer-orig'!$AD59&\"\",'Diagrammer-orig'!AH$46:AH$47),0)","v":0},{"$f":"IFERROR(DGET(Præsentation!$F$11:$T$87,\"\"&'Diagrammer-orig'!$AD59&\"\",'Diagrammer-orig'!AI$46:AI$47),0)","v":0},{"$f":"IFERROR(DGET(Præsentation!$F$11:$T$87,\"\"&'Diagrammer-orig'!$AD59&\"\",'Diagrammer-orig'!AJ$46:AJ$47),0)","v":0},{"$f":"IFERROR(DGET(Præsentation!$F$11:$T$87,\"\"&'Diagrammer-orig'!$AD59&\"\",'Diagrammer-orig'!AK$46:AK$47),0)","v":0},null,0,null,null,null,null,null,null,null,null,null,null,null,null,null,null,"#GS",null,4,{"$f":"BE58","v":"Gns. Kreds \n"},null,null,"Slagtesvin",null,null,null,null,null,null,null,null,null,null,{"$f":"-IFERROR((IFERROR(VLOOKUP(BS$48,Præsentation!$F$11:$T$78,$BD59,FALSE),0)-IFERROR(VLOOKUP(BS$49,Præsentation!$F$11:$T$78,$BD59,FALSE),0)-IFERROR(VLOOKUP(BS$50,Præsentation!$F$11:$T$78,$BD59,FALSE),0)),\"\")","v":{"$error":"#VALUE!"}},{"$f":"IFERROR((IFERROR(VLOOKUP(BT$48,Præsentation!$F$11:$T$78,$BD58,FALSE),0)-IFERROR(VLOOKUP(BT$49,Præsentation!$F$11:$T$78,$BD58,FALSE),0)-IFERROR(VLOOKUP(BT$50,Præsentation!$F$11:$T$78,$BD58,FALSE),0)),\"\")","v":""},{"$f":"IFERROR((IFERROR(-VLOOKUP(BU$48,Præsentation!$F$11:$T$78,$BD58,FALSE),0)-IFERROR(VLOOKUP(BU$49,Præsentation!$F$11:$T$78,$BD58,FALSE),0)-IFERROR(VLOOKUP(BU$50,Præsentation!$F$11:$T$78,$BD58,FALSE),0)),\"\")","v":""},{"$f":"IFERROR((IFERROR(VLOOKUP(BV$48,Præsentation!$F$11:$T$78,$BD58,FALSE),0)-IFERROR(VLOOKUP(BV$49,Præsentation!$F$11:$T$78,$BD58,FALSE),0)-IFERROR(VLOOKUP(BV$50,Præsentation!$F$11:$T$78,$BD58,FALSE),0)),\"\")","v":""},{"$f":"IFERROR((IFERROR(-VLOOKUP(BW$48,Præsentation!$F$11:$T$78,$BD58,FALSE),0)-IFERROR(VLOOKUP(BW$49,Præsentation!$F$11:$T$78,$BD58,FALSE),0)-IFERROR(VLOOKUP(BW$50,Præsentation!$F$11:$T$78,$BD58,FALSE),0)-IFERROR(VLOOKUP(BW$51,Præsentation!$F$11:$T$78,$BD58,FALSE),0)),\"\")","v":""},{"$f":"IFERROR(-(IFERROR(VLOOKUP(BX$48,Præsentation!$F$11:$T$78,$BD58,FALSE),0)-IFERROR(VLOOKUP(BX$49,Præsentation!$F$11:$T$78,$BD58,FALSE),0)-IFERROR(VLOOKUP(BX$50,Præsentation!$F$11:$T$78,$BD58,FALSE),0)),\"\")","v":""},{"$f":"SUM(BS59:BX59)","v":{"$error":"#VALUE!"}}]
[null,null,null,null,null,null,null,null,null,null,null,null,null,null,null,null,null,null,null,null,null,null,null,null,null,null,null,null,null,null,null,"Opnået DB",null,null,null,null,null,{"$f":"IFERROR(DGET(Præsentation!$F$11:$T$87,\"\"&'Diagrammer-orig'!$AD59&\"\",'Diagrammer-orig'!AL$46:AL$47),0)","v":0},0,null,null,null,null,null,null,null,null,null,null,null,null,null,null,"Slagtevægt, kg."," ",5,{"$f":"BF60","v":"D1"},{"$f":"BF14","v":"D1"},{"$f":"IFERROR(\"Slagtevægt:     \"&ROUND(VLOOKUP($BB$60,Præsentation!$F$11:$T$78,$BD60,FALSE),1),\"\")","v":""},"Kg. Slagtesvin",{"$f":"IFERROR(BS61/IFERROR(VLOOKUP($BB$60,Præsentation!$F$11:$T$78,$BD60,FALSE),0),\"\")","v":""},{"$f":"IFERROR(BT61/IFERROR(VLOOKUP($BB$60,Præsentation!$F$11:$T$78,$BD60,FALSE),0),\"\")","v":""},{"$f":"IFERROR(BU61/IFERROR(VLOOKUP($BB$60,Præsentation!$F$11:$T$78,$BD60,FALSE),0),\"\")","v":""},{"$f":"IFERROR(BV61/IFERROR(VLOOKUP($BB$60,Præsentation!$F$11:$T$78,$BD60,FALSE),0),\"\")","v":""},{"$f":"IFERROR(BW61/IFERROR(VLOOKUP($BB$60,Præsentation!$F$11:$T$78,$BD60,FALSE),0),\"\")","v":""},{"$f":"IFERROR(BX61/IFERROR(VLOOKUP($BB$60,Præsentation!$F$11:$T$78,$BD60,FALSE),0),\"\")","v":""},{"$f":"IFERROR(ABS(IFERROR(VLOOKUP(BO$48,Præsentation!$F$11:$T$78,$BD60,FALSE),0)),\"\")","v":0}]
[null,null,null,null,null,null,null,null,null,null,null,null,null,null,null,null,null,null,null,null,null,null,null,null,null,null,null,null,null,"D7",null,"Krav til DB",{"$f":"IFERROR(DGET(Præsentation!$F$11:$T$87,\"\"&'Diagrammer-orig'!$AD61&\"\",'Diagrammer-orig'!AG$46:AG$47),0)","v":0},{"$f":"IFERROR(DGET(Præsentation!$F$11:$T$87,\"\"&'Diagrammer-orig'!$AD61&\"\",'Diagrammer-orig'!AH$46:AH$47),0)","v":0},{"$f":"IFERROR(DGET(Præsentation!$F$11:$T$87,\"\"&'Diagrammer-orig'!$AD61&\"\",'Diagrammer-orig'!AI$46:AI$47),0)","v":0},{"$f":"IFERROR(DGET(Præsentation!$F$11:$T$87,\"\"&'Diagrammer-orig'!$AD61&\"\",'Diagrammer-orig'!AJ$46:AJ$47),0)","v":0},{"$f":"IFERROR(DGET(Præsentation!$F$11:$T$87,\"\"&'Diagrammer-orig'!$AD61&\"\",'Diagrammer-orig'!AK$46:AK$47),0)","v":0},null,0,null,null,null,null,null,null,null,null,null,null,null,null,null,null,null,null,5,{"$f":"BE60","v":"D1"},null,null,"Slagtesvin",null,null,null,null,null,null,null,null,null,null,{"$f":"-IFERROR((IFERROR(VLOOKUP(BS$48,Præsentation!$F$11:$T$78,$BD61,FALSE),0)-IFERROR(VLOOKUP(BS$49,Præsentation!$F$11:$T$78,$BD61,FALSE),0)-IFERROR(VLOOKUP(BS$50,Præsentation!$F$11:$T$78,$BD61,FALSE),0)),\"\")","v":{"$error":"#VALUE!"}},{"$f":"IFERROR((IFERROR(VLOOKUP(BT$48,Præsentation!$F$11:$T$78,$BD60,FALSE),0)-IFERROR(VLOOKUP(BT$49,Præsentation!$F$11:$T$78,$BD60,FALSE),0)-IFERROR(VLOOKUP(BT$50,Præsentation!$F$11:$T$78,$BD60,FALSE),0)),\"\")","v":""},{"$f":"IFERROR((IFERROR(-VLOOKUP(BU$48,Præsentation!$F$11:$T$78,$BD60,FALSE),0)-IFERROR(VLOOKUP(BU$49,Præsentation!$F$11:$T$78,$BD60,FALSE),0)-IFERROR(VLOOKUP(BU$50,Præsentation!$F$11:$T$78,$BD60,FALSE),0)),\"\")","v":""},{"$f":"IFERROR((IFERROR(VLOOKUP(BV$48,Præsentation!$F$11:$T$78,$BD60,FALSE),0)-IFERROR(VLOOKUP(BV$49,Præsentation!$F$11:$T$78,$BD60,FALSE),0)-IFERROR(VLOOKUP(BV$50,Præsentation!$F$11:$T$78,$BD60,FALSE),0)),\"\")","v":""},{"$f":"IFERROR((IFERROR(-VLOOKUP(BW$48,Præsentation!$F$11:$T$78,$BD60,FALSE),0)-IFERROR(VLOOKUP(BW$49,Præsentation!$F$11:$T$78,$BD60,FALSE),0)-IFERROR(VLOOKUP(BW$50,Præsentation!$F$11:$T$78,$BD60,FALSE),0)-IFERROR(VLOOKUP(BW$51,Præsentation!$F$11:$T$78,$BD60,FALSE),0)),\"\")","v":""},{"$f":"IFERROR(-(IFERROR(VLOOKUP(BX$48,Præsentation!$F$11:$T$78,$BD60,FALSE),0)-IFERROR(VLOOKUP(BX$49,Præsentation!$F$11:$T$78,$BD60,FALSE),0)-IFERROR(VLOOKUP(BX$50,Præsentation!$F$11:$T$78,$BD60,FALSE),0)),\"\")","v":""},{"$f":"SUM(BS61:BX61)","v":{"$error":"#VALUE!"}}]
[null,null,null,null,null,null,null,null,null,null,null,null,null,null,null,null,null,null,null,null,null,null,null,null,null,null,null,null,null,null,null,"Opnået DB",null,null,null,null,null,{"$f":"IFERROR(DGET(Præsentation!$F$11:$T$87,\"\"&'Diagrammer-orig'!$AD61&\"\",'Diagrammer-orig'!AL$46:AL$47),0)","v":0},0,null,null,null,null,null,null,null,null,null,null,null,null,null,null,null,null,6,{"$f":"BF62","v":"D4"},{"$f":"BF16","v":"D4"},{"$f":"IFERROR(\"Slagtevægt:     \"&ROUND(VLOOKUP($BB$60,Præsentation!$F$11:$T$78,$BD62,FALSE),1),\"\")","v":""},"Kg. Slagtesvin",{"$f":"IFERROR(BS63/IFERROR(VLOOKUP($BB$60,Præsentation!$F$11:$T$78,$BD62,FALSE),0),\"\")","v":""},{"$f":"IFERROR(BT63/IFERROR(VLOOKUP($BB$60,Præsentation!$F$11:$T$78,$BD62,FALSE),0),\"\")","v":""},{"$f":"IFERROR(BU63/IFERROR(VLOOKUP($BB$60,Præsentation!$F$11:$T$78,$BD62,FALSE),0),\"\")","v":""},{"$f":"IFERROR(BV63/IFERROR(VLOOKUP($BB$60,Præsentation!$F$11:$T$78,$BD62,FALSE),0),\"\")","v":""},{"$f":"IFERROR(BW63/IFERROR(VLOOKUP($BB$60,Præsentation!$F$11:$T$78,$BD62,FALSE),0),\"\")","v":""},{"$f":"IFERROR(BX63/IFERROR(VLOOKUP($BB$60,Præsentation!$F$11:$T$78,$BD62,FALSE),0),\"\")","v":""},{"$f":"IFERROR(ABS(IFERROR(VLOOKUP(BO$48,Præsentation!$F$11:$T$78,$BD62,FALSE),0)),\"\")","v":0}]
[null,null,null,null,null,null,null,null,null,null,null,null,null,null,null,null,null,null,null,null,null,null,null,null,null,{"$f":"102+23+144+57-45","v":281},null,null,null,"D10",null,"Krav til DB",{"$f":"IFERROR(DGET(Præsentation!$F$11:$T$87,\"\"&'Diagrammer-orig'!$AD63&\"\",'Diagrammer-orig'!AG$46:AG$47),0)","v":0},{"$f":"IFERROR(DGET(Præsentation!$F$11:$T$87,\"\"&'Diagrammer-orig'!$AD63&\"\",'Diagrammer-orig'!AH$46:AH$47),0)","v":0},{"$f":"IFERROR(DGET(Præsentation!$F$11:$T$87,\"\"&'Diagrammer-orig'!$AD63&\"\",'Diagrammer-orig'!AI$46:AI$47),0)","v":0},{"$f":"IFERROR(DGET(Præsentation!$F$11:$T$87,\"\"&'Diagrammer-orig'!$AD63&\"\",'Diagrammer-orig'!AJ$46:AJ$47),0)","v":0},{"$f":"IFERROR(DGET(Præsentation!$F$11:$T$87,\"\"&'Diagrammer-orig'!$AD63&\"\",'Diagrammer-orig'!AK$46:AK$47),0)","v":0},null,0,null,null,null,null,null,null,null,null,null,null,null,null,null,null,null,null,6,{"$f":"BE62","v":"D4"},null,null,"Slagtesvin",null,null,null,null,null,null,null,null,null,null,{"$f":"-IFERROR((IFERROR(VLOOKUP(BS$48,Præsentation!$F$11:$T$78,$BD63,FALSE),0)-IFERROR(VLOOKUP(BS$49,Præsentation!$F$11:$T$78,$BD63,FALSE),0)-IFERROR(VLOOKUP(BS$50,Præsentation!$F$11:$T$78,$BD63,FALSE),0)),\"\")","v":-5541.1120943952801},{"$f":"IFERROR((IFERROR(VLOOKUP(BT$48,Præsentation!$F$11:$T$78,$BD62,FALSE),0)-IFERROR(VLOOKUP(BT$49,Præsentation!$F$11:$T$78,$BD62,FALSE),0)-IFERROR(VLOOKUP(BT$50,Præsentation!$F$11:$T$78,$BD62,FALSE),0)),\"\")","v":""},{"$f":"IFERROR((IFERROR(-VLOOKUP(BU$48,Præsentation!$F$11:$T$78,$BD62,FALSE),0)-IFERROR(VLOOKUP(BU$49,Præsentation!$F$11:$T$78,$BD62,FALSE),0)-IFERROR(VLOOKUP(BU$50,Præsentation!$F$11:$T$78,$BD62,FALSE),0)),\"\")","v":129.25663716814159},{"$f":"IFERROR((IFERROR(VLOOKUP(BV$48,Præsentation!$F$11:$T$78,$BD62,FALSE),0)-IFERROR(VLOOKUP(BV$49,Præsentation!$F$11:$T$78,$BD62,FALSE),0)-IFERROR(VLOOKUP(BV$50,Præsentation!$F$11:$T$78,$BD62,FALSE),0)),\"\")","v":""},{"$f":"IFERROR((IFERROR(-VLOOKUP(BW$48,Præsentation!$F$11:$T$78,$BD62,FALSE),0)-IFERROR(VLOOKUP(BW$49,Præsentation!$F$11:$T$78,$BD62,FALSE),0)-IFERROR(VLOOKUP(BW$50,Præsentation!$F$11:$T$78,$BD62,FALSE),0)-IFERROR(VLOOKUP(BW$51,Præsentation!$F$11:$T$78,$BD62,FALSE),0)),\"\")","v":260.67551622418881},{"$f":"IFERROR(-(IFERROR(VLOOKUP(BX$48,Præsentation!$F$11:$T$78,$BD62,FALSE),0)-IFERROR(VLOOKUP(BX$49,Præsentation!$F$11:$T$78,$BD62,FALSE),0)-IFERROR(VLOOKUP(BX$50,Præsentation!$F$11:$T$78,$BD62,FALSE),0)),\"\")","v":""},{"$f":"SUM(BS63:BX63)","v":-5151.1799410029498}]
[null,null,null,null,null,null,null,null,null,null,null,null,null,null,null,null,null,null,null,null,null,null,null,null,null,{"$f":"77+21+106+26-56-17","v":157},null,null,null,null,null,"Opnået DB",null,null,null,null,null,{"$f":"IFERROR(DGET(Præsentation!$F$11:$T$87,\"\"&'Diagrammer-orig'!$AD63&\"\",'Diagrammer-orig'!AL$46:AL$47),0)","v":0},0,null,null,null,null,null,null,null,null,null,null,null,null,null,null,null,null,7,{"$f":"BF64","v":"D6"},{"$f":"BF18","v":"D6"},{"$f":"IFERROR(\"Slagtevægt:     \"&ROUND(VLOOKUP($BB$60,Præsentation!$F$11:$T$78,$BD64,FALSE),1),\"\")","v":""},"Kg. Slagtesvin",{"$f":"IFERROR(BS65/IFERROR(VLOOKUP($BB$60,Præsentation!$F$11:$T$78,$BD64,FALSE),0),\"\")","v":""},{"$f":"IFERROR(BT65/IFERROR(VLOOKUP($BB$60,Præsentation!$F$11:$T$78,$BD64,FALSE),0),\"\")","v":""},{"$f":"IFERROR(BU65/IFERROR(VLOOKUP($BB$60,Præsentation!$F$11:$T$78,$BD64,FALSE),0),\"\")","v":""},{"$f":"IFERROR(BV65/IFERROR(VLOOKUP($BB$60,Præsentation!$F$11:$T$78,$BD64,FALSE),0),\"\")","v":""},{"$f":"IFERROR(BW65/IFERROR(VLOOKUP($BB$60,Præsentation!$F$11:$T$78,$BD64,FALSE),0),\"\")","v":""},{"$f":"IFERROR(BX65/IFERROR(VLOOKUP($BB$60,Præsentation!$F$11:$T$78,$BD64,FALSE),0),\"\")","v":""},{"$f":"IFERROR(ABS(IFERROR(VLOOKUP(BO$48,Præsentation!$F$11:$T$78,$BD64,FALSE),0)),\"\")","v":0}]
[null,null,null,null,null,null,null,null,null,null,null,null,null,null,null,null,null,null,null,null,null,null,null,null,null,null,null,null,null,"U6",null,"Krav til DB",{"$f":"IFERROR(DGET(Præsentation!$F$11:$T$87,\"\"&'Diagrammer-orig'!$AD65&\"\",'Diagrammer-orig'!AG$46:AG$47),0)","v":0},{"$f":"IFERROR(DGET(Præsentation!$F$11:$T$87,\"\"&'Diagrammer-orig'!$AD65&\"\",'Diagrammer-orig'!AH$46:AH$47),0)","v":0},{"$f":"IFERROR(DGET(Præsentation!$F$11:$T$87,\"\"&'Diagrammer-orig'!$AD65&\"\",'Diagrammer-orig'!AI$46:AI$47),0)","v":0},{"$f":"IFERROR(DGET(Præsentation!$F$11:$T$87,\"\"&'Diagrammer-orig'!$AD65&\"\",'Diagrammer-orig'!AJ$46:AJ$47),0)","v":0},{"$f":"IFERROR(DGET(Præsentation!$F$11:$T$87,\"\"&'Diagrammer-orig'!$AD65&\"\",'Diagrammer-orig'!AK$46:AK$47),0)","v":0},null,0,null,null,null,null,null,null,null,null,null,null,null,null,null,null,null,null,7,{"$f":"BE64","v":"D6"},null,null,"Slagtesvin",null,null,null,null,null,null,null,null,null,null,{"$f":"-IFERROR((IFERROR(VLOOKUP(BS$48,Præsentation!$F$11:$T$78,$BD65,FALSE),0)-IFERROR(VLOOKUP(BS$49,Præsentation!$F$11:$T$78,$BD65,FALSE),0)-IFERROR(VLOOKUP(BS$50,Præsentation!$F$11:$T$78,$BD65,FALSE),0)),\"\")","v":-5611.5432098765432},{"$f":"IFERROR((IFERROR(VLOOKUP(BT$48,Præsentation!$F$11:$T$78,$BD64,FALSE),0)-IFERROR(VLOOKUP(BT$49,Præsentation!$F$11:$T$78,$BD64,FALSE),0)-IFERROR(VLOOKUP(BT$50,Præsentation!$F$11:$T$78,$BD64,FALSE),0)),\"\")","v":""},{"$f":"IFERROR((IFERROR(-VLOOKUP(BU$48,Præsentation!$F$11:$T$78,$BD64,FALSE),0)-IFERROR(VLOOKUP(BU$49,Præsentation!$F$11:$T$78,$BD64,FALSE),0)-IFERROR(VLOOKUP(BU$50,Præsentation!$F$11:$T$78,$BD64,FALSE),0)),\"\")","v":78.119341563786008},{"$f":"IFERROR((IFERROR(VLOOKUP(BV$48,Præsentation!$F$11:$T$78,$BD64,FALSE),0)-IFERROR(VLOOKUP(BV$49,Præsentation!$F$11:$T$78,$BD64,FALSE),0)-IFERROR(VLOOKUP(BV$50,Præsentation!$F$11:$T$78,$BD64,FALSE),0)),\"\")","v":""},{"$f":"IFERROR((IFERROR(-VLOOKUP(BW$48,Præsentation!$F$11:$T$78,$BD64,FALSE),0)-IFERROR(VLOOKUP(BW$49,Præsentation!$F$11:$T$78,$BD64,FALSE),0)-IFERROR(VLOOKUP(BW$50,Præsentation!$F$11:$T$78,$BD64,FALSE),0)-IFERROR(VLOOKUP(BW$51,Præsentation!$F$11:$T$78,$BD64,FALSE),0)),\"\")","v":236.77613168724281},{"$f":"IFERROR(-(IFERROR(VLOOKUP(BX$48,Præsentation!$F$11:$T$78,$BD64,FALSE),0)-IFERROR(VLOOKUP(BX$49,Præsentation!$F$11:$T$78,$BD64,FALSE),0)-IFERROR(VLOOKUP(BX$50,Præsentation!$F$11:$T$78,$BD64,FALSE),0)),\"\")","v":""},{"$f":"SUM(BS65:BX65)","v":-5296.647736625514}]
[null,null,null,null,null,null,null,null,null,null,null,null,null,null,null,null,null,null,null,null,null,null,null,null,null,null,null,null,null,null,null,"Opnået DB",null,null,null,null,null,{"$f":"IFERROR(DGET(Præsentation!$F$11:$T$87,\"\"&'Diagrammer-orig'!$AD65&\"\",'Diagrammer-orig'!AL$46:AL$47),0)","v":0},0,null,null,null,null,null,null,null,null,null,null,null,null,null,null,null,null,8,{"$f":"BF66","v":"D7"},{"$f":"BF20","v":"D7"},{"$f":"IFERROR(\"Slagtevægt:     \"&ROUND(VLOOKUP($BB$60,Præsentation!$F$11:$T$78,$BD66,FALSE),1),\"\")","v":""},"Kg. Slagtesvin",{"$f":"IFERROR(BS67/IFERROR(VLOOKUP($BB$60,Præsentation!$F$11:$T$78,$BD66,FALSE),0),\"\")","v":""},{"$f":"IFERROR(BT67/IFERROR(VLOOKUP($BB$60,Præsentation!$F$11:$T$78,$BD66,FALSE),0),\"\")","v":""},{"$f":"IFERROR(BU67/IFERROR(VLOOKUP($BB$60,Præsentation!$F$11:$T$78,$BD66,FALSE),0),\"\")","v":""},{"$f":"IFERROR(BV67/IFERROR(VLOOKUP($BB$60,Præsentation!$F$11:$T$78,$BD66,FALSE),0),\"\")","v":""},{"$f":"IFERROR(BW67/IFERROR(VLOOKUP($BB$60,Præsentation!$F$11:$T$78,$BD66,FALSE),0),\"\")","v":""},{"$f":"IFERROR(BX67/IFERROR(VLOOKUP($BB$60,Præsentation!$F$11:$T$78,$BD66,FALSE),0),\"\")","v":""},{"$f":"IFERROR(ABS(IFERROR(VLOOKUP(BO$48,Præsentation!$F$11:$T$78,$BD66,FALSE),0)),\"\")","v":0}]
[null,null,null,null,null,null,null,null,null,null,null,null,null,null,null,null,null,null,null,null,null,null,null,null,null,1,"Ingen valgt ",".. Gå om og vælg en gruppe",null,"U10",null,"Krav til DB",{"$f":"IFERROR(DGET(Præsentation!$F$11:$T$87,\"\"&'Diagrammer-orig'!$AD67&\"\",'Diagrammer-orig'!AG$46:AG$47),0)","v":0},{"$f":"IFERROR(DGET(Præsentation!$F$11:$T$87,\"\"&'Diagrammer-orig'!$AD67&\"\",'Diagrammer-orig'!AH$46:AH$47),0)","v":0},{"$f":"IFERROR(DGET(Præsentation!$F$11:$T$87,\"\"&'Diagrammer-orig'!$AD67&\"\",'Diagrammer-orig'!AI$46:AI$47),0)","v":0},{"$f":"IFERROR(DGET(Præsentation!$F$11:$T$87,\"\"&'Diagrammer-orig'!$AD67&\"\",'Diagrammer-orig'!AJ$46:AJ$47),0)","v":0},{"$f":"IFERROR(DGET(Præsentation!$F$11:$T$87,\"\"&'Diagrammer-orig'!$AD67&\"\",'Diagrammer-orig'!AK$46:AK$47),0)","v":0},null,0,null,null,null,null,null,null,null,null,null,null,null,null,null,null,null,null,8,{"$f":"BE66","v":"D7"},null,null,"Slagtesvin",null,null,null,null,null,null,null,null,null,null,{"$f":"-IFERROR((IFERROR(VLOOKUP(BS$48,Præsentation!$F$11:$T$78,$BD67,FALSE),0)-IFERROR(VLOOKUP(BS$49,Præsentation!$F$11:$T$78,$BD67,FALSE),0)-IFERROR(VLOOKUP(BS$50,Præsentation!$F$11:$T$78,$BD67,FALSE),0)),\"\")","v":-4736.534090909091},{"$f":"IFERROR((IFERROR(VLOOKUP(BT$48,Præsentation!$F$11:$T$78,$BD66,FALSE),0)-IFERROR(VLOOKUP(BT$49,Præsentation!$F$11:$T$78,$BD66,FALSE),0)-IFERROR(VLOOKUP(BT$50,Præsentation!$F$11:$T$78,$BD66,FALSE),0)),\"\")","v":""},{"$f":"IFERROR((IFERROR(-VLOOKUP(BU$48,Præsentation!$F$11:$T$78,$BD66,FALSE),0)-IFERROR(VLOOKUP(BU$49,Præsentation!$F$11:$T$78,$BD66,FALSE),0)-IFERROR(VLOOKUP(BU$50,Præsentation!$F$11:$T$78,$BD66,FALSE),0)),\"\")","v":56.81818181818182},{"$f":"IFERROR((IFERROR(VLOOKUP(BV$48,Præsentation!$F$11:$T$78,$BD66,FALSE),0)-IFERROR(VLOOKUP(BV$49,Præsentation!$F$11:$T$78,$BD66,FALSE),0)-IFERROR(VLOOKUP(BV$50,Præsentation!$F$11:$T$78,$BD66,FALSE),0)),\"\")","v":""},{"$f":"IFERROR((IFERROR(-VLOOKUP(BW$48,Præsentation!$F$11:$T$78,$BD66,FALSE),0)-IFERROR(VLOOKUP(BW$49,Præsentation!$F$11:$T$78,$BD66,FALSE),0)-IFERROR(VLOOKUP(BW$50,Præsentation!$F$11:$T$78,$BD66,FALSE),0)-IFERROR(VLOOKUP(BW$51,Præsentation!$F$11:$T$78,$BD66,FALSE),0)),\"\")","v":244.31818181818181},{"$f":"IFERROR(-(IFERROR(VLOOKUP(BX$48,Præsentation!$F$11:$T$78,$BD66,FALSE),0)-IFERROR(VLOOKUP(BX$49,Præsentation!$F$11:$T$78,$BD66,FALSE),0)-IFERROR(VLOOKUP(BX$50,Præsentation!$F$11:$T$78,$BD66,FALSE),0)),\"\")","v":""},{"$f":"SUM(BS67:BX67)","v":-4435.397727272727}]
[null,null,null,null,null,null,null,null,null,null,null,null,null,null,null,null,null,null,null,null,null,null,null,null,null,null,null,null,null,null,null,"Opnået DB",null,null,null,null,null,{"$f":"IFERROR(DGET(Præsentation!$F$11:$T$87,\"\"&'Diagrammer-orig'!$AD67&\"\",'Diagrammer-orig'!AL$46:AL$47),0)","v":0},0,null,null,null,null,null,null,null,null,null,null,null,null,null,null,null,null,9,{"$f":"BF68","v":"D10"},{"$f":"BF22","v":"D10"},{"$f":"IFERROR(\"Slagtevægt:     \"&ROUND(VLOOKUP($BB$60,Præsentation!$F$11:$T$78,$BD68,FALSE),1),\"\")","v":""},"Kg. Slagtesvin",{"$f":"IFERROR(BS69/IFERROR(VLOOKUP($BB$60,Præsentation!$F$11:$T$78,$BD68,FALSE),0),\"\")","v":""},{"$f":"IFERROR(BT69/IFERROR(VLOOKUP($BB$60,Præsentation!$F$11:$T$78,$BD68,FALSE),0),\"\")","v":""},{"$f":"IFERROR(BU69/IFERROR(VLOOKUP($BB$60,Præsentation!$F$11:$T$78,$BD68,FALSE),0),\"\")","v":""},{"$f":"IFERROR(BV69/IFERROR(VLOOKUP($BB$60,Præsentation!$F$11:$T$78,$BD68,FALSE),0),\"\")","v":""},{"$f":"IFERROR(BW69/IFERROR(VLOOKUP($BB$60,Præsentation!$F$11:$T$78,$BD68,FALSE),0),\"\")","v":""},{"$f":"IFERROR(BX69/IFERROR(VLOOKUP($BB$60,Præsentation!$F$11:$T$78,$BD68,FALSE),0),\"\")","v":""},{"$f":"IFERROR(ABS(IFERROR(VLOOKUP(BO$48,Præsentation!$F$11:$T$78,$BD68,FALSE),0)),\"\")","v":0}]
[null,null,null,null,null,null,null,null,null,null,null,null,null,null,null,null,null,null,null,null,null,null,null,null,null,null,null,null,null,"D23",null,"Krav til DB",{"$f":"IFERROR(DGET(Præsentation!$F$11:$T$87,\"\"&'Diagrammer-orig'!$AD69&\"\",'Diagrammer-orig'!AG$46:AG$47),0)","v":0},{"$f":"IFERROR(DGET(Præsentation!$F$11:$T$87,\"\"&'Diagrammer-orig'!$AD69&\"\",'Diagrammer-orig'!AH$46:AH$47),0)","v":0},{"$f":"IFERROR(DGET(Præsentation!$F$11:$T$87,\"\"&'Diagrammer-orig'!$AD69&\"\",'Diagrammer-orig'!AI$46:AI$47),0)","v":0},{"$f":"IFERROR(DGET(Præsentation!$F$11:$T$87,\"\"&'Diagrammer-orig'!$AD69&\"\",'Diagrammer-orig'!AJ$46:AJ$47),0)","v":0},{"$f":"IFERROR(DGET(Præsentation!$F$11:$T$87,\"\"&'Diagrammer-orig'!$AD69&\"\",'Diagrammer-orig'!AK$46:AK$47),0)","v":0},null,0,null,null,null,null,null,null,null,null,null,null,null,null,null,null,null,null,9,{"$f":"BE68","v":"D10"},null,null,"Slagtesvin",null,null,null,null,null,null,null,null,null,null,{"$f":"-IFERROR((IFERROR(VLOOKUP(BS$48,Præsentation!$F$11:$T$78,$BD69,FALSE),0)-IFERROR(VLOOKUP(BS$49,Præsentation!$F$11:$T$78,$BD69,FALSE),0)-IFERROR(VLOOKUP(BS$50,Præsentation!$F$11:$T$78,$BD69,FALSE),0)),\"\")","v":-5297.0320256204968},{"$f":"IFERROR((IFERROR(VLOOKUP(BT$48,Præsentation!$F$11:$T$78,$BD68,FALSE),0)-IFERROR(VLOOKUP(BT$49,Præsentation!$F$11:$T$78,$BD68,FALSE),0)-IFERROR(VLOOKUP(BT$50,Præsentation!$F$11:$T$78,$BD68,FALSE),0)),\"\")","v":""},{"$f":"IFERROR((IFERROR(-VLOOKUP(BU$48,Præsentation!$F$11:$T$78,$BD68,FALSE),0)-IFERROR(VLOOKUP(BU$49,Præsentation!$F$11:$T$78,$BD68,FALSE),0)-IFERROR(VLOOKUP(BU$50,Præsentation!$F$11:$T$78,$BD68,FALSE),0)),\"\")","v":138.7894315452362},{"$f":"IFERROR((IFERROR(VLOOKUP(BV$48,Præsentation!$F$11:$T$78,$BD68,FALSE),0)-IFERROR(VLOOKUP(BV$49,Præsentation!$F$11:$T$78,$BD68,FALSE),0)-IFERROR(VLOOKUP(BV$50,Præsentation!$F$11:$T$78,$BD68,FALSE),0)),\"\")","v":""},{"$f":"IFERROR((IFERROR(-VLOOKUP(BW$48,Præsentation!$F$11:$T$78,$BD68,FALSE),0)-IFERROR(VLOOKUP(BW$49,Præsentation!$F$11:$T$78,$BD68,FALSE),0)-IFERROR(VLOOKUP(BW$50,Præsentation!$F$11:$T$78,$BD68,FALSE),0)-IFERROR(VLOOKUP(BW$51,Præsentation!$F$11:$T$78,$BD68,FALSE),0)),\"\")","v":350.36669335468378},{"$f":"IFERROR(-(IFERROR(VLOOKUP(BX$48,Præsentation!$F$11:$T$78,$BD68,FALSE),0)-IFERROR(VLOOKUP(BX$49,Præsentation!$F$11:$T$78,$BD68,FALSE),0)-IFERROR(VLOOKUP(BX$50,Præsentation!$F$11:$T$78,$BD68,FALSE),0)),\"\")","v":""},{"$f":"SUM(BS69:BX69)","v":-4807.8759007205772}]
[null,null,null,null,null,null,null,null,null,null,null,null,null,null,null,null,null,null,null,null,null,null,null,null,null,null,null,null,null,null,null,"Opnået DB",null,null,null,null,null,{"$f":"IFERROR(DGET(Præsentation!$F$11:$T$87,\"\"&'Diagrammer-orig'!$AD69&\"\",'Diagrammer-orig'!AL$46:AL$47),0)","v":0},0,null,null,null,null,null,null,null,null,null,null,null,null,null,null,null,null,10,{"$f":"BF70","v":"U6"},{"$f":"BF24","v":"U6"},{"$f":"IFERROR(\"Slagtevægt:     \"&ROUND(VLOOKUP($BB$60,Præsentation!$F$11:$T$78,$BD70,FALSE),1),\"\")","v":""},"Kg. Slagtesvin",{"$f":"IFERROR(BS71/IFERROR(VLOOKUP($BB$60,Præsentation!$F$11:$T$78,$BD70,FALSE),0),\"\")","v":""},{"$f":"IFERROR(BT71/IFERROR(VLOOKUP($BB$60,Præsentation!$F$11:$T$78,$BD70,FALSE),0),\"\")","v":""},{"$f":"IFERROR(BU71/IFERROR(VLOOKUP($BB$60,Præsentation!$F$11:$T$78,$BD70,FALSE),0),\"\")","v":""},{"$f":"IFERROR(BV71/IFERROR(VLOOKUP($BB$60,Præsentation!$F$11:$T$78,$BD70,FALSE),0),\"\")","v":""},{"$f":"IFERROR(BW71/IFERROR(VLOOKUP($BB$60,Præsentation!$F$11:$T$78,$BD70,FALSE),0),\"\")","v":""},{"$f":"IFERROR(BX71/IFERROR(VLOOKUP($BB$60,Præsentation!$F$11:$T$78,$BD70,FALSE),0),\"\")","v":""},{"$f":"IFERROR(ABS(IFERROR(VLOOKUP(BO$48,Præsentation!$F$11:$T$78,$BD70,FALSE),0)),\"\")","v":0}]
[null,null,null,null,null,null,null,null,null,null,null,null,null,null,null,null,null,null,null,null,null,null,null,null,null,null,null,null,null,"U7",null,"Krav til DB",{"$f":"IFERROR(DGET(Præsentation!$F$11:$T$87,\"\"&'Diagrammer-orig'!$AD71&\"\",'Diagrammer-orig'!AG$46:AG$47),0)","v":0},{"$f":"IFERROR(DGET(Præsentation!$F$11:$T$87,\"\"&'Diagrammer-orig'!$AD71&\"\",'Diagrammer-orig'!AH$46:AH$47),0)","v":0},{"$f":"IFERROR(DGET(Præsentation!$F$11:$T$87,\"\"&'Diagrammer-orig'!$AD71&\"\",'Diagrammer-orig'!AI$46:AI$47),0)","v":0},{"$f":"IFERROR(DGET(Præsentation!$F$11:$T$87,\"\"&'Diagrammer-orig'!$AD71&\"\",'Diagrammer-orig'!AJ$46:AJ$47),0)","v":0},{"$f":"IFERROR(DGET(Præsentation!$F$11:$T$87,\"\"&'Diagrammer-orig'!$AD71&\"\",'Diagrammer-orig'!AK$46:AK$47),0)","v":0},null,0,null,null,null,null,null,null,null,null,null,null,null,null,null,null,null,null,10,{"$f":"BE70","v":"U6"},null,null,"Slagtesvin",null,null,null,null,null,null,null,null,null,null,{"$f":"-IFERROR((IFERROR(VLOOKUP(BS$48,Præsentation!$F$11:$T$78,$BD71,FALSE),0)-IFERROR(VLOOKUP(BS$49,Præsentation!$F$11:$T$78,$BD71,FALSE),0)-IFERROR(VLOOKUP(BS$50,Præsentation!$F$11:$T$78,$BD71,FALSE),0)),\"\")","v":-5214.8168316831679},{"$f":"IFERROR((IFERROR(VLOOKUP(BT$48,Præsentation!$F$11:$T$78,$BD70,FALSE),0)-IFERROR(VLOOKUP(BT$49,Præsentation!$F$11:$T$78,$BD70,FALSE),0)-IFERROR(VLOOKUP(BT$50,Præsentation!$F$11:$T$78,$BD70,FALSE),0)),\"\")","v":""},{"$f":"IFERROR((IFERROR(-VLOOKUP(BU$48,Præsentation!$F$11:$T$78,$BD70,FALSE),0)-IFERROR(VLOOKUP(BU$49,Præsentation!$F$11:$T$78,$BD70,FALSE),0)-IFERROR(VLOOKUP(BU$50,Præsentation!$F$11:$T$78,$BD70,FALSE),0)),\"\")","v":145.59653465346534},{"$f":"IFERROR((IFERROR(VLOOKUP(BV$48,Præsentation!$F$11:$T$78,$BD70,FALSE),0)-IFERROR(VLOOKUP(BV$49,Præsentation!$F$11:$T$78,$BD70,FALSE),0)-IFERROR(VLOOKUP(BV$50,Præsentation!$F$11:$T$78,$BD70,FALSE),0)),\"\")","v":""},{"$f":"IFERROR((IFERROR(-VLOOKUP(BW$48,Præsentation!$F$11:$T$78,$BD70,FALSE),0)-IFERROR(VLOOKUP(BW$49,Præsentation!$F$11:$T$78,$BD70,FALSE),0)-IFERROR(VLOOKUP(BW$50,Præsentation!$F$11:$T$78,$BD70,FALSE),0)-IFERROR(VLOOKUP(BW$51,Præsentation!$F$11:$T$78,$BD70,FALSE),0)),\"\")","v":465.88366336633669},{"$f":"IFERROR(-(IFERROR(VLOOKUP(BX$48,Præsentation!$F$11:$T$78,$BD70,FALSE),0)-IFERROR(VLOOKUP(BX$49,Præsentation!$F$11:$T$78,$BD70,FALSE),0)-IFERROR(VLOOKUP(BX$50,Præsentation!$F$11:$T$78,$BD70,FALSE),0)),\"\")","v":""},{"$f":"SUM(BS71:BX71)","v":-4603.3366336633662}]
[null,null,null,null,null,null,null,null,null,null,null,null,null,null,null,null,null,null,null,null,null,null,null,null,null,null,null,null,null,null,null,"Opnået DB",null,null,null,null,null,{"$f":"IFERROR(DGET(Præsentation!$F$11:$T$87,\"\"&'Diagrammer-orig'!$AD71&\"\",'Diagrammer-orig'!AL$46:AL$47),0)","v":0},0,null,null,null,null,null,null,null,null,null,null,null,null,null,null,null,null,11,{"$f":"BF72","v":"U10"},{"$f":"BF26","v":"U10"},{"$f":"IFERROR(\"Slagtevægt:     \"&ROUND(VLOOKUP($BB$60,Præsentation!$F$11:$T$78,$BD72,FALSE),1),\"\")","v":""},"Kg. Slagtesvin",{"$f":"IFERROR(BS73/IFERROR(VLOOKUP($BB$60,Præsentation!$F$11:$T$78,$BD72,FALSE),0),\"\")","v":""},{"$f":"IFERROR(BT73/IFERROR(VLOOKUP($BB$60,Præsentation!$F$11:$T$78,$BD72,FALSE),0),\"\")","v":""},{"$f":"IFERROR(BU73/IFERROR(VLOOKUP($BB$60,Præsentation!$F$11:$T$78,$BD72,FALSE),0),\"\")","v":""},{"$f":"IFERROR(BV73/IFERROR(VLOOKUP($BB$60,Præsentation!$F$11:$T$78,$BD72,FALSE),0),\"\")","v":""},{"$f":"IFERROR(BW73/IFERROR(VLOOKUP($BB$60,Præsentation!$F$11:$T$78,$BD72,FALSE),0),\"\")","v":""},{"$f":"IFERROR(BX73/IFERROR(VLOOKUP($BB$60,Præsentation!$F$11:$T$78,$BD72,FALSE),0),\"\")","v":""},{"$f":"IFERROR(ABS(IFERROR(VLOOKUP(BO$48,Præsentation!$F$11:$T$78,$BD72,FALSE),0)),\"\")","v":0}]
[null,null,null,null,null,null,null,null,null,null,null,null,null,null,null,null,null,null,null,null,null,null,null,null,null,null,null,null,null,"D5",null,"Krav til DB",{"$f":"IFERROR(DGET(Præsentation!$F$11:$T$87,\"\"&'Diagrammer-orig'!$AD73&\"\",'Diagrammer-orig'!AG$46:AG$47),0)","v":0},{"$f":"IFERROR(DGET(Præsentation!$F$11:$T$87,\"\"&'Diagrammer-orig'!$AD73&\"\",'Diagrammer-orig'!AH$46:AH$47),0)","v":0},{"$f":"IFERROR(DGET(Præsentation!$F$11:$T$87,\"\"&'Diagrammer-orig'!$AD73&\"\",'Diagrammer-orig'!AI$46:AI$47),0)","v":0},{"$f":"IFERROR(DGET(Præsentation!$F$11:$T$87,\"\"&'Diagrammer-orig'!$AD73&\"\",'Diagrammer-orig'!AJ$46:AJ$47),0)","v":0},{"$f":"IFERROR(DGET(Præsentation!$F$11:$T$87,\"\"&'Diagrammer-orig'!$AD73&\"\",'Diagrammer-orig'!AK$46:AK$47),0)","v":0},null,0,null,null,null,null,null,null,null,null,null,null,null,null,null,null,null,null,11,{"$f":"BE72","v":"U10"},null,null,"Slagtesvin",null,null,null,null,null,null,null,null,null,null,{"$f":"-IFERROR((IFERROR(VLOOKUP(BS$48,Præsentation!$F$11:$T$78,$BD73,FALSE),0)-IFERROR(VLOOKUP(BS$49,Præsentation!$F$11:$T$78,$BD73,FALSE),0)-IFERROR(VLOOKUP(BS$50,Præsentation!$F$11:$T$78,$BD73,FALSE),0)),\"\")","v":-6059.8471337579622},{"$f":"IFERROR((IFERROR(VLOOKUP(BT$48,Præsentation!$F$11:$T$78,$BD72,FALSE),0)-IFERROR(VLOOKUP(BT$49,Præsentation!$F$11:$T$78,$BD72,FALSE),0)-IFERROR(VLOOKUP(BT$50,Præsentation!$F$11:$T$78,$BD72,FALSE),0)),\"\")","v":""},{"$f":"IFERROR((IFERROR(-VLOOKUP(BU$48,Præsentation!$F$11:$T$78,$BD72,FALSE),0)-IFERROR(VLOOKUP(BU$49,Præsentation!$F$11:$T$78,$BD72,FALSE),0)-IFERROR(VLOOKUP(BU$50,Præsentation!$F$11:$T$78,$BD72,FALSE),0)),\"\")","v":150.13375796178343},{"$f":"IFERROR((IFERROR(VLOOKUP(BV$48,Præsentation!$F$11:$T$78,$BD72,FALSE),0)-IFERROR(VLOOKUP(BV$49,Præsentation!$F$11:$T$78,$BD72,FALSE),0)-IFERROR(VLOOKUP(BV$50,Præsentation!$F$11:$T$78,$BD72,FALSE),0)),\"\")","v":""},{"$f":"IFERROR((IFERROR(-VLOOKUP(BW$48,Præsentation!$F$11:$T$78,$BD72,FALSE),0)-IFERROR(VLOOKUP(BW$49,Præsentation!$F$11:$T$78,$BD72,FALSE),0)-IFERROR(VLOOKUP(BW$50,Præsentation!$F$11:$T$78,$BD72,FALSE),0)-IFERROR(VLOOKUP(BW$51,Præsentation!$F$11:$T$78,$BD72,FALSE),0)),\"\")","v":448.5859872611465},{"$f":"IFERROR(-(IFERROR(VLOOKUP(BX$48,Præsentation!$F$11:$T$78,$BD72,FALSE),0)-IFERROR(VLOOKUP(BX$49,Præsentation!$F$11:$T$78,$BD72,FALSE),0)-IFERROR(VLOOKUP(BX$50,Præsentation!$F$11:$T$78,$BD72,FALSE),0)),\"\")","v":""},{"$f":"SUM(BS73:BX73)","v":-5461.127388535032}]
[null,null,null,null,null,null,null,null,null,null,null,null,null,null,null,null,null,null,null,null,null,null,null,null,null,null,null,null,null,null,null,"Opnået DB",null,null,null,null,null,{"$f":"IFERROR(DGET(Præsentation!$F$11:$T$87,\"\"&'Diagrammer-orig'!$AD73&\"\",'Diagrammer-orig'!AL$46:AL$47),0)","v":0},0,null,null,null,null,null,null,null,null,null,null,null,null,null,null,null,null,12,{"$f":"BF74","v":"D23"},{"$f":"BF28","v":"D23"},{"$f":"IFERROR(\"Slagtevægt:     \"&ROUND(VLOOKUP($BB$60,Præsentation!$F$11:$T$78,$BD74,FALSE),1),\"\")","v":""},"Kg. Slagtesvin",{"$f":"IFERROR(BS75/IFERROR(VLOOKUP($BB$60,Præsentation!$F$11:$T$78,$BD74,FALSE),0),\"\")","v":""},{"$f":"IFERROR(BT75/IFERROR(VLOOKUP($BB$60,Præsentation!$F$11:$T$78,$BD74,FALSE),0),\"\")","v":""},{"$f":"IFERROR(BU75/IFERROR(VLOOKUP($BB$60,Præsentation!$F$11:$T$78,$BD74,FALSE),0),\"\")","v":""},{"$f":"IFERROR(BV75/IFERROR(VLOOKUP($BB$60,Præsentation!$F$11:$T$78,$BD74,FALSE),0),\"\")","v":""},{"$f":"IFERROR(BW75/IFERROR(VLOOKUP($BB$60,Præsentation!$F$11:$T$78,$BD74,FALSE),0),\"\")","v":""},{"$f":"IFERROR(BX75/IFERROR(VLOOKUP($BB$60,Præsentation!$F$11:$T$78,$BD74,FALSE),0),\"\")","v":""},{"$f":"IFERROR(ABS(IFERROR(VLOOKUP(BO$48,Præsentation!$F$11:$T$78,$BD74,FALSE),0)),\"\")","v":0}]
[null,null,null,null,null,null,null,null,null,null,null,null,null,null,null,null,null,null,null,null,null,null,null,null,null,null,null,null,null,null,null,null,null,null,null,null,null,null,null,null,null,null,null,null,null,null,null,null,null,null,null,null,null,null,null,12,{"$f":"BE74","v":"D23"},null,null,"Slagtesvin",null,null,null,null,null,null,null,null,null,null,{"$f":"-IFERROR((IFERROR(VLOOKUP(BS$48,Præsentation!$F$11:$T$78,$BD75,FALSE),0)-IFERROR(VLOOKUP(BS$49,Præsentation!$F$11:$T$78,$BD75,FALSE),0)-IFERROR(VLOOKUP(BS$50,Præsentation!$F$11:$T$78,$BD75,FALSE),0)),\"\")","v":-5870.6228070175439},{"$f":"IFERROR((IFERROR(VLOOKUP(BT$48,Præsentation!$F$11:$T$78,$BD74,FALSE),0)-IFERROR(VLOOKUP(BT$49,Præsentation!$F$11:$T$78,$BD74,FALSE),0)-IFERROR(VLOOKUP(BT$50,Præsentation!$F$11:$T$78,$BD74,FALSE),0)),\"\")","v":""},{"$f":"IFERROR((IFERROR(-VLOOKUP(BU$48,Præsentation!$F$11:$T$78,$BD74,FALSE),0)-IFERROR(VLOOKUP(BU$49,Præsentation!$F$11:$T$78,$BD74,FALSE),0)-IFERROR(VLOOKUP(BU$50,Præsentation!$F$11:$T$78,$BD74,FALSE),0)),\"\")","v":61.403508771929822},{"$f":"IFERROR((IFERROR(VLOOKUP(BV$48,Præsentation!$F$11:$T$78,$BD74,FALSE),0)-IFERROR(VLOOKUP(BV$49,Præsentation!$F$11:$T$78,$BD74,FALSE),0)-IFERROR(VLOOKUP(BV$50,Præsentation!$F$11:$T$78,$BD74,FALSE),0)),\"\")","v":""},{"$f":"IFERROR((IFERROR(-VLOOKUP(BW$48,Præsentation!$F$11:$T$78,$BD74,FALSE),0)-IFERROR(VLOOKUP(BW$49,Præsentation!$F$11:$T$78,$BD74,FALSE),0)-IFERROR(VLOOKUP(BW$50,Præsentation!$F$11:$T$78,$BD74,FALSE),0)-IFERROR(VLOOKUP(BW$51,Præsentation!$F$11:$T$78,$BD74,FALSE),0)),\"\")","v":385.96491228070175},{"$f":"IFERROR(-(IFERROR(VLOOKUP(BX$48,Præsentation!$F$11:$T$78,$BD74,FALSE),0)-IFERROR(VLOOKUP(BX$49,Præsentation!$F$11:$T$78,$BD74,FALSE),0)-IFERROR(VLOOKUP(BX$50,Præsentation!$F$11:$T$78,$BD74,FALSE),0)),\"\")","v":""},{"$f":"SUM(BS75:BX75)","v":-5423.2543859649131}]
[null,null,null,null,null,null,null,null,null,null,null,null,null,null,null,null,null,null,null,null,null,null,null,null,null,null,null,null,null,null,null,null,null,null,null,null,null,null,null,null,null,null,null,null,null,null,null,null,null,null,null,null,null,null,null,13,{"$f":"BF76","v":"U7"},{"$f":"BF30","v":"U7"},{"$f":"IFERROR(\"Slagtevægt:     \"&ROUND(VLOOKUP($BB$60,Præsentation!$F$11:$T$78,$BD76,FALSE),1),\"\")","v":""},"Kg. Slagtesvin",{"$f":"IFERROR(BS77/IFERROR(VLOOKUP($BB$60,Præsentation!$F$11:$T$78,$BD76,FALSE),0),\"\")","v":""},{"$f":"IFERROR(BT77/IFERROR(VLOOKUP($BB$60,Præsentation!$F$11:$T$78,$BD76,FALSE),0),\"\")","v":""},{"$f":"IFERROR(BU77/IFERROR(VLOOKUP($BB$60,Præsentation!$F$11:$T$78,$BD76,FALSE),0),\"\")","v":""},{"$f":"IFERROR(BV77/IFERROR(VLOOKUP($BB$60,Præsentation!$F$11:$T$78,$BD76,FALSE),0),\"\")","v":""},{"$f":"IFERROR(BW77/IFERROR(VLOOKUP($BB$60,Præsentation!$F$11:$T$78,$BD76,FALSE),0),\"\")","v":""},{"$f":"IFERROR(BX77/IFERROR(VLOOKUP($BB$60,Præsentation!$F$11:$T$78,$BD76,FALSE),0),\"\")","v":""},{"$f":"IFERROR(ABS(IFERROR(VLOOKUP(BO$48,Præsentation!$F$11:$T$78,$BD76,FALSE),0)),\"\")","v":0}]
[null,null,null,null,null,null,null,null,null,null,null,null,null,null,null,null,null,null,null,null,null,null,null,null,null,null,null,null,null,null,null,null,null,null,null,null,null,null,null,null,null,null,null,null,null,null,null,null,null,null,null,null,null,null,null,13,{"$f":"BE76","v":"U7"},null,null,"Slagtesvin",null,null,null,null,null,null,null,null,null,null,{"$f":"-IFERROR((IFERROR(VLOOKUP(BS$48,Præsentation!$F$11:$T$78,$BD77,FALSE),0)-IFERROR(VLOOKUP(BS$49,Præsentation!$F$11:$T$78,$BD77,FALSE),0)-IFERROR(VLOOKUP(BS$50,Præsentation!$F$11:$T$78,$BD77,FALSE),0)),\"\")","v":-4808.9991311902695},{"$f":"IFERROR((IFERROR(VLOOKUP(BT$48,Præsentation!$F$11:$T$78,$BD76,FALSE),0)-IFERROR(VLOOKUP(BT$49,Præsentation!$F$11:$T$78,$BD76,FALSE),0)-IFERROR(VLOOKUP(BT$50,Præsentation!$F$11:$T$78,$BD76,FALSE),0)),\"\")","v":""},{"$f":"IFERROR((IFERROR(-VLOOKUP(BU$48,Præsentation!$F$11:$T$78,$BD76,FALSE),0)-IFERROR(VLOOKUP(BU$49,Præsentation!$F$11:$T$78,$BD76,FALSE),0)-IFERROR(VLOOKUP(BU$50,Præsentation!$F$11:$T$78,$BD76,FALSE),0)),\"\")","v":93.761077324066022},{"$f":"IFERROR((IFERROR(VLOOKUP(BV$48,Præsentation!$F$11:$T$78,$BD76,FALSE),0)-IFERROR(VLOOKUP(BV$49,Præsentation!$F$11:$T$78,$BD76,FALSE),0)-IFERROR(VLOOKUP(BV$50,Præsentation!$F$11:$T$78,$BD76,FALSE),0)),\"\")","v":""},{"$f":"IFERROR((IFERROR(-VLOOKUP(BW$48,Præsentation!$F$11:$T$78,$BD76,FALSE),0)-IFERROR(VLOOKUP(BW$49,Præsentation!$F$11:$T$78,$BD76,FALSE),0)-IFERROR(VLOOKUP(BW$50,Præsentation!$F$11:$T$78,$BD76,FALSE),0)-IFERROR(VLOOKUP(BW$51,Præsentation!$F$11:$T$78,$BD76,FALSE),0)),\"\")","v":396.46568201563855},{"$f":"IFERROR(-(IFERROR(VLOOKUP(BX$48,Præsentation!$F$11:$T$78,$BD76,FALSE),0)-IFERROR(VLOOKUP(BX$49,Præsentation!$F$11:$T$78,$BD76,FALSE),0)-IFERROR(VLOOKUP(BX$50,Præsentation!$F$11:$T$78,$BD76,FALSE),0)),\"\")","v":""},{"$f":"SUM(BS77:BX77)","v":-4318.7723718505649}]
[null,null,null,null,null,null,null,null,null,null,null,null,null,null,null,null,null,null,null,null,null,null,null,null,null,null,null,null,null,null,null,null,null,null,null,null,null,null,null,null,null,null,null,null,null,null,null,null,null,null,null,null,null,null,null,14,{"$f":"BF78","v":"D5"},{"$f":"BF32","v":"D5"},{"$f":"IFERROR(\"Slagtevægt:     \"&ROUND(VLOOKUP($BB$60,Præsentation!$F$11:$T$78,$BD78,FALSE),1),\"\")","v":""},"Kg. Slagtesvin",{"$f":"IFERROR(BS79/IFERROR(VLOOKUP($BB$60,Præsentation!$F$11:$T$78,$BD78,FALSE),0),\"\")","v":""},{"$f":"IFERROR(BT79/IFERROR(VLOOKUP($BB$60,Præsentation!$F$11:$T$78,$BD78,FALSE),0),\"\")","v":""},{"$f":"IFERROR(BU79/IFERROR(VLOOKUP($BB$60,Præsentation!$F$11:$T$78,$BD78,FALSE),0),\"\")","v":""},{"$f":"IFERROR(BV79/IFERROR(VLOOKUP($BB$60,Præsentation!$F$11:$T$78,$BD78,FALSE),0),\"\")","v":""},{"$f":"IFERROR(BW79/IFERROR(VLOOKUP($BB$60,Præsentation!$F$11:$T$78,$BD78,FALSE),0),\"\")","v":""},{"$f":"IFERROR(BX79/IFERROR(VLOOKUP($BB$60,Præsentation!$F$11:$T$78,$BD78,FALSE),0),\"\")","v":""},{"$f":"IFERROR(ABS(IFERROR(VLOOKUP(BO$48,Præsentation!$F$11:$T$78,$BD78,FALSE),0)),\"\")","v":0}]
[null,null,null,null,null,null,null,null,null,null,null,null,null,null,null,null,null,null,null,null,null,null,null,null,null,null,null,null,null,null,null,null,null,null,null,null,null,null,null,null,null,null,null,null,null,null,null,null,null,null,null,null,null,null,null,14,{"$f":"BE78","v":"D5"},null,null,"Slagtesvin",null,null,null,null,null,null,null,null,null,null,{"$f":"-IFERROR((IFERROR(VLOOKUP(BS$48,Præsentation!$F$11:$T$78,$BD79,FALSE),0)-IFERROR(VLOOKUP(BS$49,Præsentation!$F$11:$T$78,$BD79,FALSE),0)-IFERROR(VLOOKUP(BS$50,Præsentation!$F$11:$T$78,$BD79,FALSE),0)),\"\")","v":-5565.0633802816901},{"$f":"IFERROR((IFERROR(VLOOKUP(BT$48,Præsentation!$F$11:$T$78,$BD78,FALSE),0)-IFERROR(VLOOKUP(BT$49,Præsentation!$F$11:$T$78,$BD78,FALSE),0)-IFERROR(VLOOKUP(BT$50,Præsentation!$F$11:$T$78,$BD78,FALSE),0)),\"\")","v":""},{"$f":"IFERROR((IFERROR(-VLOOKUP(BU$48,Præsentation!$F$11:$T$78,$BD78,FALSE),0)-IFERROR(VLOOKUP(BU$49,Præsentation!$F$11:$T$78,$BD78,FALSE),0)-IFERROR(VLOOKUP(BU$50,Præsentation!$F$11:$T$78,$BD78,FALSE),0)),\"\")","v":131.79577464788733},{"$f":"IFERROR((IFERROR(VLOOKUP(BV$48,Præsentation!$F$11:$T$78,$BD78,FALSE),0)-IFERROR(VLOOKUP(BV$49,Præsentation!$F$11:$T$78,$BD78,FALSE),0)-IFERROR(VLOOKUP(BV$50,Præsentation!$F$11:$T$78,$BD78,FALSE),0)),\"\")","v":""},{"$f":"IFERROR((IFERROR(-VLOOKUP(BW$48,Præsentation!$F$11:$T$78,$BD78,FALSE),0)-IFERROR(VLOOKUP(BW$49,Præsentation!$F$11:$T$78,$BD78,FALSE),0)-IFERROR(VLOOKUP(BW$50,Præsentation!$F$11:$T$78,$BD78,FALSE),0)-IFERROR(VLOOKUP(BW$51,Præsentation!$F$11:$T$78,$BD78,FALSE),0)),\"\")","v":733.57746478873241},{"$f":"IFERROR(-(IFERROR(VLOOKUP(BX$48,Præsentation!$F$11:$T$78,$BD78,FALSE),0)-IFERROR(VLOOKUP(BX$49,Præsentation!$F$11:$T$78,$BD78,FALSE),0)-IFERROR(VLOOKUP(BX$50,Præsentation!$F$11:$T$78,$BD78,FALSE),0)),\"\")","v":""},{"$f":"SUM(BS79:BX79)","v":-4699.6901408450703}]
[null,null,null,null,null,null,null,null,null,null,null,null,null,null,null,null,null,null,null,null,null,null,null,null,null,null,null,null,null,null,null,null,null,null,null,null,null,null,null,null,null,null,null,null,null,null,null,null,null,null,null,null,null,null,null,null,null,null,null,"0=negative",{"$f":"IFERROR(ABS(IFERROR(VLOOKUP(BI$2,Præsentation!$F$11:$T$78,$BD80,FALSE),0)-IFERROR(VLOOKUP(BI$3,Præsentation!$F$11:$T$78,$BD80,FALSE),0)-IFERROR(VLOOKUP(BI$4,Præsentation!$F$11:$T$78,$BD80,FALSE),0))/IFERROR(VLOOKUP($BB$14,Præsentation!$F$11:$T$78,$BD80,FALSE),0),\"\")","v":""},{"$f":"IFERROR(ABS(IFERROR(VLOOKUP(BJ$2,Præsentation!$F$11:$T$78,$BD80,FALSE),0)-IFERROR(VLOOKUP(BJ$3,Præsentation!$F$11:$T$78,$BD80,FALSE),0)-IFERROR(VLOOKUP(BJ$4,Præsentation!$F$11:$T$78,$BD80,FALSE),0))/IFERROR(VLOOKUP($BB$14,Præsentation!$F$11:$T$78,$BD80,FALSE),0),\"\")","v":""},{"$f":"IFERROR(ABS(IFERROR(VLOOKUP(BK$2,Præsentation!$F$11:$T$78,$BD80,FALSE),0)-IFERROR(VLOOKUP(BK$3,Præsentation!$F$11:$T$78,$BD80,FALSE),0)-IFERROR(VLOOKUP(BK$4,Præsentation!$F$11:$T$78,$BD80,FALSE),0))/IFERROR(VLOOKUP($BB$14,Præsentation!$F$11:$T$78,$BD80,FALSE),0),\"\")","v":""},{"$f":"IFERROR(ABS(IFERROR(VLOOKUP(BL$2,Præsentation!$F$11:$T$78,$BD80,FALSE),0)-IFERROR(VLOOKUP(BL$3,Præsentation!$F$11:$T$78,$BD80,FALSE),0)-IFERROR(VLOOKUP(BL$4,Præsentation!$F$11:$T$78,$BD80,FALSE),0))/IFERROR(VLOOKUP($BB$14,Præsentation!$F$11:$T$78,$BD80,FALSE),0),\"\")","v":""},{"$f":"IFERROR(ABS(IFERROR(VLOOKUP(BM$2,Præsentation!$F$11:$T$78,$BD80,FALSE),0)-IFERROR(VLOOKUP(BM$3,Præsentation!$F$11:$T$78,$BD80,FALSE),0)-IFERROR(VLOOKUP(BM$4,Præsentation!$F$11:$T$78,$BD80,FALSE),0))/IFERROR(VLOOKUP($BB$14,Præsentation!$F$11:$T$78,$BD80,FALSE),0),\"\")","v":""},{"$f":"IFERROR(ABS(IFERROR(VLOOKUP(BN$2,Præsentation!$F$11:$T$78,$BD80,FALSE),0)-IFERROR(VLOOKUP(BN$3,Præsentation!$F$11:$T$78,$BD80,FALSE),0)-IFERROR(VLOOKUP(BN$4,Præsentation!$F$11:$T$78,$BD80,FALSE),0))/IFERROR(VLOOKUP($BB$14,Præsentation!$F$11:$T$78,$BD80,FALSE),0),\"\")","v":""},{"$f":"IFERROR(ABS(IFERROR(VLOOKUP(BO$2,Præsentation!$F$11:$T$78,$BD80,FALSE),0)-IFERROR(VLOOKUP(BO$3,Præsentation!$F$11:$T$78,$BD80,FALSE),0)-IFERROR(VLOOKUP(BO$5,Præsentation!$F$11:$T$78,$BD80,FALSE),0))/IFERROR(VLOOKUP($BB$14,Præsentation!$F$11:$T$78,$BD80,FALSE),0),\"\")","v":""},null,null,null,{"$f":"IF(BI80=0,1,0)","v":0},{"$f":"IF(BJ80=0,1,0)","v":0},null,{"$f":"IF(BL80=0,1,0)","v":0},{"$f":"IF(BM80=0,1,0)","v":0},{"$f":"IF(BN80=0,1,0)","v":0},{"$f":"IF(BO80=0,1,0)","v":0},{"$f":"IF(BP80=0,1,0)","v":1},{"$f":"IF(BQ80=0,1,0)","v":1}]
[]
[]
[]
[]
[]
[]
[]
[]
[]
[]
[]
[]
[null,null,null,null,null,null,null,null,null,null,null,null,null,null,null,null,null,null,null,null,null,null,null,null,null,null,null,null,null,null,null,null,null,null,null,null,null,null,null,null,null,null,null,null,null,null,null,null,null,null,null,null,null,"SVIN ALLE, KRAV TIL DB",null,null,null,null,null,null,"Løbenummer/","Løbenummer/","Løbenummer/","Løbenummer/","Løbenummer/","Løbenummer/","Løbenummer/","Løbenummer/","Løbenummer/",null,"Løbenummer/","Løbenummer/","Løbenummer/","Løbenummer/","Løbenummer/","Løbenummer/"]
[null,null,null,null,null,null,null,null,null,null,null,null,null,null,null,null,null,null,null,null,null,null,null,null,null,null,null,null,null,null,null,null,null,null,null,null,null,null,null,null,null,null,null,null,null,null,null,null,null,null,null,null,null,null,null,null,null,null,null,null,"Bruttoudbytte i alt","Foderomkostninger pr. enhed","Dyrlæge og medicin","Arbejdsomkostninger pr. enhed","Energi svin","kapitalomkostninger i alt","Fremstillingspris pr. frav. smågris",null,"Øvrige omkostninger pr. enhed",null,"Bruttoudbytte i alt","Foderomkostninger pr. enhed","Dyrlæge og medicin","Arbejdsomkostninger pr. enhed","Energi svin","kapitalomkostninger i alt"]
[null,null,null,null,null,null,null,null,null,null,null,null,null,null,null,null,null,null,null,null,null,null,null,null,null,null,null,null,null,null,null,null,null,null,null,null,null,null,null,null,null,null,null,null,null,null,null,null,null,null,null,null,null,null,null,null,null,null,null,null,"Salg/overførsel smågrise",null,"Avl, rådgivning og kontrol",null,"vedligehold",null,null,null,null,null,"salg/overførsel smågrise",null,"Avl, rådgivning og kontrol",null,"vedligehold"]
[null,null,null,null,null,null,null,null,null,null,null,null,null,null,null,null,null,null,null,null,null,null,null,null,null,null,null,null,null,null,null,null,null,null,null,null,null,null,null,null,null,null,null,null,null,null,null,null,null,null,null,null,null,null,null,null,null,"Slagtesvin",null,null,"værdiændring besætning",null,"Diverse vedr. husdyr",null,"forsikring",null,null,null,null,null,"værdiændring besætning",null,"Diverse vedr. husdyr",null,"forsikring"]
[null,null,null,null,null,null,null,null,null,null,null,null,null,null,null,null,null,null,null,null,null,null,null,null,null,null,null,null,null,null,null,null,null,null,null,null,null,null,null,null,null,null,null,null,null,null,null,null,null,null,null,null,"Akserne","Primær","Sekundær",null,null,"Søer med smågrise","Løbenummer/",null,"Løbenummer/","Løbenummer/","Løbenummer/","Løbenummer/","Løbenummer/","Løbenummer/","Løbenummer/",null,null,null,null,null,null,null,"diverse kapacitetsomkostninger"]
[null,null,null,null,null,null,null,null,null,null,null,null,null,null,null,null,null,null,null,null,null,null,null,null,null,null,null,null,null,null,null,null,null,null,null,null,null,null,null,null,null,null,null,null,null,null,null,null,null,null,null,null,"Min værdi",{"$f":"MIN(BL100:BL124)","v":0},{"$f":"MIN(BS101:BS125)","v":{"$error":"#VALUE!"}},null,null,"Søer med fravænnede",null,null,"Arbejdsomkostninger pr. enhed","Bygninger pr. enhed","Inventar inkl. energi pr. enhed","Forrentning driftskapital pr. enhed","Øvrige omkostninger pr. enhed","Dækningsbidrag","Krav til dækningsbidrag pr. enhed"]
[null,null,null,null,null,null,null,null,null,null,null,null,null,null,null,null,null,null,null,null,null,null,null,null,null,null,null,null,null,null,null,null,null,null,null,null,null,null,null,null,null,null,null,null,null,null,null,null,null,null,null,null,"Skale. min",{"$f":"IF(BB98<0,BB98*1.1,BB98*0.9)","v":0},{"$f":"IF(BC98<0,BC98*1.1,BC98*0.9)","v":{"$error":"#VALUE!"}},null,null,null,null,null,"Arbejdsomkostninger","Bygninger","Inventar inkl. energi","Forrentning driftskapital","Øvrige omkostninger","Dækningsbidrag","Total",null,null,null,"Køb af grise og andre indtægter","Foderomkostninger","Dyrlæge, medicin og diverse","Arbejdsomkostninger","Energi, vedl. bygn. mv.","Forrentning driftskapital og øvrige omk.","(total (bruges kun til at finde størrelsen af grafen))",{"$f":"BP99","v":0},{"$f":"BQ99","v":0}]
[null,null,null,null,null,null,null,null,null,null,null,null,null,null,null,null,null,null,null,null,null,null,null,null,null,null,null,null,null,null,null,null,null,null,null,null,null,null,null,null,null,null,null,null,null,null,null,null,null,null,null,null,"Max værdi",{"$f":"MAX(BN100:BO125)","v":0},{"$f":"MAX(BY100:BY125)","v":{"$error":"#VALUE!"}},2,{"$f":"BF100","v":"BC gns. gruppen"},{"$f":"BF54","v":"BC gns. gruppen"},{"$f":"IFERROR(\"Grise pr årsso: \"&ROUND(VLOOKUP($BB$106,Præsentation!$F$11:$T$78,$BD100,FALSE),1),\"\")","v":""},"Krav til DB",{"$f":"IFERROR(DGET(Præsentation!$F$11:$T$87,\"\"&'Diagrammer-orig'!$BF100&\"\",'Diagrammer-orig'!BI$97:BI$98),0)","v":0},{"$f":"IFERROR(DGET(Præsentation!$F$11:$T$87,\"\"&'Diagrammer-orig'!$BF100&\"\",'Diagrammer-orig'!BJ$97:BJ$98),0)","v":0},{"$f":"IFERROR(DGET(Præsentation!$F$11:$T$87,\"\"&'Diagrammer-orig'!$BF100&\"\",'Diagrammer-orig'!BK$97:BK$98),0)","v":0},{"$f":"IFERROR(DGET(Præsentation!$F$11:$T$87,\"\"&'Diagrammer-orig'!$BF100&\"\",'Diagrammer-orig'!BL$97:BL$98),0)","v":0},{"$f":"IFERROR(DGET(Præsentation!$F$11:$T$87,\"\"&'Diagrammer-orig'!$BF100&\"\",'Diagrammer-orig'!BM$97:BM$98),0)","v":0},null,{"$f":"IFERROR(DGET(Præsentation!$F$11:$T$87,\"\"&'Diagrammer-orig'!$BF100&\"\",'Diagrammer-orig'!BO$97:BO$98),0)","v":0},{"$f":"IFERROR(ABS(IFERROR(VLOOKUP(BP$2,Præsentation!$F$11:$T$78,$BD100,FALSE),0)+IFERROR(VLOOKUP(BP$3,Præsentation!$F$11:$T$78,$BD100,FALSE),0)+IFERROR(VLOOKUP(BP$4,Præsentation!$F$11:$T$78,$BD100,FALSE),0)+IFERROR(VLOOKUP(BP$5,Præsentation!$F$11:$T$78,$BD100,FALSE),0))/IFERROR(VLOOKUP($BB$14,Præsentation!$F$11:$T$78,$BD100,FALSE),0),\"\")","v":""}]
[null,null,null,null,null,null,null,null,null,null,null,null,null,null,null,null,null,null,null,null,null,null,null,null,null,null,null,null,null,null,null,null,null,null,null,null,null,null,null,null,null,null,null,null,null,null,null,null,null,null,null,null,"Skale. Max",{"$f":"IF(BB100>0,BB100*1.1,BB100*0.9)","v":0},{"$f":"IF(BC100>0,BC100*1.1,BC100*0.9)","v":{"$error":"#VALUE!"}},2,{"$f":"BE100","v":"BC gns. gruppen"},null,null,"Opnået DB",null,null,null,null,null,{"$f":"IFERROR(DGET(Præsentation!$F$11:$T$87,\"\"&'Diagrammer-orig'!$BF100&\"\",'Diagrammer-orig'!BN$97:BN$98),0)","v":0},null,null,null,null,{"$f":"-IFERROR((IFERROR(VLOOKUP(BS$94,Præsentation!$F$11:$T$78,$BD101,FALSE),0)-IFERROR(VLOOKUP(BS$95,Præsentation!$F$11:$T$78,$BD101,FALSE),0)-IFERROR(VLOOKUP(BS$96,Præsentation!$F$11:$T$78,$BD101,FALSE),0)),\"\")","v":-5017.8297872340418},{"$f":"IFERROR((IFERROR(VLOOKUP(BT$94,Præsentation!$F$11:$T$78,$BD101,FALSE),0)-IFERROR(VLOOKUP(BT$95,Præsentation!$F$11:$T$78,$BD101,FALSE),0)-IFERROR(VLOOKUP(BT$96,Præsentation!$F$11:$T$78,$BD101,FALSE),0)),\"\")","v":0},{"$f":"IFERROR((IFERROR(-VLOOKUP(BU$94,Præsentation!$F$11:$T$78,$BD100,FALSE),0)-IFERROR(VLOOKUP(BU$95,Præsentation!$F$11:$T$78,$BD100,FALSE),0)-IFERROR(VLOOKUP(BU$96,Præsentation!$F$11:$T$78,$BD100,FALSE),0)),\"\")","v":125.07947286353806},{"$f":"IFERROR((IFERROR(VLOOKUP(BV$94,Præsentation!$F$11:$T$78,$BD100,FALSE),0)-IFERROR(VLOOKUP(BV$95,Præsentation!$F$11:$T$78,$BD100,FALSE),0)-IFERROR(VLOOKUP(BV$96,Præsentation!$F$11:$T$78,$BD100,FALSE),0)),\"\")","v":0},{"$f":"IFERROR((IFERROR(-VLOOKUP(BW$94,Præsentation!$F$11:$T$78,$BD100,FALSE),0)-IFERROR(VLOOKUP(BW$95,Præsentation!$F$11:$T$78,$BD100,FALSE),0)-IFERROR(VLOOKUP(BW$96,Præsentation!$F$11:$T$78,$BD100,FALSE),0)-IFERROR(VLOOKUP(BW$97,Præsentation!$F$11:$T$78,$BD100,FALSE),0)),\"\")","v":332.40174035511291},{"$f":"IFERROR(-(IFERROR(VLOOKUP(BX$94,Præsentation!$F$11:$T$78,$BD100,FALSE),0)-IFERROR(VLOOKUP(BX$95,Præsentation!$F$11:$T$78,$BD100,FALSE),0)-IFERROR(VLOOKUP(BX$96,Præsentation!$F$11:$T$78,$BD100,FALSE),0)),\"\")","v":608.91001458679148},{"$f":"SUM(BS101:BX101)","v":-3951.4385594285986}]
[null,null,null,null,null,null,null,null,null,null,null,null,null,null,null,null,null,null,null,null,null,null,null,null,null,null,null,null,null,null,null,null,null,null,null,null,null,null,null,null,null,null,null,null,null,null,null,null,null,null,null,null,"Forhold (mellem de to akser)",null,{"$f":"MAX((BC99/BB99),BC101/BB101)","v":{"$error":"#VALUE!"}},3,{"$f":"BF102","v":"BC top 5"},{"$f":"BF56","v":"BC top 5"},{"$f":"IFERROR(\"Grise pr årsso: \"&ROUND(VLOOKUP($BB$106,Præsentation!$F$11:$T$78,$BD102,FALSE),1),\"\")","v":""},"Krav til DB",{"$f":"IFERROR(DGET(Præsentation!$F$11:$T$87,\"\"&'Diagrammer-orig'!$BF102&\"\",'Diagrammer-orig'!BI$97:BI$98),0)","v":0},{"$f":"IFERROR(DGET(Præsentation!$F$11:$T$87,\"\"&'Diagrammer-orig'!$BF102&\"\",'Diagrammer-orig'!BJ$97:BJ$98),0)","v":0},{"$f":"IFERROR(DGET(Præsentation!$F$11:$T$87,\"\"&'Diagrammer-orig'!$BF102&\"\",'Diagrammer-orig'!BK$97:BK$98),0)","v":0},{"$f":"IFERROR(DGET(Præsentation!$F$11:$T$87,\"\"&'Diagrammer-orig'!$BF102&\"\",'Diagrammer-orig'!BL$97:BL$98),0)","v":0},{"$f":"IFERROR(DGET(Præsentation!$F$11:$T$87,\"\"&'Diagrammer-orig'!$BF102&\"\",'Diagrammer-orig'!BM$97:BM$98),0)","v":0},{"$f":"IFERROR(BX103/IFERROR(VLOOKUP($BB$106,Præsentation!$F$11:$T$78,$BD102,FALSE),0),\"\")","v":""},{"$f":"IFERROR(DGET(Præsentation!$F$11:$T$87,\"\"&'Diagrammer-orig'!$BF102&\"\",'Diagrammer-orig'!BO$97:BO$98),0)","v":0}]
[null,null,null,null,null,null,null,null,null,null,null,null,null,null,null,null,null,null,null,null,null,null,null,null,null,null,null,null,null,null,null,null,null,null,null,null,null,null,null,null,null,null,null,null,null,null,null,null,null,null,null,null,"Min y-akse",{"$f":"BB99","v":0},{"$f":"IFERROR(BB103*BC102,0)","v":0},3,{"$f":"BE102","v":"BC top 5"},null,null,"Opnået DB",null,null,null,null,null,{"$f":"IFERROR(DGET(Præsentation!$F$11:$T$87,\"\"&'Diagrammer-orig'!$BF102&\"\",'Diagrammer-orig'!BN$97:BN$98),0)","v":0},null,null,null,null,{"$f":"-IFERROR((IFERROR(VLOOKUP(BS$94,Præsentation!$F$11:$T$78,$BD103,FALSE),0)-IFERROR(VLOOKUP(BS$95,Præsentation!$F$11:$T$78,$BD103,FALSE),0)-IFERROR(VLOOKUP(BS$96,Præsentation!$F$11:$T$78,$BD103,FALSE),0)),\"\")","v":-5355.416092943201},{"$f":"IFERROR((IFERROR(VLOOKUP(BT$94,Præsentation!$F$11:$T$78,$BD103,FALSE),0)-IFERROR(VLOOKUP(BT$95,Præsentation!$F$11:$T$78,$BD103,FALSE),0)-IFERROR(VLOOKUP(BT$96,Præsentation!$F$11:$T$78,$BD103,FALSE),0)),\"\")","v":0},{"$f":"IFERROR((IFERROR(-VLOOKUP(BU$94,Præsentation!$F$11:$T$78,$BD102,FALSE),0)-IFERROR(VLOOKUP(BU$95,Præsentation!$F$11:$T$78,$BD102,FALSE),0)-IFERROR(VLOOKUP(BU$96,Præsentation!$F$11:$T$78,$BD102,FALSE),0)),\"\")","v":95.394578313253007},{"$f":"IFERROR((IFERROR(VLOOKUP(BV$94,Præsentation!$F$11:$T$78,$BD102,FALSE),0)-IFERROR(VLOOKUP(BV$95,Præsentation!$F$11:$T$78,$BD102,FALSE),0)-IFERROR(VLOOKUP(BV$96,Præsentation!$F$11:$T$78,$BD102,FALSE),0)),\"\")","v":0},{"$f":"IFERROR((IFERROR(-VLOOKUP(BW$94,Præsentation!$F$11:$T$78,$BD102,FALSE),0)-IFERROR(VLOOKUP(BW$95,Præsentation!$F$11:$T$78,$BD102,FALSE),0)-IFERROR(VLOOKUP(BW$96,Præsentation!$F$11:$T$78,$BD102,FALSE),0)-IFERROR(VLOOKUP(BW$97,Præsentation!$F$11:$T$78,$BD102,FALSE),0)),\"\")","v":277.09100688468158},{"$f":"IFERROR(-(IFERROR(VLOOKUP(BX$48,Præsentation!$F$11:$T$78,$BD102,FALSE),0)-IFERROR(VLOOKUP(BX$49,Præsentation!$F$11:$T$78,$BD102,FALSE),0)-IFERROR(VLOOKUP(BX$50,Præsentation!$F$11:$T$78,$BD102,FALSE),0)),\"\")","v":506.70998278829609},{"$f":"SUM(BS103:BX103)","v":-4476.2205249569706}]
[null,null,null,null,null,null,null,null,null,null,null,null,null,null,null,null,null,null,null,null,null,null,null,null,null,null,null,null,null,null,null,null,null,null,null,null,null,null,null,null,null,null,null,null,null,null,null,null,null,null,null,null,"Max y-akse",{"$f":"BB101","v":0},{"$f":"IFERROR(BB104*BC102,0)","v":0},4,{"$f":"BF104","v":"Gns. Kreds \n"},{"$f":"BF58","v":"Gns. Kreds \n"},{"$f":"IFERROR(\"Grise pr årsso: \"&ROUND(VLOOKUP($BB$106,Præsentation!$F$11:$T$78,$BD104,FALSE),1),\"\")","v":""},"Krav til DB",{"$f":"IFERROR(DGET(Præsentation!$F$11:$T$87,\"\"&'Diagrammer-orig'!$BF104&\"\",'Diagrammer-orig'!BI$97:BI$98),0)","v":0},{"$f":"IFERROR(DGET(Præsentation!$F$11:$T$87,\"\"&'Diagrammer-orig'!$BF104&\"\",'Diagrammer-orig'!BJ$97:BJ$98),0)","v":0},{"$f":"IFERROR(DGET(Præsentation!$F$11:$T$87,\"\"&'Diagrammer-orig'!$BF104&\"\",'Diagrammer-orig'!BK$97:BK$98),0)","v":0},{"$f":"IFERROR(DGET(Præsentation!$F$11:$T$87,\"\"&'Diagrammer-orig'!$BF104&\"\",'Diagrammer-orig'!BL$97:BL$98),0)","v":0},{"$f":"IFERROR(DGET(Præsentation!$F$11:$T$87,\"\"&'Diagrammer-orig'!$BF104&\"\",'Diagrammer-orig'!BM$97:BM$98),0)","v":0},{"$f":"IFERROR(BX105/IFERROR(VLOOKUP($BB$106,Præsentation!$F$11:$T$78,$BD104,FALSE),0),\"\")","v":""},{"$f":"IFERROR(DGET(Præsentation!$F$11:$T$87,\"\"&'Diagrammer-orig'!$BF104&\"\",'Diagrammer-orig'!BO$97:BO$98),0)","v":0}]
[null,null,null,null,null,null,null,null,null,null,null,null,null,null,null,null,null,null,null,null,null,null,null,null,null,null,null,null,null,null,null,null,null,null,null,null,null,null,null,null,null,null,null,null,null,null,null,null,null,null,null,null,null,"#GS",null,4,{"$f":"BE104","v":"Gns. Kreds \n"},null,null,"Opnået DB",null,null,null,null,null,{"$f":"IFERROR(DGET(Præsentation!$F$11:$T$87,\"\"&'Diagrammer-orig'!$BF104&\"\",'Diagrammer-orig'!BN$97:BN$98),0)","v":0},null,null,null,null,{"$f":"-IFERROR((IFERROR(VLOOKUP(BS$94,Præsentation!$F$11:$T$78,$BD105,FALSE),0)-IFERROR(VLOOKUP(BS$95,Præsentation!$F$11:$T$78,$BD105,FALSE),0)-IFERROR(VLOOKUP(BS$96,Præsentation!$F$11:$T$78,$BD105,FALSE),0)),\"\")","v":{"$error":"#VALUE!"}},{"$f":"IFERROR((IFERROR(VLOOKUP(BT$94,Præsentation!$F$11:$T$78,$BD105,FALSE),0)-IFERROR(VLOOKUP(BT$95,Præsentation!$F$11:$T$78,$BD105,FALSE),0)-IFERROR(VLOOKUP(BT$96,Præsentation!$F$11:$T$78,$BD105,FALSE),0)),\"\")","v":""},{"$f":"IFERROR((IFERROR(-VLOOKUP(BU$94,Præsentation!$F$11:$T$78,$BD104,FALSE),0)-IFERROR(VLOOKUP(BU$95,Præsentation!$F$11:$T$78,$BD104,FALSE),0)-IFERROR(VLOOKUP(BU$96,Præsentation!$F$11:$T$78,$BD104,FALSE),0)),\"\")","v":""},{"$f":"IFERROR((IFERROR(VLOOKUP(BV$94,Præsentation!$F$11:$T$78,$BD104,FALSE),0)-IFERROR(VLOOKUP(BV$95,Præsentation!$F$11:$T$78,$BD104,FALSE),0)-IFERROR(VLOOKUP(BV$96,Præsentation!$F$11:$T$78,$BD104,FALSE),0)),\"\")","v":""},{"$f":"IFERROR((IFERROR(-VLOOKUP(BW$94,Præsentation!$F$11:$T$78,$BD104,FALSE),0)-IFERROR(VLOOKUP(BW$95,Præsentation!$F$11:$T$78,$BD104,FALSE),0)-IFERROR(VLOOKUP(BW$96,Præsentation!$F$11:$T$78,$BD104,FALSE),0)-IFERROR(VLOOKUP(BW$97,Præsentation!$F$11:$T$78,$BD104,FALSE),0)),\"\")","v":""},{"$f":"IFERROR(-(IFERROR(VLOOKUP(BX$48,Præsentation!$F$11:$T$78,$BD104,FALSE),0)-IFERROR(VLOOKUP(BX$49,Præsentation!$F$11:$T$78,$BD104,FALSE),0)-IFERROR(VLOOKUP(BX$50,Præsentation!$F$11:$T$78,$BD104,FALSE),0)),\"\")","v":""},{"$f":"SUM(BS105:BX105)","v":{"$error":"#VALUE!"}}]
[null,null,null,null,null,null,null,null,null,null,null,null,null,null,null,null,null,null,null,null,null,null,null,null,null,null,null,null,null,null,null,null,null,null,null,null,null,null,null,null,null,null,null,null,null,null,null,null,null,null,null,null,null,"Fravænnede grise pr. årsso"," ",5,{"$f":"BF106","v":"D1"},{"$f":"BF60","v":"D1"},{"$f":"IFERROR(\"Grise pr årsso: \"&ROUND(VLOOKUP($BB$106,Præsentation!$F$11:$T$78,$BD106,FALSE),1),\"\")","v":""},"Krav til DB",{"$f":"IFERROR(DGET(Præsentation!$F$11:$T$87,\"\"&'Diagrammer-orig'!$BF106&\"\",'Diagrammer-orig'!BI$97:BI$98),0)","v":0},{"$f":"IFERROR(DGET(Præsentation!$F$11:$T$87,\"\"&'Diagrammer-orig'!$BF106&\"\",'Diagrammer-orig'!BJ$97:BJ$98),0)","v":0},{"$f":"IFERROR(DGET(Præsentation!$F$11:$T$87,\"\"&'Diagrammer-orig'!$BF106&\"\",'Diagrammer-orig'!BK$97:BK$98),0)","v":0},{"$f":"IFERROR(DGET(Præsentation!$F$11:$T$87,\"\"&'Diagrammer-orig'!$BF106&\"\",'Diagrammer-orig'!BL$97:BL$98),0)","v":0},{"$f":"IFERROR(DGET(Præsentation!$F$11:$T$87,\"\"&'Diagrammer-orig'!$BF106&\"\",'Diagrammer-orig'!BM$97:BM$98),0)","v":0},{"$f":"IFERROR(BX107/IFERROR(VLOOKUP($BB$106,Præsentation!$F$11:$T$78,$BD106,FALSE),0),\"\")","v":""},{"$f":"IFERROR(DGET(Præsentation!$F$11:$T$87,\"\"&'Diagrammer-orig'!$BF106&\"\",'Diagrammer-orig'!BO$97:BO$98),0)","v":0}]
[null,null,null,null,null,null,null,null,null,null,null,null,null,null,null,null,null,null,null,null,null,null,null,null,null,null,null,null,null,null,null,null,null,null,null,null,null,null,null,null,null,null,null,null,null,null,null,null,null,null,null,null,null,null,null,5,{"$f":"BE106","v":"D1"},null,null,"Opnået DB",null,null,null,null,null,{"$f":"IFERROR(DGET(Præsentation!$F$11:$T$87,\"\"&'Diagrammer-orig'!$BF106&\"\",'Diagrammer-orig'!BN$97:BN$98),0)","v":0},null,null,null,null,{"$f":"-IFERROR((IFERROR(VLOOKUP(BS$94,Præsentation!$F$11:$T$78,$BD107,FALSE),0)-IFERROR(VLOOKUP(BS$95,Præsentation!$F$11:$T$78,$BD107,FALSE),0)-IFERROR(VLOOKUP(BS$96,Præsentation!$F$11:$T$78,$BD107,FALSE),0)),\"\")","v":{"$error":"#VALUE!"}},{"$f":"IFERROR((IFERROR(VLOOKUP(BT$94,Præsentation!$F$11:$T$78,$BD107,FALSE),0)-IFERROR(VLOOKUP(BT$95,Præsentation!$F$11:$T$78,$BD107,FALSE),0)-IFERROR(VLOOKUP(BT$96,Præsentation!$F$11:$T$78,$BD107,FALSE),0)),\"\")","v":""},{"$f":"IFERROR((IFERROR(-VLOOKUP(BU$94,Præsentation!$F$11:$T$78,$BD106,FALSE),0)-IFERROR(VLOOKUP(BU$95,Præsentation!$F$11:$T$78,$BD106,FALSE),0)-IFERROR(VLOOKUP(BU$96,Præsentation!$F$11:$T$78,$BD106,FALSE),0)),\"\")","v":""},{"$f":"IFERROR((IFERROR(VLOOKUP(BV$94,Præsentation!$F$11:$T$78,$BD106,FALSE),0)-IFERROR(VLOOKUP(BV$95,Præsentation!$F$11:$T$78,$BD106,FALSE),0)-IFERROR(VLOOKUP(BV$96,Præsentation!$F$11:$T$78,$BD106,FALSE),0)),\"\")","v":""},{"$f":"IFERROR((IFERROR(-VLOOKUP(BW$94,Præsentation!$F$11:$T$78,$BD106,FALSE),0)-IFERROR(VLOOKUP(BW$95,Præsentation!$F$11:$T$78,$BD106,FALSE),0)-IFERROR(VLOOKUP(BW$96,Præsentation!$F$11:$T$78,$BD106,FALSE),0)-IFERROR(VLOOKUP(BW$97,Præsentation!$F$11:$T$78,$BD106,FALSE),0)),\"\")","v":""},{"$f":"IFERROR(-(IFERROR(VLOOKUP(BX$48,Præsentation!$F$11:$T$78,$BD106,FALSE),0)-IFERROR(VLOOKUP(BX$49,Præsentation!$F$11:$T$78,$BD106,FALSE),0)-IFERROR(VLOOKUP(BX$50,Præsentation!$F$11:$T$78,$BD106,FALSE),0)),\"\")","v":""},{"$f":"SUM(BS107:BX107)","v":{"$error":"#VALUE!"}}]
[null,null,null,null,null,null,null,null,null,null,null,null,null,null,null,null,null,null,null,null,null,null,null,null,null,null,null,null,null,null,null,null,null,null,null,null,null,null,null,null,null,null,null,null,null,null,null,null,null,null,null,null,null,null,null,6,{"$f":"BF108","v":"D4"},{"$f":"BF62","v":"D4"},{"$f":"IFERROR(\"Grise pr årsso: \"&ROUND(VLOOKUP($BB$106,Præsentation!$F$11:$T$78,$BD108,FALSE),1),\"\")","v":""},"Krav til DB",{"$f":"IFERROR(DGET(Præsentation!$F$11:$T$87,\"\"&'Diagrammer-orig'!$BF108&\"\",'Diagrammer-orig'!BI$97:BI$98),0)","v":0},{"$f":"IFERROR(DGET(Præsentation!$F$11:$T$87,\"\"&'Diagrammer-orig'!$BF108&\"\",'Diagrammer-orig'!BJ$97:BJ$98),0)","v":0},{"$f":"IFERROR(DGET(Præsentation!$F$11:$T$87,\"\"&'Diagrammer-orig'!$BF108&\"\",'Diagrammer-orig'!BK$97:BK$98),0)","v":0},{"$f":"IFERROR(DGET(Præsentation!$F$11:$T$87,\"\"&'Diagrammer-orig'!$BF108&\"\",'Diagrammer-orig'!BL$97:BL$98),0)","v":0},{"$f":"IFERROR(DGET(Præsentation!$F$11:$T$87,\"\"&'Diagrammer-orig'!$BF108&\"\",'Diagrammer-orig'!BM$97:BM$98),0)","v":0},{"$f":"IFERROR(BX109/IFERROR(VLOOKUP($BB$106,Præsentation!$F$11:$T$78,$BD108,FALSE),0),\"\")","v":""},{"$f":"IFERROR(DGET(Præsentation!$F$11:$T$87,\"\"&'Diagrammer-orig'!$BF108&\"\",'Diagrammer-orig'!BO$97:BO$98),0)","v":0}]
[null,null,null,null,null,null,null,null,null,null,null,null,null,null,null,null,null,null,null,null,null,null,null,null,null,null,null,null,null,null,null,null,null,null,null,null,null,null,null,null,null,null,null,null,null,null,null,null,null,null,null,null,null,null,null,6,{"$f":"BE108","v":"D4"},null,null,"Opnået DB",null,null,null,null,null,{"$f":"IFERROR(DGET(Præsentation!$F$11:$T$87,\"\"&'Diagrammer-orig'!$BF108&\"\",'Diagrammer-orig'!BN$97:BN$98),0)","v":0},null,null,null,null,{"$f":"-IFERROR((IFERROR(VLOOKUP(BS$94,Præsentation!$F$11:$T$78,$BD109,FALSE),0)-IFERROR(VLOOKUP(BS$95,Præsentation!$F$11:$T$78,$BD109,FALSE),0)-IFERROR(VLOOKUP(BS$96,Præsentation!$F$11:$T$78,$BD109,FALSE),0)),\"\")","v":-5541.1120943952801},{"$f":"IFERROR((IFERROR(VLOOKUP(BT$94,Præsentation!$F$11:$T$78,$BD109,FALSE),0)-IFERROR(VLOOKUP(BT$95,Præsentation!$F$11:$T$78,$BD109,FALSE),0)-IFERROR(VLOOKUP(BT$96,Præsentation!$F$11:$T$78,$BD109,FALSE),0)),\"\")","v":""},{"$f":"IFERROR((IFERROR(-VLOOKUP(BU$94,Præsentation!$F$11:$T$78,$BD108,FALSE),0)-IFERROR(VLOOKUP(BU$95,Præsentation!$F$11:$T$78,$BD108,FALSE),0)-IFERROR(VLOOKUP(BU$96,Præsentation!$F$11:$T$78,$BD108,FALSE),0)),\"\")","v":129.25663716814159},{"$f":"IFERROR((IFERROR(VLOOKUP(BV$94,Præsentation!$F$11:$T$78,$BD108,FALSE),0)-IFERROR(VLOOKUP(BV$95,Præsentation!$F$11:$T$78,$BD108,FALSE),0)-IFERROR(VLOOKUP(BV$96,Præsentation!$F$11:$T$78,$BD108,FALSE),0)),\"\")","v":""},{"$f":"IFERROR((IFERROR(-VLOOKUP(BW$94,Præsentation!$F$11:$T$78,$BD108,FALSE),0)-IFERROR(VLOOKUP(BW$95,Præsentation!$F$11:$T$78,$BD108,FALSE),0)-IFERROR(VLOOKUP(BW$96,Præsentation!$F$11:$T$78,$BD108,FALSE),0)-IFERROR(VLOOKUP(BW$97,Præsentation!$F$11:$T$78,$BD108,FALSE),0)),\"\")","v":260.67551622418881},{"$f":"IFERROR(-(IFERROR(VLOOKUP(BX$48,Præsentation!$F$11:$T$78,$BD108,FALSE),0)-IFERROR(VLOOKUP(BX$49,Præsentation!$F$11:$T$78,$BD108,FALSE),0)-IFERROR(VLOOKUP(BX$50,Præsentation!$F$11:$T$78,$BD108,FALSE),0)),\"\")","v":""},{"$f":"SUM(BS109:BX109)","v":-5151.1799410029498}]
[null,null,null,null,null,null,null,null,null,null,null,null,null,null,null,null,null,null,null,null,null,null,null,null,null,null,null,null,null,null,null,null,null,null,null,null,null,null,null,null,null,null,null,null,null,null,null,null,null,null,null,null,null,null,null,7,{"$f":"BF110","v":"D6"},{"$f":"BF64","v":"D6"},{"$f":"IFERROR(\"Grise pr årsso: \"&ROUND(VLOOKUP($BB$106,Præsentation!$F$11:$T$78,$BD110,FALSE),1),\"\")","v":""},"Krav til DB",{"$f":"IFERROR(DGET(Præsentation!$F$11:$T$87,\"\"&'Diagrammer-orig'!$BF110&\"\",'Diagrammer-orig'!BI$97:BI$98),0)","v":0},{"$f":"IFERROR(DGET(Præsentation!$F$11:$T$87,\"\"&'Diagrammer-orig'!$BF110&\"\",'Diagrammer-orig'!BJ$97:BJ$98),0)","v":0},{"$f":"IFERROR(DGET(Præsentation!$F$11:$T$87,\"\"&'Diagrammer-orig'!$BF110&\"\",'Diagrammer-orig'!BK$97:BK$98),0)","v":0},{"$f":"IFERROR(DGET(Præsentation!$F$11:$T$87,\"\"&'Diagrammer-orig'!$BF110&\"\",'Diagrammer-orig'!BL$97:BL$98),0)","v":0},{"$f":"IFERROR(DGET(Præsentation!$F$11:$T$87,\"\"&'Diagrammer-orig'!$BF110&\"\",'Diagrammer-orig'!BM$97:BM$98),0)","v":0},{"$f":"IFERROR(BX111/IFERROR(VLOOKUP($BB$106,Præsentation!$F$11:$T$78,$BD110,FALSE),0),\"\")","v":""},{"$f":"IFERROR(DGET(Præsentation!$F$11:$T$87,\"\"&'Diagrammer-orig'!$BF110&\"\",'Diagrammer-orig'!BO$97:BO$98),0)","v":0}]
[null,null,null,null,null,null,null,null,null,null,null,null,null,null,null,null,null,null,null,null,null,null,null,null,null,null,null,null,null,null,null,null,null,null,null,null,null,null,null,null,null,null,null,null,null,null,null,null,null,null,null,null,null,null,null,7,{"$f":"BE110","v":"D6"},null,null,"Opnået DB",null,null,null,null,null,{"$f":"IFERROR(DGET(Præsentation!$F$11:$T$87,\"\"&'Diagrammer-orig'!$BF110&\"\",'Diagrammer-orig'!BN$97:BN$98),0)","v":0},null,null,null,null,{"$f":"-IFERROR((IFERROR(VLOOKUP(BS$94,Præsentation!$F$11:$T$78,$BD111,FALSE),0)-IFERROR(VLOOKUP(BS$95,Præsentation!$F$11:$T$78,$BD111,FALSE),0)-IFERROR(VLOOKUP(BS$96,Præsentation!$F$11:$T$78,$BD111,FALSE),0)),\"\")","v":-5611.5432098765432},{"$f":"IFERROR((IFERROR(VLOOKUP(BT$94,Præsentation!$F$11:$T$78,$BD111,FALSE),0)-IFERROR(VLOOKUP(BT$95,Præsentation!$F$11:$T$78,$BD111,FALSE),0)-IFERROR(VLOOKUP(BT$96,Præsentation!$F$11:$T$78,$BD111,FALSE),0)),\"\")","v":""},{"$f":"IFERROR((IFERROR(-VLOOKUP(BU$94,Præsentation!$F$11:$T$78,$BD110,FALSE),0)-IFERROR(VLOOKUP(BU$95,Præsentation!$F$11:$T$78,$BD110,FALSE),0)-IFERROR(VLOOKUP(BU$96,Præsentation!$F$11:$T$78,$BD110,FALSE),0)),\"\")","v":78.119341563786008},{"$f":"IFERROR((IFERROR(VLOOKUP(BV$94,Præsentation!$F$11:$T$78,$BD110,FALSE),0)-IFERROR(VLOOKUP(BV$95,Præsentation!$F$11:$T$78,$BD110,FALSE),0)-IFERROR(VLOOKUP(BV$96,Præsentation!$F$11:$T$78,$BD110,FALSE),0)),\"\")","v":""},{"$f":"IFERROR((IFERROR(-VLOOKUP(BW$94,Præsentation!$F$11:$T$78,$BD110,FALSE),0)-IFERROR(VLOOKUP(BW$95,Præsentation!$F$11:$T$78,$BD110,FALSE),0)-IFERROR(VLOOKUP(BW$96,Præsentation!$F$11:$T$78,$BD110,FALSE),0)-IFERROR(VLOOKUP(BW$97,Præsentation!$F$11:$T$78,$BD110,FALSE),0)),\"\")","v":236.77613168724281},{"$f":"IFERROR(-(IFERROR(VLOOKUP(BX$48,Præsentation!$F$11:$T$78,$BD110,FALSE),0)-IFERROR(VLOOKUP(BX$49,Præsentation!$F$11:$T$78,$BD110,FALSE),0)-IFERROR(VLOOKUP(BX$50,Præsentation!$F$11:$T$78,$BD110,FALSE),0)),\"\")","v":""},{"$f":"SUM(BS111:BX111)","v":-5296.647736625514}]
[null,null,null,null,null,null,null,null,null,null,null,null,null,null,null,null,null,null,null,null,null,null,null,null,null,null,null,null,null,null,null,null,null,null,null,null,null,null,null,null,null,null,null,null,null,null,null,null,null,null,null,null,null,null,null,8,{"$f":"BF112","v":"D7"},{"$f":"BF66","v":"D7"},{"$f":"IFERROR(\"Grise pr årsso: \"&ROUND(VLOOKUP($BB$106,Præsentation!$F$11:$T$78,$BD112,FALSE),1),\"\")","v":""},"Krav til DB",{"$f":"IFERROR(DGET(Præsentation!$F$11:$T$87,\"\"&'Diagrammer-orig'!$BF112&\"\",'Diagrammer-orig'!BI$97:BI$98),0)","v":0},{"$f":"IFERROR(DGET(Præsentation!$F$11:$T$87,\"\"&'Diagrammer-orig'!$BF112&\"\",'Diagrammer-orig'!BJ$97:BJ$98),0)","v":0},{"$f":"IFERROR(DGET(Præsentation!$F$11:$T$87,\"\"&'Diagrammer-orig'!$BF112&\"\",'Diagrammer-orig'!BK$97:BK$98),0)","v":0},{"$f":"IFERROR(DGET(Præsentation!$F$11:$T$87,\"\"&'Diagrammer-orig'!$BF112&\"\",'Diagrammer-orig'!BL$97:BL$98),0)","v":0},{"$f":"IFERROR(DGET(Præsentation!$F$11:$T$87,\"\"&'Diagrammer-orig'!$BF112&\"\",'Diagrammer-orig'!BM$97:BM$98),0)","v":0},{"$f":"IFERROR(BX113/IFERROR(VLOOKUP($BB$106,Præsentation!$F$11:$T$78,$BD112,FALSE),0),\"\")","v":""},{"$f":"IFERROR(DGET(Præsentation!$F$11:$T$87,\"\"&'Diagrammer-orig'!$BF112&\"\",'Diagrammer-orig'!BO$97:BO$98),0)","v":0}]
[null,null,null,null,null,null,null,null,null,null,null,null,null,null,null,null,null,null,null,null,null,null,null,null,null,null,null,null,null,null,null,null,null,null,null,null,null,null,null,null,null,null,null,null,null,null,null,null,null,null,null,null,null,null,null,8,{"$f":"BE112","v":"D7"},null,null,"Opnået DB",null,null,null,null,null,{"$f":"IFERROR(DGET(Præsentation!$F$11:$T$87,\"\"&'Diagrammer-orig'!$BF112&\"\",'Diagrammer-orig'!BN$97:BN$98),0)","v":0},null,null,null,null,{"$f":"-IFERROR((IFERROR(VLOOKUP(BS$94,Præsentation!$F$11:$T$78,$BD113,FALSE),0)-IFERROR(VLOOKUP(BS$95,Præsentation!$F$11:$T$78,$BD113,FALSE),0)-IFERROR(VLOOKUP(BS$96,Præsentation!$F$11:$T$78,$BD113,FALSE),0)),\"\")","v":-4736.534090909091},{"$f":"IFERROR((IFERROR(VLOOKUP(BT$94,Præsentation!$F$11:$T$78,$BD113,FALSE),0)-IFERROR(VLOOKUP(BT$95,Præsentation!$F$11:$T$78,$BD113,FALSE),0)-IFERROR(VLOOKUP(BT$96,Præsentation!$F$11:$T$78,$BD113,FALSE),0)),\"\")","v":""},{"$f":"IFERROR((IFERROR(-VLOOKUP(BU$94,Præsentation!$F$11:$T$78,$BD112,FALSE),0)-IFERROR(VLOOKUP(BU$95,Præsentation!$F$11:$T$78,$BD112,FALSE),0)-IFERROR(VLOOKUP(BU$96,Præsentation!$F$11:$T$78,$BD112,FALSE),0)),\"\")","v":56.81818181818182},{"$f":"IFERROR((IFERROR(VLOOKUP(BV$94,Præsentation!$F$11:$T$78,$BD112,FALSE),0)-IFERROR(VLOOKUP(BV$95,Præsentation!$F$11:$T$78,$BD112,FALSE),0)-IFERROR(VLOOKUP(BV$96,Præsentation!$F$11:$T$78,$BD112,FALSE),0)),\"\")","v":""},{"$f":"IFERROR((IFERROR(-VLOOKUP(BW$94,Præsentation!$F$11:$T$78,$BD112,FALSE),0)-IFERROR(VLOOKUP(BW$95,Præsentation!$F$11:$T$78,$BD112,FALSE),0)-IFERROR(VLOOKUP(BW$96,Præsentation!$F$11:$T$78,$BD112,FALSE),0)-IFERROR(VLOOKUP(BW$97,Præsentation!$F$11:$T$78,$BD112,FALSE),0)),\"\")","v":244.31818181818181},{"$f":"IFERROR(-(IFERROR(VLOOKUP(BX$48,Præsentation!$F$11:$T$78,$BD112,FALSE),0)-IFERROR(VLOOKUP(BX$49,Præsentation!$F$11:$T$78,$BD112,FALSE),0)-IFERROR(VLOOKUP(BX$50,Præsentation!$F$11:$T$78,$BD112,FALSE),0)),\"\")","v":""},{"$f":"SUM(BS113:BX113)","v":-4435.397727272727}]
[null,null,null,null,null,null,null,null,null,null,null,null,null,null,null,null,null,null,null,null,null,null,null,null,null,null,null,null,null,null,null,null,null,null,null,null,null,null,null,null,null,null,null,null,null,null,null,null,null,null,null,null,null,null,null,9,{"$f":"BF114","v":"D10"},{"$f":"BF68","v":"D10"},{"$f":"IFERROR(\"Grise pr årsso: \"&ROUND(VLOOKUP($BB$106,Præsentation!$F$11:$T$78,$BD114,FALSE),1),\"\")","v":""},"Krav til DB",{"$f":"IFERROR(DGET(Præsentation!$F$11:$T$87,\"\"&'Diagrammer-orig'!$BF114&\"\",'Diagrammer-orig'!BI$97:BI$98),0)","v":0},{"$f":"IFERROR(DGET(Præsentation!$F$11:$T$87,\"\"&'Diagrammer-orig'!$BF114&\"\",'Diagrammer-orig'!BJ$97:BJ$98),0)","v":0},{"$f":"IFERROR(DGET(Præsentation!$F$11:$T$87,\"\"&'Diagrammer-orig'!$BF114&\"\",'Diagrammer-orig'!BK$97:BK$98),0)","v":0},{"$f":"IFERROR(DGET(Præsentation!$F$11:$T$87,\"\"&'Diagrammer-orig'!$BF114&\"\",'Diagrammer-orig'!BL$97:BL$98),0)","v":0},{"$f":"IFERROR(DGET(Præsentation!$F$11:$T$87,\"\"&'Diagrammer-orig'!$BF114&\"\",'Diagrammer-orig'!BM$97:BM$98),0)","v":0},{"$f":"IFERROR(BX115/IFERROR(VLOOKUP($BB$106,Præsentation!$F$11:$T$78,$BD114,FALSE),0),\"\")","v":""},{"$f":"IFERROR(DGET(Præsentation!$F$11:$T$87,\"\"&'Diagrammer-orig'!$BF114&\"\",'Diagrammer-orig'!BO$97:BO$98),0)","v":0}]
[null,null,null,null,null,null,null,null,null,null,null,null,null,null,null,null,null,null,null,null,null,null,null,null,null,null,null,null,null,null,null,null,null,null,null,null,null,null,null,null,null,null,null,null,null,null,null,null,null,null,null,null,null,null,null,9,{"$f":"BE114","v":"D10"},null,null,"Opnået DB",null,null,null,null,null,{"$f":"IFERROR(DGET(Præsentation!$F$11:$T$87,\"\"&'Diagrammer-orig'!$BF114&\"\",'Diagrammer-orig'!BN$97:BN$98),0)","v":0},null,null,null,null,{"$f":"-IFERROR((IFERROR(VLOOKUP(BS$94,Præsentation!$F$11:$T$78,$BD115,FALSE),0)-IFERROR(VLOOKUP(BS$95,Præsentation!$F$11:$T$78,$BD115,FALSE),0)-IFERROR(VLOOKUP(BS$96,Præsentation!$F$11:$T$78,$BD115,FALSE),0)),\"\")","v":-5297.0320256204968},{"$f":"IFERROR((IFERROR(VLOOKUP(BT$94,Præsentation!$F$11:$T$78,$BD115,FALSE),0)-IFERROR(VLOOKUP(BT$95,Præsentation!$F$11:$T$78,$BD115,FALSE),0)-IFERROR(VLOOKUP(BT$96,Præsentation!$F$11:$T$78,$BD115,FALSE),0)),\"\")","v":""},{"$f":"IFERROR((IFERROR(-VLOOKUP(BU$94,Præsentation!$F$11:$T$78,$BD114,FALSE),0)-IFERROR(VLOOKUP(BU$95,Præsentation!$F$11:$T$78,$BD114,FALSE),0)-IFERROR(VLOOKUP(BU$96,Præsentation!$F$11:$T$78,$BD114,FALSE),0)),\"\")","v":138.7894315452362},{"$f":"IFERROR((IFERROR(VLOOKUP(BV$94,Præsentation!$F$11:$T$78,$BD114,FALSE),0)-IFERROR(VLOOKUP(BV$95,Præsentation!$F$11:$T$78,$BD114,FALSE),0)-IFERROR(VLOOKUP(BV$96,Præsentation!$F$11:$T$78,$BD114,FALSE),0)),\"\")","v":""},{"$f":"IFERROR((IFERROR(-VLOOKUP(BW$94,Præsentation!$F$11:$T$78,$BD114,FALSE),0)-IFERROR(VLOOKUP(BW$95,Præsentation!$F$11:$T$78,$BD114,FALSE),0)-IFERROR(VLOOKUP(BW$96,Præsentation!$F$11:$T$78,$BD114,FALSE),0)-IFERROR(VLOOKUP(BW$97,Præsentation!$F$11:$T$78,$BD114,FALSE),0)),\"\")","v":350.36669335468378},{"$f":"IFERROR(-(IFERROR(VLOOKUP(BX$48,Præsentation!$F$11:$T$78,$BD114,FALSE),0)-IFERROR(VLOOKUP(BX$49,Præsentation!$F$11:$T$78,$BD114,FALSE),0)-IFERROR(VLOOKUP(BX$50,Præsentation!$F$11:$T$78,$BD114,FALSE),0)),\"\")","v":""},{"$f":"SUM(BS115:BX115)","v":-4807.8759007205772}]
[null,null,null,null,null,null,null,null,null,null,null,null,null,null,null,null,null,null,null,null,null,null,null,null,null,null,null,null,null,null,null,null,null,null,null,null,null,null,null,null,null,null,null,null,null,null,null,null,null,null,null,null,null,null,null,10,{"$f":"BF116","v":"U6"},{"$f":"BF70","v":"U6"},{"$f":"IFERROR(\"Grise pr årsso: \"&ROUND(VLOOKUP($BB$106,Præsentation!$F$11:$T$78,$BD116,FALSE),1),\"\")","v":""},"Krav til DB",{"$f":"IFERROR(DGET(Præsentation!$F$11:$T$87,\"\"&'Diagrammer-orig'!$BF116&\"\",'Diagrammer-orig'!BI$97:BI$98),0)","v":0},{"$f":"IFERROR(DGET(Præsentation!$F$11:$T$87,\"\"&'Diagrammer-orig'!$BF116&\"\",'Diagrammer-orig'!BJ$97:BJ$98),0)","v":0},{"$f":"IFERROR(DGET(Præsentation!$F$11:$T$87,\"\"&'Diagrammer-orig'!$BF116&\"\",'Diagrammer-orig'!BK$97:BK$98),0)","v":0},{"$f":"IFERROR(DGET(Præsentation!$F$11:$T$87,\"\"&'Diagrammer-orig'!$BF116&\"\",'Diagrammer-orig'!BL$97:BL$98),0)","v":0},{"$f":"IFERROR(DGET(Præsentation!$F$11:$T$87,\"\"&'Diagrammer-orig'!$BF116&\"\",'Diagrammer-orig'!BM$97:BM$98),0)","v":0},{"$f":"IFERROR(BX117/IFERROR(VLOOKUP($BB$106,Præsentation!$F$11:$T$78,$BD116,FALSE),0),\"\")","v":""},{"$f":"IFERROR(DGET(Præsentation!$F$11:$T$87,\"\"&'Diagrammer-orig'!$BF116&\"\",'Diagrammer-orig'!BO$97:BO$98),0)","v":0}]
[null,null,null,null,null,null,null,null,null,null,null,null,null,null,null,null,null,null,null,null,null,null,null,null,null,null,null,null,null,null,null,null,null,null,null,null,null,null,null,null,null,null,null,null,null,null,null,null,null,null,null,null,null,null,null,10,{"$f":"BE116","v":"U6"},null,null,"Opnået DB",null,null,null,null,null,{"$f":"IFERROR(DGET(Præsentation!$F$11:$T$87,\"\"&'Diagrammer-orig'!$BF116&\"\",'Diagrammer-orig'!BN$97:BN$98),0)","v":0},null,null,null,null,{"$f":"-IFERROR((IFERROR(VLOOKUP(BS$94,Præsentation!$F$11:$T$78,$BD117,FALSE),0)-IFERROR(VLOOKUP(BS$95,Præsentation!$F$11:$T$78,$BD117,FALSE),0)-IFERROR(VLOOKUP(BS$96,Præsentation!$F$11:$T$78,$BD117,FALSE),0)),\"\")","v":-5214.8168316831679},{"$f":"IFERROR((IFERROR(VLOOKUP(BT$94,Præsentation!$F$11:$T$78,$BD117,FALSE),0)-IFERROR(VLOOKUP(BT$95,Præsentation!$F$11:$T$78,$BD117,FALSE),0)-IFERROR(VLOOKUP(BT$96,Præsentation!$F$11:$T$78,$BD117,FALSE),0)),\"\")","v":""},{"$f":"IFERROR((IFERROR(-VLOOKUP(BU$94,Præsentation!$F$11:$T$78,$BD116,FALSE),0)-IFERROR(VLOOKUP(BU$95,Præsentation!$F$11:$T$78,$BD116,FALSE),0)-IFERROR(VLOOKUP(BU$96,Præsentation!$F$11:$T$78,$BD116,FALSE),0)),\"\")","v":145.59653465346534},{"$f":"IFERROR((IFERROR(VLOOKUP(BV$94,Præsentation!$F$11:$T$78,$BD116,FALSE),0)-IFERROR(VLOOKUP(BV$95,Præsentation!$F$11:$T$78,$BD116,FALSE),0)-IFERROR(VLOOKUP(BV$96,Præsentation!$F$11:$T$78,$BD116,FALSE),0)),\"\")","v":""},{"$f":"IFERROR((IFERROR(-VLOOKUP(BW$94,Præsentation!$F$11:$T$78,$BD116,FALSE),0)-IFERROR(VLOOKUP(BW$95,Præsentation!$F$11:$T$78,$BD116,FALSE),0)-IFERROR(VLOOKUP(BW$96,Præsentation!$F$11:$T$78,$BD116,FALSE),0)-IFERROR(VLOOKUP(BW$97,Præsentation!$F$11:$T$78,$BD116,FALSE),0)),\"\")","v":465.88366336633669},{"$f":"IFERROR(-(IFERROR(VLOOKUP(BX$48,Præsentation!$F$11:$T$78,$BD116,FALSE),0)-IFERROR(VLOOKUP(BX$49,Præsentation!$F$11:$T$78,$BD116,FALSE),0)-IFERROR(VLOOKUP(BX$50,Præsentation!$F$11:$T$78,$BD116,FALSE),0)),\"\")","v":""},{"$f":"SUM(BS117:BX117)","v":-4603.3366336633662}]
[null,null,null,null,null,null,null,null,null,null,null,null,null,null,null,null,null,null,null,null,null,null,null,null,null,null,null,null,null,null,null,null,null,null,null,null,null,null,null,null,null,null,null,null,null,null,null,null,null,null,null,null,null,null,null,11,{"$f":"BF118","v":"U10"},{"$f":"BF72","v":"U10"},{"$f":"IFERROR(\"Grise pr årsso: \"&ROUND(VLOOKUP($BB$106,Præsentation!$F$11:$T$78,$BD118,FALSE),1),\"\")","v":""},"Krav til DB",{"$f":"IFERROR(DGET(Præsentation!$F$11:$T$87,\"\"&'Diagrammer-orig'!$BF118&\"\",'Diagrammer-orig'!BI$97:BI$98),0)","v":0},{"$f":"IFERROR(DGET(Præsentation!$F$11:$T$87,\"\"&'Diagrammer-orig'!$BF118&\"\",'Diagrammer-orig'!BJ$97:BJ$98),0)","v":0},{"$f":"IFERROR(DGET(Præsentation!$F$11:$T$87,\"\"&'Diagrammer-orig'!$BF118&\"\",'Diagrammer-orig'!BK$97:BK$98),0)","v":0},{"$f":"IFERROR(DGET(Præsentation!$F$11:$T$87,\"\"&'Diagrammer-orig'!$BF118&\"\",'Diagrammer-orig'!BL$97:BL$98),0)","v":0},{"$f":"IFERROR(DGET(Præsentation!$F$11:$T$87,\"\"&'Diagrammer-orig'!$BF118&\"\",'Diagrammer-orig'!BM$97:BM$98),0)","v":0},{"$f":"IFERROR(BX119/IFERROR(VLOOKUP($BB$106,Præsentation!$F$11:$T$78,$BD118,FALSE),0),\"\")","v":""},{"$f":"IFERROR(DGET(Præsentation!$F$11:$T$87,\"\"&'Diagrammer-orig'!$BF118&\"\",'Diagrammer-orig'!BO$97:BO$98),0)","v":0}]
[null,null,null,null,null,null,null,null,null,null,null,null,null,null,null,null,null,null,null,null,null,null,null,null,null,null,null,null,null,null,null,null,null,null,null,null,null,null,null,null,null,null,null,null,null,null,null,null,null,null,null,null,null,null,null,11,{"$f":"BE118","v":"U10"},null,null,"Opnået DB",null,null,null,null,null,{"$f":"IFERROR(DGET(Præsentation!$F$11:$T$87,\"\"&'Diagrammer-orig'!$BF118&\"\",'Diagrammer-orig'!BN$97:BN$98),0)","v":0},null,null,null,null,{"$f":"-IFERROR((IFERROR(VLOOKUP(BS$94,Præsentation!$F$11:$T$78,$BD119,FALSE),0)-IFERROR(VLOOKUP(BS$95,Præsentation!$F$11:$T$78,$BD119,FALSE),0)-IFERROR(VLOOKUP(BS$96,Præsentation!$F$11:$T$78,$BD119,FALSE),0)),\"\")","v":-6059.8471337579622},{"$f":"IFERROR((IFERROR(VLOOKUP(BT$94,Præsentation!$F$11:$T$78,$BD119,FALSE),0)-IFERROR(VLOOKUP(BT$95,Præsentation!$F$11:$T$78,$BD119,FALSE),0)-IFERROR(VLOOKUP(BT$96,Præsentation!$F$11:$T$78,$BD119,FALSE),0)),\"\")","v":""},{"$f":"IFERROR((IFERROR(-VLOOKUP(BU$94,Præsentation!$F$11:$T$78,$BD118,FALSE),0)-IFERROR(VLOOKUP(BU$95,Præsentation!$F$11:$T$78,$BD118,FALSE),0)-IFERROR(VLOOKUP(BU$96,Præsentation!$F$11:$T$78,$BD118,FALSE),0)),\"\")","v":150.13375796178343},{"$f":"IFERROR((IFERROR(VLOOKUP(BV$94,Præsentation!$F$11:$T$78,$BD118,FALSE),0)-IFERROR(VLOOKUP(BV$95,Præsentation!$F$11:$T$78,$BD118,FALSE),0)-IFERROR(VLOOKUP(BV$96,Præsentation!$F$11:$T$78,$BD118,FALSE),0)),\"\")","v":""},{"$f":"IFERROR((IFERROR(-VLOOKUP(BW$94,Præsentation!$F$11:$T$78,$BD118,FALSE),0)-IFERROR(VLOOKUP(BW$95,Præsentation!$F$11:$T$78,$BD118,FALSE),0)-IFERROR(VLOOKUP(BW$96,Præsentation!$F$11:$T$78,$BD118,FALSE),0)-IFERROR(VLOOKUP(BW$97,Præsentation!$F$11:$T$78,$BD118,FALSE),0)),\"\")","v":448.5859872611465},{"$f":"IFERROR(-(IFERROR(VLOOKUP(BX$48,Præsentation!$F$11:$T$78,$BD118,FALSE),0)-IFERROR(VLOOKUP(BX$49,Præsentation!$F$11:$T$78,$BD118,FALSE),0)-IFERROR(VLOOKUP(BX$50,Præsentation!$F$11:$T$78,$BD118,FALSE),0)),\"\")","v":""},{"$f":"SUM(BS119:BX119)","v":-5461.127388535032}]
[null,null,null,null,null,null,null,null,null,null,null,null,null,null,null,null,null,null,null,null,null,null,null,null,null,null,null,null,null,null,null,null,null,null,null,null,null,null,null,null,null,null,null,null,null,null,null,null,null,null,null,null,null,null,null,12,{"$f":"BF120","v":"D23"},{"$f":"BF74","v":"D23"},{"$f":"IFERROR(\"Grise pr årsso: \"&ROUND(VLOOKUP($BB$106,Præsentation!$F$11:$T$78,$BD120,FALSE),1),\"\")","v":""},"Krav til DB",{"$f":"IFERROR(DGET(Præsentation!$F$11:$T$87,\"\"&'Diagrammer-orig'!$BF120&\"\",'Diagrammer-orig'!BI$97:BI$98),0)","v":0},{"$f":"IFERROR(DGET(Præsentation!$F$11:$T$87,\"\"&'Diagrammer-orig'!$BF120&\"\",'Diagrammer-orig'!BJ$97:BJ$98),0)","v":0},{"$f":"IFERROR(DGET(Præsentation!$F$11:$T$87,\"\"&'Diagrammer-orig'!$BF120&\"\",'Diagrammer-orig'!BK$97:BK$98),0)","v":0},{"$f":"IFERROR(DGET(Præsentation!$F$11:$T$87,\"\"&'Diagrammer-orig'!$BF120&\"\",'Diagrammer-orig'!BL$97:BL$98),0)","v":0},{"$f":"IFERROR(DGET(Præsentation!$F$11:$T$87,\"\"&'Diagrammer-orig'!$BF120&\"\",'Diagrammer-orig'!BM$97:BM$98),0)","v":0},{"$f":"IFERROR(BX121/IFERROR(VLOOKUP($BB$106,Præsentation!$F$11:$T$78,$BD120,FALSE),0),\"\")","v":""},{"$f":"IFERROR(DGET(Præsentation!$F$11:$T$87,\"\"&'Diagrammer-orig'!$BF120&\"\",'Diagrammer-orig'!BO$97:BO$98),0)","v":0}]
[null,null,null,null,null,null,null,null,null,null,null,null,null,null,null,null,null,null,null,null,null,null,null,null,null,null,null,null,null,null,null,null,null,null,null,null,null,null,null,null,null,null,null,null,null,null,null,null,null,null,null,null,null,null,null,12,{"$f":"BE120","v":"D23"},null,null,"Opnået DB",null,null,null,null,null,{"$f":"IFERROR(DGET(Præsentation!$F$11:$T$87,\"\"&'Diagrammer-orig'!$BF120&\"\",'Diagrammer-orig'!BN$97:BN$98),0)","v":0},null,null,null,null,{"$f":"-IFERROR((IFERROR(VLOOKUP(BS$94,Præsentation!$F$11:$T$78,$BD121,FALSE),0)-IFERROR(VLOOKUP(BS$95,Præsentation!$F$11:$T$78,$BD121,FALSE),0)-IFERROR(VLOOKUP(BS$96,Præsentation!$F$11:$T$78,$BD121,FALSE),0)),\"\")","v":-5870.6228070175439},{"$f":"IFERROR((IFERROR(VLOOKUP(BT$94,Præsentation!$F$11:$T$78,$BD121,FALSE),0)-IFERROR(VLOOKUP(BT$95,Præsentation!$F$11:$T$78,$BD121,FALSE),0)-IFERROR(VLOOKUP(BT$96,Præsentation!$F$11:$T$78,$BD121,FALSE),0)),\"\")","v":""},{"$f":"IFERROR((IFERROR(-VLOOKUP(BU$94,Præsentation!$F$11:$T$78,$BD120,FALSE),0)-IFERROR(VLOOKUP(BU$95,Præsentation!$F$11:$T$78,$BD120,FALSE),0)-IFERROR(VLOOKUP(BU$96,Præsentation!$F$11:$T$78,$BD120,FALSE),0)),\"\")","v":61.403508771929822},{"$f":"IFERROR((IFERROR(VLOOKUP(BV$94,Præsentation!$F$11:$T$78,$BD120,FALSE),0)-IFERROR(VLOOKUP(BV$95,Præsentation!$F$11:$T$78,$BD120,FALSE),0)-IFERROR(VLOOKUP(BV$96,Præsentation!$F$11:$T$78,$BD120,FALSE),0)),\"\")","v":""},{"$f":"IFERROR((IFERROR(-VLOOKUP(BW$94,Præsentation!$F$11:$T$78,$BD120,FALSE),0)-IFERROR(VLOOKUP(BW$95,Præsentation!$F$11:$T$78,$BD120,FALSE),0)-IFERROR(VLOOKUP(BW$96,Præsentation!$F$11:$T$78,$BD120,FALSE),0)-IFERROR(VLOOKUP(BW$97,Præsentation!$F$11:$T$78,$BD120,FALSE),0)),\"\")","v":385.96491228070175},{"$f":"IFERROR(-(IFERROR(VLOOKUP(BX$48,Præsentation!$F$11:$T$78,$BD120,FALSE),0)-IFERROR(VLOOKUP(BX$49,Præsentation!$F$11:$T$78,$BD120,FALSE),0)-IFERROR(VLOOKUP(BX$50,Præsentation!$F$11:$T$78,$BD120,FALSE),0)),\"\")","v":""},{"$f":"SUM(BS121:BX121)","v":-5423.2543859649131}]
[null,null,null,null,null,null,null,null,null,null,null,null,null,null,null,null,null,null,null,null,null,null,null,null,null,null,null,null,null,null,null,null,null,null,null,null,null,null,null,null,null,null,null,null,null,null,null,null,null,null,null,null,null,null,null,13,{"$f":"BF122","v":"U7"},{"$f":"BF76","v":"U7"},{"$f":"IFERROR(\"Grise pr årsso: \"&ROUND(VLOOKUP($BB$106,Præsentation!$F$11:$T$78,$BD122,FALSE),1),\"\")","v":""},"Krav til DB",{"$f":"IFERROR(DGET(Præsentation!$F$11:$T$87,\"\"&'Diagrammer-orig'!$BF122&\"\",'Diagrammer-orig'!BI$97:BI$98),0)","v":0},{"$f":"IFERROR(DGET(Præsentation!$F$11:$T$87,\"\"&'Diagrammer-orig'!$BF122&\"\",'Diagrammer-orig'!BJ$97:BJ$98),0)","v":0},{"$f":"IFERROR(DGET(Præsentation!$F$11:$T$87,\"\"&'Diagrammer-orig'!$BF122&\"\",'Diagrammer-orig'!BK$97:BK$98),0)","v":0},{"$f":"IFERROR(DGET(Præsentation!$F$11:$T$87,\"\"&'Diagrammer-orig'!$BF122&\"\",'Diagrammer-orig'!BL$97:BL$98),0)","v":0},{"$f":"IFERROR(DGET(Præsentation!$F$11:$T$87,\"\"&'Diagrammer-orig'!$BF122&\"\",'Diagrammer-orig'!BM$97:BM$98),0)","v":0},{"$f":"IFERROR(BX123/IFERROR(VLOOKUP($BB$106,Præsentation!$F$11:$T$78,$BD122,FALSE),0),\"\")","v":""},{"$f":"IFERROR(DGET(Præsentation!$F$11:$T$87,\"\"&'Diagrammer-orig'!$BF122&\"\",'Diagrammer-orig'!BO$97:BO$98),0)","v":0}]
[null,null,null,null,null,null,null,null,null,null,null,null,null,null,null,null,null,null,null,null,null,null,null,null,null,null,null,null,null,null,null,null,null,null,null,null,null,null,null,null,null,null,null,null,null,null,null,null,null,null,null,null,null,null,null,13,{"$f":"BE122","v":"U7"},null,null,"Opnået DB",null,null,null,null,null,{"$f":"IFERROR(DGET(Præsentation!$F$11:$T$87,\"\"&'Diagrammer-orig'!$BF122&\"\",'Diagrammer-orig'!BN$97:BN$98),0)","v":0},null,null,null,null,{"$f":"-IFERROR((IFERROR(VLOOKUP(BS$94,Præsentation!$F$11:$T$78,$BD123,FALSE),0)-IFERROR(VLOOKUP(BS$95,Præsentation!$F$11:$T$78,$BD123,FALSE),0)-IFERROR(VLOOKUP(BS$96,Præsentation!$F$11:$T$78,$BD123,FALSE),0)),\"\")","v":-4808.9991311902695},{"$f":"IFERROR((IFERROR(VLOOKUP(BT$94,Præsentation!$F$11:$T$78,$BD123,FALSE),0)-IFERROR(VLOOKUP(BT$95,Præsentation!$F$11:$T$78,$BD123,FALSE),0)-IFERROR(VLOOKUP(BT$96,Præsentation!$F$11:$T$78,$BD123,FALSE),0)),\"\")","v":""},{"$f":"IFERROR((IFERROR(-VLOOKUP(BU$94,Præsentation!$F$11:$T$78,$BD122,FALSE),0)-IFERROR(VLOOKUP(BU$95,Præsentation!$F$11:$T$78,$BD122,FALSE),0)-IFERROR(VLOOKUP(BU$96,Præsentation!$F$11:$T$78,$BD122,FALSE),0)),\"\")","v":93.761077324066022},{"$f":"IFERROR((IFERROR(VLOOKUP(BV$94,Præsentation!$F$11:$T$78,$BD122,FALSE),0)-IFERROR(VLOOKUP(BV$95,Præsentation!$F$11:$T$78,$BD122,FALSE),0)-IFERROR(VLOOKUP(BV$96,Præsentation!$F$11:$T$78,$BD122,FALSE),0)),\"\")","v":""},{"$f":"IFERROR((IFERROR(-VLOOKUP(BW$94,Præsentation!$F$11:$T$78,$BD122,FALSE),0)-IFERROR(VLOOKUP(BW$95,Præsentation!$F$11:$T$78,$BD122,FALSE),0)-IFERROR(VLOOKUP(BW$96,Præsentation!$F$11:$T$78,$BD122,FALSE),0)-IFERROR(VLOOKUP(BW$97,Præsentation!$F$11:$T$78,$BD122,FALSE),0)),\"\")","v":396.46568201563855},{"$f":"IFERROR(-(IFERROR(VLOOKUP(BX$48,Præsentation!$F$11:$T$78,$BD122,FALSE),0)-IFERROR(VLOOKUP(BX$49,Præsentation!$F$11:$T$78,$BD122,FALSE),0)-IFERROR(VLOOKUP(BX$50,Præsentation!$F$11:$T$78,$BD122,FALSE),0)),\"\")","v":""},{"$f":"SUM(BS123:BX123)","v":-4318.7723718505649}]
[null,null,null,null,null,null,null,null,null,null,null,null,null,null,null,null,null,null,null,null,null,null,null,null,null,null,null,null,null,null,null,null,null,null,null,null,null,null,null,null,null,null,null,null,null,null,null,null,null,null,null,null,null,null,null,14,{"$f":"BF124","v":"D5"},{"$f":"BF78","v":"D5"},{"$f":"IFERROR(\"Grise pr årsso: \"&ROUND(VLOOKUP($BB$106,Præsentation!$F$11:$T$78,$BD124,FALSE),1),\"\")","v":""},"Krav til DB",{"$f":"IFERROR(DGET(Præsentation!$F$11:$T$87,\"\"&'Diagrammer-orig'!$BF124&\"\",'Diagrammer-orig'!BI$97:BI$98),0)","v":0},{"$f":"IFERROR(DGET(Præsentation!$F$11:$T$87,\"\"&'Diagrammer-orig'!$BF124&\"\",'Diagrammer-orig'!BJ$97:BJ$98),0)","v":0},{"$f":"IFERROR(DGET(Præsentation!$F$11:$T$87,\"\"&'Diagrammer-orig'!$BF124&\"\",'Diagrammer-orig'!BK$97:BK$98),0)","v":0},{"$f":"IFERROR(DGET(Præsentation!$F$11:$T$87,\"\"&'Diagrammer-orig'!$BF124&\"\",'Diagrammer-orig'!BL$97:BL$98),0)","v":0},{"$f":"IFERROR(DGET(Præsentation!$F$11:$T$87,\"\"&'Diagrammer-orig'!$BF124&\"\",'Diagrammer-orig'!BM$97:BM$98),0)","v":0},{"$f":"IFERROR(BX125/IFERROR(VLOOKUP($BB$106,Præsentation!$F$11:$T$78,$BD124,FALSE),0),\"\")","v":""},{"$f":"IFERROR(DGET(Præsentation!$F$11:$T$87,\"\"&'Diagrammer-orig'!$BF124&\"\",'Diagrammer-orig'!BO$97:BO$98),0)","v":0}]
[null,null,null,null,null,null,null,null,null,null,null,null,null,null,null,null,null,null,null,null,null,null,null,null,null,null,null,null,null,null,null,null,null,null,null,null,null,null,null,null,null,null,null,null,null,null,null,null,null,null,null,null,null,null,null,14,{"$f":"BE124","v":"D5"},null,null,"Opnået DB",null,null,null,null,null,{"$f":"IFERROR(DGET(Præsentation!$F$11:$T$87,\"\"&'Diagrammer-orig'!$BF124&\"\",'Diagrammer-orig'!BN$97:BN$98),0)","v":0},null,null,null,null,{"$f":"-IFERROR((IFERROR(VLOOKUP(BS$94,Præsentation!$F$11:$T$78,$BD125,FALSE),0)-IFERROR(VLOOKUP(BS$95,Præsentation!$F$11:$T$78,$BD125,FALSE),0)-IFERROR(VLOOKUP(BS$96,Præsentation!$F$11:$T$78,$BD125,FALSE),0)),\"\")","v":-5565.0633802816901},{"$f":"IFERROR((IFERROR(VLOOKUP(BT$94,Præsentation!$F$11:$T$78,$BD125,FALSE),0)-IFERROR(VLOOKUP(BT$95,Præsentation!$F$11:$T$78,$BD125,FALSE),0)-IFERROR(VLOOKUP(BT$96,Præsentation!$F$11:$T$78,$BD125,FALSE),0)),\"\")","v":""},{"$f":"IFERROR((IFERROR(-VLOOKUP(BU$94,Præsentation!$F$11:$T$78,$BD124,FALSE),0)-IFERROR(VLOOKUP(BU$95,Præsentation!$F$11:$T$78,$BD124,FALSE),0)-IFERROR(VLOOKUP(BU$96,Præsentation!$F$11:$T$78,$BD124,FALSE),0)),\"\")","v":131.79577464788733},{"$f":"IFERROR((IFERROR(VLOOKUP(BV$94,Præsentation!$F$11:$T$78,$BD124,FALSE),0)-IFERROR(VLOOKUP(BV$95,Præsentation!$F$11:$T$78,$BD124,FALSE),0)-IFERROR(VLOOKUP(BV$96,Præsentation!$F$11:$T$78,$BD124,FALSE),0)),\"\")","v":""},{"$f":"IFERROR((IFERROR(-VLOOKUP(BW$94,Præsentation!$F$11:$T$78,$BD124,FALSE),0)-IFERROR(VLOOKUP(BW$95,Præsentation!$F$11:$T$78,$BD124,FALSE),0)-IFERROR(VLOOKUP(BW$96,Præsentation!$F$11:$T$78,$BD124,FALSE),0)-IFERROR(VLOOKUP(BW$97,Præsentation!$F$11:$T$78,$BD124,FALSE),0)),\"\")","v":733.57746478873241},{"$f":"IFERROR(-(IFERROR(VLOOKUP(BX$48,Præsentation!$F$11:$T$78,$BD124,FALSE),0)-IFERROR(VLOOKUP(BX$49,Præsentation!$F$11:$T$78,$BD124,FALSE),0)-IFERROR(VLOOKUP(BX$50,Præsentation!$F$11:$T$78,$BD124,FALSE),0)),\"\")","v":""},{"$f":"SUM(BS125:BX125)","v":-4699.6901408450703}]
[null,null,null,null,null,null,null,null,null,null,null,null,null,null,null,null,null,null,null,null,null,null,null,null,null,null,null,null,null,null,null,null,null,null,null,null,null,null,null,null,null,null,null,null,null,null,null,null,null,null,null,null,null,null,null,null,null,null,null,"0=negative",{"$f":"IFERROR(ABS(IFERROR(VLOOKUP(BI$2,Præsentation!$F$11:$T$78,$BD126,FALSE),0)-IFERROR(VLOOKUP(BI$3,Præsentation!$F$11:$T$78,$BD126,FALSE),0)-IFERROR(VLOOKUP(BI$4,Præsentation!$F$11:$T$78,$BD126,FALSE),0))/IFERROR(VLOOKUP($BB$14,Præsentation!$F$11:$T$78,$BD126,FALSE),0),\"\")","v":""},{"$f":"IFERROR(ABS(IFERROR(VLOOKUP(BJ$2,Præsentation!$F$11:$T$78,$BD126,FALSE),0)-IFERROR(VLOOKUP(BJ$3,Præsentation!$F$11:$T$78,$BD126,FALSE),0)-IFERROR(VLOOKUP(BJ$4,Præsentation!$F$11:$T$78,$BD126,FALSE),0))/IFERROR(VLOOKUP($BB$14,Præsentation!$F$11:$T$78,$BD126,FALSE),0),\"\")","v":""},{"$f":"IFERROR(ABS(IFERROR(VLOOKUP(BK$2,Præsentation!$F$11:$T$78,$BD126,FALSE),0)-IFERROR(VLOOKUP(BK$3,Præsentation!$F$11:$T$78,$BD126,FALSE),0)-IFERROR(VLOOKUP(BK$4,Præsentation!$F$11:$T$78,$BD126,FALSE),0))/IFERROR(VLOOKUP($BB$14,Præsentation!$F$11:$T$78,$BD126,FALSE),0),\"\")","v":""},{"$f":"IFERROR(ABS(IFERROR(VLOOKUP(BL$2,Præsentation!$F$11:$T$78,$BD126,FALSE),0)-IFERROR(VLOOKUP(BL$3,Præsentation!$F$11:$T$78,$BD126,FALSE),0)-IFERROR(VLOOKUP(BL$4,Præsentation!$F$11:$T$78,$BD126,FALSE),0))/IFERROR(VLOOKUP($BB$14,Præsentation!$F$11:$T$78,$BD126,FALSE),0),\"\")","v":""},{"$f":"IFERROR(ABS(IFERROR(VLOOKUP(BM$2,Præsentation!$F$11:$T$78,$BD126,FALSE),0)-IFERROR(VLOOKUP(BM$3,Præsentation!$F$11:$T$78,$BD126,FALSE),0)-IFERROR(VLOOKUP(BM$4,Præsentation!$F$11:$T$78,$BD126,FALSE),0))/IFERROR(VLOOKUP($BB$14,Præsentation!$F$11:$T$78,$BD126,FALSE),0),\"\")","v":""},{"$f":"IFERROR(ABS(IFERROR(VLOOKUP(BN$2,Præsentation!$F$11:$T$78,$BD126,FALSE),0)-IFERROR(VLOOKUP(BN$3,Præsentation!$F$11:$T$78,$BD126,FALSE),0)-IFERROR(VLOOKUP(BN$4,Præsentation!$F$11:$T$78,$BD126,FALSE),0))/IFERROR(VLOOKUP($BB$14,Præsentation!$F$11:$T$78,$BD126,FALSE),0),\"\")","v":""},{"$f":"IFERROR(ABS(IFERROR(VLOOKUP(BO$2,Præsentation!$F$11:$T$78,$BD126,FALSE),0)-IFERROR(VLOOKUP(BO$3,Præsentation!$F$11:$T$78,$BD126,FALSE),0)-IFERROR(VLOOKUP(BO$5,Præsentation!$F$11:$T$78,$BD126,FALSE),0))/IFERROR(VLOOKUP($BB$14,Præsentation!$F$11:$T$78,$BD126,FALSE),0),\"\")","v":""},null,null,null,{"$f":"IF(BI126=0,1,0)","v":0},{"$f":"IF(BJ126=0,1,0)","v":0},null,{"$f":"IF(BL126=0,1,0)","v":0},{"$f":"IF(BM126=0,1,0)","v":0},{"$f":"IF(BN126=0,1,0)","v":0},{"$f":"IF(BO126=0,1,0)","v":0},{"$f":"IF(BP126=0,1,0)","v":1},{"$f":"IF(BQ126=0,1,0)","v":1}]

{"sheet":"Fraktilanalyse","index":5,"n_rows":364,"n_cols":33,"rows_kept":364,"cut":false,"hidden":false,"merged":[[7,2,7,11],[8,3,8,5],[8,9,8,11],[293,0,293,13],[279,3,279,6],[279,7,279,9],[279,10,279,13],[186,10,186,13],[201,3,201,6],[201,7,201,9],[201,10,201,13],[235,3,235,6],[235,7,235,9],[235,10,235,13],[265,3,265,6],[265,7,265,9],[233,0,233,13],[251,7,251,9],[251,10,251,13],[337,3,337,6],[337,10,337,13],[251,3,251,6],[265,10,265,13],[351,3,351,6],[351,10,351,13],[295,3,295,6],[295,10,295,13],[309,3,309,6],[309,10,309,13],[323,3,323,6],[323,10,323,13],[295,7,295,9],[32,21,33,21],[156,3,156,6],[156,7,156,9],[156,10,156,13],[170,3,170,6],[170,7,170,9],[170,10,170,13],[126,0,126,13],[142,3,142,6],[68,3,68,6],[68,7,68,9],[68,10,68,13],[83,3,83,6],[33,9,33,11],[32,20,33,20],[83,7,83,9],[218,3,218,6],[218,7,218,9],[186,3,186,6],[186,7,186,9],[216,0,216,13],[218,10,218,13],[32,18,33,18],[32,19,33,19],[51,3,51,5],[51,9,51,11],[184,0,184,13],[8,6,8,8],[142,7,142,9],[142,10,142,13],[97,3,97,6],[97,7,97,9],[97,10,97,13],[111,3,111,6],[111,7,111,9],[111,10,111,13],[128,3,128,6],[128,7,128,9],[128,10,128,13],[29,0,29,13],[33,3,33,5],[83,10,83,13]]}
[]
[]
[]
[]
[null,null,"Vælg ejendom"]
[null,null,"D5"]
[]
[null,null,"Slagtekalve",null,null,null,null,null,null,null,null,null,null,null,null,null,null,null,null,null,null,null,null,null,{"$f":"$C$6","v":"D5"},"Ejendom"]
[1,null,{"$f":"\"Fraktilanalyse for ejd. \"&C6&\" baseret på \"&IF(Choices!A10=3,P35,P53)&\" bedrifter\"","v":"Fraktilanalyse for ejd. D5 baseret på 27 bedrifter"},"Stærk konkurrenceevne",null,null,null,null,null,"Stort forbedringspotentiale",null,null,null,null,null,null,null,null,null,"Bogstaver, der skal trækkes fra, når det findes for ejendommene"]
[2,null,"Fraktil",0.9,0.75,0.67,0.6,0.5,0.4,0.33,0.25,0.1,null,0,null,null,null,null,null,null,null,null,null,null,null,null,null,null,null,"Tekst i Z-søjlen","Tekst i fraktildiagrammet","Ejendom","Fraktil"]
[3,null,"Antal foderdage pr. produceret kalv",{"$f":"IF(Choices!$A$10=2,Fraktilanalyse!D54,Fraktilanalyse!D36)","v":248.51183093355439},{"$f":"IF(Choices!$A$10=2,Fraktilanalyse!E54,Fraktilanalyse!E36)","v":255.01863967705694},{"$f":"IF(Choices!$A$10=2,Fraktilanalyse!F54,Fraktilanalyse!F36)","v":260.50989911150691},{"$f":"IF(Choices!$A$10=2,Fraktilanalyse!G54,Fraktilanalyse!G36)","v":263.06849809970959},{"$f":"IF(Choices!$A$10=2,Fraktilanalyse!H54,Fraktilanalyse!H36)","v":271.14049586776872},{"$f":"IF(Choices!$A$10=2,Fraktilanalyse!I54,Fraktilanalyse!I36)","v":273.54523076923084},{"$f":"IF(Choices!$A$10=2,Fraktilanalyse!J54,Fraktilanalyse!J36)","v":275.80227897176513},{"$f":"IF(Choices!$A$10=2,Fraktilanalyse!K54,Fraktilanalyse!K36)","v":276.75735849346785},{"$f":"IF(Choices!$A$10=2,Fraktilanalyse!L54,Fraktilanalyse!L36)","v":281.61225830046737},null,0,null,null,null,null,null,0,null,null,null,{"$f":"Præsentation!C13","v":0},{"$f":"Præsentation!D13","v":0},{"$f":"Præsentation!F13","v":"Antal producerede kalve"},{"$f":"IFERROR(IF(Y$8=Kredsudvælgelse!$Q$20,\"\",IF(Kredsudvælgelse!$R$9=1,IF(ISTEXT(DGET(Forespørgsel1[#All],\"\"&LEFT($Z11,LEN($Z11)-$X11)&\"\",Kredsudvælgelse!$Q$10:$R$11))=TRUE,DGET(Forespørgsel1[#All],\"\"&LEFT($Z11,LEN($Z11)-$X11)&\"\",Kredsudvælgelse!$Q$10:$R$11),DGET(Forespørgsel1[#All],\"\"&LEFT($Z11,LEN($Z11)-$X11)&\"\",Kredsudvælgelse!$Q$10:$R$11)/IF(ISNONTEXT($Y11)=TRUE,1,DGET(Forespørgsel1[#All],\"\"&$Y11&\"\",Kredsudvælgelse!$Q$10:$R$11))),IF(ISBLANK(HLOOKUP(Y$8,'Statiske ejendomme'!$B$3:$OF$80,'Statiske ejendomme'!$A6,FALSE))=FALSE,HLOOKUP(Y$8,'Statiske ejendomme'!$B$3:$OF$80,'Statiske ejendomme'!$A6,FALSE),\"\"))),\"\")","v":"Over 500"},null,1,"Antal foderdage pr. produceret slagtekalv",{"$f":"C11","v":"Antal foderdage pr. produceret kalv"},{"$f":"IFERROR(VLOOKUP($AD11,$Z$11:$AA$104,2,FALSE),\"\")","v":277.10049751243798},{"$f":"IFERROR(tæt(D11:L11,AF11),\"\")","v":276.75735849346785}]
[4,null,"Fremstillingspris pr. kg slagtet",{"$f":"IF(Choices!$A$10=2,Fraktilanalyse!D55,Fraktilanalyse!D37)","v":22.77208121827411},{"$f":"IF(Choices!$A$10=2,Fraktilanalyse!E55,Fraktilanalyse!E37)","v":24.259426485421969},{"$f":"IF(Choices!$A$10=2,Fraktilanalyse!F55,Fraktilanalyse!F37)","v":25.10546383611279},{"$f":"IF(Choices!$A$10=2,Fraktilanalyse!G55,Fraktilanalyse!G37)","v":25.739537755822159},{"$f":"IF(Choices!$A$10=2,Fraktilanalyse!H55,Fraktilanalyse!H37)","v":25.7720207253886},{"$f":"IF(Choices!$A$10=2,Fraktilanalyse!I55,Fraktilanalyse!I37)","v":26.552111111111113},{"$f":"IF(Choices!$A$10=2,Fraktilanalyse!J55,Fraktilanalyse!J37)","v":27.006955401628389},{"$f":"IF(Choices!$A$10=2,Fraktilanalyse!K55,Fraktilanalyse!K37)","v":27.124885511300345},{"$f":"IF(Choices!$A$10=2,Fraktilanalyse!L55,Fraktilanalyse!L37)","v":28.43737373737374},null,0,null,null,null,null,null,null,null,null,null,{"$f":"Præsentation!C14","v":0},{"$f":"Præsentation!D14","v":0},{"$f":"Præsentation!F14","v":"Slagtevægt"},{"$f":"IFERROR(IF(Y$8=Kredsudvælgelse!$Q$20,\"\",IF(Kredsudvælgelse!$R$9=1,IF(ISTEXT(DGET(Forespørgsel1[#All],\"\"&LEFT($Z12,LEN($Z12)-$X12)&\"\",Kredsudvælgelse!$Q$10:$R$11))=TRUE,DGET(Forespørgsel1[#All],\"\"&LEFT($Z12,LEN($Z12)-$X12)&\"\",Kredsudvælgelse!$Q$10:$R$11),DGET(Forespørgsel1[#All],\"\"&LEFT($Z12,LEN($Z12)-$X12)&\"\",Kredsudvælgelse!$Q$10:$R$11)/IF(ISNONTEXT($Y12)=TRUE,1,DGET(Forespørgsel1[#All],\"\"&$Y12&\"\",Kredsudvælgelse!$Q$10:$R$11))),IF(ISBLANK(HLOOKUP(Y$8,'Statiske ejendomme'!$B$3:$OF$80,'Statiske ejendomme'!$A7,FALSE))=FALSE,HLOOKUP(Y$8,'Statiske ejendomme'!$B$3:$OF$80,'Statiske ejendomme'!$A7,FALSE),\"\"))),\"\")","v":218},null,2,"Fremstillingspris, kr. pr. kg slagtet vægt",{"$f":"C12","v":"Fremstillingspris pr. kg slagtet"},{"$f":"IFERROR(VLOOKUP($AD12,$Z$11:$AA$104,2,FALSE),\"\")","v":24.403669724770641},{"$f":"IFERROR(tæt(D12:L12,AF12),\"\")","v":24.259426485421969}]
[5,null,"Foderomkostning pr. foderdag",{"$f":"IF(Choices!$A$10=2,Fraktilanalyse!D56,Fraktilanalyse!D38)","v":9.6490303957889516},{"$f":"IF(Choices!$A$10=2,Fraktilanalyse!E56,Fraktilanalyse!E38)","v":10.09796635200977},{"$f":"IF(Choices!$A$10=2,Fraktilanalyse!F56,Fraktilanalyse!F38)","v":10.222320027969191},{"$f":"IF(Choices!$A$10=2,Fraktilanalyse!G56,Fraktilanalyse!G38)","v":10.356465629677619},{"$f":"IF(Choices!$A$10=2,Fraktilanalyse!H56,Fraktilanalyse!H38)","v":10.715124345185185},{"$f":"IF(Choices!$A$10=2,Fraktilanalyse!I56,Fraktilanalyse!I38)","v":10.99976914854774},{"$f":"IF(Choices!$A$10=2,Fraktilanalyse!J56,Fraktilanalyse!J38)","v":11.361765177626843},{"$f":"IF(Choices!$A$10=2,Fraktilanalyse!K56,Fraktilanalyse!K38)","v":11.628447099783696},{"$f":"IF(Choices!$A$10=2,Fraktilanalyse!L56,Fraktilanalyse!L38)","v":12.495001545139234},null,0,null,null,null,null,null,13,null,null,null,{"$f":"Præsentation!C15","v":0},{"$f":"Præsentation!D15","v":"Antal Producerede kalve"},{"$f":"Præsentation!F15","v":"Antal foderdage pr. produceret slagtekalv"},{"$f":"IFERROR(IF(Y$8=Kredsudvælgelse!$Q$20,\"\",IF(Kredsudvælgelse!$R$9=1,IF(ISTEXT(DGET(Forespørgsel1[#All],\"\"&LEFT($Z13,LEN($Z13)-$X13)&\"\",Kredsudvælgelse!$Q$10:$R$11))=TRUE,DGET(Forespørgsel1[#All],\"\"&LEFT($Z13,LEN($Z13)-$X13)&\"\",Kredsudvælgelse!$Q$10:$R$11),DGET(Forespørgsel1[#All],\"\"&LEFT($Z13,LEN($Z13)-$X13)&\"\",Kredsudvælgelse!$Q$10:$R$11)/IF(ISNONTEXT($Y13)=TRUE,1,DGET(Forespørgsel1[#All],\"\"&$Y13&\"\",Kredsudvælgelse!$Q$10:$R$11))),IF(ISBLANK(HLOOKUP(Y$8,'Statiske ejendomme'!$B$3:$OF$80,'Statiske ejendomme'!$A8,FALSE))=FALSE,HLOOKUP(Y$8,'Statiske ejendomme'!$B$3:$OF$80,'Statiske ejendomme'!$A8,FALSE),\"\"))),\"\")","v":277.10049751243798},null,3,"Foderomkostninger","Foderomkostning pr. foderdag",{"$f":"IFERROR(VLOOKUP($AD13,$Z$11:$AA$104,2,FALSE),\"\")","v":10.945451476914453},{"$f":"IFERROR(tæt(D13:L13,AF13),\"\")","v":10.99976914854774}]
[6,null,"Restbeløb pr. foderdag",{"$f":"IF(Choices!$A$10=2,Fraktilanalyse!D57,Fraktilanalyse!D39)","v":9.3501807933349799},{"$f":"IF(Choices!$A$10=2,Fraktilanalyse!E57,Fraktilanalyse!E39)","v":8.5018655720744043},{"$f":"IF(Choices!$A$10=2,Fraktilanalyse!F57,Fraktilanalyse!F39)","v":8.0691052212255077},{"$f":"IF(Choices!$A$10=2,Fraktilanalyse!G57,Fraktilanalyse!G39)","v":7.7295838426046668},{"$f":"IF(Choices!$A$10=2,Fraktilanalyse!H57,Fraktilanalyse!H39)","v":7.1848691567881895},{"$f":"IF(Choices!$A$10=2,Fraktilanalyse!I57,Fraktilanalyse!I39)","v":7.0063587356538575},{"$f":"IF(Choices!$A$10=2,Fraktilanalyse!J57,Fraktilanalyse!J39)","v":6.6227668689770489},{"$f":"IF(Choices!$A$10=2,Fraktilanalyse!K57,Fraktilanalyse!K39)","v":6.2672758398346335},{"$f":"IF(Choices!$A$10=2,Fraktilanalyse!L57,Fraktilanalyse!L39)","v":4.908091926286553},null,0,null,null,null,null,null,13,null,null,null,{"$f":"Præsentation!C16","v":0},{"$f":"Præsentation!D16","v":0},{"$f":"Præsentation!F16","v":"Kr. pr. kg slagtet, inkl. efterbetaling"},{"$f":"IFERROR(IF(Y$8=Kredsudvælgelse!$Q$20,\"\",IF(Kredsudvælgelse!$R$9=1,IF(ISTEXT(DGET(Forespørgsel1[#All],\"\"&LEFT($Z14,LEN($Z14)-$X14)&\"\",Kredsudvælgelse!$Q$10:$R$11))=TRUE,DGET(Forespørgsel1[#All],\"\"&LEFT($Z14,LEN($Z14)-$X14)&\"\",Kredsudvælgelse!$Q$10:$R$11),DGET(Forespørgsel1[#All],\"\"&LEFT($Z14,LEN($Z14)-$X14)&\"\",Kredsudvælgelse!$Q$10:$R$11)/IF(ISNONTEXT($Y14)=TRUE,1,DGET(Forespørgsel1[#All],\"\"&$Y14&\"\",Kredsudvælgelse!$Q$10:$R$11))),IF(ISBLANK(HLOOKUP(Y$8,'Statiske ejendomme'!$B$3:$OF$80,'Statiske ejendomme'!$A9,FALSE))=FALSE,HLOOKUP(Y$8,'Statiske ejendomme'!$B$3:$OF$80,'Statiske ejendomme'!$A9,FALSE),\"\"))),\"\")","v":27.51},null,4,"Restbeløb","Restbeløb pr. foderdag",8.943684781281636,{"$f":"IFERROR(tæt(D14:L14,AF14),\"\")","v":9.3501807933349799}]
[7,null,"Krav til restbeløb pr. foderdag",{"$f":"IF(Choices!$A$10=2,Fraktilanalyse!D58,Fraktilanalyse!D40)","v":4.651351527907897},{"$f":"IF(Choices!$A$10=2,Fraktilanalyse!E58,Fraktilanalyse!E40)","v":5.6503080906116505},{"$f":"IF(Choices!$A$10=2,Fraktilanalyse!F58,Fraktilanalyse!F40)","v":5.9672838617058881},{"$f":"IF(Choices!$A$10=2,Fraktilanalyse!G58,Fraktilanalyse!G40)","v":6.0407501292382699},{"$f":"IF(Choices!$A$10=2,Fraktilanalyse!H58,Fraktilanalyse!H40)","v":6.3075975456634419},{"$f":"IF(Choices!$A$10=2,Fraktilanalyse!I58,Fraktilanalyse!I40)","v":6.8403779642446825},{"$f":"IF(Choices!$A$10=2,Fraktilanalyse!J58,Fraktilanalyse!J40)","v":7.3433638225543074},{"$f":"IF(Choices!$A$10=2,Fraktilanalyse!K58,Fraktilanalyse!K40)","v":7.6013299787153015},{"$f":"IF(Choices!$A$10=2,Fraktilanalyse!L58,Fraktilanalyse!L40)","v":8.6116922017566644},null,0,null,null,null,null,null,null,null,null,null,{"$f":"Præsentation!C17","v":0},{"$f":"Præsentation!D17","v":0},{"$f":"Præsentation!F17","v":0},{"$f":"IFERROR(IF(Y$8=Kredsudvælgelse!$Q$20,\"\",IF(Kredsudvælgelse!$R$9=1,IF(ISTEXT(DGET(Forespørgsel1[#All],\"\"&LEFT($Z15,LEN($Z15)-$X15)&\"\",Kredsudvælgelse!$Q$10:$R$11))=TRUE,DGET(Forespørgsel1[#All],\"\"&LEFT($Z15,LEN($Z15)-$X15)&\"\",Kredsudvælgelse!$Q$10:$R$11),DGET(Forespørgsel1[#All],\"\"&LEFT($Z15,LEN($Z15)-$X15)&\"\",Kredsudvælgelse!$Q$10:$R$11)/IF(ISNONTEXT($Y15)=TRUE,1,DGET(Forespørgsel1[#All],\"\"&$Y15&\"\",Kredsudvælgelse!$Q$10:$R$11))),IF(ISBLANK(HLOOKUP(Y$8,'Statiske ejendomme'!$B$3:$OF$80,'Statiske ejendomme'!$A10,FALSE))=FALSE,HLOOKUP(Y$8,'Statiske ejendomme'!$B$3:$OF$80,'Statiske ejendomme'!$A10,FALSE),\"\"))),\"\")","v":""},null,5,"Krav til restbeløb","Krav til restbeløb pr. foderdag",6.0239114354042895,{"$f":"IFERROR(tæt(D15:L15,AF15),\"\")","v":6.0407501292382699}]
[8,null,"Årets resultat pr. foderdag",{"$f":"IF(Choices!$A$10=2,Fraktilanalyse!D59,Fraktilanalyse!D41)","v":3.0166100506626132},{"$f":"IF(Choices!$A$10=2,Fraktilanalyse!E59,Fraktilanalyse!E41)","v":2.3415248088260525},{"$f":"IF(Choices!$A$10=2,Fraktilanalyse!F59,Fraktilanalyse!F41)","v":1.7336459816215428},{"$f":"IF(Choices!$A$10=2,Fraktilanalyse!G59,Fraktilanalyse!G41)","v":0.96806956351697449},{"$f":"IF(Choices!$A$10=2,Fraktilanalyse!H59,Fraktilanalyse!H41)","v":0.66506945132899542},{"$f":"IF(Choices!$A$10=2,Fraktilanalyse!I59,Fraktilanalyse!I41)","v":-0.25439484917749877},{"$f":"IF(Choices!$A$10=2,Fraktilanalyse!J59,Fraktilanalyse!J41)","v":-0.75657589521468205},{"$f":"IF(Choices!$A$10=2,Fraktilanalyse!K59,Fraktilanalyse!K41)","v":-0.94892985124173057},{"$f":"IF(Choices!$A$10=2,Fraktilanalyse!L59,Fraktilanalyse!L41)","v":-2.2100019989540081},null,0,null,null,null,null,null,6,null,null,null,{"$f":"Præsentation!C18","v":0},{"$f":"Præsentation!D18","v":"Slagtevægt_ialt"},{"$f":"Præsentation!F18","v":"Fremstillingspris, kr. pr. kg slagtet vægt"},{"$f":"IFERROR(IF(Y$8=Kredsudvælgelse!$Q$20,\"\",IF(Kredsudvælgelse!$R$9=1,IF(ISTEXT(DGET(Forespørgsel1[#All],\"\"&LEFT($Z16,LEN($Z16)-$X16)&\"\",Kredsudvælgelse!$Q$10:$R$11))=TRUE,DGET(Forespørgsel1[#All],\"\"&LEFT($Z16,LEN($Z16)-$X16)&\"\",Kredsudvælgelse!$Q$10:$R$11),DGET(Forespørgsel1[#All],\"\"&LEFT($Z16,LEN($Z16)-$X16)&\"\",Kredsudvælgelse!$Q$10:$R$11)/IF(ISNONTEXT($Y16)=TRUE,1,DGET(Forespørgsel1[#All],\"\"&$Y16&\"\",Kredsudvælgelse!$Q$10:$R$11))),IF(ISBLANK(HLOOKUP(Y$8,'Statiske ejendomme'!$B$3:$OF$80,'Statiske ejendomme'!$A11,FALSE))=FALSE,HLOOKUP(Y$8,'Statiske ejendomme'!$B$3:$OF$80,'Statiske ejendomme'!$A11,FALSE),\"\"))),\"\")","v":24.403669724770641},null,6,"Årets resultat","Årets resultat pr. foderdag",{"$f":"IFERROR(VLOOKUP($AD16,$Z$11:$AA$104,2,FALSE),\"\")","v":2.9197733458773465},{"$f":"IFERROR(tæt(D16:L16,AF16),\"\")","v":3.0166100506626132}]
[9,null,"Afkastningsgrad, pct.",{"$f":"IF(Choices!$A$10=2,Fraktilanalyse!D60,Fraktilanalyse!D42)","v":14.966000000000005},{"$f":"IF(Choices!$A$10=2,Fraktilanalyse!E60,Fraktilanalyse!E42)","v":9.8907692307692301},{"$f":"IF(Choices!$A$10=2,Fraktilanalyse!F60,Fraktilanalyse!F42)","v":8.8798000000000012},{"$f":"IF(Choices!$A$10=2,Fraktilanalyse!G60,Fraktilanalyse!G42)","v":6.8680000000000003},{"$f":"IF(Choices!$A$10=2,Fraktilanalyse!H60,Fraktilanalyse!H42)","v":5.27},{"$f":"IF(Choices!$A$10=2,Fraktilanalyse!I60,Fraktilanalyse!I42)","v":1.6300000000000003},{"$f":"IF(Choices!$A$10=2,Fraktilanalyse!J60,Fraktilanalyse!J42)","v":6.1200000000000032E-2},{"$f":"IF(Choices!$A$10=2,Fraktilanalyse!K60,Fraktilanalyse!K42)","v":-0.42499999999999999},{"$f":"IF(Choices!$A$10=2,Fraktilanalyse!L60,Fraktilanalyse!L42)","v":-5.1322444329363019},null,0,null,null,null,null,null,null,null,null,null,{"$f":"Præsentation!C19","v":0},{"$f":"Præsentation!D19","v":0},{"$f":"Præsentation!F19","v":0},{"$f":"IFERROR(IF(Y$8=Kredsudvælgelse!$Q$20,\"\",IF(Kredsudvælgelse!$R$9=1,IF(ISTEXT(DGET(Forespørgsel1[#All],\"\"&LEFT($Z17,LEN($Z17)-$X17)&\"\",Kredsudvælgelse!$Q$10:$R$11))=TRUE,DGET(Forespørgsel1[#All],\"\"&LEFT($Z17,LEN($Z17)-$X17)&\"\",Kredsudvælgelse!$Q$10:$R$11),DGET(Forespørgsel1[#All],\"\"&LEFT($Z17,LEN($Z17)-$X17)&\"\",Kredsudvælgelse!$Q$10:$R$11)/IF(ISNONTEXT($Y17)=TRUE,1,DGET(Forespørgsel1[#All],\"\"&$Y17&\"\",Kredsudvælgelse!$Q$10:$R$11))),IF(ISBLANK(HLOOKUP(Y$8,'Statiske ejendomme'!$B$3:$OF$80,'Statiske ejendomme'!$A12,FALSE))=FALSE,HLOOKUP(Y$8,'Statiske ejendomme'!$B$3:$OF$80,'Statiske ejendomme'!$A12,FALSE),\"\"))),\"\")","v":""},null,7,"Afkastningsgrad","Afkastningsgrad, pct.",14.13,{"$f":"IFERROR(tæt(D17:L17,AF17),\"\")","v":14.966000000000005}]
[10,null,"Bundet kapital pr. produceret kalv",{"$f":"IF(Choices!$A$10=2,Fraktilanalyse!D61,Fraktilanalyse!D43)","v":4891},{"$f":"IF(Choices!$A$10=2,Fraktilanalyse!E61,Fraktilanalyse!E43)","v":6017.5},{"$f":"IF(Choices!$A$10=2,Fraktilanalyse!F61,Fraktilanalyse!F43)","v":6945.88},{"$f":"IF(Choices!$A$10=2,Fraktilanalyse!G61,Fraktilanalyse!G43)","v":7369.8},{"$f":"IF(Choices!$A$10=2,Fraktilanalyse!H61,Fraktilanalyse!H43)","v":7623},{"$f":"IF(Choices!$A$10=2,Fraktilanalyse!I61,Fraktilanalyse!I43)","v":8117.6},{"$f":"IF(Choices!$A$10=2,Fraktilanalyse!J61,Fraktilanalyse!J43)","v":8369.14},{"$f":"IF(Choices!$A$10=2,Fraktilanalyse!K61,Fraktilanalyse!K43)","v":9704.5},{"$f":"IF(Choices!$A$10=2,Fraktilanalyse!L61,Fraktilanalyse!L43)","v":11938.000000000002},null,0,null,null,null,null,null,20,null,null,null,{"$f":"Præsentation!C20","v":0},{"$f":"Præsentation!D20","v":0},{"$f":"Præsentation!F20","v":"Nøgletal pr. foderdag"},{"$f":"IFERROR(IF(Y$8=Kredsudvælgelse!$Q$20,\"\",IF(Kredsudvælgelse!$R$9=1,IF(ISTEXT(DGET(Forespørgsel1[#All],\"\"&LEFT($Z18,LEN($Z18)-$X18)&\"\",Kredsudvælgelse!$Q$10:$R$11))=TRUE,DGET(Forespørgsel1[#All],\"\"&LEFT($Z18,LEN($Z18)-$X18)&\"\",Kredsudvælgelse!$Q$10:$R$11),DGET(Forespørgsel1[#All],\"\"&LEFT($Z18,LEN($Z18)-$X18)&\"\",Kredsudvælgelse!$Q$10:$R$11)/IF(ISNONTEXT($Y18)=TRUE,1,DGET(Forespørgsel1[#All],\"\"&$Y18&\"\",Kredsudvælgelse!$Q$10:$R$11))),IF(ISBLANK(HLOOKUP(Y$8,'Statiske ejendomme'!$B$3:$OF$80,'Statiske ejendomme'!$A13,FALSE))=FALSE,HLOOKUP(Y$8,'Statiske ejendomme'!$B$3:$OF$80,'Statiske ejendomme'!$A13,FALSE),\"\"))),\"\")","v":""},null,8,"Bundet kapital","Bundet kapital pr. produceret kalv",7490.4885572139301,{"$f":"IFERROR(tæt(D18:L18,AF18),\"\")","v":7369.8}]
[11,null,"Dækningsbidrag pr. produceret kalv",{"$f":"IF(Choices!$A$10=2,Fraktilanalyse!D62,Fraktilanalyse!D44)","v":2484.4},{"$f":"IF(Choices!$A$10=2,Fraktilanalyse!E62,Fraktilanalyse!E44)","v":2335},{"$f":"IF(Choices!$A$10=2,Fraktilanalyse!F62,Fraktilanalyse!F44)","v":2277.2800000000002},{"$f":"IF(Choices!$A$10=2,Fraktilanalyse!G62,Fraktilanalyse!G44)","v":2032.2},{"$f":"IF(Choices!$A$10=2,Fraktilanalyse!H62,Fraktilanalyse!H44)","v":1934},{"$f":"IF(Choices!$A$10=2,Fraktilanalyse!I62,Fraktilanalyse!I44)","v":1779.8},{"$f":"IF(Choices!$A$10=2,Fraktilanalyse!J62,Fraktilanalyse!J44)","v":1704.82},{"$f":"IF(Choices!$A$10=2,Fraktilanalyse!K62,Fraktilanalyse!K44)","v":1611.5},{"$f":"IF(Choices!$A$10=2,Fraktilanalyse!L62,Fraktilanalyse!L44)","v":1329.2},null,0,null,null,null,null,null,20,null,null,null,{"$f":"Præsentation!C21","v":0},{"$f":"Præsentation!D21","v":"Antal foderdage pr. produceret slagtekalv"},{"$f":"Præsentation!F21","v":"Bruttoudbytte"},{"$f":"IFERROR(IF(Y$8=Kredsudvælgelse!$Q$20,\"\",IF(Kredsudvælgelse!$R$9=1,IF(ISTEXT(DGET(Forespørgsel1[#All],\"\"&LEFT($Z19,LEN($Z19)-$X19)&\"\",Kredsudvælgelse!$Q$10:$R$11))=TRUE,DGET(Forespørgsel1[#All],\"\"&LEFT($Z19,LEN($Z19)-$X19)&\"\",Kredsudvælgelse!$Q$10:$R$11),DGET(Forespørgsel1[#All],\"\"&LEFT($Z19,LEN($Z19)-$X19)&\"\",Kredsudvælgelse!$Q$10:$R$11)/IF(ISNONTEXT($Y19)=TRUE,1,DGET(Forespørgsel1[#All],\"\"&$Y19&\"\",Kredsudvælgelse!$Q$10:$R$11))),IF(ISBLANK(HLOOKUP(Y$8,'Statiske ejendomme'!$B$3:$OF$80,'Statiske ejendomme'!$A14,FALSE))=FALSE,HLOOKUP(Y$8,'Statiske ejendomme'!$B$3:$OF$80,'Statiske ejendomme'!$A14,FALSE),\"\"))),\"\")","v":20.383753581867655},null,9,"Dækningsbidrag","Dækningsbidrag pr. produceret kalv",{"$f":"IFERROR(VLOOKUP($AD19,$Z$11:$AA$104,2,FALSE),\"\")","v":2478.2995024875622},{"$f":"IFERROR(tæt(D19:L19,AF19),\"\")","v":2484.4}]
[12,null,"Krav til dækningsbidrag pr. produceret kalv",{"$f":"IF(Choices!$A$10=2,Fraktilanalyse!D63,Fraktilanalyse!D45)","v":1167.4000000000001},{"$f":"IF(Choices!$A$10=2,Fraktilanalyse!E63,Fraktilanalyse!E45)","v":1485},{"$f":"IF(Choices!$A$10=2,Fraktilanalyse!F63,Fraktilanalyse!F45)","v":1644.8},{"$f":"IF(Choices!$A$10=2,Fraktilanalyse!G63,Fraktilanalyse!G45)","v":1657.6},{"$f":"IF(Choices!$A$10=2,Fraktilanalyse!H63,Fraktilanalyse!H45)","v":1740},{"$f":"IF(Choices!$A$10=2,Fraktilanalyse!I63,Fraktilanalyse!I45)","v":1794.8},{"$f":"IF(Choices!$A$10=2,Fraktilanalyse!J63,Fraktilanalyse!J45)","v":1899.24},{"$f":"IF(Choices!$A$10=2,Fraktilanalyse!K63,Fraktilanalyse!K45)","v":1932.5},{"$f":"IF(Choices!$A$10=2,Fraktilanalyse!L63,Fraktilanalyse!L45)","v":2133.6},null,0,null,null,null,null,null,20,null,null,null,{"$f":"Præsentation!C22","v":0},{"$f":"Præsentation!D22","v":"Antal foderdage pr. produceret slagtekalv"},{"$f":"Præsentation!F22","v":"Foderomkostninger"},{"$f":"IFERROR(IF(Y$8=Kredsudvælgelse!$Q$20,\"\",IF(Kredsudvælgelse!$R$9=1,IF(ISTEXT(DGET(Forespørgsel1[#All],\"\"&LEFT($Z20,LEN($Z20)-$X20)&\"\",Kredsudvælgelse!$Q$10:$R$11))=TRUE,DGET(Forespørgsel1[#All],\"\"&LEFT($Z20,LEN($Z20)-$X20)&\"\",Kredsudvælgelse!$Q$10:$R$11),DGET(Forespørgsel1[#All],\"\"&LEFT($Z20,LEN($Z20)-$X20)&\"\",Kredsudvælgelse!$Q$10:$R$11)/IF(ISNONTEXT($Y20)=TRUE,1,DGET(Forespørgsel1[#All],\"\"&$Y20&\"\",Kredsudvælgelse!$Q$10:$R$11))),IF(ISBLANK(HLOOKUP(Y$8,'Statiske ejendomme'!$B$3:$OF$80,'Statiske ejendomme'!$A15,FALSE))=FALSE,HLOOKUP(Y$8,'Statiske ejendomme'!$B$3:$OF$80,'Statiske ejendomme'!$A15,FALSE),\"\"))),\"\")","v":10.945451476914453},null,10,"Krav til dækningsbidrag","Krav til dækningsbidrag pr. produceret kalv",1669.2288557213931,{"$f":"IFERROR(tæt(D20:L20,AF20),\"\")","v":1657.6}]
[13,null,"Arbejdsomkostninger pr. produceret kalv",{"$f":"IF(Choices!$A$10=2,Fraktilanalyse!D64,Fraktilanalyse!D46)","v":511.2},{"$f":"IF(Choices!$A$10=2,Fraktilanalyse!E64,Fraktilanalyse!E46)","v":549},{"$f":"IF(Choices!$A$10=2,Fraktilanalyse!F64,Fraktilanalyse!F46)","v":577.74},{"$f":"IF(Choices!$A$10=2,Fraktilanalyse!G64,Fraktilanalyse!G46)","v":615},{"$f":"IF(Choices!$A$10=2,Fraktilanalyse!H64,Fraktilanalyse!H46)","v":640},{"$f":"IF(Choices!$A$10=2,Fraktilanalyse!I64,Fraktilanalyse!I46)","v":667.4},{"$f":"IF(Choices!$A$10=2,Fraktilanalyse!J64,Fraktilanalyse!J46)","v":706.66000000000008},{"$f":"IF(Choices!$A$10=2,Fraktilanalyse!K64,Fraktilanalyse!K46)","v":741.5},{"$f":"IF(Choices!$A$10=2,Fraktilanalyse!L64,Fraktilanalyse!L46)","v":898.40000000000009},null,0,null,null,null,null,null,21,null,null,null,{"$f":"Præsentation!C23","v":0},{"$f":"Præsentation!D23","v":"Antal foderdage pr. produceret slagtekalv"},{"$f":"Præsentation!F23","v":"Dyrlæge og diverse"},{"$f":"IFERROR(IF(Y$8=Kredsudvælgelse!$Q$20,\"\",IF(Kredsudvælgelse!$R$9=1,IF(ISTEXT(DGET(Forespørgsel1[#All],\"\"&LEFT($Z21,LEN($Z21)-$X21)&\"\",Kredsudvælgelse!$Q$10:$R$11))=TRUE,DGET(Forespørgsel1[#All],\"\"&LEFT($Z21,LEN($Z21)-$X21)&\"\",Kredsudvælgelse!$Q$10:$R$11),DGET(Forespørgsel1[#All],\"\"&LEFT($Z21,LEN($Z21)-$X21)&\"\",Kredsudvælgelse!$Q$10:$R$11)/IF(ISNONTEXT($Y21)=TRUE,1,DGET(Forespørgsel1[#All],\"\"&$Y21&\"\",Kredsudvælgelse!$Q$10:$R$11))),IF(ISBLANK(HLOOKUP(Y$8,'Statiske ejendomme'!$B$3:$OF$80,'Statiske ejendomme'!$A16,FALSE))=FALSE,HLOOKUP(Y$8,'Statiske ejendomme'!$B$3:$OF$80,'Statiske ejendomme'!$A16,FALSE),\"\"))),\"\")","v":0.49461732367156669},null,11,"Arbejdsomkostninger","Arbejdsomkostninger pr. produceret kalv",665.08258706467666,{"$f":"IFERROR(tæt(D21:L21,AF21),\"\")","v":667.4}]
[14,null,"Bygninger pr. produceret kalv.",{"$f":"IF(Choices!$A$10=2,Fraktilanalyse!D65,Fraktilanalyse!D47)","v":256},{"$f":"IF(Choices!$A$10=2,Fraktilanalyse!E65,Fraktilanalyse!E47)","v":324.5},{"$f":"IF(Choices!$A$10=2,Fraktilanalyse!F65,Fraktilanalyse!F47)","v":353.44},{"$f":"IF(Choices!$A$10=2,Fraktilanalyse!G65,Fraktilanalyse!G47)","v":400.8},{"$f":"IF(Choices!$A$10=2,Fraktilanalyse!H65,Fraktilanalyse!H47)","v":431},{"$f":"IF(Choices!$A$10=2,Fraktilanalyse!I65,Fraktilanalyse!I47)","v":510.80000000000007},{"$f":"IF(Choices!$A$10=2,Fraktilanalyse!J65,Fraktilanalyse!J47)","v":559.46},{"$f":"IF(Choices!$A$10=2,Fraktilanalyse!K65,Fraktilanalyse!K47)","v":599},{"$f":"IF(Choices!$A$10=2,Fraktilanalyse!L65,Fraktilanalyse!L47)","v":679.80000000000007},null,0,null,null,null,null,null,20,null,null,null,{"$f":"Præsentation!C24","v":0},{"$f":"Præsentation!D24","v":"Antal foderdage pr. produceret slagtekalv"},{"$f":"Præsentation!F24","v":"Restbeløb"},{"$f":"IFERROR(IF(Y$8=Kredsudvælgelse!$Q$20,\"\",IF(Kredsudvælgelse!$R$9=1,IF(ISTEXT(DGET(Forespørgsel1[#All],\"\"&LEFT($Z22,LEN($Z22)-$X22)&\"\",Kredsudvælgelse!$Q$10:$R$11))=TRUE,DGET(Forespørgsel1[#All],\"\"&LEFT($Z22,LEN($Z22)-$X22)&\"\",Kredsudvælgelse!$Q$10:$R$11),DGET(Forespørgsel1[#All],\"\"&LEFT($Z22,LEN($Z22)-$X22)&\"\",Kredsudvælgelse!$Q$10:$R$11)/IF(ISNONTEXT($Y22)=TRUE,1,DGET(Forespørgsel1[#All],\"\"&$Y22&\"\",Kredsudvælgelse!$Q$10:$R$11))),IF(ISBLANK(HLOOKUP(Y$8,'Statiske ejendomme'!$B$3:$OF$80,'Statiske ejendomme'!$A17,FALSE))=FALSE,HLOOKUP(Y$8,'Statiske ejendomme'!$B$3:$OF$80,'Statiske ejendomme'!$A17,FALSE),\"\"))),\"\")","v":8.943684781281636},null,12,"Bygninger","Bygninger pr. produceret kalv.",361.49950248756221,{"$f":"IFERROR(tæt(D22:L22,AF22),\"\")","v":353.44}]
[15,null,"Inventar inkl. energi pr. produceret kalv",{"$f":"IF(Choices!$A$10=2,Fraktilanalyse!D66,Fraktilanalyse!D48)","v":219.6},{"$f":"IF(Choices!$A$10=2,Fraktilanalyse!E66,Fraktilanalyse!E48)","v":262},{"$f":"IF(Choices!$A$10=2,Fraktilanalyse!F66,Fraktilanalyse!F48)","v":283.27999999999997},{"$f":"IF(Choices!$A$10=2,Fraktilanalyse!G66,Fraktilanalyse!G48)","v":308.39999999999998},{"$f":"IF(Choices!$A$10=2,Fraktilanalyse!H66,Fraktilanalyse!H48)","v":333},{"$f":"IF(Choices!$A$10=2,Fraktilanalyse!I66,Fraktilanalyse!I48)","v":393.6},{"$f":"IF(Choices!$A$10=2,Fraktilanalyse!J66,Fraktilanalyse!J48)","v":417.80000000000007},{"$f":"IF(Choices!$A$10=2,Fraktilanalyse!K66,Fraktilanalyse!K48)","v":471},{"$f":"IF(Choices!$A$10=2,Fraktilanalyse!L66,Fraktilanalyse!L48)","v":539},null,0,null,null,null,null,null,null,null,null,null,{"$f":"Præsentation!C25","v":0},{"$f":"Præsentation!D25","v":"Antal foderdage pr. produceret slagtekalv"},{"$f":"Præsentation!F25","v":"Krav til restbeløb"},{"$f":"IFERROR(IF(Y$8=Kredsudvælgelse!$Q$20,\"\",IF(Kredsudvælgelse!$R$9=1,IF(ISTEXT(DGET(Forespørgsel1[#All],\"\"&LEFT($Z23,LEN($Z23)-$X23)&\"\",Kredsudvælgelse!$Q$10:$R$11))=TRUE,DGET(Forespørgsel1[#All],\"\"&LEFT($Z23,LEN($Z23)-$X23)&\"\",Kredsudvælgelse!$Q$10:$R$11),DGET(Forespørgsel1[#All],\"\"&LEFT($Z23,LEN($Z23)-$X23)&\"\",Kredsudvælgelse!$Q$10:$R$11)/IF(ISNONTEXT($Y23)=TRUE,1,DGET(Forespørgsel1[#All],\"\"&$Y23&\"\",Kredsudvælgelse!$Q$10:$R$11))),IF(ISBLANK(HLOOKUP(Y$8,'Statiske ejendomme'!$B$3:$OF$80,'Statiske ejendomme'!$A18,FALSE))=FALSE,HLOOKUP(Y$8,'Statiske ejendomme'!$B$3:$OF$80,'Statiske ejendomme'!$A18,FALSE),\"\"))),\"\")","v":6.0239114354042895},null,13,"Inventar inkl. energi","Inventar inkl. energi pr. produceret kalv",401.14726368159205,{"$f":"IFERROR(tæt(D23:L23,AF23),\"\")","v":393.6}]
[16,null,"Årets resultat pr. produceret kalv",{"$f":"IF(Choices!$A$10=2,Fraktilanalyse!D67,Fraktilanalyse!D49)","v":841.8},{"$f":"IF(Choices!$A$10=2,Fraktilanalyse!E67,Fraktilanalyse!E49)","v":647},{"$f":"IF(Choices!$A$10=2,Fraktilanalyse!F67,Fraktilanalyse!F49)","v":454.80000000000041},{"$f":"IF(Choices!$A$10=2,Fraktilanalyse!G67,Fraktilanalyse!G49)","v":257.80000000000013},{"$f":"IF(Choices!$A$10=2,Fraktilanalyse!H67,Fraktilanalyse!H49)","v":173},{"$f":"IF(Choices!$A$10=2,Fraktilanalyse!I67,Fraktilanalyse!I49)","v":-62.39999999999992},{"$f":"IF(Choices!$A$10=2,Fraktilanalyse!J67,Fraktilanalyse!J49)","v":-207.76},{"$f":"IF(Choices!$A$10=2,Fraktilanalyse!K67,Fraktilanalyse!K49)","v":-263},{"$f":"IF(Choices!$A$10=2,Fraktilanalyse!L67,Fraktilanalyse!L49)","v":-472},null,null,null,null,null,null,null,null,null,null,null,{"$f":"Præsentation!C26","v":0},{"$f":"Præsentation!D26","v":"Antal foderdage pr. produceret slagtekalv"},{"$f":"Præsentation!F26","v":"Årets resultat"},{"$f":"IFERROR(IF(Y$8=Kredsudvælgelse!$Q$20,\"\",IF(Kredsudvælgelse!$R$9=1,IF(ISTEXT(DGET(Forespørgsel1[#All],\"\"&LEFT($Z24,LEN($Z24)-$X24)&\"\",Kredsudvælgelse!$Q$10:$R$11))=TRUE,DGET(Forespørgsel1[#All],\"\"&LEFT($Z24,LEN($Z24)-$X24)&\"\",Kredsudvælgelse!$Q$10:$R$11),DGET(Forespørgsel1[#All],\"\"&LEFT($Z24,LEN($Z24)-$X24)&\"\",Kredsudvælgelse!$Q$10:$R$11)/IF(ISNONTEXT($Y24)=TRUE,1,DGET(Forespørgsel1[#All],\"\"&$Y24&\"\",Kredsudvælgelse!$Q$10:$R$11))),IF(ISBLANK(HLOOKUP(Y$8,'Statiske ejendomme'!$B$3:$OF$80,'Statiske ejendomme'!$A19,FALSE))=FALSE,HLOOKUP(Y$8,'Statiske ejendomme'!$B$3:$OF$80,'Statiske ejendomme'!$A19,FALSE),\"\"))),\"\")","v":2.9197733458773465},null,14,"Årets resultat","Årets resultat pr. produceret kalv",{"$f":"IFERROR(VLOOKUP($AD24,$Z$26:$AA$104,2,FALSE),\"\")","v":809.07064676616915},{"$f":"IFERROR(tæt(D24:L24,AF24),\"\")","v":841.8}]
[null,null,null,null,null,null,null,null,null,null,null,null,null,null,null,null,null,null,null,null,null,null,null,{"$f":"Præsentation!C27","v":0},{"$f":"Præsentation!D27","v":0},{"$f":"Præsentation!F27","v":0},{"$f":"IFERROR(IF(Y$8=Kredsudvælgelse!$Q$20,\"\",IF(Kredsudvælgelse!$R$9=1,IF(ISTEXT(DGET(Forespørgsel1[#All],\"\"&LEFT($Z25,LEN($Z25)-$X25)&\"\",Kredsudvælgelse!$Q$10:$R$11))=TRUE,DGET(Forespørgsel1[#All],\"\"&LEFT($Z25,LEN($Z25)-$X25)&\"\",Kredsudvælgelse!$Q$10:$R$11),DGET(Forespørgsel1[#All],\"\"&LEFT($Z25,LEN($Z25)-$X25)&\"\",Kredsudvælgelse!$Q$10:$R$11)/IF(ISNONTEXT($Y25)=TRUE,1,DGET(Forespørgsel1[#All],\"\"&$Y25&\"\",Kredsudvælgelse!$Q$10:$R$11))),IF(ISBLANK(HLOOKUP(Y$8,'Statiske ejendomme'!$B$3:$OF$80,'Statiske ejendomme'!$A20,FALSE))=FALSE,HLOOKUP(Y$8,'Statiske ejendomme'!$B$3:$OF$80,'Statiske ejendomme'!$A20,FALSE),\"\"))),\"\")","v":""},null,null,null,0]
[null,null,null,null,null,null,null,null,null,null,null,null,null,null,null,null,null,null,null,null,null,null,null,{"$f":"Præsentation!C28","v":0},{"$f":"Præsentation!D28","v":0},{"$f":"Præsentation!F28","v":"Nøgletal pr. produceret kalv"},{"$f":"IFERROR(IF(Y$8=Kredsudvælgelse!$Q$20,\"\",IF(Kredsudvælgelse!$R$9=1,IF(ISTEXT(DGET(Forespørgsel1[#All],\"\"&LEFT($Z26,LEN($Z26)-$X26)&\"\",Kredsudvælgelse!$Q$10:$R$11))=TRUE,DGET(Forespørgsel1[#All],\"\"&LEFT($Z26,LEN($Z26)-$X26)&\"\",Kredsudvælgelse!$Q$10:$R$11),DGET(Forespørgsel1[#All],\"\"&LEFT($Z26,LEN($Z26)-$X26)&\"\",Kredsudvælgelse!$Q$10:$R$11)/IF(ISNONTEXT($Y26)=TRUE,1,DGET(Forespørgsel1[#All],\"\"&$Y26&\"\",Kredsudvælgelse!$Q$10:$R$11))),IF(ISBLANK(HLOOKUP(Y$8,'Statiske ejendomme'!$B$3:$OF$80,'Statiske ejendomme'!$A21,FALSE))=FALSE,HLOOKUP(Y$8,'Statiske ejendomme'!$B$3:$OF$80,'Statiske ejendomme'!$A21,FALSE),\"\"))),\"\")","v":""},null,null,null,0]
[null,null,null,null,null,null,null,null,null,null,null,null,null,null,null,null,null,null,null,null,null,null,null,{"$f":"Præsentation!C29","v":0},{"$f":"Præsentation!D29","v":"Antal Producerede kalve"},{"$f":"Præsentation!F29","v":"Foderomkostninger"},{"$f":"IFERROR(IF(Y$8=Kredsudvælgelse!$Q$20,\"\",IF(Kredsudvælgelse!$R$9=1,IF(ISTEXT(DGET(Forespørgsel1[#All],\"\"&LEFT($Z27,LEN($Z27)-$X27)&\"\",Kredsudvælgelse!$Q$10:$R$11))=TRUE,DGET(Forespørgsel1[#All],\"\"&LEFT($Z27,LEN($Z27)-$X27)&\"\",Kredsudvælgelse!$Q$10:$R$11),DGET(Forespørgsel1[#All],\"\"&LEFT($Z27,LEN($Z27)-$X27)&\"\",Kredsudvælgelse!$Q$10:$R$11)/IF(ISNONTEXT($Y27)=TRUE,1,DGET(Forespørgsel1[#All],\"\"&$Y27&\"\",Kredsudvælgelse!$Q$10:$R$11))),IF(ISBLANK(HLOOKUP(Y$8,'Statiske ejendomme'!$B$3:$OF$80,'Statiske ejendomme'!$A22,FALSE))=FALSE,HLOOKUP(Y$8,'Statiske ejendomme'!$B$3:$OF$80,'Statiske ejendomme'!$A22,FALSE),\"\"))),\"\")","v":3032.990049751244},null,null,null,0]
[null,null,null,null,null,null,null,null,null,null,null,null,null,null,null,null,null,null,null,null,null,null,null,{"$f":"Præsentation!C30","v":0},{"$f":"Præsentation!D30","v":"Antal Producerede kalve"},{"$f":"Præsentation!F30","v":"Krav til dækningsbidrag"},{"$f":"IFERROR(IF(Y$8=Kredsudvælgelse!$Q$20,\"\",IF(Kredsudvælgelse!$R$9=1,IF(ISTEXT(DGET(Forespørgsel1[#All],\"\"&LEFT($Z28,LEN($Z28)-$X28)&\"\",Kredsudvælgelse!$Q$10:$R$11))=TRUE,DGET(Forespørgsel1[#All],\"\"&LEFT($Z28,LEN($Z28)-$X28)&\"\",Kredsudvælgelse!$Q$10:$R$11),DGET(Forespørgsel1[#All],\"\"&LEFT($Z28,LEN($Z28)-$X28)&\"\",Kredsudvælgelse!$Q$10:$R$11)/IF(ISNONTEXT($Y28)=TRUE,1,DGET(Forespørgsel1[#All],\"\"&$Y28&\"\",Kredsudvælgelse!$Q$10:$R$11))),IF(ISBLANK(HLOOKUP(Y$8,'Statiske ejendomme'!$B$3:$OF$80,'Statiske ejendomme'!$A23,FALSE))=FALSE,HLOOKUP(Y$8,'Statiske ejendomme'!$B$3:$OF$80,'Statiske ejendomme'!$A23,FALSE),\"\"))),\"\")","v":1669.2288557213931},null,null,null,0]
[null,null,null,null,null,null,null,null,null,null,null,null,null,null,null,null,null,null,null,null,null,null,null,{"$f":"Præsentation!C31","v":0},{"$f":"Præsentation!D31","v":"Antal Producerede kalve"},{"$f":"Præsentation!F31","v":"Heraf afskrivninger"},{"$f":"IFERROR(IF(Y$8=Kredsudvælgelse!$Q$20,\"\",IF(Kredsudvælgelse!$R$9=1,IF(ISTEXT(DGET(Forespørgsel1[#All],\"\"&LEFT($Z29,LEN($Z29)-$X29)&\"\",Kredsudvælgelse!$Q$10:$R$11))=TRUE,DGET(Forespørgsel1[#All],\"\"&LEFT($Z29,LEN($Z29)-$X29)&\"\",Kredsudvælgelse!$Q$10:$R$11),DGET(Forespørgsel1[#All],\"\"&LEFT($Z29,LEN($Z29)-$X29)&\"\",Kredsudvælgelse!$Q$10:$R$11)/IF(ISNONTEXT($Y29)=TRUE,1,DGET(Forespørgsel1[#All],\"\"&$Y29&\"\",Kredsudvælgelse!$Q$10:$R$11))),IF(ISBLANK(HLOOKUP(Y$8,'Statiske ejendomme'!$B$3:$OF$80,'Statiske ejendomme'!$A24,FALSE))=FALSE,HLOOKUP(Y$8,'Statiske ejendomme'!$B$3:$OF$80,'Statiske ejendomme'!$A24,FALSE),\"\"))),\"\")","v":245.75621890547265},null,null,null,0]
["Slagtekalve",null,null,null,null,null,null,null,null,null,null,null,null,null,null,null,null,null,null,null,null,null,null,{"$f":"Præsentation!C32","v":0},{"$f":"Præsentation!D32","v":"Antal Producerede kalve"},{"$f":"Præsentation!F32","v":"Arbejdsomkostninger"},{"$f":"IFERROR(IF(Y$8=Kredsudvælgelse!$Q$20,\"\",IF(Kredsudvælgelse!$R$9=1,IF(ISTEXT(DGET(Forespørgsel1[#All],\"\"&LEFT($Z30,LEN($Z30)-$X30)&\"\",Kredsudvælgelse!$Q$10:$R$11))=TRUE,DGET(Forespørgsel1[#All],\"\"&LEFT($Z30,LEN($Z30)-$X30)&\"\",Kredsudvælgelse!$Q$10:$R$11),DGET(Forespørgsel1[#All],\"\"&LEFT($Z30,LEN($Z30)-$X30)&\"\",Kredsudvælgelse!$Q$10:$R$11)/IF(ISNONTEXT($Y30)=TRUE,1,DGET(Forespørgsel1[#All],\"\"&$Y30&\"\",Kredsudvælgelse!$Q$10:$R$11))),IF(ISBLANK(HLOOKUP(Y$8,'Statiske ejendomme'!$B$3:$OF$80,'Statiske ejendomme'!$A25,FALSE))=FALSE,HLOOKUP(Y$8,'Statiske ejendomme'!$B$3:$OF$80,'Statiske ejendomme'!$A25,FALSE),\"\"))),\"\")","v":665.08258706467666}]
[null,null,null,null,null,null,null,null,null,null,null,null,null,null,null,null,null,null,null,null,null,null,null,{"$f":"Præsentation!C33","v":0},{"$f":"Præsentation!D33","v":"Antal Producerede kalve"},{"$f":"Præsentation!F33","v":"Bygninger"},{"$f":"IFERROR(IF(Y$8=Kredsudvælgelse!$Q$20,\"\",IF(Kredsudvælgelse!$R$9=1,IF(ISTEXT(DGET(Forespørgsel1[#All],\"\"&LEFT($Z31,LEN($Z31)-$X31)&\"\",Kredsudvælgelse!$Q$10:$R$11))=TRUE,DGET(Forespørgsel1[#All],\"\"&LEFT($Z31,LEN($Z31)-$X31)&\"\",Kredsudvælgelse!$Q$10:$R$11),DGET(Forespørgsel1[#All],\"\"&LEFT($Z31,LEN($Z31)-$X31)&\"\",Kredsudvælgelse!$Q$10:$R$11)/IF(ISNONTEXT($Y31)=TRUE,1,DGET(Forespørgsel1[#All],\"\"&$Y31&\"\",Kredsudvælgelse!$Q$10:$R$11))),IF(ISBLANK(HLOOKUP(Y$8,'Statiske ejendomme'!$B$3:$OF$80,'Statiske ejendomme'!$A26,FALSE))=FALSE,HLOOKUP(Y$8,'Statiske ejendomme'!$B$3:$OF$80,'Statiske ejendomme'!$A26,FALSE),\"\"))),\"\")","v":361.49950248756221}]
[null,22,2,3,4,5,6,7,8,9,10,11,12,13,null,null,null,null,null,null,null,null,null,{"$f":"Præsentation!C34","v":0},{"$f":"Præsentation!D34","v":"Antal Producerede kalve"},{"$f":"Præsentation!F34","v":"Inventar inkl. energi"},{"$f":"IFERROR(IF(Y$8=Kredsudvælgelse!$Q$20,\"\",IF(Kredsudvælgelse!$R$9=1,IF(ISTEXT(DGET(Forespørgsel1[#All],\"\"&LEFT($Z32,LEN($Z32)-$X32)&\"\",Kredsudvælgelse!$Q$10:$R$11))=TRUE,DGET(Forespørgsel1[#All],\"\"&LEFT($Z32,LEN($Z32)-$X32)&\"\",Kredsudvælgelse!$Q$10:$R$11),DGET(Forespørgsel1[#All],\"\"&LEFT($Z32,LEN($Z32)-$X32)&\"\",Kredsudvælgelse!$Q$10:$R$11)/IF(ISNONTEXT($Y32)=TRUE,1,DGET(Forespørgsel1[#All],\"\"&$Y32&\"\",Kredsudvælgelse!$Q$10:$R$11))),IF(ISBLANK(HLOOKUP(Y$8,'Statiske ejendomme'!$B$3:$OF$80,'Statiske ejendomme'!$A27,FALSE))=FALSE,HLOOKUP(Y$8,'Statiske ejendomme'!$B$3:$OF$80,'Statiske ejendomme'!$A27,FALSE),\"\"))),\"\")","v":401.14726368159205}]
[null,22,"18 BEDRIFTER I GRUPPEN",0.05,0.1,0.25,0.33,0.4,0.5,0.6,0.67,0.75,0.9,0.95,null,null,null,null,"Identer",{"$f":"Choices!$A$10","v":2},{"$f":"Choices!$A$10*10+Choices!$D$10","v":20},{"$f":"Choices!$A$10*100+Choices!$D$10*10+Choices!$G$10","v":200},null,{"$f":"Præsentation!C35","v":0},{"$f":"Præsentation!D35","v":"Antal Producerede kalve"},{"$f":"Præsentation!F35","v":"Forrentning driftskapital"},{"$f":"IFERROR(IF(Y$8=Kredsudvælgelse!$Q$20,\"\",IF(Kredsudvælgelse!$R$9=1,IF(ISTEXT(DGET(Forespørgsel1[#All],\"\"&LEFT($Z33,LEN($Z33)-$X33)&\"\",Kredsudvælgelse!$Q$10:$R$11))=TRUE,DGET(Forespørgsel1[#All],\"\"&LEFT($Z33,LEN($Z33)-$X33)&\"\",Kredsudvælgelse!$Q$10:$R$11),DGET(Forespørgsel1[#All],\"\"&LEFT($Z33,LEN($Z33)-$X33)&\"\",Kredsudvælgelse!$Q$10:$R$11)/IF(ISNONTEXT($Y33)=TRUE,1,DGET(Forespørgsel1[#All],\"\"&$Y33&\"\",Kredsudvælgelse!$Q$10:$R$11))),IF(ISBLANK(HLOOKUP(Y$8,'Statiske ejendomme'!$B$3:$OF$80,'Statiske ejendomme'!$A28,FALSE))=FALSE,HLOOKUP(Y$8,'Statiske ejendomme'!$B$3:$OF$80,'Statiske ejendomme'!$A28,FALSE),\"\"))),\"\")","v":93.870646766169159}]
[1,{"$f":"$B$32*100+$A34","v":2201},"Fraktilanalyse 2015 - Kalve over 10 mdr.","Stærk konkurrenceevne",null,null,null,null,null,"Stort forbedringspotentiale",null,null,null,null,null,"Antal bedrifter",null,null,null,null,null,null,null,{"$f":"Præsentation!C36","v":0},{"$f":"Præsentation!D36","v":"Antal Producerede kalve"},{"$f":"Præsentation!F36","v":"Øvrige omkostninger"},{"$f":"IFERROR(IF(Y$8=Kredsudvælgelse!$Q$20,\"\",IF(Kredsudvælgelse!$R$9=1,IF(ISTEXT(DGET(Forespørgsel1[#All],\"\"&LEFT($Z34,LEN($Z34)-$X34)&\"\",Kredsudvælgelse!$Q$10:$R$11))=TRUE,DGET(Forespørgsel1[#All],\"\"&LEFT($Z34,LEN($Z34)-$X34)&\"\",Kredsudvælgelse!$Q$10:$R$11),DGET(Forespørgsel1[#All],\"\"&LEFT($Z34,LEN($Z34)-$X34)&\"\",Kredsudvælgelse!$Q$10:$R$11)/IF(ISNONTEXT($Y34)=TRUE,1,DGET(Forespørgsel1[#All],\"\"&$Y34&\"\",Kredsudvælgelse!$Q$10:$R$11))),IF(ISBLANK(HLOOKUP(Y$8,'Statiske ejendomme'!$B$3:$OF$80,'Statiske ejendomme'!$A29,FALSE))=FALSE,HLOOKUP(Y$8,'Statiske ejendomme'!$B$3:$OF$80,'Statiske ejendomme'!$A29,FALSE),\"\"))),\"\")","v":145.29850746268656}]
[2,{"$f":"$B$32*100+$A35","v":2202},"Fraktil",0.1,0.25,0.33,0.4,0.5,0.6,0.67,0.75,0.9,null,null,null,18,null,null,null,null,null,null,null,{"$f":"Præsentation!C37","v":0},{"$f":"Præsentation!D37","v":0},{"$f":"Præsentation!F37","v":0},{"$f":"IFERROR(IF(Y$8=Kredsudvælgelse!$Q$20,\"\",IF(Kredsudvælgelse!$R$9=1,IF(ISTEXT(DGET(Forespørgsel1[#All],\"\"&LEFT($Z35,LEN($Z35)-$X35)&\"\",Kredsudvælgelse!$Q$10:$R$11))=TRUE,DGET(Forespørgsel1[#All],\"\"&LEFT($Z35,LEN($Z35)-$X35)&\"\",Kredsudvælgelse!$Q$10:$R$11),DGET(Forespørgsel1[#All],\"\"&LEFT($Z35,LEN($Z35)-$X35)&\"\",Kredsudvælgelse!$Q$10:$R$11)/IF(ISNONTEXT($Y35)=TRUE,1,DGET(Forespørgsel1[#All],\"\"&$Y35&\"\",Kredsudvælgelse!$Q$10:$R$11))),IF(ISBLANK(HLOOKUP(Y$8,'Statiske ejendomme'!$B$3:$OF$80,'Statiske ejendomme'!$A30,FALSE))=FALSE,HLOOKUP(Y$8,'Statiske ejendomme'!$B$3:$OF$80,'Statiske ejendomme'!$A30,FALSE),\"\"))),\"\")","v":""}]
[3,2203,"Antal foderdage pr. produceret kalv",292.88379429804621,304.1607390117498,308.73460328823705,312.3488862632737,325.11669542709279,332.95680043404792,337.97657304479452,349.53128421453692,384.57728743643275,null,null,3,null,null,null,null,null,null,null,null,{"$f":"Præsentation!C38","v":0},{"$f":"Præsentation!D38","v":"Antal Producerede kalve"},{"$f":"Præsentation!F38","v":"Bundet kapital"},{"$f":"IFERROR(IF(Y$8=Kredsudvælgelse!$Q$20,\"\",IF(Kredsudvælgelse!$R$9=1,IF(ISTEXT(DGET(Forespørgsel1[#All],\"\"&LEFT($Z36,LEN($Z36)-$X36)&\"\",Kredsudvælgelse!$Q$10:$R$11))=TRUE,DGET(Forespørgsel1[#All],\"\"&LEFT($Z36,LEN($Z36)-$X36)&\"\",Kredsudvælgelse!$Q$10:$R$11),DGET(Forespørgsel1[#All],\"\"&LEFT($Z36,LEN($Z36)-$X36)&\"\",Kredsudvælgelse!$Q$10:$R$11)/IF(ISNONTEXT($Y36)=TRUE,1,DGET(Forespørgsel1[#All],\"\"&$Y36&\"\",Kredsudvælgelse!$Q$10:$R$11))),IF(ISBLANK(HLOOKUP(Y$8,'Statiske ejendomme'!$B$3:$OF$80,'Statiske ejendomme'!$A31,FALSE))=FALSE,HLOOKUP(Y$8,'Statiske ejendomme'!$B$3:$OF$80,'Statiske ejendomme'!$A31,FALSE),\"\"))),\"\")","v":7490.4885572139301}]
[4,2204,"Fremstillingspris pr. kg slagtet",23.569132388524025,24.534849004804393,25.054988735919899,26.645042016806723,27.484671993271657,28.326138643964732,29.020967736055415,29.545023696682463,33.263864861890617,null,null,0,null,null,null,null,null,null,null,null,{"$f":"Præsentation!C39","v":0},{"$f":"Præsentation!D39","v":"Antal Producerede kalve"},{"$f":"Præsentation!F39","v":"Anvendt rentesats, pct."},{"$f":"IFERROR(IF(Y$8=Kredsudvælgelse!$Q$20,\"\",IF(Kredsudvælgelse!$R$9=1,IF(ISTEXT(DGET(Forespørgsel1[#All],\"\"&LEFT($Z37,LEN($Z37)-$X37)&\"\",Kredsudvælgelse!$Q$10:$R$11))=TRUE,DGET(Forespørgsel1[#All],\"\"&LEFT($Z37,LEN($Z37)-$X37)&\"\",Kredsudvælgelse!$Q$10:$R$11),DGET(Forespørgsel1[#All],\"\"&LEFT($Z37,LEN($Z37)-$X37)&\"\",Kredsudvælgelse!$Q$10:$R$11)/IF(ISNONTEXT($Y37)=TRUE,1,DGET(Forespørgsel1[#All],\"\"&$Y37&\"\",Kredsudvælgelse!$Q$10:$R$11))),IF(ISBLANK(HLOOKUP(Y$8,'Statiske ejendomme'!$B$3:$OF$80,'Statiske ejendomme'!$A32,FALSE))=FALSE,HLOOKUP(Y$8,'Statiske ejendomme'!$B$3:$OF$80,'Statiske ejendomme'!$A32,FALSE),\"\"))),\"\")","v":3.3}]
[5,2205,"Foderomkostning pr. foderdag",9.2235625268529002,10.413102274755833,10.447619680630178,10.577037136897879,10.736828985139951,10.902599375844456,11.149227764541395,11.417221575406048,12.083759679565491,null,null,0,null,null,null,null,null,null,null,null,{"$f":"Præsentation!C40","v":0},{"$f":"Præsentation!D40","v":"Antal Producerede kalve"},{"$f":"Præsentation!F40","v":"Resultatkorrektion ved 4 pct. rente"},{"$f":"IFERROR(IF(Y$8=Kredsudvælgelse!$Q$20,\"\",IF(Kredsudvælgelse!$R$9=1,IF(ISTEXT(DGET(Forespørgsel1[#All],\"\"&LEFT($Z38,LEN($Z38)-$X38)&\"\",Kredsudvælgelse!$Q$10:$R$11))=TRUE,DGET(Forespørgsel1[#All],\"\"&LEFT($Z38,LEN($Z38)-$X38)&\"\",Kredsudvælgelse!$Q$10:$R$11),DGET(Forespørgsel1[#All],\"\"&LEFT($Z38,LEN($Z38)-$X38)&\"\",Kredsudvælgelse!$Q$10:$R$11)/IF(ISNONTEXT($Y38)=TRUE,1,DGET(Forespørgsel1[#All],\"\"&$Y38&\"\",Kredsudvælgelse!$Q$10:$R$11))),IF(ISBLANK(HLOOKUP(Y$8,'Statiske ejendomme'!$B$3:$OF$80,'Statiske ejendomme'!$A33,FALSE))=FALSE,HLOOKUP(Y$8,'Statiske ejendomme'!$B$3:$OF$80,'Statiske ejendomme'!$A33,FALSE),\"\"))),\"\")","v":-52.433830845771148}]
[6,2206,"Restbeløb pr. foderdag",7.5547665308719125,6.5719168787660767,6.1188749949175252,6.0503485469505982,5.2430210752551574,4.7534691633854909,4.5173536821238311,4.1373051199614199,2.8580100523683289,null,null,0,null,null,null,null,null,null,null,null,{"$f":"Præsentation!C41","v":0},{"$f":"Præsentation!D41","v":0},{"$f":"Præsentation!F41","v":"Afkastningsgrad"},{"$f":"IFERROR(IF(Y$8=Kredsudvælgelse!$Q$20,\"\",IF(Kredsudvælgelse!$R$9=1,IF(ISTEXT(DGET(Forespørgsel1[#All],\"\"&LEFT($Z39,LEN($Z39)-$X39)&\"\",Kredsudvælgelse!$Q$10:$R$11))=TRUE,DGET(Forespørgsel1[#All],\"\"&LEFT($Z39,LEN($Z39)-$X39)&\"\",Kredsudvælgelse!$Q$10:$R$11),DGET(Forespørgsel1[#All],\"\"&LEFT($Z39,LEN($Z39)-$X39)&\"\",Kredsudvælgelse!$Q$10:$R$11)/IF(ISNONTEXT($Y39)=TRUE,1,DGET(Forespørgsel1[#All],\"\"&$Y39&\"\",Kredsudvælgelse!$Q$10:$R$11))),IF(ISBLANK(HLOOKUP(Y$8,'Statiske ejendomme'!$B$3:$OF$80,'Statiske ejendomme'!$A34,FALSE))=FALSE,HLOOKUP(Y$8,'Statiske ejendomme'!$B$3:$OF$80,'Statiske ejendomme'!$A34,FALSE),\"\"))),\"\")","v":14.13}]
[7,2207,"Krav til restbeløb pr. foderdag",4.3127446847687274,4.8175828226850816,5.0974752281280047,5.3577701990951363,5.5152288609234432,5.7035894410050823,5.8770520833286541,6.5793375197686803,7.5694743961978821,null,null,0,null,null,null,null,null,null,null,null,{"$f":"Præsentation!C42","v":0},{"$f":"Præsentation!D42","v":0},{"$f":"Præsentation!F42","v":0},{"$f":"IFERROR(IF(Y$8=Kredsudvælgelse!$Q$20,\"\",IF(Kredsudvælgelse!$R$9=1,IF(ISTEXT(DGET(Forespørgsel1[#All],\"\"&LEFT($Z40,LEN($Z40)-$X40)&\"\",Kredsudvælgelse!$Q$10:$R$11))=TRUE,DGET(Forespørgsel1[#All],\"\"&LEFT($Z40,LEN($Z40)-$X40)&\"\",Kredsudvælgelse!$Q$10:$R$11),DGET(Forespørgsel1[#All],\"\"&LEFT($Z40,LEN($Z40)-$X40)&\"\",Kredsudvælgelse!$Q$10:$R$11)/IF(ISNONTEXT($Y40)=TRUE,1,DGET(Forespørgsel1[#All],\"\"&$Y40&\"\",Kredsudvælgelse!$Q$10:$R$11))),IF(ISBLANK(HLOOKUP(Y$8,'Statiske ejendomme'!$B$3:$OF$80,'Statiske ejendomme'!$A35,FALSE))=FALSE,HLOOKUP(Y$8,'Statiske ejendomme'!$B$3:$OF$80,'Statiske ejendomme'!$A35,FALSE),\"\"))),\"\")","v":""}]
[8,2208,"Årets resultat pr. foderdag",2.0833761044215935,0.94876435022407057,0.45642959192178256,0.31328776367121197,6.3074310003432554E-3,-0.39088575616358029,-0.80366725139856388,-1.0244610956064786,-3.545412474121814,null,null,0,null,null,null,null,null,null,null,null,{"$f":"Præsentation!C43","v":0},{"$f":"Præsentation!D43","v":"Antal Producerede kalve"},{"$f":"Præsentation!F43","v":"Specifikation af resultat"},{"$f":"IFERROR(IF(Y$8=Kredsudvælgelse!$Q$20,\"\",IF(Kredsudvælgelse!$R$9=1,IF(ISTEXT(DGET(Forespørgsel1[#All],\"\"&LEFT($Z41,LEN($Z41)-$X41)&\"\",Kredsudvælgelse!$Q$10:$R$11))=TRUE,DGET(Forespørgsel1[#All],\"\"&LEFT($Z41,LEN($Z41)-$X41)&\"\",Kredsudvælgelse!$Q$10:$R$11),DGET(Forespørgsel1[#All],\"\"&LEFT($Z41,LEN($Z41)-$X41)&\"\",Kredsudvælgelse!$Q$10:$R$11)/IF(ISNONTEXT($Y41)=TRUE,1,DGET(Forespørgsel1[#All],\"\"&$Y41&\"\",Kredsudvælgelse!$Q$10:$R$11))),IF(ISBLANK(HLOOKUP(Y$8,'Statiske ejendomme'!$B$3:$OF$80,'Statiske ejendomme'!$A36,FALSE))=FALSE,HLOOKUP(Y$8,'Statiske ejendomme'!$B$3:$OF$80,'Statiske ejendomme'!$A36,FALSE),\"\"))),\"\")","v":""}]
[9,2209,"Afkastningsgrad, pct.",12.382847436100972,6.6174999999999997,5.1469000000000014,4.4240000000000004,3.19,2.1440000000000015,-0.20559999999999956,-1.8074999999999999,-11.100999999999999,null,null,0,null,null,null,null,null,null,null,null,{"$f":"Præsentation!C44","v":0},{"$f":"Præsentation!D44","v":"Antal Producerede kalve"},{"$f":"Præsentation!F44","v":"Salg af dyr, kvæg"},{"$f":"IFERROR(IF(Y$8=Kredsudvælgelse!$Q$20,\"\",IF(Kredsudvælgelse!$R$9=1,IF(ISTEXT(DGET(Forespørgsel1[#All],\"\"&LEFT($Z42,LEN($Z42)-$X42)&\"\",Kredsudvælgelse!$Q$10:$R$11))=TRUE,DGET(Forespørgsel1[#All],\"\"&LEFT($Z42,LEN($Z42)-$X42)&\"\",Kredsudvælgelse!$Q$10:$R$11),DGET(Forespørgsel1[#All],\"\"&LEFT($Z42,LEN($Z42)-$X42)&\"\",Kredsudvælgelse!$Q$10:$R$11)/IF(ISNONTEXT($Y42)=TRUE,1,DGET(Forespørgsel1[#All],\"\"&$Y42&\"\",Kredsudvælgelse!$Q$10:$R$11))),IF(ISBLANK(HLOOKUP(Y$8,'Statiske ejendomme'!$B$3:$OF$80,'Statiske ejendomme'!$A37,FALSE))=FALSE,HLOOKUP(Y$8,'Statiske ejendomme'!$B$3:$OF$80,'Statiske ejendomme'!$A37,FALSE),\"\"))),\"\")","v":5997.7810945273632}]
[10,2210,"Bundet kapital pr. produceret kalv",5585.1,6480.75,7261.46,8445.6,8860,9186.4,9620.93,11902.25,13185.2,null,null,0,null,null,null,null,null,null,null,null,{"$f":"Præsentation!C45","v":0},{"$f":"Præsentation!D45","v":"Antal Producerede kalve"},{"$f":"Præsentation!F45","v":"Køb af dyr, kvæg"},{"$f":"IFERROR(IF(Y$8=Kredsudvælgelse!$Q$20,\"\",IF(Kredsudvælgelse!$R$9=1,IF(ISTEXT(DGET(Forespørgsel1[#All],\"\"&LEFT($Z43,LEN($Z43)-$X43)&\"\",Kredsudvælgelse!$Q$10:$R$11))=TRUE,DGET(Forespørgsel1[#All],\"\"&LEFT($Z43,LEN($Z43)-$X43)&\"\",Kredsudvælgelse!$Q$10:$R$11),DGET(Forespørgsel1[#All],\"\"&LEFT($Z43,LEN($Z43)-$X43)&\"\",Kredsudvælgelse!$Q$10:$R$11)/IF(ISNONTEXT($Y43)=TRUE,1,DGET(Forespørgsel1[#All],\"\"&$Y43&\"\",Kredsudvælgelse!$Q$10:$R$11))),IF(ISBLANK(HLOOKUP(Y$8,'Statiske ejendomme'!$B$3:$OF$80,'Statiske ejendomme'!$A38,FALSE))=FALSE,HLOOKUP(Y$8,'Statiske ejendomme'!$B$3:$OF$80,'Statiske ejendomme'!$A38,FALSE),\"\"))),\"\")","v":-1296.1701492537313}]
[11,2211,"Dækningsbidrag pr. produceret kalv",2615.5,2215.75,2083.5700000000002,1975.8,1780.5,1599.4,1460.7800000000002,1232.5,1010.3000000000001,null,null,null,null,null,null,null,null,null,null,null,null,{"$f":"Præsentation!D46","v":"Antal Producerede kalve"},{"$f":"Præsentation!F46","v":"Besætningsforskydning"},{"$f":"IFERROR(IF(Y$8=Kredsudvælgelse!$Q$20,\"\",IF(Kredsudvælgelse!$R$9=1,IF(ISTEXT(DGET(Forespørgsel1[#All],\"\"&LEFT($Z44,LEN($Z44)-$X44)&\"\",Kredsudvælgelse!$Q$10:$R$11))=TRUE,DGET(Forespørgsel1[#All],\"\"&LEFT($Z44,LEN($Z44)-$X44)&\"\",Kredsudvælgelse!$Q$10:$R$11),DGET(Forespørgsel1[#All],\"\"&LEFT($Z44,LEN($Z44)-$X44)&\"\",Kredsudvælgelse!$Q$10:$R$11)/IF(ISNONTEXT($Y44)=TRUE,1,DGET(Forespørgsel1[#All],\"\"&$Y44&\"\",Kredsudvælgelse!$Q$10:$R$11))),IF(ISBLANK(HLOOKUP(Y$8,'Statiske ejendomme'!$B$3:$OF$80,'Statiske ejendomme'!$A39,FALSE))=FALSE,HLOOKUP(Y$8,'Statiske ejendomme'!$B$3:$OF$80,'Statiske ejendomme'!$A39,FALSE),\"\"))),\"\")","v":134.82587064676616}]
[12,2212,"Krav til dækningsbidrag pr. produceret kalv",1359.7,1606,1718.92,1801.4,1922,2093.6,2116.58,2220,2330.1999999999998,null,null,null,null,null,null,null,null,null,null,null,null,{"$f":"Præsentation!D47","v":"Antal Producerede kalve"},{"$f":"Præsentation!F47","v":"Kvæg andet, inkl. slagtepræmie"},{"$f":"IFERROR(IF(Y$8=Kredsudvælgelse!$Q$20,\"\",IF(Kredsudvælgelse!$R$9=1,IF(ISTEXT(DGET(Forespørgsel1[#All],\"\"&LEFT($Z45,LEN($Z45)-$X45)&\"\",Kredsudvælgelse!$Q$10:$R$11))=TRUE,DGET(Forespørgsel1[#All],\"\"&LEFT($Z45,LEN($Z45)-$X45)&\"\",Kredsudvælgelse!$Q$10:$R$11),DGET(Forespørgsel1[#All],\"\"&LEFT($Z45,LEN($Z45)-$X45)&\"\",Kredsudvælgelse!$Q$10:$R$11)/IF(ISNONTEXT($Y45)=TRUE,1,DGET(Forespørgsel1[#All],\"\"&$Y45&\"\",Kredsudvælgelse!$Q$10:$R$11))),IF(ISBLANK(HLOOKUP(Y$8,'Statiske ejendomme'!$B$3:$OF$80,'Statiske ejendomme'!$A40,FALSE))=FALSE,HLOOKUP(Y$8,'Statiske ejendomme'!$B$3:$OF$80,'Statiske ejendomme'!$A40,FALSE),\"\"))),\"\")","v":811.91144278606964}]
[13,2213,"Arbejdsomkostninger pr. produceret kalv",401.8,457.5,553.01,635.40000000000009,676.5,702.6,713.68000000000006,745,820.2,null,null,0,null,null,null,null,null,null,null,null,{"$f":"Præsentation!C46","v":0},{"$f":"Præsentation!D48","v":"Antal Producerede kalve"},{"$f":"Præsentation!F48","v":"Andre landbrugsindtægter"},{"$f":"IFERROR(IF(Y$8=Kredsudvælgelse!$Q$20,\"\",IF(Kredsudvælgelse!$R$9=1,IF(ISTEXT(DGET(Forespørgsel1[#All],\"\"&LEFT($Z46,LEN($Z46)-$X46)&\"\",Kredsudvælgelse!$Q$10:$R$11))=TRUE,DGET(Forespørgsel1[#All],\"\"&LEFT($Z46,LEN($Z46)-$X46)&\"\",Kredsudvælgelse!$Q$10:$R$11),DGET(Forespørgsel1[#All],\"\"&LEFT($Z46,LEN($Z46)-$X46)&\"\",Kredsudvælgelse!$Q$10:$R$11)/IF(ISNONTEXT($Y46)=TRUE,1,DGET(Forespørgsel1[#All],\"\"&$Y46&\"\",Kredsudvælgelse!$Q$10:$R$11))),IF(ISBLANK(HLOOKUP(Y$8,'Statiske ejendomme'!$B$3:$OF$80,'Statiske ejendomme'!$A41,FALSE))=FALSE,HLOOKUP(Y$8,'Statiske ejendomme'!$B$3:$OF$80,'Statiske ejendomme'!$A41,FALSE),\"\"))),\"\")","v":0}]
[14,2214,"Bygninger pr. produceret kalv.",233.20000000000002,313.75,356.67,375,489,538,593.1,691.5,939,null,null,0,null,null,null,null,null,null,null,null,{"$f":"Præsentation!C47","v":0},{"$f":"Præsentation!D49","v":"Antal Producerede kalve"},{"$f":"Præsentation!F49","v":"Bruttoudbytte i alt"},{"$f":"IFERROR(IF(Y$8=Kredsudvælgelse!$Q$20,\"\",IF(Kredsudvælgelse!$R$9=1,IF(ISTEXT(DGET(Forespørgsel1[#All],\"\"&LEFT($Z47,LEN($Z47)-$X47)&\"\",Kredsudvælgelse!$Q$10:$R$11))=TRUE,DGET(Forespørgsel1[#All],\"\"&LEFT($Z47,LEN($Z47)-$X47)&\"\",Kredsudvælgelse!$Q$10:$R$11),DGET(Forespørgsel1[#All],\"\"&LEFT($Z47,LEN($Z47)-$X47)&\"\",Kredsudvælgelse!$Q$10:$R$11)/IF(ISNONTEXT($Y47)=TRUE,1,DGET(Forespørgsel1[#All],\"\"&$Y47&\"\",Kredsudvælgelse!$Q$10:$R$11))),IF(ISBLANK(HLOOKUP(Y$8,'Statiske ejendomme'!$B$3:$OF$80,'Statiske ejendomme'!$A42,FALSE))=FALSE,HLOOKUP(Y$8,'Statiske ejendomme'!$B$3:$OF$80,'Statiske ejendomme'!$A42,FALSE),\"\"))),\"\")","v":5648.3482587064673}]
[15,2215,"Inventar inkl. energi pr. produceret kalv",191,359.5,394.66,400.2,445,479.59999999999997,502.87,526,610.4,null,null,0,null,null,null,null,null,null,null,null,{"$f":"Præsentation!C48","v":0},{"$f":"Præsentation!D50","v":0},{"$f":"Præsentation!F50","v":0},{"$f":"IFERROR(IF(Y$8=Kredsudvælgelse!$Q$20,\"\",IF(Kredsudvælgelse!$R$9=1,IF(ISTEXT(DGET(Forespørgsel1[#All],\"\"&LEFT($Z48,LEN($Z48)-$X48)&\"\",Kredsudvælgelse!$Q$10:$R$11))=TRUE,DGET(Forespørgsel1[#All],\"\"&LEFT($Z48,LEN($Z48)-$X48)&\"\",Kredsudvælgelse!$Q$10:$R$11),DGET(Forespørgsel1[#All],\"\"&LEFT($Z48,LEN($Z48)-$X48)&\"\",Kredsudvælgelse!$Q$10:$R$11)/IF(ISNONTEXT($Y48)=TRUE,1,DGET(Forespørgsel1[#All],\"\"&$Y48&\"\",Kredsudvælgelse!$Q$10:$R$11))),IF(ISBLANK(HLOOKUP(Y$8,'Statiske ejendomme'!$B$3:$OF$80,'Statiske ejendomme'!$A43,FALSE))=FALSE,HLOOKUP(Y$8,'Statiske ejendomme'!$B$3:$OF$80,'Statiske ejendomme'!$A43,FALSE),\"\"))),\"\")","v":""}]
[16,2216,"Årets resultat pr. produceret kalv",679.4000000000002,326.75,136.86000000000004,101.6,1,-124.39999999999989,-282.45999999999998,-358.75,-1038.3,0,0,0,null,null,null,null,null,null,null,null,{"$f":"Præsentation!C49","v":0},{"$f":"Præsentation!D51","v":"Antal Producerede kalve"},{"$f":"Præsentation!F51","v":"Korn"},{"$f":"IFERROR(IF(Y$8=Kredsudvælgelse!$Q$20,\"\",IF(Kredsudvælgelse!$R$9=1,IF(ISTEXT(DGET(Forespørgsel1[#All],\"\"&LEFT($Z49,LEN($Z49)-$X49)&\"\",Kredsudvælgelse!$Q$10:$R$11))=TRUE,DGET(Forespørgsel1[#All],\"\"&LEFT($Z49,LEN($Z49)-$X49)&\"\",Kredsudvælgelse!$Q$10:$R$11),DGET(Forespørgsel1[#All],\"\"&LEFT($Z49,LEN($Z49)-$X49)&\"\",Kredsudvælgelse!$Q$10:$R$11)/IF(ISNONTEXT($Y49)=TRUE,1,DGET(Forespørgsel1[#All],\"\"&$Y49&\"\",Kredsudvælgelse!$Q$10:$R$11))),IF(ISBLANK(HLOOKUP(Y$8,'Statiske ejendomme'!$B$3:$OF$80,'Statiske ejendomme'!$A44,FALSE))=FALSE,HLOOKUP(Y$8,'Statiske ejendomme'!$B$3:$OF$80,'Statiske ejendomme'!$A44,FALSE),\"\"))),\"\")","v":-1129.7880597014926}]
[null,null,null,null,null,null,null,null,null,null,null,null,null,null,null,null,null,null,null,null,null,null,null,{"$f":"Præsentation!C50","v":0},{"$f":"Præsentation!D52","v":"Antal Producerede kalve"},{"$f":"Præsentation!F52","v":"Råvarer"},{"$f":"IFERROR(IF(Y$8=Kredsudvælgelse!$Q$20,\"\",IF(Kredsudvælgelse!$R$9=1,IF(ISTEXT(DGET(Forespørgsel1[#All],\"\"&LEFT($Z50,LEN($Z50)-$X50)&\"\",Kredsudvælgelse!$Q$10:$R$11))=TRUE,DGET(Forespørgsel1[#All],\"\"&LEFT($Z50,LEN($Z50)-$X50)&\"\",Kredsudvælgelse!$Q$10:$R$11),DGET(Forespørgsel1[#All],\"\"&LEFT($Z50,LEN($Z50)-$X50)&\"\",Kredsudvælgelse!$Q$10:$R$11)/IF(ISNONTEXT($Y50)=TRUE,1,DGET(Forespørgsel1[#All],\"\"&$Y50&\"\",Kredsudvælgelse!$Q$10:$R$11))),IF(ISBLANK(HLOOKUP(Y$8,'Statiske ejendomme'!$B$3:$OF$80,'Statiske ejendomme'!$A45,FALSE))=FALSE,HLOOKUP(Y$8,'Statiske ejendomme'!$B$3:$OF$80,'Statiske ejendomme'!$A45,FALSE),\"\"))),\"\")","v":0}]
[null,23,"27 BEDRIFTER I GRUPPEN",0.05,0.1,0.25,0.33,0.4,0.5,0.6,0.67,0.75,0.9,0.95,null,null,null,null,null,null,null,null,null,{"$f":"Præsentation!C51","v":0},{"$f":"Præsentation!D53","v":"Antal Producerede kalve"},{"$f":"Præsentation!F53","v":"Kraftfoder, tilskudsfoder, færdigblanding mv."},{"$f":"IFERROR(IF(Y$8=Kredsudvælgelse!$Q$20,\"\",IF(Kredsudvælgelse!$R$9=1,IF(ISTEXT(DGET(Forespørgsel1[#All],\"\"&LEFT($Z51,LEN($Z51)-$X51)&\"\",Kredsudvælgelse!$Q$10:$R$11))=TRUE,DGET(Forespørgsel1[#All],\"\"&LEFT($Z51,LEN($Z51)-$X51)&\"\",Kredsudvælgelse!$Q$10:$R$11),DGET(Forespørgsel1[#All],\"\"&LEFT($Z51,LEN($Z51)-$X51)&\"\",Kredsudvælgelse!$Q$10:$R$11)/IF(ISNONTEXT($Y51)=TRUE,1,DGET(Forespørgsel1[#All],\"\"&$Y51&\"\",Kredsudvælgelse!$Q$10:$R$11))),IF(ISBLANK(HLOOKUP(Y$8,'Statiske ejendomme'!$B$3:$OF$80,'Statiske ejendomme'!$A46,FALSE))=FALSE,HLOOKUP(Y$8,'Statiske ejendomme'!$B$3:$OF$80,'Statiske ejendomme'!$A46,FALSE),\"\"))),\"\")","v":-1690.2537313432836}]
[1,{"$f":"$B$51*100+$A52","v":2301},"Fraktilanalyse 2015 - Kalve under 10 mdr.","Stærk konkurrenceevne",null,null,null,null,null,"Stort forbedringspotentiale",null,null,null,null,null,"Antal bedrifter",null,null,null,null,null,null,null,{"$f":"Præsentation!C52","v":0},{"$f":"Præsentation!D54","v":"Antal Producerede kalve"},{"$f":"Præsentation!F54","v":"Mineraler og vitaminer"},{"$f":"IFERROR(IF(Y$8=Kredsudvælgelse!$Q$20,\"\",IF(Kredsudvælgelse!$R$9=1,IF(ISTEXT(DGET(Forespørgsel1[#All],\"\"&LEFT($Z52,LEN($Z52)-$X52)&\"\",Kredsudvælgelse!$Q$10:$R$11))=TRUE,DGET(Forespørgsel1[#All],\"\"&LEFT($Z52,LEN($Z52)-$X52)&\"\",Kredsudvælgelse!$Q$10:$R$11),DGET(Forespørgsel1[#All],\"\"&LEFT($Z52,LEN($Z52)-$X52)&\"\",Kredsudvælgelse!$Q$10:$R$11)/IF(ISNONTEXT($Y52)=TRUE,1,DGET(Forespørgsel1[#All],\"\"&$Y52&\"\",Kredsudvælgelse!$Q$10:$R$11))),IF(ISBLANK(HLOOKUP(Y$8,'Statiske ejendomme'!$B$3:$OF$80,'Statiske ejendomme'!$A47,FALSE))=FALSE,HLOOKUP(Y$8,'Statiske ejendomme'!$B$3:$OF$80,'Statiske ejendomme'!$A47,FALSE),\"\"))),\"\")","v":-4.1333333333333337}]
[2,{"$f":"$B$51*100+$A53","v":2302},"Fraktil",0.9,0.75,0.67,0.6,0.5,0.4,0.33,0.25,0.1,null,null,0,27,null,null,null,null,null,null,null,{"$f":"Præsentation!C53","v":0},{"$f":"Præsentation!D55","v":"Antal Producerede kalve"},{"$f":"Præsentation!F55","v":"Biprodukter mv."},{"$f":"IFERROR(IF(Y$8=Kredsudvælgelse!$Q$20,\"\",IF(Kredsudvælgelse!$R$9=1,IF(ISTEXT(DGET(Forespørgsel1[#All],\"\"&LEFT($Z53,LEN($Z53)-$X53)&\"\",Kredsudvælgelse!$Q$10:$R$11))=TRUE,DGET(Forespørgsel1[#All],\"\"&LEFT($Z53,LEN($Z53)-$X53)&\"\",Kredsudvælgelse!$Q$10:$R$11),DGET(Forespørgsel1[#All],\"\"&LEFT($Z53,LEN($Z53)-$X53)&\"\",Kredsudvælgelse!$Q$10:$R$11)/IF(ISNONTEXT($Y53)=TRUE,1,DGET(Forespørgsel1[#All],\"\"&$Y53&\"\",Kredsudvælgelse!$Q$10:$R$11))),IF(ISBLANK(HLOOKUP(Y$8,'Statiske ejendomme'!$B$3:$OF$80,'Statiske ejendomme'!$A48,FALSE))=FALSE,HLOOKUP(Y$8,'Statiske ejendomme'!$B$3:$OF$80,'Statiske ejendomme'!$A48,FALSE),\"\"))),\"\")","v":0}]
[3,2303,"Antal foderdage pr. produceret kalv",248.51183093355439,255.01863967705694,260.50989911150691,263.06849809970959,271.14049586776872,273.54523076923084,275.80227897176513,276.75735849346785,281.61225830046737,null,null,11,null,null,null,null,null,null,null,null,{"$f":"Præsentation!C54","v":0},{"$f":"Præsentation!D56","v":"Antal Producerede kalve"},{"$f":"Præsentation!F56","v":"Grovfoder"},{"$f":"IFERROR(IF(Y$8=Kredsudvælgelse!$Q$20,\"\",IF(Kredsudvælgelse!$R$9=1,IF(ISTEXT(DGET(Forespørgsel1[#All],\"\"&LEFT($Z54,LEN($Z54)-$X54)&\"\",Kredsudvælgelse!$Q$10:$R$11))=TRUE,DGET(Forespørgsel1[#All],\"\"&LEFT($Z54,LEN($Z54)-$X54)&\"\",Kredsudvælgelse!$Q$10:$R$11),DGET(Forespørgsel1[#All],\"\"&LEFT($Z54,LEN($Z54)-$X54)&\"\",Kredsudvælgelse!$Q$10:$R$11)/IF(ISNONTEXT($Y54)=TRUE,1,DGET(Forespørgsel1[#All],\"\"&$Y54&\"\",Kredsudvælgelse!$Q$10:$R$11))),IF(ISBLANK(HLOOKUP(Y$8,'Statiske ejendomme'!$B$3:$OF$80,'Statiske ejendomme'!$A49,FALSE))=FALSE,HLOOKUP(Y$8,'Statiske ejendomme'!$B$3:$OF$80,'Statiske ejendomme'!$A49,FALSE),\"\"))),\"\")","v":-208.81492537313432}]
[4,2304,"Fremstillingspris pr. kg slagtet vægt",22.77208121827411,24.259426485421969,25.10546383611279,25.739537755822159,25.7720207253886,26.552111111111113,27.006955401628389,27.124885511300345,28.43737373737374,null,null,0,null,null,null,null,null,null,null,null,{"$f":"Præsentation!C55","v":0},{"$f":"Præsentation!D57","v":"Antal Producerede kalve"},{"$f":"Præsentation!F57","v":"Dyrlæge og medicin"},{"$f":"IFERROR(IF(Y$8=Kredsudvælgelse!$Q$20,\"\",IF(Kredsudvælgelse!$R$9=1,IF(ISTEXT(DGET(Forespørgsel1[#All],\"\"&LEFT($Z55,LEN($Z55)-$X55)&\"\",Kredsudvælgelse!$Q$10:$R$11))=TRUE,DGET(Forespørgsel1[#All],\"\"&LEFT($Z55,LEN($Z55)-$X55)&\"\",Kredsudvælgelse!$Q$10:$R$11),DGET(Forespørgsel1[#All],\"\"&LEFT($Z55,LEN($Z55)-$X55)&\"\",Kredsudvælgelse!$Q$10:$R$11)/IF(ISNONTEXT($Y55)=TRUE,1,DGET(Forespørgsel1[#All],\"\"&$Y55&\"\",Kredsudvælgelse!$Q$10:$R$11))),IF(ISBLANK(HLOOKUP(Y$8,'Statiske ejendomme'!$B$3:$OF$80,'Statiske ejendomme'!$A50,FALSE))=FALSE,HLOOKUP(Y$8,'Statiske ejendomme'!$B$3:$OF$80,'Statiske ejendomme'!$A50,FALSE),\"\"))),\"\")","v":-53.690547263681594}]
[5,2305,"Foderomkostning pr. foderdag",9.6490303957889516,10.09796635200977,10.222320027969191,10.356465629677619,10.715124345185185,10.99976914854774,11.361765177626843,11.628447099783696,12.495001545139234,null,null,0,null,null,null,null,null,null,null,null,{"$f":"Præsentation!C56","v":0},{"$f":"Præsentation!D58","v":"Antal Producerede kalve"},{"$f":"Præsentation!F58","v":"Avl, Rådgivning og Kontrol"},{"$f":"IFERROR(IF(Y$8=Kredsudvælgelse!$Q$20,\"\",IF(Kredsudvælgelse!$R$9=1,IF(ISTEXT(DGET(Forespørgsel1[#All],\"\"&LEFT($Z56,LEN($Z56)-$X56)&\"\",Kredsudvælgelse!$Q$10:$R$11))=TRUE,DGET(Forespørgsel1[#All],\"\"&LEFT($Z56,LEN($Z56)-$X56)&\"\",Kredsudvælgelse!$Q$10:$R$11),DGET(Forespørgsel1[#All],\"\"&LEFT($Z56,LEN($Z56)-$X56)&\"\",Kredsudvælgelse!$Q$10:$R$11)/IF(ISNONTEXT($Y56)=TRUE,1,DGET(Forespørgsel1[#All],\"\"&$Y56&\"\",Kredsudvælgelse!$Q$10:$R$11))),IF(ISBLANK(HLOOKUP(Y$8,'Statiske ejendomme'!$B$3:$OF$80,'Statiske ejendomme'!$A51,FALSE))=FALSE,HLOOKUP(Y$8,'Statiske ejendomme'!$B$3:$OF$80,'Statiske ejendomme'!$A51,FALSE),\"\"))),\"\")","v":-18.759203980099503}]
[6,2306,"Restbeløb pr. foderdag",9.3501807933349799,8.5018655720744043,8.0691052212255077,7.7295838426046668,7.1848691567881895,7.0063587356538575,6.6227668689770489,6.2672758398346335,4.908091926286553,null,null,0,null,null,null,null,null,null,null,null,{"$f":"Præsentation!C57","v":0},{"$f":"Præsentation!D59","v":"Antal Producerede kalve"},{"$f":"Præsentation!F59","v":"Diverse stykomkostninger"},{"$f":"IFERROR(IF(Y$8=Kredsudvælgelse!$Q$20,\"\",IF(Kredsudvælgelse!$R$9=1,IF(ISTEXT(DGET(Forespørgsel1[#All],\"\"&LEFT($Z57,LEN($Z57)-$X57)&\"\",Kredsudvælgelse!$Q$10:$R$11))=TRUE,DGET(Forespørgsel1[#All],\"\"&LEFT($Z57,LEN($Z57)-$X57)&\"\",Kredsudvælgelse!$Q$10:$R$11),DGET(Forespørgsel1[#All],\"\"&LEFT($Z57,LEN($Z57)-$X57)&\"\",Kredsudvælgelse!$Q$10:$R$11)/IF(ISNONTEXT($Y57)=TRUE,1,DGET(Forespørgsel1[#All],\"\"&$Y57&\"\",Kredsudvælgelse!$Q$10:$R$11))),IF(ISBLANK(HLOOKUP(Y$8,'Statiske ejendomme'!$B$3:$OF$80,'Statiske ejendomme'!$A52,FALSE))=FALSE,HLOOKUP(Y$8,'Statiske ejendomme'!$B$3:$OF$80,'Statiske ejendomme'!$A52,FALSE),\"\"))),\"\")","v":-64.608955223880599}]
[7,2307,"Krav til restbeløb pr. foderdag",4.651351527907897,5.6503080906116505,5.9672838617058881,6.0407501292382699,6.3075975456634419,6.8403779642446825,7.3433638225543074,7.6013299787153015,8.6116922017566644,null,null,0,null,null,null,null,null,null,null,null,{"$f":"Præsentation!C58","v":0},{"$f":"Præsentation!D60","v":"Antal Producerede kalve"},{"$f":"Præsentation!F60","v":"Stykomkostninger i alt"},{"$f":"IFERROR(IF(Y$8=Kredsudvælgelse!$Q$20,\"\",IF(Kredsudvælgelse!$R$9=1,IF(ISTEXT(DGET(Forespørgsel1[#All],\"\"&LEFT($Z58,LEN($Z58)-$X58)&\"\",Kredsudvælgelse!$Q$10:$R$11))=TRUE,DGET(Forespørgsel1[#All],\"\"&LEFT($Z58,LEN($Z58)-$X58)&\"\",Kredsudvælgelse!$Q$10:$R$11),DGET(Forespørgsel1[#All],\"\"&LEFT($Z58,LEN($Z58)-$X58)&\"\",Kredsudvælgelse!$Q$10:$R$11)/IF(ISNONTEXT($Y58)=TRUE,1,DGET(Forespørgsel1[#All],\"\"&$Y58&\"\",Kredsudvælgelse!$Q$10:$R$11))),IF(ISBLANK(HLOOKUP(Y$8,'Statiske ejendomme'!$B$3:$OF$80,'Statiske ejendomme'!$A53,FALSE))=FALSE,HLOOKUP(Y$8,'Statiske ejendomme'!$B$3:$OF$80,'Statiske ejendomme'!$A53,FALSE),\"\"))),\"\")","v":-3170.0487562189055}]
[8,2308,"Årets resultat pr. foderdag",3.0166100506626132,2.3415248088260525,1.7336459816215428,0.96806956351697449,0.66506945132899542,-0.25439484917749877,-0.75657589521468205,-0.94892985124173057,-2.2100019989540081,null,null,null,null,null,null,null,null,null,null,null,null,{"$f":"Præsentation!D61","v":0},{"$f":"Præsentation!F61","v":0},{"$f":"IFERROR(IF(Y$8=Kredsudvælgelse!$Q$20,\"\",IF(Kredsudvælgelse!$R$9=1,IF(ISTEXT(DGET(Forespørgsel1[#All],\"\"&LEFT($Z59,LEN($Z59)-$X59)&\"\",Kredsudvælgelse!$Q$10:$R$11))=TRUE,DGET(Forespørgsel1[#All],\"\"&LEFT($Z59,LEN($Z59)-$X59)&\"\",Kredsudvælgelse!$Q$10:$R$11),DGET(Forespørgsel1[#All],\"\"&LEFT($Z59,LEN($Z59)-$X59)&\"\",Kredsudvælgelse!$Q$10:$R$11)/IF(ISNONTEXT($Y59)=TRUE,1,DGET(Forespørgsel1[#All],\"\"&$Y59&\"\",Kredsudvælgelse!$Q$10:$R$11))),IF(ISBLANK(HLOOKUP(Y$8,'Statiske ejendomme'!$B$3:$OF$80,'Statiske ejendomme'!$A54,FALSE))=FALSE,HLOOKUP(Y$8,'Statiske ejendomme'!$B$3:$OF$80,'Statiske ejendomme'!$A54,FALSE),\"\"))),\"\")","v":""}]
[9,2309,"Afkastningsgrad, pct.",14.966000000000005,9.8907692307692301,8.8798000000000012,6.8680000000000003,5.27,1.6300000000000003,6.1200000000000032E-2,-0.42499999999999999,-5.1322444329363019,null,null,null,null,null,null,null,null,null,null,null,null,{"$f":"Præsentation!D62","v":"Antal Producerede kalve"},{"$f":"Præsentation!F62","v":"Dækningsbidrag"},{"$f":"IFERROR(IF(Y$8=Kredsudvælgelse!$Q$20,\"\",IF(Kredsudvælgelse!$R$9=1,IF(ISTEXT(DGET(Forespørgsel1[#All],\"\"&LEFT($Z60,LEN($Z60)-$X60)&\"\",Kredsudvælgelse!$Q$10:$R$11))=TRUE,DGET(Forespørgsel1[#All],\"\"&LEFT($Z60,LEN($Z60)-$X60)&\"\",Kredsudvælgelse!$Q$10:$R$11),DGET(Forespørgsel1[#All],\"\"&LEFT($Z60,LEN($Z60)-$X60)&\"\",Kredsudvælgelse!$Q$10:$R$11)/IF(ISNONTEXT($Y60)=TRUE,1,DGET(Forespørgsel1[#All],\"\"&$Y60&\"\",Kredsudvælgelse!$Q$10:$R$11))),IF(ISBLANK(HLOOKUP(Y$8,'Statiske ejendomme'!$B$3:$OF$80,'Statiske ejendomme'!$A55,FALSE))=FALSE,HLOOKUP(Y$8,'Statiske ejendomme'!$B$3:$OF$80,'Statiske ejendomme'!$A55,FALSE),\"\"))),\"\")","v":2478.2995024875622}]
[10,2310,"Bundet kapital pr. produceret kalv",4891,6017.5,6945.88,7369.8,7623,8117.6,8369.14,9704.5,11938.000000000002,null,null,0,null,null,null,null,null,null,null,null,{"$f":"Præsentation!C59","v":0},{"$f":"Præsentation!D63","v":0},{"$f":"Præsentation!F63","v":0},{"$f":"IFERROR(IF(Y$8=Kredsudvælgelse!$Q$20,\"\",IF(Kredsudvælgelse!$R$9=1,IF(ISTEXT(DGET(Forespørgsel1[#All],\"\"&LEFT($Z61,LEN($Z61)-$X61)&\"\",Kredsudvælgelse!$Q$10:$R$11))=TRUE,DGET(Forespørgsel1[#All],\"\"&LEFT($Z61,LEN($Z61)-$X61)&\"\",Kredsudvælgelse!$Q$10:$R$11),DGET(Forespørgsel1[#All],\"\"&LEFT($Z61,LEN($Z61)-$X61)&\"\",Kredsudvælgelse!$Q$10:$R$11)/IF(ISNONTEXT($Y61)=TRUE,1,DGET(Forespørgsel1[#All],\"\"&$Y61&\"\",Kredsudvælgelse!$Q$10:$R$11))),IF(ISBLANK(HLOOKUP(Y$8,'Statiske ejendomme'!$B$3:$OF$80,'Statiske ejendomme'!$A56,FALSE))=FALSE,HLOOKUP(Y$8,'Statiske ejendomme'!$B$3:$OF$80,'Statiske ejendomme'!$A56,FALSE),\"\"))),\"\")","v":""}]
[11,2311,"Dækningsbidrag pr. produceret kalv",2484.4,2335,2277.2800000000002,2032.2,1934,1779.8,1704.82,1611.5,1329.2,null,null,0,null,null,null,null,null,null,null,null,{"$f":"Præsentation!C60","v":0},{"$f":"Præsentation!D64","v":"Antal Producerede kalve"},{"$f":"Præsentation!F64","v":"Energi"},{"$f":"IFERROR(IF(Y$8=Kredsudvælgelse!$Q$20,\"\",IF(Kredsudvælgelse!$R$9=1,IF(ISTEXT(DGET(Forespørgsel1[#All],\"\"&LEFT($Z62,LEN($Z62)-$X62)&\"\",Kredsudvælgelse!$Q$10:$R$11))=TRUE,DGET(Forespørgsel1[#All],\"\"&LEFT($Z62,LEN($Z62)-$X62)&\"\",Kredsudvælgelse!$Q$10:$R$11),DGET(Forespørgsel1[#All],\"\"&LEFT($Z62,LEN($Z62)-$X62)&\"\",Kredsudvælgelse!$Q$10:$R$11)/IF(ISNONTEXT($Y62)=TRUE,1,DGET(Forespørgsel1[#All],\"\"&$Y62&\"\",Kredsudvælgelse!$Q$10:$R$11))),IF(ISBLANK(HLOOKUP(Y$8,'Statiske ejendomme'!$B$3:$OF$80,'Statiske ejendomme'!$A57,FALSE))=FALSE,HLOOKUP(Y$8,'Statiske ejendomme'!$B$3:$OF$80,'Statiske ejendomme'!$A57,FALSE),\"\"))),\"\")","v":-41.791044776119406}]
[12,2312,"Krav til dækningsbidrag pr. produceret kalv",1167.4000000000001,1485,1644.8,1657.6,1740,1794.8,1899.24,1932.5,2133.6,null,null,0,null,null,null,null,null,null,null,null,{"$f":"Præsentation!C61","v":0},{"$f":"Præsentation!D65","v":"Antal Producerede kalve"},{"$f":"Præsentation!F65","v":"Brændstof og maskinstation"},{"$f":"IFERROR(IF(Y$8=Kredsudvælgelse!$Q$20,\"\",IF(Kredsudvælgelse!$R$9=1,IF(ISTEXT(DGET(Forespørgsel1[#All],\"\"&LEFT($Z63,LEN($Z63)-$X63)&\"\",Kredsudvælgelse!$Q$10:$R$11))=TRUE,DGET(Forespørgsel1[#All],\"\"&LEFT($Z63,LEN($Z63)-$X63)&\"\",Kredsudvælgelse!$Q$10:$R$11),DGET(Forespørgsel1[#All],\"\"&LEFT($Z63,LEN($Z63)-$X63)&\"\",Kredsudvælgelse!$Q$10:$R$11)/IF(ISNONTEXT($Y63)=TRUE,1,DGET(Forespørgsel1[#All],\"\"&$Y63&\"\",Kredsudvælgelse!$Q$10:$R$11))),IF(ISBLANK(HLOOKUP(Y$8,'Statiske ejendomme'!$B$3:$OF$80,'Statiske ejendomme'!$A58,FALSE))=FALSE,HLOOKUP(Y$8,'Statiske ejendomme'!$B$3:$OF$80,'Statiske ejendomme'!$A58,FALSE),\"\"))),\"\")","v":-9.9502487562189046}]
[13,2313,"Arbejdsomkostninger pr. produceret kalv",511.2,549,577.74,615,640,667.4,706.66000000000008,741.5,898.40000000000009,null,null,0,null,null,null,null,null,null,null,null,{"$f":"Præsentation!C62","v":0},{"$f":"Præsentation!D66","v":"Antal Producerede kalve"},{"$f":"Præsentation!F66","v":"Vedligehold"},{"$f":"IFERROR(IF(Y$8=Kredsudvælgelse!$Q$20,\"\",IF(Kredsudvælgelse!$R$9=1,IF(ISTEXT(DGET(Forespørgsel1[#All],\"\"&LEFT($Z64,LEN($Z64)-$X64)&\"\",Kredsudvælgelse!$Q$10:$R$11))=TRUE,DGET(Forespørgsel1[#All],\"\"&LEFT($Z64,LEN($Z64)-$X64)&\"\",Kredsudvælgelse!$Q$10:$R$11),DGET(Forespørgsel1[#All],\"\"&LEFT($Z64,LEN($Z64)-$X64)&\"\",Kredsudvælgelse!$Q$10:$R$11)/IF(ISNONTEXT($Y64)=TRUE,1,DGET(Forespørgsel1[#All],\"\"&$Y64&\"\",Kredsudvælgelse!$Q$10:$R$11))),IF(ISBLANK(HLOOKUP(Y$8,'Statiske ejendomme'!$B$3:$OF$80,'Statiske ejendomme'!$A59,FALSE))=FALSE,HLOOKUP(Y$8,'Statiske ejendomme'!$B$3:$OF$80,'Statiske ejendomme'!$A59,FALSE),\"\"))),\"\")","v":-294.06268656716418}]
[14,2314,"Bygninger pr. produceret kalv.",256,324.5,353.44,400.8,431,510.80000000000007,559.46,599,679.80000000000007,null,null,0,null,null,null,null,null,null,null,null,{"$f":"Præsentation!C63","v":0},{"$f":"Præsentation!D67","v":"Antal Producerede kalve"},{"$f":"Præsentation!F67","v":"Lønomkostninger"},{"$f":"IFERROR(IF(Y$8=Kredsudvælgelse!$Q$20,\"\",IF(Kredsudvælgelse!$R$9=1,IF(ISTEXT(DGET(Forespørgsel1[#All],\"\"&LEFT($Z65,LEN($Z65)-$X65)&\"\",Kredsudvælgelse!$Q$10:$R$11))=TRUE,DGET(Forespørgsel1[#All],\"\"&LEFT($Z65,LEN($Z65)-$X65)&\"\",Kredsudvælgelse!$Q$10:$R$11),DGET(Forespørgsel1[#All],\"\"&LEFT($Z65,LEN($Z65)-$X65)&\"\",Kredsudvælgelse!$Q$10:$R$11)/IF(ISNONTEXT($Y65)=TRUE,1,DGET(Forespørgsel1[#All],\"\"&$Y65&\"\",Kredsudvælgelse!$Q$10:$R$11))),IF(ISBLANK(HLOOKUP(Y$8,'Statiske ejendomme'!$B$3:$OF$80,'Statiske ejendomme'!$A60,FALSE))=FALSE,HLOOKUP(Y$8,'Statiske ejendomme'!$B$3:$OF$80,'Statiske ejendomme'!$A60,FALSE),\"\"))),\"\")","v":-535.72935323383081}]
[15,2315,"Inventar inkl. energi pr. produceret kalv",219.6,262,283.27999999999997,308.39999999999998,333,393.6,417.80000000000007,471,539,null,null,0,null,null,null,null,null,null,null,null,{"$f":"Præsentation!C64","v":0},{"$f":"Præsentation!D68","v":"Antal Producerede kalve"},{"$f":"Præsentation!F68","v":"Ejeraflønning"},{"$f":"IFERROR(IF(Y$8=Kredsudvælgelse!$Q$20,\"\",IF(Kredsudvælgelse!$R$9=1,IF(ISTEXT(DGET(Forespørgsel1[#All],\"\"&LEFT($Z66,LEN($Z66)-$X66)&\"\",Kredsudvælgelse!$Q$10:$R$11))=TRUE,DGET(Forespørgsel1[#All],\"\"&LEFT($Z66,LEN($Z66)-$X66)&\"\",Kredsudvælgelse!$Q$10:$R$11),DGET(Forespørgsel1[#All],\"\"&LEFT($Z66,LEN($Z66)-$X66)&\"\",Kredsudvælgelse!$Q$10:$R$11)/IF(ISNONTEXT($Y66)=TRUE,1,DGET(Forespørgsel1[#All],\"\"&$Y66&\"\",Kredsudvælgelse!$Q$10:$R$11))),IF(ISBLANK(HLOOKUP(Y$8,'Statiske ejendomme'!$B$3:$OF$80,'Statiske ejendomme'!$A61,FALSE))=FALSE,HLOOKUP(Y$8,'Statiske ejendomme'!$B$3:$OF$80,'Statiske ejendomme'!$A61,FALSE),\"\"))),\"\")","v":-129.35323383084577}]
[16,2316,"Årets resultat pr. produceret kalv",841.8,647,454.80000000000041,257.80000000000013,173,-62.39999999999992,-207.76,-263,-472,0,0,0,null,null,null,null,null,null,null,null,{"$f":"Præsentation!C65","v":0},{"$f":"Præsentation!D69","v":"Antal Producerede kalve"},{"$f":"Præsentation!F69","v":"Forsikring"},{"$f":"IFERROR(IF(Y$8=Kredsudvælgelse!$Q$20,\"\",IF(Kredsudvælgelse!$R$9=1,IF(ISTEXT(DGET(Forespørgsel1[#All],\"\"&LEFT($Z67,LEN($Z67)-$X67)&\"\",Kredsudvælgelse!$Q$10:$R$11))=TRUE,DGET(Forespørgsel1[#All],\"\"&LEFT($Z67,LEN($Z67)-$X67)&\"\",Kredsudvælgelse!$Q$10:$R$11),DGET(Forespørgsel1[#All],\"\"&LEFT($Z67,LEN($Z67)-$X67)&\"\",Kredsudvælgelse!$Q$10:$R$11)/IF(ISNONTEXT($Y67)=TRUE,1,DGET(Forespørgsel1[#All],\"\"&$Y67&\"\",Kredsudvælgelse!$Q$10:$R$11))),IF(ISBLANK(HLOOKUP(Y$8,'Statiske ejendomme'!$B$3:$OF$80,'Statiske ejendomme'!$A62,FALSE))=FALSE,HLOOKUP(Y$8,'Statiske ejendomme'!$B$3:$OF$80,'Statiske ejendomme'!$A62,FALSE),\"\"))),\"\")","v":-68.542288557213936}]
[null,24,null,0.05,0.1,0.25,0.33,0.4,0.5,0.6,0.67,0.75,0.9,0.95,null,null,null,null,null,null,null,null,null,{"$f":"Præsentation!C66","v":0},{"$f":"Præsentation!D70","v":"Antal Producerede kalve"},{"$f":"Præsentation!F70","v":"Diverse kapacitetsomkostninger"},{"$f":"IFERROR(IF(Y$8=Kredsudvælgelse!$Q$20,\"\",IF(Kredsudvælgelse!$R$9=1,IF(ISTEXT(DGET(Forespørgsel1[#All],\"\"&LEFT($Z68,LEN($Z68)-$X68)&\"\",Kredsudvælgelse!$Q$10:$R$11))=TRUE,DGET(Forespørgsel1[#All],\"\"&LEFT($Z68,LEN($Z68)-$X68)&\"\",Kredsudvælgelse!$Q$10:$R$11),DGET(Forespørgsel1[#All],\"\"&LEFT($Z68,LEN($Z68)-$X68)&\"\",Kredsudvælgelse!$Q$10:$R$11)/IF(ISNONTEXT($Y68)=TRUE,1,DGET(Forespørgsel1[#All],\"\"&$Y68&\"\",Kredsudvælgelse!$Q$10:$R$11))),IF(ISBLANK(HLOOKUP(Y$8,'Statiske ejendomme'!$B$3:$OF$80,'Statiske ejendomme'!$A63,FALSE))=FALSE,HLOOKUP(Y$8,'Statiske ejendomme'!$B$3:$OF$80,'Statiske ejendomme'!$A63,FALSE),\"\"))),\"\")","v":-94.527363184079604}]
[1,{"$f":"$B$68*100+$A69","v":2401},null,"Stærk konkurrenceevne",null,null,null,null,null,null,"Stort forbedringspotentiale",null,null,null,null,null,null,null,null,null,null,null,null,{"$f":"Præsentation!C67","v":0},{"$f":"Præsentation!D71","v":"Antal Producerede kalve"},{"$f":"Præsentation!F71","v":"Kapacitetsomkostninger i alt"},{"$f":"IFERROR(IF(Y$8=Kredsudvælgelse!$Q$20,\"\",IF(Kredsudvælgelse!$R$9=1,IF(ISTEXT(DGET(Forespørgsel1[#All],\"\"&LEFT($Z69,LEN($Z69)-$X69)&\"\",Kredsudvælgelse!$Q$10:$R$11))=TRUE,DGET(Forespørgsel1[#All],\"\"&LEFT($Z69,LEN($Z69)-$X69)&\"\",Kredsudvælgelse!$Q$10:$R$11),DGET(Forespørgsel1[#All],\"\"&LEFT($Z69,LEN($Z69)-$X69)&\"\",Kredsudvælgelse!$Q$10:$R$11)/IF(ISNONTEXT($Y69)=TRUE,1,DGET(Forespørgsel1[#All],\"\"&$Y69&\"\",Kredsudvælgelse!$Q$10:$R$11))),IF(ISBLANK(HLOOKUP(Y$8,'Statiske ejendomme'!$B$3:$OF$80,'Statiske ejendomme'!$A64,FALSE))=FALSE,HLOOKUP(Y$8,'Statiske ejendomme'!$B$3:$OF$80,'Statiske ejendomme'!$A64,FALSE),\"\"))),\"\")","v":-1173.9562189054727}]
[2,{"$f":"$B$68*100+$A70","v":2402},null,null,null,null,null,null,null,null,null,null,null,null,null,null,null,null,null,null,null,null,null,{"$f":"Præsentation!C68","v":0},{"$f":"Præsentation!D72","v":0},{"$f":"Præsentation!F72","v":0},{"$f":"IFERROR(IF(Y$8=Kredsudvælgelse!$Q$20,\"\",IF(Kredsudvælgelse!$R$9=1,IF(ISTEXT(DGET(Forespørgsel1[#All],\"\"&LEFT($Z70,LEN($Z70)-$X70)&\"\",Kredsudvælgelse!$Q$10:$R$11))=TRUE,DGET(Forespørgsel1[#All],\"\"&LEFT($Z70,LEN($Z70)-$X70)&\"\",Kredsudvælgelse!$Q$10:$R$11),DGET(Forespørgsel1[#All],\"\"&LEFT($Z70,LEN($Z70)-$X70)&\"\",Kredsudvælgelse!$Q$10:$R$11)/IF(ISNONTEXT($Y70)=TRUE,1,DGET(Forespørgsel1[#All],\"\"&$Y70&\"\",Kredsudvælgelse!$Q$10:$R$11))),IF(ISBLANK(HLOOKUP(Y$8,'Statiske ejendomme'!$B$3:$OF$80,'Statiske ejendomme'!$A65,FALSE))=FALSE,HLOOKUP(Y$8,'Statiske ejendomme'!$B$3:$OF$80,'Statiske ejendomme'!$A65,FALSE),\"\"))),\"\")","v":""}]
[3,2403,null,null,null,null,null,null,null,null,null,null,null,null,null,null,null,null,null,null,null,null,null,{"$f":"Præsentation!C69","v":0},{"$f":"Præsentation!D73","v":"Antal Producerede kalve"},{"$f":"Præsentation!F73","v":"Afskrivning, fast ejendom"},{"$f":"IFERROR(IF(Y$8=Kredsudvælgelse!$Q$20,\"\",IF(Kredsudvælgelse!$R$9=1,IF(ISTEXT(DGET(Forespørgsel1[#All],\"\"&LEFT($Z71,LEN($Z71)-$X71)&\"\",Kredsudvælgelse!$Q$10:$R$11))=TRUE,DGET(Forespørgsel1[#All],\"\"&LEFT($Z71,LEN($Z71)-$X71)&\"\",Kredsudvælgelse!$Q$10:$R$11),DGET(Forespørgsel1[#All],\"\"&LEFT($Z71,LEN($Z71)-$X71)&\"\",Kredsudvælgelse!$Q$10:$R$11)/IF(ISNONTEXT($Y71)=TRUE,1,DGET(Forespørgsel1[#All],\"\"&$Y71&\"\",Kredsudvælgelse!$Q$10:$R$11))),IF(ISBLANK(HLOOKUP(Y$8,'Statiske ejendomme'!$B$3:$OF$80,'Statiske ejendomme'!$A66,FALSE))=FALSE,HLOOKUP(Y$8,'Statiske ejendomme'!$B$3:$OF$80,'Statiske ejendomme'!$A66,FALSE),\"\"))),\"\")","v":-135.63482587064678}]
[4,2404,null,null,null,null,null,null,null,null,null,null,null,null,null,null,null,null,null,null,null,null,null,{"$f":"Præsentation!C70","v":0},{"$f":"Præsentation!D74","v":"Antal Producerede kalve"},{"$f":"Præsentation!F74","v":"Afskrivning, staldinventar"},{"$f":"IFERROR(IF(Y$8=Kredsudvælgelse!$Q$20,\"\",IF(Kredsudvælgelse!$R$9=1,IF(ISTEXT(DGET(Forespørgsel1[#All],\"\"&LEFT($Z72,LEN($Z72)-$X72)&\"\",Kredsudvælgelse!$Q$10:$R$11))=TRUE,DGET(Forespørgsel1[#All],\"\"&LEFT($Z72,LEN($Z72)-$X72)&\"\",Kredsudvælgelse!$Q$10:$R$11),DGET(Forespørgsel1[#All],\"\"&LEFT($Z72,LEN($Z72)-$X72)&\"\",Kredsudvælgelse!$Q$10:$R$11)/IF(ISNONTEXT($Y72)=TRUE,1,DGET(Forespørgsel1[#All],\"\"&$Y72&\"\",Kredsudvælgelse!$Q$10:$R$11))),IF(ISBLANK(HLOOKUP(Y$8,'Statiske ejendomme'!$B$3:$OF$80,'Statiske ejendomme'!$A67,FALSE))=FALSE,HLOOKUP(Y$8,'Statiske ejendomme'!$B$3:$OF$80,'Statiske ejendomme'!$A67,FALSE),\"\"))),\"\")","v":-110.12139303482587}]
[5,2405,null,null,null,null,null,null,null,null,null,null,null,null,null,null,null,null,null,null,null,null,null,{"$f":"Præsentation!C71","v":0},{"$f":"Præsentation!D75","v":"Antal Producerede kalve"},{"$f":"Præsentation!F75","v":"Leje af driftsbygninger"},{"$f":"IFERROR(IF(Y$8=Kredsudvælgelse!$Q$20,\"\",IF(Kredsudvælgelse!$R$9=1,IF(ISTEXT(DGET(Forespørgsel1[#All],\"\"&LEFT($Z73,LEN($Z73)-$X73)&\"\",Kredsudvælgelse!$Q$10:$R$11))=TRUE,DGET(Forespørgsel1[#All],\"\"&LEFT($Z73,LEN($Z73)-$X73)&\"\",Kredsudvælgelse!$Q$10:$R$11),DGET(Forespørgsel1[#All],\"\"&LEFT($Z73,LEN($Z73)-$X73)&\"\",Kredsudvælgelse!$Q$10:$R$11)/IF(ISNONTEXT($Y73)=TRUE,1,DGET(Forespørgsel1[#All],\"\"&$Y73&\"\",Kredsudvælgelse!$Q$10:$R$11))),IF(ISBLANK(HLOOKUP(Y$8,'Statiske ejendomme'!$B$3:$OF$80,'Statiske ejendomme'!$A68,FALSE))=FALSE,HLOOKUP(Y$8,'Statiske ejendomme'!$B$3:$OF$80,'Statiske ejendomme'!$A68,FALSE),\"\"))),\"\")","v":0}]
[6,2406,null,null,null,null,null,null,null,null,null,null,null,null,null,null,null,null,null,null,null,null,null,{"$f":"Præsentation!C72","v":0},{"$f":"Præsentation!D76","v":"Antal Producerede kalve"},{"$f":"Præsentation!F76","v":"Øvrige kapitalomkostninger"},{"$f":"IFERROR(IF(Y$8=Kredsudvælgelse!$Q$20,\"\",IF(Kredsudvælgelse!$R$9=1,IF(ISTEXT(DGET(Forespørgsel1[#All],\"\"&LEFT($Z74,LEN($Z74)-$X74)&\"\",Kredsudvælgelse!$Q$10:$R$11))=TRUE,DGET(Forespørgsel1[#All],\"\"&LEFT($Z74,LEN($Z74)-$X74)&\"\",Kredsudvælgelse!$Q$10:$R$11),DGET(Forespørgsel1[#All],\"\"&LEFT($Z74,LEN($Z74)-$X74)&\"\",Kredsudvælgelse!$Q$10:$R$11)/IF(ISNONTEXT($Y74)=TRUE,1,DGET(Forespørgsel1[#All],\"\"&$Y74&\"\",Kredsudvælgelse!$Q$10:$R$11))),IF(ISBLANK(HLOOKUP(Y$8,'Statiske ejendomme'!$B$3:$OF$80,'Statiske ejendomme'!$A69,FALSE))=FALSE,HLOOKUP(Y$8,'Statiske ejendomme'!$B$3:$OF$80,'Statiske ejendomme'!$A69,FALSE),\"\"))),\"\")","v":0}]
[7,2407,null,null,null,null,null,null,null,null,null,null,null,null,null,null,null,null,null,null,null,null,null,{"$f":"Præsentation!C73","v":0},{"$f":"Præsentation!D77","v":"Antal Producerede kalve"},{"$f":"Præsentation!F77","v":"Renteomk. af bundet kapital"},{"$f":"IFERROR(IF(Y$8=Kredsudvælgelse!$Q$20,\"\",IF(Kredsudvælgelse!$R$9=1,IF(ISTEXT(DGET(Forespørgsel1[#All],\"\"&LEFT($Z75,LEN($Z75)-$X75)&\"\",Kredsudvælgelse!$Q$10:$R$11))=TRUE,DGET(Forespørgsel1[#All],\"\"&LEFT($Z75,LEN($Z75)-$X75)&\"\",Kredsudvælgelse!$Q$10:$R$11),DGET(Forespørgsel1[#All],\"\"&LEFT($Z75,LEN($Z75)-$X75)&\"\",Kredsudvælgelse!$Q$10:$R$11)/IF(ISNONTEXT($Y75)=TRUE,1,DGET(Forespørgsel1[#All],\"\"&$Y75&\"\",Kredsudvælgelse!$Q$10:$R$11))),IF(ISBLANK(HLOOKUP(Y$8,'Statiske ejendomme'!$B$3:$OF$80,'Statiske ejendomme'!$A70,FALSE))=FALSE,HLOOKUP(Y$8,'Statiske ejendomme'!$B$3:$OF$80,'Statiske ejendomme'!$A70,FALSE),\"\"))),\"\")","v":-249.51641791044776}]
[8,2408,null,null,null,null,null,null,null,null,null,null,null,null,null,null,null,null,null,null,null,null,null,{"$f":"Præsentation!C74","v":0},{"$f":"Præsentation!D78","v":"Antal Producerede kalve"},{"$f":"Præsentation!F78","v":"Kapitalomkostninger i alt"},{"$f":"IFERROR(IF(Y$8=Kredsudvælgelse!$Q$20,\"\",IF(Kredsudvælgelse!$R$9=1,IF(ISTEXT(DGET(Forespørgsel1[#All],\"\"&LEFT($Z76,LEN($Z76)-$X76)&\"\",Kredsudvælgelse!$Q$10:$R$11))=TRUE,DGET(Forespørgsel1[#All],\"\"&LEFT($Z76,LEN($Z76)-$X76)&\"\",Kredsudvælgelse!$Q$10:$R$11),DGET(Forespørgsel1[#All],\"\"&LEFT($Z76,LEN($Z76)-$X76)&\"\",Kredsudvælgelse!$Q$10:$R$11)/IF(ISNONTEXT($Y76)=TRUE,1,DGET(Forespørgsel1[#All],\"\"&$Y76&\"\",Kredsudvælgelse!$Q$10:$R$11))),IF(ISBLANK(HLOOKUP(Y$8,'Statiske ejendomme'!$B$3:$OF$80,'Statiske ejendomme'!$A71,FALSE))=FALSE,HLOOKUP(Y$8,'Statiske ejendomme'!$B$3:$OF$80,'Statiske ejendomme'!$A71,FALSE),\"\"))),\"\")","v":-495.27263681592041}]
[9,2409,null,null,null,null,null,null,null,null,null,null,null,null,null,null,null,null,null,null,null,null,null,{"$f":"Præsentation!C75","v":0},{"$f":"Præsentation!D79","v":0},{"$f":"Præsentation!F79","v":0},{"$f":"IFERROR(IF(Y$8=Kredsudvælgelse!$Q$20,\"\",IF(Kredsudvælgelse!$R$9=1,IF(ISTEXT(DGET(Forespørgsel1[#All],\"\"&LEFT($Z77,LEN($Z77)-$X77)&\"\",Kredsudvælgelse!$Q$10:$R$11))=TRUE,DGET(Forespørgsel1[#All],\"\"&LEFT($Z77,LEN($Z77)-$X77)&\"\",Kredsudvælgelse!$Q$10:$R$11),DGET(Forespørgsel1[#All],\"\"&LEFT($Z77,LEN($Z77)-$X77)&\"\",Kredsudvælgelse!$Q$10:$R$11)/IF(ISNONTEXT($Y77)=TRUE,1,DGET(Forespørgsel1[#All],\"\"&$Y77&\"\",Kredsudvælgelse!$Q$10:$R$11))),IF(ISBLANK(HLOOKUP(Y$8,'Statiske ejendomme'!$B$3:$OF$80,'Statiske ejendomme'!$A72,FALSE))=FALSE,HLOOKUP(Y$8,'Statiske ejendomme'!$B$3:$OF$80,'Statiske ejendomme'!$A72,FALSE),\"\"))),\"\")","v":""}]
[10,2410,null,null,null,null,null,null,null,null,null,null,null,null,null,null,null,null,null,null,null,null,null,{"$f":"Præsentation!C76","v":0},{"$f":"Præsentation!D80","v":"Antal Producerede kalve"},{"$f":"Præsentation!F80","v":"Årets resultat"},{"$f":"IFERROR(IF(Y$8=Kredsudvælgelse!$Q$20,\"\",IF(Kredsudvælgelse!$R$9=1,IF(ISTEXT(DGET(Forespørgsel1[#All],\"\"&LEFT($Z78,LEN($Z78)-$X78)&\"\",Kredsudvælgelse!$Q$10:$R$11))=TRUE,DGET(Forespørgsel1[#All],\"\"&LEFT($Z78,LEN($Z78)-$X78)&\"\",Kredsudvælgelse!$Q$10:$R$11),DGET(Forespørgsel1[#All],\"\"&LEFT($Z78,LEN($Z78)-$X78)&\"\",Kredsudvælgelse!$Q$10:$R$11)/IF(ISNONTEXT($Y78)=TRUE,1,DGET(Forespørgsel1[#All],\"\"&$Y78&\"\",Kredsudvælgelse!$Q$10:$R$11))),IF(ISBLANK(HLOOKUP(Y$8,'Statiske ejendomme'!$B$3:$OF$80,'Statiske ejendomme'!$A73,FALSE))=FALSE,HLOOKUP(Y$8,'Statiske ejendomme'!$B$3:$OF$80,'Statiske ejendomme'!$A73,FALSE),\"\"))),\"\")","v":809.07064676616915}]
[11,2411,null,null,null,null,null,null,null,null,null,null,null,null,null,"Antal bedrifter",null,null,null,null,null,null,null,{"$f":"Præsentation!C77","v":0},{"$f":"Præsentation!D81","v":0},{"$f":"Præsentation!F81","v":0},{"$f":"IFERROR(IF(Y$8=Kredsudvælgelse!$Q$20,\"\",IF(Kredsudvælgelse!$R$9=1,IF(ISTEXT(DGET(Forespørgsel1[#All],\"\"&LEFT($Z79,LEN($Z79)-$X79)&\"\",Kredsudvælgelse!$Q$10:$R$11))=TRUE,DGET(Forespørgsel1[#All],\"\"&LEFT($Z79,LEN($Z79)-$X79)&\"\",Kredsudvælgelse!$Q$10:$R$11),DGET(Forespørgsel1[#All],\"\"&LEFT($Z79,LEN($Z79)-$X79)&\"\",Kredsudvælgelse!$Q$10:$R$11)/IF(ISNONTEXT($Y79)=TRUE,1,DGET(Forespørgsel1[#All],\"\"&$Y79&\"\",Kredsudvælgelse!$Q$10:$R$11))),IF(ISBLANK(HLOOKUP(Y$8,'Statiske ejendomme'!$B$3:$OF$80,'Statiske ejendomme'!$A74,FALSE))=FALSE,HLOOKUP(Y$8,'Statiske ejendomme'!$B$3:$OF$80,'Statiske ejendomme'!$A74,FALSE),\"\"))),\"\")","v":""}]
[12,2412,null,null,null,null,null,null,null,null,null,null,null,null,null,null,null,null,null,null,null,null,null,{"$f":"Præsentation!C78","v":0},{"$f":"Præsentation!D82","v":0},{"$f":"Præsentation!F82","v":0},{"$f":"IFERROR(IF(Y$8=Kredsudvælgelse!$Q$20,\"\",IF(Kredsudvælgelse!$R$9=1,IF(ISTEXT(DGET(Forespørgsel1[#All],\"\"&LEFT($Z80,LEN($Z80)-$X80)&\"\",Kredsudvælgelse!$Q$10:$R$11))=TRUE,DGET(Forespørgsel1[#All],\"\"&LEFT($Z80,LEN($Z80)-$X80)&\"\",Kredsudvælgelse!$Q$10:$R$11),DGET(Forespørgsel1[#All],\"\"&LEFT($Z80,LEN($Z80)-$X80)&\"\",Kredsudvælgelse!$Q$10:$R$11)/IF(ISNONTEXT($Y80)=TRUE,1,DGET(Forespørgsel1[#All],\"\"&$Y80&\"\",Kredsudvælgelse!$Q$10:$R$11))),IF(ISBLANK(HLOOKUP(Y$8,'Statiske ejendomme'!$B$3:$OF$80,'Statiske ejendomme'!$A75,FALSE))=FALSE,HLOOKUP(Y$8,'Statiske ejendomme'!$B$3:$OF$80,'Statiske ejendomme'!$A75,FALSE),\"\"))),\"\")","v":""}]
[13,2413,null,null,null,null,null,null,null,null,null,null,null,null,null,null,null,null,null,null,null,null,null,{"$f":"Præsentation!C79","v":0},{"$f":"Præsentation!D83","v":0},{"$f":"Præsentation!F83","v":0},{"$f":"IFERROR(IF(Y$8=Kredsudvælgelse!$Q$20,\"\",IF(Kredsudvælgelse!$R$9=1,IF(ISTEXT(DGET(Forespørgsel1[#All],\"\"&LEFT($Z81,LEN($Z81)-$X81)&\"\",Kredsudvælgelse!$Q$10:$R$11))=TRUE,DGET(Forespørgsel1[#All],\"\"&LEFT($Z81,LEN($Z81)-$X81)&\"\",Kredsudvælgelse!$Q$10:$R$11),DGET(Forespørgsel1[#All],\"\"&LEFT($Z81,LEN($Z81)-$X81)&\"\",Kredsudvælgelse!$Q$10:$R$11)/IF(ISNONTEXT($Y81)=TRUE,1,DGET(Forespørgsel1[#All],\"\"&$Y81&\"\",Kredsudvælgelse!$Q$10:$R$11))),IF(ISBLANK(HLOOKUP(Y$8,'Statiske ejendomme'!$B$3:$OF$80,'Statiske ejendomme'!$A76,FALSE))=FALSE,HLOOKUP(Y$8,'Statiske ejendomme'!$B$3:$OF$80,'Statiske ejendomme'!$A76,FALSE),\"\"))),\"\")","v":""}]
[14,2414,null,null,null,null,null,null,null,null,null,null,null,null,null,null,null,null,null,null,null,null,null,{"$f":"Præsentation!C80","v":0},{"$f":"Præsentation!D84","v":0},{"$f":"Præsentation!F84","v":0},{"$f":"IFERROR(IF(Y$8=Kredsudvælgelse!$Q$20,\"\",IF(Kredsudvælgelse!$R$9=1,IF(ISTEXT(DGET(Forespørgsel1[#All],\"\"&LEFT($Z82,LEN($Z82)-$X82)&\"\",Kredsudvælgelse!$Q$10:$R$11))=TRUE,DGET(Forespørgsel1[#All],\"\"&LEFT($Z82,LEN($Z82)-$X82)&\"\",Kredsudvælgelse!$Q$10:$R$11),DGET(Forespørgsel1[#All],\"\"&LEFT($Z82,LEN($Z82)-$X82)&\"\",Kredsudvælgelse!$Q$10:$R$11)/IF(ISNONTEXT($Y82)=TRUE,1,DGET(Forespørgsel1[#All],\"\"&$Y82&\"\",Kredsudvælgelse!$Q$10:$R$11))),IF(ISBLANK(HLOOKUP(Y$8,'Statiske ejendomme'!$B$3:$OF$80,'Statiske ejendomme'!$A77,FALSE))=FALSE,HLOOKUP(Y$8,'Statiske ejendomme'!$B$3:$OF$80,'Statiske ejendomme'!$A77,FALSE),\"\"))),\"\")","v":""}]
[null,25,null,0.05,0.1,0.25,0.33,0.4,0.5,0.6,0.67,0.75,0.9,0.95,null,null,null,null,null,null,null,null,null,{"$f":"Præsentation!C81","v":0},{"$f":"Præsentation!D81","v":0},{"$f":"Præsentation!F85","v":0},{"$f":"IFERROR(IF(Y$8=Kredsudvælgelse!$Q$20,\"\",IF(Kredsudvælgelse!$R$9=1,IF(ISTEXT(DGET(Forespørgsel1[#All],\"\"&LEFT($Z83,LEN($Z83)-$X83)&\"\",Kredsudvælgelse!$Q$10:$R$11))=TRUE,DGET(Forespørgsel1[#All],\"\"&LEFT($Z83,LEN($Z83)-$X83)&\"\",Kredsudvælgelse!$Q$10:$R$11),DGET(Forespørgsel1[#All],\"\"&LEFT($Z83,LEN($Z83)-$X83)&\"\",Kredsudvælgelse!$Q$10:$R$11)/IF(ISNONTEXT($Y83)=TRUE,1,DGET(Forespørgsel1[#All],\"\"&$Y83&\"\",Kredsudvælgelse!$Q$10:$R$11))),IF(ISBLANK(HLOOKUP(Y$8,'Statiske ejendomme'!$B$3:$OF$80,'Statiske ejendomme'!$A78,FALSE))=FALSE,HLOOKUP(Y$8,'Statiske ejendomme'!$B$3:$OF$80,'Statiske ejendomme'!$A78,FALSE),\"\"))),\"\")","v":""}]
[1,{"$f":"$B$83*100+$A84","v":2501},null,"Stærk konkurrenceevne",null,null,null,null,null,null,"Stort forbedringspotentiale",null,null,null,null,null,null,null,null,null,null,null,null,null,{"$f":"IFERROR(IF(AND(Choices!$A$10=2,Choices!$D$10=2),#REF!,IF(AND(Choices!$A$10=2,Choices!$D$10=3),#REF!,IF(Choices!$A$10=3,#REF!,IF(Choices!$A$10=4,Slagtekalve!B74,\"\")))),\"fejl\")","v":""},{"$f":"Præsentation!F82","v":0}]
[2,{"$f":"$B$83*100+$A85","v":2502},null,null,null,null,null,null,null,null,null,null,null,null,null,null,null,null,null,null,null,null,null,null,{"$f":"IFERROR(IF(AND(Choices!$A$10=2,Choices!$D$10=2),#REF!,IF(AND(Choices!$A$10=2,Choices!$D$10=3),#REF!,IF(Choices!$A$10=3,#REF!,IF(Choices!$A$10=4,Slagtekalve!B75,\"\")))),\"fejl\")","v":""},{"$f":"Præsentation!F83","v":0}]
[3,2503,null,null,null,null,null,null,null,null,null,null,null,null,null,null,null,null,null,null,null,null,null,null,{"$f":"IFERROR(IF(AND(Choices!$A$10=2,Choices!$D$10=2),#REF!,IF(AND(Choices!$A$10=2,Choices!$D$10=3),#REF!,IF(Choices!$A$10=3,#REF!,IF(Choices!$A$10=4,Slagtekalve!B76,\"\")))),\"fejl\")","v":""},{"$f":"Præsentation!F84","v":0}]
[4,2504,null,null,null,null,null,null,null,null,null,null,null,null,null,null,null,null,null,null,null,null,null,null,{"$f":"IFERROR(IF(AND(Choices!$A$10=2,Choices!$D$10=2),#REF!,IF(AND(Choices!$A$10=2,Choices!$D$10=3),#REF!,IF(Choices!$A$10=3,#REF!,IF(Choices!$A$10=4,Slagtekalve!B77,\"\")))),\"fejl\")","v":""},{"$f":"Præsentation!F85","v":0}]
[5,2505,null,null,null,null,null,null,null,null,null,null,null,null,null,null,null,null,null,null,null,null,null,null,{"$f":"IFERROR(IF(AND(Choices!$A$10=2,Choices!$D$10=2),#REF!,IF(AND(Choices!$A$10=2,Choices!$D$10=3),#REF!,IF(Choices!$A$10=3,#REF!,IF(Choices!$A$10=4,Slagtekalve!B78,\"\")))),\"fejl\")","v":""},{"$f":"Præsentation!F86","v":0}]
[6,2506,null,null,null,null,null,null,null,null,null,null,null,null,null,null,null,null,null,null,null,null,null,null,{"$f":"IFERROR(IF(AND(Choices!$A$10=2,Choices!$D$10=2),#REF!,IF(AND(Choices!$A$10=2,Choices!$D$10=3),#REF!,IF(Choices!$A$10=3,#REF!,IF(Choices!$A$10=4,Slagtekalve!B79,\"\")))),\"fejl\")","v":""},{"$f":"Præsentation!F87","v":0}]
[7,2507,null,null,null,null,null,null,null,null,null,null,null,null,null,null,null,null,null,null,null,null,null,null,{"$f":"IFERROR(IF(AND(Choices!$A$10=2,Choices!$D$10=2),#REF!,IF(AND(Choices!$A$10=2,Choices!$D$10=3),#REF!,IF(Choices!$A$10=3,#REF!,IF(Choices!$A$10=4,Slagtekalve!B80,\"\")))),\"fejl\")","v":""},{"$f":"Præsentation!F88","v":0}]
[8,2508,null,null,null,null,null,null,null,null,null,null,null,null,null,null,null,null,null,null,null,null,null,null,{"$f":"IFERROR(IF(AND(Choices!$A$10=2,Choices!$D$10=2),#REF!,IF(AND(Choices!$A$10=2,Choices!$D$10=3),#REF!,IF(Choices!$A$10=3,#REF!,IF(Choices!$A$10=4,Slagtekalve!B81,\"\")))),\"fejl\")","v":""},{"$f":"Præsentation!F89","v":0}]
[9,2509,null,null,null,null,null,null,null,null,null,null,null,null,null,null,null,null,null,null,null,null,null,null,{"$f":"IFERROR(IF(AND(Choices!$A$10=2,Choices!$D$10=2),#REF!,IF(AND(Choices!$A$10=2,Choices!$D$10=3),#REF!,IF(Choices!$A$10=3,#REF!,IF(Choices!$A$10=4,Slagtekalve!B82,\"\")))),\"fejl\")","v":""},{"$f":"Præsentation!F90","v":0}]
[10,2510,null,null,null,null,null,null,null,null,null,null,null,null,null,null,null,null,null,null,null,null,null,null,{"$f":"IFERROR(IF(AND(Choices!$A$10=2,Choices!$D$10=2),#REF!,IF(AND(Choices!$A$10=2,Choices!$D$10=3),#REF!,IF(Choices!$A$10=3,#REF!,IF(Choices!$A$10=4,Slagtekalve!B83,\"\")))),\"fejl\")","v":""},{"$f":"Præsentation!F91","v":0}]
[11,2511,null,null,null,null,null,null,null,null,null,null,null,null,null,"Antal bedrifter",null,null,null,null,null,null,null,null,{"$f":"IFERROR(IF(AND(Choices!$A$10=2,Choices!$D$10=2),#REF!,IF(AND(Choices!$A$10=2,Choices!$D$10=3),#REF!,IF(Choices!$A$10=3,#REF!,IF(Choices!$A$10=4,Slagtekalve!B84,\"\")))),\"fejl\")","v":""},{"$f":"Præsentation!F92","v":0}]
[12,2512,null,null,null,null,null,null,null,null,null,null,null,null,null,null,null,null,null,null,null,null,null,null,{"$f":"IFERROR(IF(AND(Choices!$A$10=2,Choices!$D$10=2),#REF!,IF(AND(Choices!$A$10=2,Choices!$D$10=3),#REF!,IF(Choices!$A$10=3,#REF!,IF(Choices!$A$10=4,Slagtekalve!B85,\"\")))),\"fejl\")","v":""},{"$f":"Præsentation!F93","v":0}]
[13,2513,null,null,null,null,null,null,null,null,null,null,null,null,null,null,null,null,null,null,null,null,null,null,{"$f":"IFERROR(IF(AND(Choices!$A$10=2,Choices!$D$10=2),#REF!,IF(AND(Choices!$A$10=2,Choices!$D$10=3),#REF!,IF(Choices!$A$10=3,#REF!,IF(Choices!$A$10=4,Slagtekalve!B86,\"\")))),\"fejl\")","v":""},{"$f":"Præsentation!F94","v":0}]
[null,26,null,null,null,null,null,null,null,null,null,null,null,null,null,null,null,null,null,null,null,null,null,null,null,{"$f":"Præsentation!F95","v":0}]
[1,{"$f":"$B$97*100+$A98","v":2601},null,null,null,null,null,null,null,null,null,null,null,null,null,null,null,null,null,null,null,null,null,null,null,{"$f":"Præsentation!F96","v":0}]
[2,{"$f":"$B$97*100+$A99","v":2602},null,null,null,null,null,null,null,null,null,null,null,null,null,null,null,null,null,null,null,null,null,null,null,{"$f":"Præsentation!F97","v":0}]
[3,2603,null,null,null,null,null,null,null,null,null,null,null,null,null,null,null,null,null,null,null,null,null,null,null,{"$f":"Præsentation!F98","v":0}]
[4,2604,null,null,null,null,null,null,null,null,null,null,null,null,null,null,null,null,null,null,null,null,null,null,null,{"$f":"Præsentation!F99","v":0}]
[5,2605,null,null,null,null,null,null,null,null,null,null,null,null,null,null,null,null,null,null,null,null,null,null,null,{"$f":"Præsentation!F100","v":0}]
[6,2606,null,null,null,null,null,null,null,null,null,null,null,null,null,null,null,null,null,null,null,null,null,null,null,{"$f":"Præsentation!F101","v":0}]
[7,2607,null,null,null,null,null,null,null,null,null,null,null,null,null,null,null,null,null,null,null,null,null,null,null,{"$f":"Præsentation!F102","v":0}]
[8,2608,null,null,null,null,null,null,null,null,null,null,null,null,null,null,null,null,null,null,null,null,null,null,null,{"$f":"Præsentation!F103","v":0}]
[9,2609,null,null,null,null,null,null,null,null,null,null,null,null,null,null,null,null,null,null,null,null,null,null,null,{"$f":"Præsentation!F104","v":0}]
[10,2610,null,null,null,null,null,null,null,null,null,null,null,null,null,null,null,null,null,null,null,null,null,null,null,{"$f":"Præsentation!F105","v":0}]
[11,2611,null,null,null,null,null,null,null,null,null,null,null,null,null,"Antal bedrifter",null,null,null,null,null,null,null,null,null,{"$f":"Præsentation!F106","v":0}]
[12,2612,null,null,null,null,null,null,null,null,null,null,null,null,null,null,null,null,null,null,null,null,null,null,null,{"$f":"Præsentation!F107","v":0}]
[13,2613,null,null,null,null,null,null,null,null,null,null,null,null,null,null,null,null,null,null,null,null,null,null,null,{"$f":"Præsentation!F108","v":0}]
[null,27,null,null,null,null,null,null,null,null,null,null,null,null,null,null,null,null,null,null,null,null,null,null,null,{"$f":"Præsentation!F109","v":0}]
[1,{"$f":"$B$111*100+$A112","v":2701},null,null,null,null,null,null,null,null,null,null,null,null,null,null,null,null,null,null,null,null,null,null,null,{"$f":"Præsentation!F110","v":0}]
[2,{"$f":"$B$111*100+$A113","v":2702},null,null,null,null,null,null,null,null,null,null,null,null,null,null,null,null,null,null,null,null,null,null,null,{"$f":"Præsentation!F111","v":0}]
[3,2703,null,null,null,null,null,null,null,null,null,null,null,null,null,null,null,null,null,null,null,null,null,null,null,{"$f":"Præsentation!F112","v":0}]
[4,2704,null,null,null,null,null,null,null,null,null,null,null,null,null,null,null,null,null,null,null,null,null,null,null,{"$f":"Præsentation!F113","v":0}]
[5,2705,null,null,null,null,null,null,null,null,null,null,null,null,null,null,null,null,null,null,null,null,null,null,null,{"$f":"Præsentation!F114","v":0}]
[6,2706,null,null,null,null,null,null,null,null,null,null,null,null,null,null,null,null,null,null,null,null,null,null,null,{"$f":"Præsentation!F115","v":0}]
[7,2707,null,null,null,null,null,null,null,null,null,null,null,null,null,null,null,null,null,null,null,null,null,null,null,{"$f":"Præsentation!F116","v":0}]
[8,2708,null,null,null,null,null,null,null,null,null,null,null,null,null,null,null,null,null,null,null,null,null,null,null,{"$f":"Præsentation!F117","v":0}]
[9,2709,null,null,null,null,null,null,null,null,null,null,null,null,null,null,null,null,null,null,null,null,null,null,null,{"$f":"Præsentation!F118","v":0}]
[10,2710,null,null,null,null,null,null,null,null,null,null,null,null,null,null,null,null,null,null,null,null,null,null,null,{"$f":"Præsentation!F119","v":0}]
[11,2711,null,null,null,null,null,null,null,null,null,null,null,null,null,null,null,null,null,null,null,null,null,null,null,{"$f":"Præsentation!F120","v":0}]
[12,2712,null,null,null,null,null,null,null,null,null,null,null,null,null,null,null,null,null,null,null,null,null,null,null,{"$f":"Præsentation!F121","v":0}]
[13,2713,null,null,null,null,null,null,null,null,null,null,null,null,null,null,null,null,null,null,null,null,null,null,null,{"$f":"Præsentation!F122","v":0}]
[null,null,null,null,null,null,null,null,null,null,null,null,null,null,null,"Antal bedrifter",null,null,null,null,null,null,null,null,null,{"$f":"Præsentation!F123","v":0}]
[null,null,null,null,null,null,null,null,null,null,null,null,null,null,null,null,null,null,null,null,null,null,null,null,null,{"$f":"Præsentation!F124","v":0}]
[null,null,null,null,null,null,null,null,null,null,null,null,null,null,null,null,null,null,null,null,null,null,null,null,null,{"$f":"Præsentation!F125","v":0}]
[null,322,null,null,null,null,null,null,null,null,null,null,null,null,null,null,null,null,null,null,null,null,null,null,null,{"$f":"Præsentation!F126","v":0}]
[1,{"$f":"$B$128*100+A129","v":32201},null,null,null,null,null,null,null,null,null,null,null,null,0,null,null,null,null,null,null,null,null,null,null,{"$f":"Præsentation!F127","v":0}]
[2,{"$f":"$B$128*100+A130","v":32202},null,null,null,null,null,null,null,null,null,null,null,null,0,null,null,null,null,null,null,null,null,null,null,{"$f":"Præsentation!F128","v":0}]
[3,32203,null,null,null,null,null,null,null,null,null,null,null,null,0,null,null,null,null,null,null,null,null,null,null,{"$f":"Præsentation!F129","v":0}]
[4,32204,null,null,null,null,null,null,null,null,null,null,null,null,0,null,null,null,null,null,null,null,null,null,null,{"$f":"Præsentation!F130","v":0}]
[5,32205,null,null,null,null,null,null,null,null,null,null,null,null,0,null,null,null,null,null,null,null,null,null,null,{"$f":"Præsentation!F131","v":0}]
[6,32206,null,null,null,null,null,null,null,null,null,null,null,null,null,null,null,null,null,null,null,null,null,null,null,{"$f":"Præsentation!F132","v":0}]
[7,32207,null,null,null,null,null,null,null,null,null,null,null,null,0,null,null,null,null,null,null,null,null,null,null,{"$f":"Præsentation!F133","v":0}]
[8,32208,null,null,null,null,null,null,null,null,null,null,null,null,0,null,null,null,null,null,null,null,null,null,null,{"$f":"Præsentation!F134","v":0}]
[9,32209,null,null,null,null,null,null,null,null,null,null,null,null,0,null,null,null,null,null,null,null,null,null,null,{"$f":"Præsentation!F135","v":0}]
[10,32210,null,null,null,null,null,null,null,null,null,null,null,null,0,null,null,null,null,null,null,null,null,null,null,{"$f":"Præsentation!F136","v":0}]
[11,32211,null,null,null,null,null,null,null,null,null,null,null,null,null,"Antal bedrifter",null,null,null,null,null,null,null,null,null,{"$f":"Præsentation!F137","v":0}]
[12,32212,null,null,null,null,null,null,null,null,null,null,null,null,null,null,null,null,null,null,null,null,null,null,null,{"$f":"Præsentation!F138","v":0}]
[13,32213,null,null,null,null,null,null,null,null,null,null,null,null,null,null,null,null,null,null,null,null,null,null,null,{"$f":"Præsentation!F139","v":0}]
[null,323,null,null,null,null,null,null,null,null,null,null,null,null,null,null,null,null,null,null,null,null,null,null,null,{"$f":"Præsentation!F140","v":0}]
[1,{"$f":"$B$142*100+A143","v":32301},null,null,null,null,null,null,null,null,null,null,null,null,null,null,null,null,null,null,null,null,null,null,null,{"$f":"Præsentation!F141","v":0}]
[2,{"$f":"$B$142*100+A144","v":32302},null,null,null,null,null,null,null,null,null,null,null,null,null,null,null,null,null,null,null,null,null,null,null,{"$f":"Præsentation!F142","v":0}]
[3,32303,null,null,null,null,null,null,null,null,null,null,null,null,null,null,null,null,null,null,null,null,null,null,null,{"$f":"Præsentation!F143","v":0}]
[4,32304,null,null,null,null,null,null,null,null,null,null,null,null,null,null,null,null,null,null,null,null,null,null,null,{"$f":"Præsentation!F144","v":0}]
[5,32305,null,null,null,null,null,null,null,null,null,null,null,null,null,null,null,null,null,null,null,null,null,null,null,{"$f":"Præsentation!F145","v":0}]
[6,32306,null,null,null,null,null,null,null,null,null,null,null,null,null,null,null,null,null,null,null,null,null,null,null,{"$f":"Præsentation!F146","v":0}]
[7,32307,null,null,null,null,null,null,null,null,null,null,null,null,null,null,null,null,null,null,null,null,null,null,null,{"$f":"Præsentation!F147","v":0}]
[8,32308,null,null,null,null,null,null,null,null,null,null,null,null,null,null,null,null,null,null,null,null,null,null,null,{"$f":"Præsentation!F148","v":0}]
[9,32309,null,null,null,null,null,null,null,null,null,null,null,null,null,null,null,null,null,null,null,null,null,null,null,{"$f":"Præsentation!F149","v":0}]
[10,32310,null,null,null,null,null,null,null,null,null,null,null,null,null,null,null,null,null,null,null,null,null,null,null,{"$f":"Præsentation!F150","v":0}]
[11,32311,null,null,null,null,null,null,null,null,null,null,null,null,null,"Antal bedrifter",null,null,null,null,null,null,null,null,null,{"$f":"Præsentation!F151","v":0}]
[12,32312,null,null,null,null,null,null,null,null,null,null,null,null,null,null,null,null,null,null,null,null,null,null,null,{"$f":"Præsentation!F152","v":0}]
[13,32313,null,null,null,null,null,null,null,null,null,null,null,null,null,null,null,null,null,null,null,null,null,null,null,{"$f":"Præsentation!F153","v":0}]
[null,324,null,null,null,null,null,null,null,null,null,null,null,null,null,null,null,null,null,null,null,null,null,null,null,{"$f":"Præsentation!F154","v":0}]
[1,{"$f":"$B$156*100+A157","v":32401},null,null,null,null,null,null,null,null,null,null,null,null,null,null,null,null,null,null,null,null,null,null,null,{"$f":"Præsentation!F155","v":0}]
[2,{"$f":"$B$156*100+A158","v":32402},null,null,null,null,null,null,null,null,null,null,null,null,null,null,null,null,null,null,null,null,null,null,null,{"$f":"Præsentation!F156","v":0}]
[3,32403,null,null,null,null,null,null,null,null,null,null,null,null,null,null,null,null,null,null,null,null,null,null,null,{"$f":"Præsentation!F157","v":0}]
[4,32404,null,null,null,null,null,null,null,null,null,null,null,null,null,null,null,null,null,null,null,null,null,null,null,{"$f":"Præsentation!F158","v":0}]
[5,32405,null,null,null,null,null,null,null,null,null,null,null,null,null,null,null,null,null,null,null,null,null,null,null,{"$f":"Præsentation!F159","v":0}]
[6,32406,null,null,null,null,null,null,null,null,null,null,null,null,null,null,null,null,null,null,null,null,null,null,null,{"$f":"Præsentation!F160","v":0}]
[7,32407,null,null,null,null,null,null,null,null,null,null,null,null,null,null,null,null,null,null,null,null,null,null,null,{"$f":"Præsentation!F161","v":0}]
[8,32408,null,null,null,null,null,null,null,null,null,null,null,null,null,null,null,null,null,null,null,null,null,null,null,{"$f":"Præsentation!F162","v":0}]
[9,32409,null,null,null,null,null,null,null,null,null,null,null,null,null,null,null,null,null,null,null,null,null,null,null,{"$f":"Præsentation!F163","v":0}]
[10,32410,null,null,null,null,null,null,null,null,null,null,null,null,null,null,null,null,null,null,null,null,null,null,null,{"$f":"Præsentation!F164","v":0}]
[11,32411,null,null,null,null,null,null,null,null,null,null,null,null,null,"Antal bedrifter",null,null,null,null,null,null,null,null,null,{"$f":"Præsentation!F165","v":0}]
[12,32412,null,null,null,null,null,null,null,null,null,null,null,null,null,null,null,null,null,null,null,null,null,null,null,{"$f":"Præsentation!F166","v":0}]
[13,32413,null,null,null,null,null,null,null,null,null,null,null,null,null,null,null,null,null,null,null,null,null,null,null,{"$f":"Præsentation!F167","v":0}]
[null,325,null,null,null,null,null,null,null,null,null,null,null,null,null,null,null,null,null,null,null,null,null,null,null,{"$f":"Præsentation!F168","v":0}]
[1,{"$f":"$B$170*100+A171","v":32501},null,null,null,null,null,null,null,null,null,null,null,null,null,null,null,null,null,null,null,null,null,null,null,{"$f":"Præsentation!F169","v":0}]
[2,{"$f":"$B$170*100+A172","v":32502},null,null,null,null,null,null,null,null,null,null,null,null,null,null,null,null,null,null,null,null,null,null,null,{"$f":"Præsentation!F170","v":0}]
[3,32503,null,null,null,null,null,null,null,null,null,null,null,null,null,null,null,null,null,null,null,null,null,null,null,{"$f":"Præsentation!F171","v":0}]
[4,32504,null,null,null,null,null,null,null,null,null,null,null,null,null,null,null,null,null,null,null,null,null,null,null,{"$f":"Præsentation!F172","v":0}]
[5,32505,null,null,null,null,null,null,null,null,null,null,null,null,null,null,null,null,null,null,null,null,null,null,null,{"$f":"Præsentation!F173","v":0}]
[6,32506,null,null,null,null,null,null,null,null,null,null,null,null,null,null,null,null,null,null,null,null,null,null,null,{"$f":"Præsentation!F174","v":0}]
[7,32507,null,null,null,null,null,null,null,null,null,null,null,null,null,null,null,null,null,null,null,null,null,null,null,{"$f":"Præsentation!F175","v":0}]
[8,32508,null,null,null,null,null,null,null,null,null,null,null,null,null,null,null,null,null,null,null,null,null,null,null,{"$f":"Præsentation!F176","v":0}]
[9,32509,null,null,null,null,null,null,null,null,null,null,null,null,null,null,null,null,null,null,null,null,null,null,null,{"$f":"Præsentation!F177","v":0}]
[10,32510,null,null,null,null,null,null,null,null,null,null,null,null,null,null,null,null,null,null,null,null,null,null,null,{"$f":"Præsentation!F178","v":0}]
[11,32511,null,null,null,null,null,null,null,null,null,null,null,null,null,null,null,null,null,null,null,null,null,null,null,{"$f":"Præsentation!F179","v":0}]
[12,32512,null,null,null,null,null,null,null,null,null,null,null,null,null,null,null,null,null,null,null,null,null,null,null,{"$f":"Præsentation!F180","v":0}]
[13,32513,null,null,null,null,null,null,null,null,null,null,null,null,null,"Antal bedrifter",null,null,null,null,null,null,null,null,null,{"$f":"Præsentation!F181","v":0}]
[null,null,null,null,null,null,null,null,null,null,null,null,null,null,null,null,null,null,null,null,null,null,null,null,null,{"$f":"Præsentation!F182","v":0}]
[null,null,null,null,null,null,null,null,null,null,null,null,null,null,null,null,null,null,null,null,null,null,null,null,null,{"$f":"Præsentation!F183","v":0}]
[null,332,null,null,null,null,null,null,null,null,null,null,null,null,null,null,null,null,null,null,null,null,null,null,null,{"$f":"Præsentation!F184","v":0}]
[1,{"$f":"$B$186*100+A187","v":33201},null,null,null,null,null,null,null,null,null,null,null,null,0,null,null,null,null,null,null,null,null,null,null,{"$f":"Præsentation!F185","v":0}]
[2,{"$f":"$B$186*100+A188","v":33202},null,null,null,null,null,null,null,null,null,null,null,null,0,null,null,null,null,null,null,null,null,null,null,{"$f":"Præsentation!F186","v":0}]
[3,33203,null,null,null,null,null,null,null,null,null,null,null,null,0,null,null,null,null,null,null,null,null,null,null,{"$f":"Præsentation!F187","v":0}]
[4,33204,null,null,null,null,null,null,null,null,null,null,null,null,0,null,null,null,null,null,null,null,null,null,null,{"$f":"Præsentation!F188","v":0}]
[5,33205,null,null,null,null,null,null,null,null,null,null,null,null,0,null,null,null,null,null,null,null,null,null,null,{"$f":"Præsentation!F189","v":0}]
[6,33206,null,null,null,null,null,null,null,null,null,null,null,null,0,null,null,null,null,null,null,null,null,null,null,{"$f":"Præsentation!F190","v":0}]
[7,33207,null,null,null,null,null,null,null,null,null,null,null,null,null,null,null,null,null,null,null,null,null,null,null,{"$f":"Præsentation!F191","v":0}]
[8,33208,null,null,null,null,null,null,null,null,null,null,null,null,0,null,null,null,null,null,null,null,null,null,null,{"$f":"Præsentation!F192","v":0}]
[9,33209,null,null,null,null,null,null,null,null,null,null,null,null,0,null,null,null,null,null,null,null,null,null,null,{"$f":"Præsentation!F193","v":0}]
[10,33210,null,null,null,null,null,null,null,null,null,null,null,null,0,null,null,null,null,null,null,null,null,null,null,{"$f":"Præsentation!F194","v":0}]
[11,33211,null,null,null,null,null,null,null,null,null,null,null,null,0,null,null,null,null,null,null,null,null,null,null,{"$f":"Præsentation!F195","v":0}]
[12,33212,null,null,null,null,null,null,null,null,null,null,null,null,null,"Antal bedrifter",null,null,null,null,null,null,null,null,null,{"$f":"Præsentation!F196","v":0}]
[13,33213,null,null,null,null,null,null,null,null,null,null,null,null,null,null,null,null,null,null,null,null,null,null,null,{"$f":"Præsentation!F197","v":0}]
[14,33214,null,null,null,null,null,null,null,null,null,null,null,null,null,null,null,null,null,null,null,null,null,null,null,{"$f":"Præsentation!F198","v":0}]
[null,333,null,null,null,null,null,null,null,null,null,null,null,null,null,null,null,null,null,null,null,null,null,null,null,{"$f":"Præsentation!F199","v":0}]
[1,{"$f":"$B$201*100+A202","v":33301},null,null,null,null,null,null,null,null,null,null,null,null,null,null,null,null,null,null,null,null,null,null,null,{"$f":"Præsentation!F200","v":0}]
[2,{"$f":"$B$201*100+A203","v":33302},null,null,null,null,null,null,null,null,null,null,null,null,null,null,null,null,null,null,null,null,null,null,null,{"$f":"Præsentation!F201","v":0}]
[3,33303,null,null,null,null,null,null,null,null,null,null,null,null,null,null,null,null,null,null,null,null,null,null,null,{"$f":"Præsentation!F202","v":0}]
[4,33304,null,null,null,null,null,null,null,null,null,null,null,null,null,null,null,null,null,null,null,null,null,null,null,{"$f":"Præsentation!F203","v":0}]
[5,33305,null,null,null,null,null,null,null,null,null,null,null,null,null,null,null,null,null,null,null,null,null,null,null,{"$f":"Præsentation!F204","v":0}]
[6,33306,null,null,null,null,null,null,null,null,null,null,null,null,null,null,null,null,null,null,null,null,null,null,null,{"$f":"Præsentation!F205","v":0}]
[7,33307,null,null,null,null,null,null,null,null,null,null,null,null,null,null,null,null,null,null,null,null,null,null,null,{"$f":"Præsentation!F206","v":0}]
[8,33308,null,null,null,null,null,null,null,null,null,null,null,null,null,null,null,null,null,null,null,null,null,null,null,{"$f":"Præsentation!F207","v":0}]
[9,33309,null,null,null,null,null,null,null,null,null,null,null,null,null,null,null,null,null,null,null,null,null,null,null,{"$f":"Præsentation!F208","v":0}]
[10,33310,null,null,null,null,null,null,null,null,null,null,null,null,null,null,null,null,null,null,null,null,null,null,null,{"$f":"Præsentation!F209","v":0}]
[11,33311,null,null,null,null,null,null,null,null,null,null,null,null,null,null,null,null,null,null,null,null,null,null,null,{"$f":"Præsentation!F210","v":0}]
[12,33312,null,null,null,null,null,null,null,null,null,null,null,null,null,null,null,null,null,null,null,null,null,null,null,{"$f":"Præsentation!F211","v":0}]
[13,33313,null,null,null,null,null,null,null,null,null,null,null,null,null,null,null,null,null,null,null,null,null,null,null,{"$f":"Præsentation!F212","v":0}]
[14,33314,null,null,null,null,null,null,null,null,null,null,null,null,null,"Antal bedrifter",null,null,null,null,null,null,null,null,null,{"$f":"Præsentation!F213","v":0}]
[null,null,null,null,null,null,null,null,null,null,null,null,null,null,null,null,null,null,null,null,null,null,null,null,null,{"$f":"Præsentation!F214","v":0}]
[null,null,null,null,null,null,null,null,null,null,null,null,null,null,null,null,null,null,null,null,null,null,null,null,null,{"$f":"Præsentation!F215","v":0}]
[null,null,null,null,null,null,null,null,null,null,null,null,null,null,null,null,null,null,null,null,null,null,null,null,null,{"$f":"Præsentation!F216","v":0}]
[1,{"$f":"$B$218*100+A219","v":1},null,null,null,null,null,null,null,null,null,null,null,null,null,null,null,null,null,null,null,null,null,null,null,{"$f":"Præsentation!F217","v":0}]
[2,{"$f":"$B$218*100+A220","v":2},null,null,null,null,null,null,null,null,null,null,null,null,null,null,null,null,null,null,null,null,null,null,null,{"$f":"Præsentation!F218","v":0}]
[3,3,null,null,null,null,null,null,null,null,null,null,null,null,null,null,null,null,null,null,null,null,null,null,null,{"$f":"Præsentation!F219","v":0}]
[4,4,null,null,null,null,null,null,null,null,null,null,null,null,null,null,null,null,null,null,null,null,null,null,null,{"$f":"Præsentation!F220","v":0}]
[5,5,null,null,null,null,null,null,null,null,null,null,null,null,null,null,null,null,null,null,null,null,null,null,null,{"$f":"Præsentation!F221","v":0}]
[6,6,null,null,null,null,null,null,null,null,null,null,null,null,null,null,null,null,null,null,null,null,null,null,null,{"$f":"Præsentation!F222","v":0}]
[7,7,null,null,null,null,null,null,null,null,null,null,null,null,null,null,null,null,null,null,null,null,null,null,null,{"$f":"Præsentation!F223","v":0}]
[8,8,null,null,null,null,null,null,null,null,null,null,null,null,null,null,null,null,null,null,null,null,null,null,null,{"$f":"Præsentation!F224","v":0}]
[9,9,null,null,null,null,null,null,null,null,null,null,null,null,null,null,null,null,null,null,null,null,null,null,null,{"$f":"Præsentation!F225","v":0}]
[10,10,null,null,null,null,null,null,null,null,null,null,null,null,null,null,null,null,null,null,null,null,null,null,null,{"$f":"Præsentation!F226","v":0}]
[11,11,null,null,null,null,null,null,null,null,null,null,null,null,null,null,null,null,null,null,null,null,null,null,null,{"$f":"Præsentation!F227","v":0}]
[12,12,null,null,null,null,null,null,null,null,null,null,null,null,null,null,null,null,null,null,null,null,null,null,null,{"$f":"Præsentation!F228","v":0}]
[13,13,null,null,null,null,null,null,null,null,null,null,null,null,null,null,null,null,null,null,null,null,null,null,null,{"$f":"Præsentation!F229","v":0}]
[14,14,null,null,null,null,null,null,null,null,null,null,null,null,null,null,null,null,null,null,null,null,null,null,null,{"$f":"Præsentation!F230","v":0}]
[null,null,null,null,null,null,null,null,null,null,null,null,null,null,null,null,null,null,null,null,null,null,null,null,null,{"$f":"Præsentation!F231","v":0}]
["Slagtekalve",null,null,null,null,null,null,null,null,null,null,null,null,null,null,null,null,null,null,null,null,null,null,null,null,{"$f":"Præsentation!F232","v":0}]
[null,4,null,null,null,null,null,null,null,null,null,null,null,null,null,null,null,null,null,null,null,null,null,null,null,{"$f":"Præsentation!F233","v":0}]
[1,{"$f":"$B$235*100+A236","v":401},"Slagtekalve","Stærk konkurrenceevne",null,null,null,null,null,null,"Stort forbedringspotentiale",null,null,null,null,null,null,null,null,null,null,null,null,null,null,{"$f":"Præsentation!F234","v":0}]
[2,{"$f":"$B$235*100+A237","v":402},null,null,null,null,null,null,null,null,null,null,null,null,null,null,null,null,null,null,null,null,null,null,null,{"$f":"Præsentation!F235","v":0}]
[3,403,null,null,null,null,null,null,null,null,null,null,null,null,0,null,null,null,null,null,null,null,null,null,null,{"$f":"Præsentation!F236","v":0}]
[4,404,null,null,null,null,null,null,null,null,null,null,null,null,null,null,null,null,null,null,null,null,null,null,null,{"$f":"Præsentation!F237","v":0}]
[5,405,null,null,null,null,null,null,null,null,null,null,null,null,13,null,null,null,null,null,null,null,null,null,null,{"$f":"Præsentation!F238","v":0}]
[6,406,null,null,null,null,null,null,null,null,null,null,null,null,13]
[7,407]
[8,408,null,null,null,null,null,null,null,null,null,null,null,null,6]
[9,409]
[10,410,null,null,null,null,null,null,null,null,null,null,null,null,20]
[11,411,null,null,null,null,null,null,null,null,null,null,null,null,20]
[12,412,null,null,null,null,null,null,null,null,null,null,null,null,20]
[13,413,null,null,null,null,null,null,null,null,null,null,null,null,21]
[14,{"$f":"$B$235*100+A249","v":414},null,null,null,null,null,null,null,null,null,null,null,null,20]
[15,415]
[null,423]
[1,{"$f":"$B$251*100+A252","v":42301},"Grovfoder Konventionel|sandjord m. vanding","Stærk konkurrenceevne",null,null,null,null,null,null,"Stort forbedringspotentiale"]
[2,{"$f":"$B$251*100+A253","v":42302}]
[3,42303]
[4,42304]
[5,42305]
[6,42306]
[7,42307]
[8,42308]
[9,42309,null,null,null,null,null,null,null,null,null,null,null,null,null,"Antal bedrifter"]
[10,42310]
[11,42311]
[12,42312]
[13,42313]
[null,424]
[1,{"$f":"$B$265*100+A266","v":42401}]
[2,{"$f":"$B$265*100+A267","v":42402}]
[3,42403]
[4,42404]
[5,42405]
[6,42406]
[7,42407]
[8,42408]
[9,42409,null,null,null,null,null,null,null,null,null,null,null,null,null,"Antal bedrifter"]
[10,42410]
[11,42411]
[12,42412]
[13,42413]
[null,425]
[1,{"$f":"$B$279*100+A280","v":42501}]
[2,{"$f":"$B$279*100+A281","v":42502}]
[3,42503]
[4,42504]
[5,42505]
[6,42506]
[7,42507]
[8,42508]
[9,42509]
[10,42510]
[11,42511,null,null,null,null,null,null,null,null,null,null,null,null,null,"Antal bedrifter"]
[12,42512]
[13,42513]
[]
[]
[null,432]
[1,{"$f":"$B$295*100+A296","v":43201}]
[2,{"$f":"$B$295*100+A297","v":43202}]
[3,43203]
[4,43204]
[5,43205]
[6,43206]
[7,43207]
[8,43208]
[9,43209,null,null,null,null,null,null,null,null,null,null,null,null,null,"Antal bedrifter"]
[10,43210]
[11,43211]
[12,43212]
[13,43213]
[null,433]
[1,{"$f":"$B$309*100+A310","v":43301}]
[2,{"$f":"$B$309*100+A311","v":43302}]
[3,43303]
[4,43304]
[5,43305]
[6,43306]
[7,43307]
[8,43308]
[9,43309,null,null,null,null,null,null,null,null,null,null,null,null,null,"Antal bedrifter"]
[10,43310]
[11,43311]
[12,43312]
[13,43313]
[null,434]
[1,{"$f":"$B$323*100+A324","v":43401}]
[2,{"$f":"$B$323*100+A325","v":43402}]
[3,43403]
[4,43404]
[5,43405]
[6,43406]
[7,43407]
[8,43408]
[9,43409,null,null,null,null,null,null,null,null,null,null,null,null,null,"Antal bedrifter"]
[10,43410]
[11,43411]
[12,43412]
[13,43413]
[null,435]
[1,{"$f":"$B$337*100+A338","v":43501}]
[2,{"$f":"$B$337*100+A339","v":43502}]
[3,{"$f":"$B$337*100+A340","v":43503}]
[4,43504]
[5,43505]
[6,43506]
[7,43507]
[8,43508]
[9,43509,null,null,null,null,null,null,null,null,null,null,null,null,null,"Antal bedrifter"]
[10,43510]
[11,43511]
[12,43512]
[13,43513]
[null,436]
[1,{"$f":"$B$351*100+A352","v":43601}]
[2,{"$f":"$B$351*100+A353","v":43602}]
[3,43603]
[4,43604]
[5,43605]
[6,43606]
[7,43607]
[8,43608]
[9,43609]
[10,43610]
[11,43611]
[12,43612]
[13,43613,"-"]

{"sheet":"Diagrammer","index":6,"n_rows":86,"n_cols":64,"rows_kept":86,"cut":false,"hidden":false,"merged":[[54,50,54,62],[4,0,4,22],[6,0,8,22],[34,0,36,22],[49,25,49,34],[1,25,6,34]]}
[]
[null,null,null,null,null,null,null,null,null,null,null,null,null,null,null,null,null,null,null,null,null,null,null,null,null,"Slagtekalve, dækningsbidrag pr. kalv"]
[]
[]
[{"$f":"IF(Choices!A1=2,\"Bemærk: 'Gns.' og 'Top 5' er for 'Dansk kalv - kalve under 10 mdr'\",IF(Choices!A1=3,\"Bemærk: 'Gns.' og 'Top 5' er for 'Ungtyre - kalve over 10 mdr'\",\"\"))","v":"Bemærk: 'Gns.' og 'Top 5' er for 'Dansk kalv - kalve under 10 mdr'"}]
[]
["Dækningsbidrag og \"krav til DB\", kr. pr. slagtekalv"]
[null,null,null,null,null,null,null,null,null,null,null,null,null,null,null,null,null,null,null,null,null,null,null,null,null,"Akserne","Først"]
[null,null,null,null,null,null,null,null,null,null,null,null,null,null,null,null,null,null,null,null,null,null,null,null,null,"min",0,{"$f":"-(MAX(AJ18:AJ43)-MIN(0,MIN(AC18:AI43)))*($AA$11-1)-MIN(0,MIN(AC18:AI43))","v":-25.468090534979446}]
[null,null,null,null,null,null,null,null,null,null,null,null,null,null,null,null,null,null,null,null,null,null,null,null,null,"maks",{"$f":"MAX(AJ18:AJ43)*AA12","v":2610.4792798353906}]
[null,null,null,null,null,null,null,null,null,null,null,null,null,null,null,null,null,null,null,null,null,null,null,null,null,"Skalering nedre",1.01]
[null,null,null,null,null,null,null,null,null,null,null,null,null,null,null,null,null,null,null,null,null,null,null,null,null,"Skalering øvre",1.0249999999999999]
[]
[]
[null,null,null,null,null,null,null,null,null,null,null,null,null,null,null,null,null,null,null,null,null,null,null,null,null,null,null,null,null,null,null,null,null,null,"Krav til dækningsbidrag"]
[null,null,null,null,null,null,null,null,null,null,null,null,null,null,null,null,null,null,null,null,null,null,null,null,null,null,null,null,null,"Arbejdsomkostninger pr. kalv","Bygninger pr. kalv","Inventar inkl. energi pr. kalv","Øvrige omkostninger","Forrentning driftskapital","Dækningsbidrag ekskl. værdiændringer pr. kalv"]
[null,null,null,null,null,null,null,null,null,null,null,null,null,null,null,null,null,null,null,null,null,null,null,null,null,null,null,null,null,"Arbejdsomkostninger","Bygninger","Inventar inkl. energi","Øvrige omkostninger","Forrentning driftskapital","Dækningsbidrag","Total"]
[null,null,null,null,null,null,null,null,null,null,null,null,null,null,null,null,null,null,null,null,null,null,null,null,null,2,{"$f":"IF(OR(Præsentation!$G$11=0,Præsentation!$G$11=\"Vælg\")=TRUE,\"Ingen valgt\",Præsentation!$G$11)","v":"BC gns. gruppen"},null,"Krav til DB",{"$f":"IFERROR(IFERROR(VLOOKUP($AD$17,Præsentation!$F$11:$T$82,$Z18,FALSE),0),\"\")","v":641.38519189175599},{"$f":"IFERROR(IFERROR(VLOOKUP($AE$17,Præsentation!$F$11:$T$82,$Z18,FALSE),0),\"\")","v":462.65363915296012},{"$f":"IFERROR(IFERROR(VLOOKUP($AF$17,Præsentation!$F$11:$T$82,$Z18,FALSE),0),\"\")","v":344.39811880690104},{"$f":"IFERROR(IFERROR(VLOOKUP($AG$17,Præsentation!$F$11:$T$82,$Z18,FALSE),0),\"\")","v":139.59136864342841},{"$f":"IFERROR(IFERROR(VLOOKUP($AH$17,Præsentation!$F$11:$T$82,$Z18,FALSE),0),\"\")","v":81.707358784769383},null,{"$f":"IFERROR(IFERROR(VLOOKUP($AI$15,Præsentation!$F$11:$T$82,$Z18,FALSE),0),\"\")","v":1669.8008651476284}]
[null,null,null,null,null,null,null,null,null,null,null,null,null,null,null,null,null,null,null,null,null,null,null,null,null,2,null,null,"Opnået DB",null,null,null,null,null,{"$f":"IFERROR(IFERROR(VLOOKUP($AI$17,Præsentation!$F$11:$T$82,$Z19,FALSE),0),\"\")","v":1949.7207383934406},{"$f":"SUM(AD19:AI19)","v":1949.7207383934406}]
[null,null,null,null,null,null,null,null,null,null,null,null,null,null,null,null,null,null,null,null,null,null,null,null,null,3,{"$f":"IF(OR(Præsentation!$H$11=0,Præsentation!$H$11=\"Vælg\")=TRUE,\"Ingen valgt\",Præsentation!$H$11)","v":"BC top 5"},null,"Krav til DB",{"$f":"IFERROR(IFERROR(VLOOKUP($AD$17,Præsentation!$F$11:$T$82,$Z20,FALSE),0),\"\")","v":629.63403614457832},{"$f":"IFERROR(IFERROR(VLOOKUP($AE$17,Præsentation!$F$11:$T$82,$Z20,FALSE),0),\"\")","v":387.34251290877796},{"$f":"IFERROR(IFERROR(VLOOKUP($AF$17,Præsentation!$F$11:$T$82,$Z20,FALSE),0),\"\")","v":318.18222891566268},{"$f":"IFERROR(IFERROR(VLOOKUP($AG$17,Præsentation!$F$11:$T$82,$Z20,FALSE),0),\"\")","v":91.793244406196209},{"$f":"IFERROR(IFERROR(VLOOKUP($AH$17,Præsentation!$F$11:$T$82,$Z20,FALSE),0),\"\")","v":64.059810671256457},null,{"$f":"IFERROR(IFERROR(VLOOKUP($AI$15,Præsentation!$F$11:$T$82,$Z20,FALSE),0),\"\")","v":1493.0165662650602}]
[null,null,null,null,null,null,null,null,null,null,null,null,null,null,null,null,null,null,null,null,null,null,null,null,null,3,null,null,"Opnået DB",null,null,null,null,null,{"$f":"IFERROR(IFERROR(VLOOKUP($AI$17,Præsentation!$F$11:$T$82,$Z21,FALSE),0),\"\")","v":2422.7837779690185},{"$f":"SUM(AD21:AI21)","v":2422.7837779690185}]
[null,null,null,null,null,null,null,null,null,null,null,null,null,null,null,null,null,null,null,null,null,null,null,null,null,4,{"$f":"IF(OR(Præsentation!$I$11=0,Præsentation!$I$11=\"Vælg\")=TRUE,\"Ingen valgt\",Præsentation!$I$11)","v":"Gns. Kreds \n"},null,"Krav til DB",{"$f":"IFERROR(IFERROR(VLOOKUP($AD$17,Præsentation!$F$11:$T$82,$Z22,FALSE),0),\"\")","v":""},{"$f":"IFERROR(IFERROR(VLOOKUP($AE$17,Præsentation!$F$11:$T$82,$Z22,FALSE),0),\"\")","v":""},{"$f":"IFERROR(IFERROR(VLOOKUP($AF$17,Præsentation!$F$11:$T$82,$Z22,FALSE),0),\"\")","v":""},{"$f":"IFERROR(IFERROR(VLOOKUP($AG$17,Præsentation!$F$11:$T$82,$Z22,FALSE),0),\"\")","v":""},{"$f":"IFERROR(IFERROR(VLOOKUP($AH$17,Præsentation!$F$11:$T$82,$Z22,FALSE),0),\"\")","v":""},null,{"$f":"IFERROR(IFERROR(VLOOKUP($AI$15,Præsentation!$F$11:$T$82,$Z22,FALSE),0),\"\")","v":""}]
[null,null,null,null,null,null,null,null,null,null,null,null,null,null,null,null,null,null,null,null,null,null,null,null,null,4,null,null,"Opnået DB",null,null,null,null,null,{"$f":"IFERROR(IFERROR(VLOOKUP($AI$17,Præsentation!$F$11:$T$82,$Z23,FALSE),0),\"\")","v":""},{"$f":"SUM(AD23:AI23)","v":0}]
[null,null,null,null,null,null,null,null,null,null,null,null,null,null,null,null,null,null,null,null,null,null,null,null,null,5,{"$f":"IF(OR(Præsentation!$K$11=0,Præsentation!$K$11=\"Vælg\")=TRUE,\"Ingen valgt\",Præsentation!$K$11)","v":"D1"},null,"Krav til DB",{"$f":"IFERROR(IFERROR(VLOOKUP($AD$17,Præsentation!$F$11:$T$82,$Z24,FALSE),0),\"\")","v":""},{"$f":"IFERROR(IFERROR(VLOOKUP($AE$17,Præsentation!$F$11:$T$82,$Z24,FALSE),0),\"\")","v":""},{"$f":"IFERROR(IFERROR(VLOOKUP($AF$17,Præsentation!$F$11:$T$82,$Z24,FALSE),0),\"\")","v":""},{"$f":"IFERROR(IFERROR(VLOOKUP($AG$17,Præsentation!$F$11:$T$82,$Z24,FALSE),0),\"\")","v":""},{"$f":"IFERROR(IFERROR(VLOOKUP($AH$17,Præsentation!$F$11:$T$82,$Z24,FALSE),0),\"\")","v":""},null,{"$f":"IFERROR(IFERROR(VLOOKUP($AI$15,Præsentation!$F$11:$T$82,$Z24,FALSE),0),\"\")","v":""}]
[null,null,null,null,null,null,null,null,null,null,null,null,null,null,null,null,null,null,null,null,null,null,null,null,null,5,null,null,"Opnået DB",null,null,null,null,null,{"$f":"IFERROR(IFERROR(VLOOKUP($AI$17,Præsentation!$F$11:$T$82,$Z25,FALSE),0),\"\")","v":""},{"$f":"SUM(AD25:AI25)","v":0}]
[null,null,null,null,null,null,null,null,null,null,null,null,null,null,null,null,null,null,null,null,null,null,null,null,null,6,{"$f":"IF(OR(Præsentation!$L$11=0,Præsentation!$L$11=\"Vælg\")=TRUE,\"Ingen valgt\",Præsentation!$L$11)","v":"D4"},null,"Krav til DB",{"$f":"IFERROR(IFERROR(VLOOKUP($AD$17,Præsentation!$F$11:$T$82,$Z26,FALSE),0),\"\")","v":522.41887905604722},{"$f":"IFERROR(IFERROR(VLOOKUP($AE$17,Præsentation!$F$11:$T$82,$Z26,FALSE),0),\"\")","v":293.15044247787608},{"$f":"IFERROR(IFERROR(VLOOKUP($AF$17,Præsentation!$F$11:$T$82,$Z26,FALSE),0),\"\")","v":160.01179941002951},{"$f":"IFERROR(IFERROR(VLOOKUP($AG$17,Præsentation!$F$11:$T$82,$Z26,FALSE),0),\"\")","v":117.36283185840708},{"$f":"IFERROR(IFERROR(VLOOKUP($AH$17,Præsentation!$F$11:$T$82,$Z26,FALSE),0),\"\")","v":68.097345132743357},null,{"$f":"IFERROR(IFERROR(VLOOKUP($AI$15,Præsentation!$F$11:$T$82,$Z26,FALSE),0),\"\")","v":1162.0560471976401}]
[null,null,null,null,null,null,null,null,null,null,null,null,null,null,null,null,null,null,null,null,null,null,null,null,null,6,null,null,"Opnået DB",null,null,null,null,null,{"$f":"IFERROR(IFERROR(VLOOKUP($AI$17,Præsentation!$F$11:$T$82,$Z27,FALSE),0),\"\")","v":2338.7994100294986},{"$f":"SUM(AD27:AI27)","v":2338.7994100294986}]
[null,null,null,null,null,null,null,null,null,null,null,null,null,null,null,null,null,null,null,null,null,null,null,null,null,7,{"$f":"IF(OR(Præsentation!$M$11=0,Præsentation!$M$11=\"Vælg\")=TRUE,\"Ingen valgt\",Præsentation!$M$11)","v":"D6"},null,"Krav til DB",{"$f":"IFERROR(IFERROR(VLOOKUP($AD$17,Præsentation!$F$11:$T$82,$Z28,FALSE),0),\"\")","v":754.28724279835387},{"$f":"IFERROR(IFERROR(VLOOKUP($AE$17,Præsentation!$F$11:$T$82,$Z28,FALSE),0),\"\")","v":487.51687242798351},{"$f":"IFERROR(IFERROR(VLOOKUP($AF$17,Præsentation!$F$11:$T$82,$Z28,FALSE),0),\"\")","v":332.87242798353907},{"$f":"IFERROR(IFERROR(VLOOKUP($AG$17,Præsentation!$F$11:$T$82,$Z28,FALSE),0),\"\")","v":68.967078189300409},{"$f":"IFERROR(IFERROR(VLOOKUP($AH$17,Præsentation!$F$11:$T$82,$Z28,FALSE),0),\"\")","v":65.394238683127568},null,{"$f":"IFERROR(IFERROR(VLOOKUP($AI$15,Præsentation!$F$11:$T$82,$Z28,FALSE),0),\"\")","v":1705.8213991769546}]
[null,null,null,null,null,null,null,null,null,null,null,null,null,null,null,null,null,null,null,null,null,null,null,null,null,7,null,null,"Opnået DB",null,null,null,null,null,{"$f":"IFERROR(IFERROR(VLOOKUP($AI$17,Præsentation!$F$11:$T$82,$Z29,FALSE),0),\"\")","v":2546.8090534979424},{"$f":"SUM(AD29:AI29)","v":2546.8090534979424}]
[null,null,null,null,null,null,null,null,null,null,null,null,null,null,null,null,null,null,null,null,null,null,null,null,null,8,{"$f":"IF(OR(Præsentation!$N$11=0,Præsentation!$N$11=\"Vælg\")=TRUE,\"Ingen valgt\",Præsentation!$N$11)","v":"D7"},null,"Krav til DB",{"$f":"IFERROR(IFERROR(VLOOKUP($AD$17,Præsentation!$F$11:$T$82,$Z30,FALSE),0),\"\")","v":426.13636363636363},{"$f":"IFERROR(IFERROR(VLOOKUP($AE$17,Præsentation!$F$11:$T$82,$Z30,FALSE),0),\"\")","v":211.36363636363637},{"$f":"IFERROR(IFERROR(VLOOKUP($AF$17,Præsentation!$F$11:$T$82,$Z30,FALSE),0),\"\")","v":273.86931818181819},{"$f":"IFERROR(IFERROR(VLOOKUP($AG$17,Præsentation!$F$11:$T$82,$Z30,FALSE),0),\"\")","v":107.375},{"$f":"IFERROR(IFERROR(VLOOKUP($AH$17,Præsentation!$F$11:$T$82,$Z30,FALSE),0),\"\")","v":82.914772727272734},null,{"$f":"IFERROR(IFERROR(VLOOKUP($AI$15,Præsentation!$F$11:$T$82,$Z30,FALSE),0),\"\")","v":1100.590909090909}]
[null,null,null,null,null,null,null,null,null,null,null,null,null,null,null,null,null,null,null,null,null,null,null,null,null,8,null,null,"Opnået DB",null,null,null,null,null,{"$f":"IFERROR(IFERROR(VLOOKUP($AI$17,Præsentation!$F$11:$T$82,$Z31,FALSE),0),\"\")","v":1881.534090909091},{"$f":"SUM(AD31:AI31)","v":1881.534090909091}]
[null,null,null,null,null,null,null,null,null,null,null,null,null,null,null,null,null,null,null,null,null,null,null,null,null,9,{"$f":"IF(OR(Præsentation!$O$11=0,Præsentation!$O$11=\"Vælg\")=TRUE,\"Ingen valgt\",Præsentation!$O$11)","v":"D10"},null,"Krav til DB",{"$f":"IFERROR(IFERROR(VLOOKUP($AD$17,Præsentation!$F$11:$T$82,$Z32,FALSE),0),\"\")","v":575.59967974379504},{"$f":"IFERROR(IFERROR(VLOOKUP($AE$17,Præsentation!$F$11:$T$82,$Z32,FALSE),0),\"\")","v":431.04963971176943},{"$f":"IFERROR(IFERROR(VLOOKUP($AF$17,Præsentation!$F$11:$T$82,$Z32,FALSE),0),\"\")","v":260.03442754203365},{"$f":"IFERROR(IFERROR(VLOOKUP($AG$17,Præsentation!$F$11:$T$82,$Z32,FALSE),0),\"\")","v":199.78142514011208},{"$f":"IFERROR(IFERROR(VLOOKUP($AH$17,Præsentation!$F$11:$T$82,$Z32,FALSE),0),\"\")","v":78.0408326661329},null,{"$f":"IFERROR(IFERROR(VLOOKUP($AI$15,Præsentation!$F$11:$T$82,$Z32,FALSE),0),\"\")","v":1546.1080864691753}]
[null,null,null,null,null,null,null,null,null,null,null,null,null,null,null,null,null,null,null,null,null,null,null,null,null,9,null,null,"Opnået DB",null,null,null,null,null,{"$f":"IFERROR(IFERROR(VLOOKUP($AI$17,Præsentation!$F$11:$T$82,$Z33,FALSE),0),\"\")","v":2242.2065652522019},{"$f":"SUM(AD33:AI33)","v":2242.2065652522019}]
[null,null,null,null,null,null,null,null,null,null,null,null,null,null,null,null,null,null,null,null,null,null,null,null,null,10,{"$f":"IF(OR(Præsentation!$P$11=0,Præsentation!$P$11=\"Vælg\")=TRUE,\"Ingen valgt\",Præsentation!$P$11)","v":"U6"},null,"Krav til DB",{"$f":"IFERROR(IFERROR(VLOOKUP($AD$17,Præsentation!$F$11:$T$82,$Z34,FALSE),0),\"\")","v":495.04950495049508},{"$f":"IFERROR(IFERROR(VLOOKUP($AE$17,Præsentation!$F$11:$T$82,$Z34,FALSE),0),\"\")","v":840.07673267326732},{"$f":"IFERROR(IFERROR(VLOOKUP($AF$17,Præsentation!$F$11:$T$82,$Z34,FALSE),0),\"\")","v":551.26732673267327},{"$f":"IFERROR(IFERROR(VLOOKUP($AG$17,Præsentation!$F$11:$T$82,$Z34,FALSE),0),\"\")","v":155.6881188118812},{"$f":"IFERROR(IFERROR(VLOOKUP($AH$17,Præsentation!$F$11:$T$82,$Z34,FALSE),0),\"\")","v":55.534653465346537},null,{"$f":"IFERROR(IFERROR(VLOOKUP($AI$15,Præsentation!$F$11:$T$82,$Z34,FALSE),0),\"\")","v":2094.9282178217823}]
["Slagtekalve, fremstillingspris",null,null,null,null,null,null,null,null,null,null,null,null,null,null,null,null,null,null,null,null,null,null,null,null,10,null,null,"Opnået DB",null,null,null,null,null,{"$f":"IFERROR(IFERROR(VLOOKUP($AI$17,Præsentation!$F$11:$T$82,$Z35,FALSE),0),\"\")","v":2449.0024752475247},{"$f":"SUM(AD35:AI35)","v":2449.0024752475247}]
[null,null,null,null,null,null,null,null,null,null,null,null,null,null,null,null,null,null,null,null,null,null,null,null,null,11,{"$f":"IF(OR(Præsentation!$Q$11=0,Præsentation!$Q$11=\"Vælg\")=TRUE,\"Ingen valgt\",Præsentation!$Q$11)","v":"U10"},null,"Krav til DB",{"$f":"IFERROR(IFERROR(VLOOKUP($AD$17,Præsentation!$F$11:$T$82,$Z36,FALSE),0),\"\")","v":700.63694267515928},{"$f":"IFERROR(IFERROR(VLOOKUP($AE$17,Præsentation!$F$11:$T$82,$Z36,FALSE),0),\"\")","v":302.91719745222929},{"$f":"IFERROR(IFERROR(VLOOKUP($AF$17,Præsentation!$F$11:$T$82,$Z36,FALSE),0),\"\")","v":468.91082802547771},{"$f":"IFERROR(IFERROR(VLOOKUP($AG$17,Præsentation!$F$11:$T$82,$Z36,FALSE),0),\"\")","v":284.81528662420385},{"$f":"IFERROR(IFERROR(VLOOKUP($AH$17,Præsentation!$F$11:$T$82,$Z36,FALSE),0),\"\")","v":115.8407643312102},null,{"$f":"IFERROR(IFERROR(VLOOKUP($AI$15,Præsentation!$F$11:$T$82,$Z36,FALSE),0),\"\")","v":1877.3694267515923}]
[null,null,null,null,null,null,null,null,null,null,null,null,null,null,null,null,null,null,null,null,null,null,null,null,null,11,null,null,"Opnået DB",null,null,null,null,null,{"$f":"IFERROR(IFERROR(VLOOKUP($AI$17,Præsentation!$F$11:$T$82,$Z37,FALSE),0),\"\")","v":2058.9044585987263},{"$f":"SUM(AD37:AI37)","v":2058.9044585987263}]
[null,null,null,null,null,null,null,null,null,null,null,null,null,null,null,null,null,null,null,null,null,null,null,null,null,12,{"$f":"IF(OR(Præsentation!$R$11=0,Præsentation!$R$11=\"Vælg\")=TRUE,\"Ingen valgt\",Præsentation!$R$11)","v":"D23"},null,"Krav til DB",{"$f":"IFERROR(IFERROR(VLOOKUP($AD$17,Præsentation!$F$11:$T$82,$Z38,FALSE),0),\"\")","v":657.89473684210532},{"$f":"IFERROR(IFERROR(VLOOKUP($AE$17,Præsentation!$F$11:$T$82,$Z38,FALSE),0),\"\")","v":980.97368421052636},{"$f":"IFERROR(IFERROR(VLOOKUP($AF$17,Præsentation!$F$11:$T$82,$Z38,FALSE),0),\"\")","v":523.41228070175441},{"$f":"IFERROR(IFERROR(VLOOKUP($AG$17,Præsentation!$F$11:$T$82,$Z38,FALSE),0),\"\")","v":114.03508771929825},{"$f":"IFERROR(IFERROR(VLOOKUP($AH$17,Præsentation!$F$11:$T$82,$Z38,FALSE),0),\"\")","v":85.096491228070178},null,{"$f":"IFERROR(IFERROR(VLOOKUP($AI$15,Præsentation!$F$11:$T$82,$Z38,FALSE),0),\"\")","v":2360.6754385964914}]
[null,null,null,null,null,null,null,null,null,null,null,null,null,null,null,null,null,null,null,null,null,null,null,null,null,12,null,null,"Opnået DB",null,null,null,null,null,{"$f":"IFERROR(IFERROR(VLOOKUP($AI$17,Præsentation!$F$11:$T$82,$Z39,FALSE),0),\"\")","v":2323.219298245614},{"$f":"SUM(AD39:AI39)","v":2323.219298245614}]
[null,null,null,null,null,null,null,null,null,null,null,null,null,null,null,null,null,null,null,null,null,null,null,null,null,13,{"$f":"IF(OR(Præsentation!$S$11=0,Præsentation!$S$11=\"Vælg\")=TRUE,\"Ingen valgt\",Præsentation!$S$11)","v":"U7"},null,"Krav til DB",{"$f":"IFERROR(IFERROR(VLOOKUP($AD$17,Præsentation!$F$11:$T$82,$Z40,FALSE),0),\"\")","v":525.62988705473504},{"$f":"IFERROR(IFERROR(VLOOKUP($AE$17,Præsentation!$F$11:$T$82,$Z40,FALSE),0),\"\")","v":686.75760208514339},{"$f":"IFERROR(IFERROR(VLOOKUP($AF$17,Præsentation!$F$11:$T$82,$Z40,FALSE),0),\"\")","v":530.78279756733275},{"$f":"IFERROR(IFERROR(VLOOKUP($AG$17,Præsentation!$F$11:$T$82,$Z40,FALSE),0),\"\")","v":164.80538662033015},{"$f":"IFERROR(IFERROR(VLOOKUP($AH$17,Præsentation!$F$11:$T$82,$Z40,FALSE),0),\"\")","v":98.072980017376196},null,{"$f":"IFERROR(IFERROR(VLOOKUP($AI$15,Præsentation!$F$11:$T$82,$Z40,FALSE),0),\"\")","v":2000.8757602085143}]
[null,null,null,null,null,null,null,null,null,null,null,null,null,null,null,null,null,null,null,null,null,null,null,null,null,13,null,null,"Opnået DB",null,null,null,null,null,{"$f":"IFERROR(IFERROR(VLOOKUP($AI$17,Præsentation!$F$11:$T$82,$Z41,FALSE),0),\"\")","v":1630.3119026933102},{"$f":"SUM(AD41:AI41)","v":1630.3119026933102}]
[null,null,null,null,null,null,null,null,null,null,null,null,null,null,null,null,null,null,null,null,null,null,null,null,null,14,{"$f":"IF(OR(Præsentation!$S$11=0,Præsentation!$S$11=\"Vælg\")=TRUE,\"Ingen valgt\",Præsentation!$S$11)","v":"U7"},null,"Krav til DB",{"$f":"IFERROR(IFERROR(VLOOKUP($AD$17,Præsentation!$F$11:$T$82,$Z42,FALSE),0),\"\")","v":528.16901408450701},{"$f":"IFERROR(IFERROR(VLOOKUP($AE$17,Præsentation!$F$11:$T$82,$Z42,FALSE),0),\"\")","v":467.8098591549296},{"$f":"IFERROR(IFERROR(VLOOKUP($AF$17,Præsentation!$F$11:$T$82,$Z42,FALSE),0),\"\")","v":348.92253521126759},{"$f":"IFERROR(IFERROR(VLOOKUP($AG$17,Præsentation!$F$11:$T$82,$Z42,FALSE),0),\"\")","v":281.6901408450704},{"$f":"IFERROR(IFERROR(VLOOKUP($AH$17,Præsentation!$F$11:$T$82,$Z42,FALSE),0),\"\")","v":50.007042253521128},null,{"$f":"IFERROR(IFERROR(VLOOKUP($AI$15,Præsentation!$F$11:$T$82,$Z42,FALSE),0),\"\")","v":1674.6549295774648}]
[null,null,null,null,null,null,null,null,null,null,null,null,null,null,null,null,null,null,null,null,null,null,null,null,null,14,null,null,"Opnået DB",null,null,null,null,null,{"$f":"IFERROR(IFERROR(VLOOKUP($AI$17,Præsentation!$F$11:$T$82,$Z43,FALSE),0),\"\")","v":1782.5211267605634},{"$f":"SUM(AD43:AI43)","v":1782.5211267605634}]
[]
[]
[]
[]
[]
[]
[null,null,null,null,null,null,null,null,null,null,null,null,null,null,null,null,null,null,null,null,null,null,null,null,null,"Slagtekalve, fremstillingspris"]
[null,null,null,null,null,null,null,null,null,null,null,null,null,null,null,null,null,null,null,null,null,null,null,null,null,"Akserne","kalv","kg"]
[null,null,null,null,null,null,null,null,null,null,null,null,null,null,null,null,null,null,null,null,null,null,null,null,null,"min",{"$f":"MIN(AE61:AE84)*AA55","v":-1019.7554140127388},{"$f":"MIN(AO61:AO84)*AA55","v":-4.8634576564452559}]
[null,null,null,null,null,null,null,null,null,null,null,null,null,null,null,null,null,null,null,null,null,null,null,null,null,"maks",{"$f":"MAX(AN61:AN86)*AA55","v":7708.7999999999993},{"$f":"MAX(AX61:AX84)*AA55*AC55","v":36.765112365990184},{"$f":"MAX(AX61:AX84)*AA55","v":35.016113744075824}]
[null,null,null,null,null,null,null,null,null,null,null,null,null,null,null,null,null,null,null,null,null,null,null,null,null,"Skalering nedre",null,{"$f":"AA53/AC53","v":220.15007308754264}]
[null,null,null,null,null,null,null,null,null,null,null,null,null,null,null,null,null,null,null,null,null,null,null,null,null,"Skalering øvre",1.2,{"$f":"AA52/AB52","v":209.67704173620524},{"$f":"AB54/AB55","v":1.049948393322496},null,null,null,null,null,null,null,null,null,null,null,null,null,null,null,null,null,null,null,null,null,"Indhentede fra Præsentationsarket(med forkert fortegn)"]
[null,null,null,null,null,null,null,null,null,null,null,null,null,null,null,null,null,null,null,null,null,null,null,null,null,null,null,{"$f":"AA53/AB53","v":209.67704173620524},{"$f":"AB55/AB56","v":1},null,null,null,null,null,null,null,null,null,null,null,null,null,null,null,null,null,null,null,null,null,null,null,null,null,null,null,null,null,null,null,"Diverse kapacitetsomkostninger"]
[null,null,null,null,null,null,null,null,null,null,null,null,null,null,null,null,null,null,null,null,null,null,null,null,null,null,null,null,null,null,null,null,null,null,null,null,null,null,null,null,null,null,null,null,null,null,null,null,null,null,null,null,null,null,null,null,null,null,null,null,"Afskrivning, øvrigt"]
[null,null,null,null,null,null,null,null,null,null,null,null,null,null,null,null,null,null,null,null,null,null,null,null,null,null,null,null,null,null,null,null,null,null,null,null,null,null,null,null,null,null,null,null,null,null,null,null,null,null,null,null,null,null,null,null,null,null,null,null,"Øvrige kapitalomkostninger"]
[null,null,null,null,null,null,null,null,null,null,null,null,null,null,null,null,null,null,null,null,null,null,null,null,null,null,null,null,null,"Slagtevægt",null,null,null,null,null,null,null,null,null,null,null,null,null,null,null,null,null,null,null,null,null,null,null,null,null,null,null,null,null,null,"Renteomk. af bundet kapital"]
[null,null,null,null,null,null,null,null,null,null,null,null,null,null,null,null,null,null,null,null,null,null,null,null,null,null,"Foderdage",null,null,null,"Kvæg andet, inkl. slagtepræmie","Køb af dyr, kvæg","Foderomkostninger","Dyrlæge og diverse","Arbejdsomkostninger","Bygninger","Inventar inkl. Energi","Forrentning driftskapital","Øvrige omkostninger","Total pr. kalv","Kvæg andet, inkl. slagtepræmie","Køb af dyr, kvæg","Foderomkostninger","Dyrlæge og diverse","Arbejdsomkostninger","Bygninger","Inventar inkl. Energi","Forrentning driftskapital","Øvrige omkostninger","Fremstillingspris, kr. pr. kg slagtet vægt",null,"Foderdage",null,null,null,"Foderomkostninger pr. foderdag","Dyrlæge og diverse","Arbejdsomkostninger","Bygninger","Inventar inkl. Energi","Øvrige inkl. Forrentning","Bruttoudbytte, kalve","Handyrpræmie","Total"]
[null,null,null,null,null,null,null,null,null,null,null,null,null,null,null,null,null,null,null,null,null,null,null,null,null,2,{"$f":"IF(Choices!$A$1=2,Landsgennemsnit!$B$72,IF(Choices!$A$1=3,Landsgennemsnit!$E$72,\"\"))","v":269},{"$f":"IF(OR(Præsentation!$G$11=0,Præsentation!$G$11=\"Vælg\")=TRUE,\"Ingen valgt\",Præsentation!$G$11)","v":"BC gns. gruppen"},null,"Kr. pr. prod. kalv",{"$f":"-IFERROR(IFERROR(VLOOKUP($AE$60,Præsentation!$F$11:$T$82,$Z61,FALSE),0),\"\")","v":-726.78758613751825},{"$f":"-IFERROR(IFERROR(VLOOKUP($AF$60,Præsentation!$F$11:$T$82,$Z61,FALSE),0),\"\")","v":1214.1245410190634},{"$f":"IFERROR(IFERROR(VLOOKUP($AG$60,Præsentation!$F$28:$T$82,$Z61,FALSE),0),\"\")","v":2856.1293194507321},{"$f":"AN61-SUM(AI61:AM61)-SUM(AE61:AG61)","v":236.66883041829624},{"$f":"IFERROR(IFERROR(VLOOKUP($AI$60,Præsentation!$F$11:$T$82,$Z61,FALSE),0),\"\")","v":641.38519189175599},{"$f":"IFERROR(IFERROR(VLOOKUP($AJ$60,Præsentation!$F$11:$T$82,$Z61,FALSE),0),\"\")","v":462.65363915296012},{"$f":"IFERROR(IFERROR(VLOOKUP($AK$60,Præsentation!$F$28:$T$82,$Z61,FALSE),0),\"\")","v":344.39811880690104},{"$f":"IFERROR(IFERROR(VLOOKUP($AL$60,Præsentation!$F$11:$T$82,$Z61,FALSE),0),\"\")","v":81.707358784769383},{"$f":"IFERROR(IFERROR(VLOOKUP($AM$60,Præsentation!$F$11:$T$82,$Z61,FALSE),0),\"\")","v":139.59136864342841},{"$f":"AX62*IFERROR(IFERROR(VLOOKUP($AD$59,Præsentation!$F$11:$T$82,$Z62,FALSE),0),\"\")","v":5249.870782030388},null,null,null,null,null,null,null,null,null,null,2,{"$f":"IF(Choices!$A$1=2,Landsgennemsnit!$B$72,IF(Choices!$A$1=3,Landsgennemsnit!$E$72,\"\"))","v":269},{"$f":"IF(OR(Præsentation!$G$11=0,Præsentation!$G$11=\"Vælg\")=TRUE,\"Ingen valgt\",Præsentation!$G$11)","v":"BC gns. gruppen"},null,"Omkostninger",{"$f":"IFERROR(IFERROR(VLOOKUP(BD60,Præsentation!$F$11:$T$82,AY61,FALSE),0),\"\")","v":0},{"$f":"IFERROR(IFERROR(VLOOKUP($BE$60,Præsentation!$F$11:$T$82,$AY61,FALSE),0),\"\")","v":0.78356888462417129},null,null,null,{"$f":"IFERROR(((VLOOKUP($BI$56,Præsentation!$F$11:$T$82,$AY61,FALSE))+(VLOOKUP($BI$57,Præsentation!$F$11:$T$82,$AY61,FALSE))+IFERROR((VLOOKUP($BI$58,Præsentation!$F$11:$T$82,$AY61,FALSE)),0)+(VLOOKUP($BI$59,Præsentation!$F$11:$T$82,$AY61,FALSE)))/AZ61,\"\")","v":""}]
[null,null,null,null,null,null,null,null,null,null,null,null,null,null,null,null,null,null,null,null,null,null,null,null,null,2,{"$f":"IF(Choices!$A$1=2,Landsgennemsnit!$B$72,IF(Choices!$A$1=3,Landsgennemsnit!$E$72,\"\"))","v":269},null,null,"Kr. pr. kg sl.vægt",null,null,null,null,null,null,null,null,null,null,{"$f":"AE61/IFERROR(IFERROR(VLOOKUP($AD$59,Præsentation!$F$11:$T$82,$Z62,FALSE),0),\"\")","v":-3.5607448422632904},{"$f":"AF61/IFERROR(IFERROR(VLOOKUP($AD$59,Præsentation!$F$11:$T$82,$Z62,FALSE),0),\"\")","v":5.9483510447313934},{"$f":"AG61/IFERROR(IFERROR(VLOOKUP($AD$59,Præsentation!$F$11:$T$82,$Z62,FALSE),0),\"\")","v":13.993012452398796},{"$f":"AX62-SUM(AS62:AW62)-SUM(AO62:AQ62)","v":1.159509784303026},{"$f":"AI61/IFERROR(IFERROR(VLOOKUP($AD$59,Præsentation!$F$11:$T$82,$Z62,FALSE),0),\"\")","v":3.1423335476460554},{"$f":"AJ61/IFERROR(IFERROR(VLOOKUP($AD$59,Præsentation!$F$11:$T$82,$Z62,FALSE),0),\"\")","v":2.2666754231772677},{"$f":"AK61/IFERROR(IFERROR(VLOOKUP($AD$59,Præsentation!$F$11:$T$82,$Z62,FALSE),0),\"\")","v":1.687307060022923},{"$f":"AL61/IFERROR(IFERROR(VLOOKUP($AD$59,Præsentation!$F$11:$T$82,$Z62,FALSE),0),\"\")","v":0.4003082357446513},{"$f":"AM61/IFERROR(IFERROR(VLOOKUP($AD$59,Præsentation!$F$11:$T$82,$Z62,FALSE),0),\"\")","v":0.683898920953106},{"$f":"IFERROR(IFERROR(VLOOKUP($AX$60,Præsentation!$F$11:$T$82,$Z62,FALSE),0),\"\")","v":25.720651626713931},2,{"$f":"IF(Choices!$A$1=2,Landsgennemsnit!$B$72,IF(Choices!$A$1=3,Landsgennemsnit!$E$72,\"\"))","v":269},null,null,"Udbytte"]
[null,null,null,null,null,null,null,null,null,null,null,null,null,null,null,null,null,null,null,null,null,null,null,null,null,3,{"$f":"IF(Choices!$A$1=2,Landsgennemsnit!$C$72,IF(Choices!$A$1=3,Landsgennemsnit!$F$72,\"\"))","v":261},{"$f":"IF(OR(Præsentation!$H$11=0,Præsentation!$H$11=\"Vælg\")=TRUE,\"Ingen valgt\",Præsentation!$H$11)","v":"BC top 5"},null,"Kr. pr. prod. kalv",{"$f":"-IFERROR(IFERROR(VLOOKUP($AE$60,Præsentation!$F$11:$T$82,$Z63,FALSE),0),\"\")","v":-751.31755593803791},{"$f":"-IFERROR(IFERROR(VLOOKUP($AF$60,Præsentation!$F$11:$T$82,$Z63,FALSE),0),\"\")","v":1166.9578313253012},{"$f":"IFERROR(IFERROR(VLOOKUP($AG$60,Præsentation!$F$28:$T$82,$Z63,FALSE),0),\"\")","v":2764.5346385542171},{"$f":"AN63-SUM(AI63:AM63)-SUM(AE63:AG63)","v":144.44451808323583},{"$f":"IFERROR(IFERROR(VLOOKUP($AI$60,Præsentation!$F$11:$T$82,$Z63,FALSE),0),\"\")","v":629.63403614457832},{"$f":"IFERROR(IFERROR(VLOOKUP($AJ$60,Præsentation!$F$11:$T$82,$Z63,FALSE),0),\"\")","v":387.34251290877796},{"$f":"IFERROR(IFERROR(VLOOKUP($AK$60,Præsentation!$F$28:$T$82,$Z63,FALSE),0),\"\")","v":318.18222891566268},{"$f":"IFERROR(IFERROR(VLOOKUP($AL$60,Præsentation!$F$11:$T$82,$Z63,FALSE),0),\"\")","v":64.059810671256457},{"$f":"IFERROR(IFERROR(VLOOKUP($AM$60,Præsentation!$F$11:$T$82,$Z63,FALSE),0),\"\")","v":91.793244406196209},{"$f":"AX64*IFERROR(IFERROR(VLOOKUP($AD$59,Præsentation!$F$11:$T$82,$Z64,FALSE),0),\"\")","v":4815.631265071188},null,null,null,null,null,null,null,null,null,null,3,{"$f":"IF(Choices!$A$1=2,Landsgennemsnit!$C$72,IF(Choices!$A$1=3,Landsgennemsnit!$F$72,\"\"))","v":261},{"$f":"IF(OR(Præsentation!$H$11=0,Præsentation!$H$11=\"Vælg\")=TRUE,\"Ingen valgt\",Præsentation!$H$11)","v":"BC top 5"},null,"Omkostninger",{"$f":"IFERROR(IFERROR(VLOOKUP($BD$60,Præsentation!$F$11:$T$82,$AY63,FALSE),0),\"\")","v":0},{"$f":"IFERROR(IFERROR(VLOOKUP($BE$60,Præsentation!$F$11:$T$82,$AY63,FALSE),0),\"\")","v":0.68467417643013817},null,null,null,{"$f":"IFERROR(((VLOOKUP($BI$56,Præsentation!$F$11:$T$82,$AY63,FALSE))+(VLOOKUP($BI$57,Præsentation!$F$11:$T$82,$AY63,FALSE))+IFERROR((VLOOKUP($BI$58,Præsentation!$F$11:$T$82,$AY63,FALSE)),0)+(VLOOKUP($BI$59,Præsentation!$F$11:$T$82,$AY63,FALSE)))/AZ63,\"\")","v":""}]
[null,null,null,null,null,null,null,null,null,null,null,null,null,null,null,null,null,null,null,null,null,null,null,null,null,3,{"$f":"IF(Choices!$A$1=2,Landsgennemsnit!$C$72,IF(Choices!$A$1=3,Landsgennemsnit!$F$72,\"\"))","v":261},null,null,"Kr. pr. kg sl.vægt",null,null,null,null,null,null,null,null,null,null,{"$f":"AE63/IFERROR(IFERROR(VLOOKUP($AD$59,Præsentation!$F$11:$T$82,$Z64,FALSE),0),\"\")","v":-3.6155801536960435},{"$f":"AF63/IFERROR(IFERROR(VLOOKUP($AD$59,Præsentation!$F$11:$T$82,$Z64,FALSE),0),\"\")","v":5.6157739717290722},{"$f":"AG63/IFERROR(IFERROR(VLOOKUP($AD$59,Præsentation!$F$11:$T$82,$Z64,FALSE),0),\"\")","v":13.303824054640121},{"$f":"AX64-SUM(AS64:AW64)-SUM(AO64:AQ64)","v":0.69511317653144999},{"$f":"AI63/IFERROR(IFERROR(VLOOKUP($AD$59,Præsentation!$F$11:$T$82,$Z64,FALSE),0),\"\")","v":3.0300001739392601},{"$f":"AJ63/IFERROR(IFERROR(VLOOKUP($AD$59,Præsentation!$F$11:$T$82,$Z64,FALSE),0),\"\")","v":1.8640159427756398},{"$f":"AK63/IFERROR(IFERROR(VLOOKUP($AD$59,Præsentation!$F$11:$T$82,$Z64,FALSE),0),\"\")","v":1.5311945568607443},{"$f":"AL63/IFERROR(IFERROR(VLOOKUP($AD$59,Præsentation!$F$11:$T$82,$Z64,FALSE),0),\"\")","v":0.30827627849497813},{"$f":"AM63/IFERROR(IFERROR(VLOOKUP($AD$59,Præsentation!$F$11:$T$82,$Z64,FALSE),0),\"\")","v":0.44173842351393744},{"$f":"IFERROR(IFERROR(VLOOKUP($AX$60,Præsentation!$F$11:$T$82,$Z64,FALSE),0),\"\")","v":23.17435642478916},3,{"$f":"IF(Choices!$A$1=2,Landsgennemsnit!$C$72,IF(Choices!$A$1=3,Landsgennemsnit!$F$72,\"\"))","v":261},null,null,"Udbytte"]
[null,null,null,null,null,null,null,null,null,null,null,null,null,null,null,null,null,null,null,null,null,null,null,null,null,6,null,{"$f":"IF(OR(Præsentation!$K$11=0,Præsentation!$K$11=\"Vælg\")=TRUE,\"Ingen valgt\",Præsentation!$K$11)","v":"D1"},null,"Kr. pr. prod. kalv",{"$f":"-IFERROR(IFERROR(VLOOKUP($AE$60,Præsentation!$F$11:$T$82,$Z65,FALSE),0),\"\")","v":-756.58112094395278},{"$f":"-IFERROR(IFERROR(VLOOKUP($AF$60,Præsentation!$F$11:$T$82,$Z65,FALSE),0),\"\")","v":1217.825958702065},{"$f":"IFERROR(IFERROR(VLOOKUP($AG$60,Præsentation!$F$28:$T$82,$Z65,FALSE),0),\"\")","v":2980.8525073746314},{"$f":"AN65-SUM(AI65:AM65)-SUM(AE65:AG65)","v":219.86135693215329},{"$f":"IFERROR(IFERROR(VLOOKUP($AI$60,Præsentation!$F$11:$T$82,$Z65,FALSE),0),\"\")","v":522.41887905604722},{"$f":"IFERROR(IFERROR(VLOOKUP($AJ$60,Præsentation!$F$11:$T$82,$Z65,FALSE),0),\"\")","v":293.15044247787608},{"$f":"IFERROR(IFERROR(VLOOKUP($AK$60,Præsentation!$F$28:$T$82,$Z65,FALSE),0),\"\")","v":160.01179941002951},{"$f":"IFERROR(IFERROR(VLOOKUP($AL$60,Præsentation!$F$11:$T$82,$Z65,FALSE),0),\"\")","v":68.097345132743357},{"$f":"IFERROR(IFERROR(VLOOKUP($AM$60,Præsentation!$F$11:$T$82,$Z65,FALSE),0),\"\")","v":117.36283185840708},{"$f":"AX66*IFERROR(IFERROR(VLOOKUP($AD$59,Præsentation!$F$11:$T$82,$Z66,FALSE),0),\"\")","v":4823},null,null,null,null,null,null,null,null,null,null,4,null,{"$f":"IF(OR(Præsentation!$I$11=0,Præsentation!$I$11=\"Vælg\")=TRUE,\"Ingen valgt\",Præsentation!$I$11)","v":"Gns. Kreds \n"},null,"Omkostninger",{"$f":"IFERROR(IFERROR(VLOOKUP($BD$60,Præsentation!$F$11:$T$82,$AY65,FALSE),0),\"\")","v":0},{"$f":"IFERROR(IFERROR(VLOOKUP($BE$60,Præsentation!$F$11:$T$82,$AY65,FALSE),0),\"\")","v":""},null,null,null,{"$f":"IFERROR(((VLOOKUP($BI$56,Præsentation!$F$11:$T$82,$AY65,FALSE))+(VLOOKUP($BI$57,Præsentation!$F$11:$T$82,$AY65,FALSE))+IFERROR((VLOOKUP($BI$58,Præsentation!$F$11:$T$82,$AY65,FALSE)),0)+(VLOOKUP($BI$59,Præsentation!$F$11:$T$82,$AY65,FALSE)))/AZ65,\"\")","v":""}]
[null,null,null,null,null,null,null,null,null,null,null,null,null,null,null,null,null,null,null,null,null,null,null,null,null,6,null,null,null,"Kr. pr. kg sl.vægt",null,null,null,null,null,null,null,null,null,null,{"$f":"AE65/IFERROR(IFERROR(VLOOKUP($AD$59,Præsentation!$F$11:$T$82,$Z66,FALSE),0),\"\")","v":-3.5687788723771359},{"$f":"AF65/IFERROR(IFERROR(VLOOKUP($AD$59,Præsentation!$F$11:$T$82,$Z66,FALSE),0),\"\")","v":5.7444620693493631},{"$f":"AG65/IFERROR(IFERROR(VLOOKUP($AD$59,Præsentation!$F$11:$T$82,$Z66,FALSE),0),\"\")","v":14.060625034785996},{"$f":"AX66-SUM(AS66:AW66)-SUM(AO66:AQ66)","v":1.0370818723214796},{"$f":"AI65/IFERROR(IFERROR(VLOOKUP($AD$59,Præsentation!$F$11:$T$82,$Z66,FALSE),0),\"\")","v":2.4642399955473926},{"$f":"AJ65/IFERROR(IFERROR(VLOOKUP($AD$59,Præsentation!$F$11:$T$82,$Z66,FALSE),0),\"\")","v":1.3827851060277174},{"$f":"AK65/IFERROR(IFERROR(VLOOKUP($AD$59,Præsentation!$F$11:$T$82,$Z66,FALSE),0),\"\")","v":0.75477263872655431},{"$f":"AL65/IFERROR(IFERROR(VLOOKUP($AD$59,Præsentation!$F$11:$T$82,$Z66,FALSE),0),\"\")","v":0.32121389213558188},{"$f":"AM65/IFERROR(IFERROR(VLOOKUP($AD$59,Præsentation!$F$11:$T$82,$Z66,FALSE),0),\"\")","v":0.5535982634830523},{"$f":"IFERROR(IFERROR(VLOOKUP($AX$60,Præsentation!$F$11:$T$82,$Z66,FALSE),0),\"\")","v":22.75},4,null,null,null,"Udbytte"]
[null,null,null,null,null,null,null,null,null,null,null,null,null,null,null,null,null,null,null,null,null,null,null,null,null,7,{"$f":"HLOOKUP(Diagrammer!AB67,'Statiske ejendomme'!$C$3:$Z$75,74,FALSE)","v":{"$error":"#REF!"}},{"$f":"IF(OR(Præsentation!$K$11=0,Præsentation!$K$11=\"Vælg\")=TRUE,\"Ingen valgt\",Præsentation!$L$11)","v":"D4"},null,"Kr. pr. prod. kalv",{"$f":"-IFERROR(IFERROR(VLOOKUP($AE$60,Præsentation!$F$11:$T$82,$Z67,FALSE),0),\"\")","v":-759.09053497942386},{"$f":"-IFERROR(IFERROR(VLOOKUP($AF$60,Præsentation!$F$11:$T$82,$Z67,FALSE),0),\"\")","v":1057.7432098765432},{"$f":"IFERROR(IFERROR(VLOOKUP($AG$60,Præsentation!$F$28:$T$82,$Z67,FALSE),0),\"\")","v":2928.2913580246914},{"$f":"AN67-SUM(AI67:AM67)-SUM(AE67:AG67)","v":53.018106995885319},{"$f":"IFERROR(IFERROR(VLOOKUP($AI$60,Præsentation!$F$11:$T$82,$Z67,FALSE),0),\"\")","v":754.28724279835387},{"$f":"IFERROR(IFERROR(VLOOKUP($AJ$60,Præsentation!$F$11:$T$82,$Z67,FALSE),0),\"\")","v":487.51687242798351},{"$f":"IFERROR(IFERROR(VLOOKUP($AK$60,Præsentation!$F$28:$T$82,$Z67,FALSE),0),\"\")","v":332.87242798353907},{"$f":"IFERROR(IFERROR(VLOOKUP($AL$60,Præsentation!$F$11:$T$82,$Z67,FALSE),0),\"\")","v":65.394238683127568},{"$f":"IFERROR(IFERROR(VLOOKUP($AM$60,Præsentation!$F$11:$T$82,$Z67,FALSE),0),\"\")","v":68.967078189300409},{"$f":"AX68*IFERROR(IFERROR(VLOOKUP($AD$59,Præsentation!$F$11:$T$82,$Z68,FALSE),0),\"\")","v":4989},null,null,null,null,null,null,null,null,null,null,5,{"$f":"HLOOKUP(Diagrammer!BA67,'Statiske ejendomme'!$C$3:$Z$75,74,FALSE)","v":{"$error":"#REF!"}},{"$f":"IF(OR(Præsentation!$K$11=0,Præsentation!$K$11=\"Vælg\")=TRUE,\"Ingen valgt\",Præsentation!$K$11)","v":"D1"},null,"Omkostninger",{"$f":"IFERROR(IFERROR(VLOOKUP($BD$60,Præsentation!$F$11:$T$82,$AY67,FALSE),0),\"\")","v":0},{"$f":"IFERROR(IFERROR(VLOOKUP($BE$60,Præsentation!$F$11:$T$82,$AY67,FALSE),0),\"\")","v":""},null,null,null,{"$f":"IFERROR(((VLOOKUP($BI$56,Præsentation!$F$11:$T$82,$AY67,FALSE))+(VLOOKUP($BI$57,Præsentation!$F$11:$T$82,$AY67,FALSE))+IFERROR((VLOOKUP($BI$58,Præsentation!$F$11:$T$82,$AY67,FALSE)),0)+(VLOOKUP($BI$59,Præsentation!$F$11:$T$82,$AY67,FALSE)))/AZ67,\"\")","v":""}]
[null,null,null,null,null,null,null,null,null,null,null,null,null,null,null,null,null,null,null,null,null,null,null,null,null,7,{"$f":"HLOOKUP(Diagrammer!AB67,'Statiske ejendomme'!$C$3:$Z$75,74,FALSE)","v":{"$error":"#REF!"}},null,null,"Kr. pr. kg sl.vægt",null,null,null,null,null,null,null,null,null,null,{"$f":"AE67/IFERROR(IFERROR(VLOOKUP($AD$59,Præsentation!$F$11:$T$82,$Z68,FALSE),0),\"\")","v":-3.5975854738361321},{"$f":"AF67/IFERROR(IFERROR(VLOOKUP($AD$59,Præsentation!$F$11:$T$82,$Z68,FALSE),0),\"\")","v":5.0130009946755605},{"$f":"AG67/IFERROR(IFERROR(VLOOKUP($AD$59,Præsentation!$F$11:$T$82,$Z68,FALSE),0),\"\")","v":13.87815809490375},{"$f":"AX68-SUM(AS68:AW68)-SUM(AO68:AQ68)","v":0.25127064926959797},{"$f":"AI67/IFERROR(IFERROR(VLOOKUP($AD$59,Præsentation!$F$11:$T$82,$Z68,FALSE),0),\"\")","v":3.5748210559163689},{"$f":"AJ67/IFERROR(IFERROR(VLOOKUP($AD$59,Præsentation!$F$11:$T$82,$Z68,FALSE),0),\"\")","v":2.3105065043980262},{"$f":"AK67/IFERROR(IFERROR(VLOOKUP($AD$59,Præsentation!$F$11:$T$82,$Z68,FALSE),0),\"\")","v":1.5775944454196165},{"$f":"AL67/IFERROR(IFERROR(VLOOKUP($AD$59,Præsentation!$F$11:$T$82,$Z68,FALSE),0),\"\")","v":0.30992530181577049},{"$f":"AM67/IFERROR(IFERROR(VLOOKUP($AD$59,Præsentation!$F$11:$T$82,$Z68,FALSE),0),\"\")","v":0.32685819047061804},{"$f":"IFERROR(IFERROR(VLOOKUP($AX$60,Præsentation!$F$11:$T$82,$Z68,FALSE),0),\"\")","v":23.644549763033176},5,{"$f":"HLOOKUP(Diagrammer!BA67,'Statiske ejendomme'!$C$3:$Z$75,74,FALSE)","v":{"$error":"#REF!"}},null,null,"Udbytte"]
[null,null,null,null,null,null,null,null,null,null,null,null,null,null,null,null,null,null,null,null,null,null,null,null,null,8,{"$f":"HLOOKUP(Diagrammer!AB69,'Statiske ejendomme'!$C$3:$Z$75,74,FALSE)","v":{"$error":"#REF!"}},{"$f":"IF(OR(Præsentation!$L$11=0,Præsentation!$L$11=\"Vælg\")=TRUE,\"Ingen valgt\",Præsentation!$M$11)","v":"D6"},null,"Kr. pr. prod. kalv",{"$f":"-IFERROR(IFERROR(VLOOKUP($AE$60,Præsentation!$F$11:$T$82,$Z69,FALSE),0),\"\")","v":-799.05113636363637},{"$f":"-IFERROR(IFERROR(VLOOKUP($AF$60,Præsentation!$F$11:$T$82,$Z69,FALSE),0),\"\")","v":1000},{"$f":"IFERROR(IFERROR(VLOOKUP($AG$60,Præsentation!$F$28:$T$82,$Z69,FALSE),0),\"\")","v":2730},{"$f":"AN69-SUM(AI69:AM69)-SUM(AE69:AG69)","v":124.3920454545455},{"$f":"IFERROR(IFERROR(VLOOKUP($AI$60,Præsentation!$F$11:$T$82,$Z69,FALSE),0),\"\")","v":426.13636363636363},{"$f":"IFERROR(IFERROR(VLOOKUP($AJ$60,Præsentation!$F$11:$T$82,$Z69,FALSE),0),\"\")","v":211.36363636363637},{"$f":"IFERROR(IFERROR(VLOOKUP($AK$60,Præsentation!$F$28:$T$82,$Z69,FALSE),0),\"\")","v":273.86931818181819},{"$f":"IFERROR(IFERROR(VLOOKUP($AL$60,Præsentation!$F$11:$T$82,$Z69,FALSE),0),\"\")","v":82.914772727272734},{"$f":"IFERROR(IFERROR(VLOOKUP($AM$60,Præsentation!$F$11:$T$82,$Z69,FALSE),0),\"\")","v":107.375},{"$f":"AX70*IFERROR(IFERROR(VLOOKUP($AD$59,Præsentation!$F$11:$T$82,$Z70,FALSE),0),\"\")","v":4157},null,null,null,null,null,null,null,null,null,null,6,{"$f":"HLOOKUP(Diagrammer!BA69,'Statiske ejendomme'!$C$3:$Z$75,74,FALSE)","v":{"$error":"#REF!"}},{"$f":"IF(OR(Præsentation!$L$11=0,Præsentation!$L$11=\"Vælg\")=TRUE,\"Ingen valgt\",Præsentation!$L$11)","v":"D4"},null,"Omkostninger",{"$f":"IFERROR(IFERROR(VLOOKUP($BD$60,Præsentation!$F$11:$T$82,$AY69,FALSE),0),\"\")","v":0},{"$f":"IFERROR(IFERROR(VLOOKUP($BE$60,Præsentation!$F$11:$T$82,$AY69,FALSE),0),\"\")","v":0.80246055838214614},null,null,null,{"$f":"IFERROR(((VLOOKUP($BI$56,Præsentation!$F$11:$T$82,$AY69,FALSE))+(VLOOKUP($BI$57,Præsentation!$F$11:$T$82,$AY69,FALSE))+IFERROR((VLOOKUP($BI$58,Præsentation!$F$11:$T$82,$AY69,FALSE)),0)+(VLOOKUP($BI$59,Præsentation!$F$11:$T$82,$AY69,FALSE)))/AZ69,\"\")","v":""}]
[null,null,null,null,null,null,null,null,null,null,null,null,null,null,null,null,null,null,null,null,null,null,null,null,null,8,{"$f":"HLOOKUP(Diagrammer!AB69,'Statiske ejendomme'!$C$3:$Z$75,74,FALSE)","v":{"$error":"#REF!"}},null,null,"Kr. pr. kg sl.vægt",null,null,null,null,null,null,null,null,null,null,{"$f":"AE69/IFERROR(IFERROR(VLOOKUP($AD$59,Præsentation!$F$11:$T$82,$Z70,FALSE),0),\"\")","v":-3.9362124944021497},{"$f":"AF69/IFERROR(IFERROR(VLOOKUP($AD$59,Præsentation!$F$11:$T$82,$Z70,FALSE),0),\"\")","v":4.9261083743842367},{"$f":"AG69/IFERROR(IFERROR(VLOOKUP($AD$59,Præsentation!$F$11:$T$82,$Z70,FALSE),0),\"\")","v":13.448275862068966},{"$f":"AX70-SUM(AS70:AW70)-SUM(AO70:AQ70)","v":0.6127686968204209},{"$f":"AI69/IFERROR(IFERROR(VLOOKUP($AD$59,Præsentation!$F$11:$T$82,$Z70,FALSE),0),\"\")","v":2.0991939095387369},{"$f":"AJ69/IFERROR(IFERROR(VLOOKUP($AD$59,Præsentation!$F$11:$T$82,$Z70,FALSE),0),\"\")","v":1.0412001791312138},{"$f":"AK69/IFERROR(IFERROR(VLOOKUP($AD$59,Præsentation!$F$11:$T$82,$Z70,FALSE),0),\"\")","v":1.3491099417823555},{"$f":"AL69/IFERROR(IFERROR(VLOOKUP($AD$59,Præsentation!$F$11:$T$82,$Z70,FALSE),0),\"\")","v":0.40844715629198391},{"$f":"AM69/IFERROR(IFERROR(VLOOKUP($AD$59,Præsentation!$F$11:$T$82,$Z70,FALSE),0),\"\")","v":0.52894088669950734},{"$f":"IFERROR(IFERROR(VLOOKUP($AX$60,Præsentation!$F$11:$T$82,$Z70,FALSE),0),\"\")","v":20.47783251231527},6,{"$f":"HLOOKUP(Diagrammer!BA69,'Statiske ejendomme'!$C$3:$Z$75,74,FALSE)","v":{"$error":"#REF!"}},null,null,"Udbytte"]
[null,null,null,null,null,null,null,null,null,null,null,null,null,null,null,null,null,null,null,null,null,null,null,null,null,9,{"$f":"HLOOKUP(Diagrammer!AB71,'Statiske ejendomme'!$C$3:$Z$75,74,FALSE)","v":{"$error":"#REF!"}},{"$f":"IF(OR(Præsentation!$M$11=0,Præsentation!$M$11=\"Vælg\")=TRUE,\"Ingen valgt\",Præsentation!$N$11)","v":"D7"},null,"Kr. pr. prod. kalv",{"$f":"-IFERROR(IFERROR(VLOOKUP($AE$60,Præsentation!$F$11:$T$82,$Z71,FALSE),0),\"\")","v":-758.23458767013608},{"$f":"-IFERROR(IFERROR(VLOOKUP($AF$60,Præsentation!$F$11:$T$82,$Z71,FALSE),0),\"\")","v":1360.6493194555644},{"$f":"IFERROR(IFERROR(VLOOKUP($AG$60,Præsentation!$F$28:$T$82,$Z71,FALSE),0),\"\")","v":2810.8294635708567},{"$f":"AN71-SUM(AI71:AM71)-SUM(AE71:AG71)","v":245.24979983987214},{"$f":"IFERROR(IFERROR(VLOOKUP($AI$60,Præsentation!$F$11:$T$82,$Z71,FALSE),0),\"\")","v":575.59967974379504},{"$f":"IFERROR(IFERROR(VLOOKUP($AJ$60,Præsentation!$F$11:$T$82,$Z71,FALSE),0),\"\")","v":431.04963971176943},{"$f":"IFERROR(IFERROR(VLOOKUP($AK$60,Præsentation!$F$28:$T$82,$Z71,FALSE),0),\"\")","v":260.03442754203365},{"$f":"IFERROR(IFERROR(VLOOKUP($AL$60,Præsentation!$F$11:$T$82,$Z71,FALSE),0),\"\")","v":78.0408326661329},{"$f":"IFERROR(IFERROR(VLOOKUP($AM$60,Præsentation!$F$11:$T$82,$Z71,FALSE),0),\"\")","v":199.78142514011208},{"$f":"AX72*IFERROR(IFERROR(VLOOKUP($AD$59,Præsentation!$F$11:$T$82,$Z72,FALSE),0),\"\")","v":5203},null,null,null,null,null,null,null,null,null,null,7,{"$f":"HLOOKUP(Diagrammer!BA71,'Statiske ejendomme'!$C$3:$Z$75,74,FALSE)","v":{"$error":"#REF!"}},{"$f":"IF(OR(Præsentation!$M$11=0,Præsentation!$M$11=\"Vælg\")=TRUE,\"Ingen valgt\",Præsentation!$M$11)","v":"D6"},null,"Omkostninger",{"$f":"IFERROR(IFERROR(VLOOKUP($BD$60,Præsentation!$F$11:$T$82,$AY71,FALSE),0),\"\")","v":0},{"$f":"IFERROR(IFERROR(VLOOKUP($BE$60,Præsentation!$F$11:$T$82,$AY71,FALSE),0),\"\")","v":0.48524745635705868},null,null,null,{"$f":"IFERROR(((VLOOKUP($BI$56,Præsentation!$F$11:$T$82,$AY71,FALSE))+(VLOOKUP($BI$57,Præsentation!$F$11:$T$82,$AY71,FALSE))+IFERROR((VLOOKUP($BI$58,Præsentation!$F$11:$T$82,$AY71,FALSE)),0)+(VLOOKUP($BI$59,Præsentation!$F$11:$T$82,$AY71,FALSE)))/AZ71,\"\")","v":""}]
[null,null,null,null,null,null,null,null,null,null,null,null,null,null,null,null,null,null,null,null,null,null,null,null,null,9,{"$f":"HLOOKUP(Diagrammer!AB71,'Statiske ejendomme'!$C$3:$Z$75,74,FALSE)","v":{"$error":"#REF!"}},null,null,"Kr. pr. kg sl.vægt",null,null,null,null,null,null,null,null,null,null,{"$f":"AE71/IFERROR(IFERROR(VLOOKUP($AD$59,Præsentation!$F$11:$T$82,$Z72,FALSE),0),\"\")","v":-3.8294676144956368},{"$f":"AF71/IFERROR(IFERROR(VLOOKUP($AD$59,Præsentation!$F$11:$T$82,$Z72,FALSE),0),\"\")","v":6.8719662598765883},{"$f":"AG71/IFERROR(IFERROR(VLOOKUP($AD$59,Præsentation!$F$11:$T$82,$Z72,FALSE),0),\"\")","v":14.196108401873014},{"$f":"AX72-SUM(AS72:AW72)-SUM(AO72:AQ72)","v":1.2386353527266252},{"$f":"AI71/IFERROR(IFERROR(VLOOKUP($AD$59,Præsentation!$F$11:$T$82,$Z72,FALSE),0),\"\")","v":2.9070690896151263},{"$f":"AJ71/IFERROR(IFERROR(VLOOKUP($AD$59,Præsentation!$F$11:$T$82,$Z72,FALSE),0),\"\")","v":2.1770183823826739},{"$f":"AK71/IFERROR(IFERROR(VLOOKUP($AD$59,Præsentation!$F$11:$T$82,$Z72,FALSE),0),\"\")","v":1.3133051896062307},{"$f":"AL71/IFERROR(IFERROR(VLOOKUP($AD$59,Præsentation!$F$11:$T$82,$Z72,FALSE),0),\"\")","v":0.39414561952592375},{"$f":"AM71/IFERROR(IFERROR(VLOOKUP($AD$59,Præsentation!$F$11:$T$82,$Z72,FALSE),0),\"\")","v":1.0089970966672328},{"$f":"IFERROR(IFERROR(VLOOKUP($AX$60,Præsentation!$F$11:$T$82,$Z72,FALSE),0),\"\")","v":26.277777777777779},7,{"$f":"HLOOKUP(Diagrammer!BA71,'Statiske ejendomme'!$C$3:$Z$75,74,FALSE)","v":{"$error":"#REF!"}},null,null,"Udbytte"]
[null,null,null,null,null,null,null,null,null,null,null,null,null,null,null,null,null,null,null,null,null,null,null,null,null,10,{"$f":"HLOOKUP(Diagrammer!AB73,'Statiske ejendomme'!$C$3:$Z$75,74,FALSE)","v":{"$error":"#REF!"}},{"$f":"IF(OR(Præsentation!$N$11=0,Præsentation!$N$11=\"Vælg\")=TRUE,\"Ingen valgt\",Præsentation!$O$11)","v":"D10"},null,"Kr. pr. prod. kalv",{"$f":"-IFERROR(IFERROR(VLOOKUP($AE$60,Præsentation!$F$11:$T$82,$Z73,FALSE),0),\"\")","v":-834.8935643564356},{"$f":"-IFERROR(IFERROR(VLOOKUP($AF$60,Præsentation!$F$11:$T$82,$Z73,FALSE),0),\"\")","v":1197.3712871287128},{"$f":"IFERROR(IFERROR(VLOOKUP($AG$60,Præsentation!$F$28:$T$82,$Z73,FALSE),0),\"\")","v":2523.5544554455446},{"$f":"AN73-SUM(AI73:AM73)-SUM(AE73:AG73)","v":242.35148514851517},{"$f":"IFERROR(IFERROR(VLOOKUP($AI$60,Præsentation!$F$11:$T$82,$Z73,FALSE),0),\"\")","v":495.04950495049508},{"$f":"IFERROR(IFERROR(VLOOKUP($AJ$60,Præsentation!$F$11:$T$82,$Z73,FALSE),0),\"\")","v":840.07673267326732},{"$f":"IFERROR(IFERROR(VLOOKUP($AK$60,Præsentation!$F$28:$T$82,$Z73,FALSE),0),\"\")","v":551.26732673267327},{"$f":"IFERROR(IFERROR(VLOOKUP($AL$60,Præsentation!$F$11:$T$82,$Z73,FALSE),0),\"\")","v":55.534653465346537},{"$f":"IFERROR(IFERROR(VLOOKUP($AM$60,Præsentation!$F$11:$T$82,$Z73,FALSE),0),\"\")","v":155.6881188118812},{"$f":"AX74*IFERROR(IFERROR(VLOOKUP($AD$59,Præsentation!$F$11:$T$82,$Z74,FALSE),0),\"\")","v":5226},null,null,null,null,null,null,null,null,null,null,8,{"$f":"HLOOKUP(Diagrammer!BA73,'Statiske ejendomme'!$C$3:$Z$75,74,FALSE)","v":{"$error":"#REF!"}},{"$f":"IF(OR(Præsentation!$N$11=0,Præsentation!$N$11=\"Vælg\")=TRUE,\"Ingen valgt\",Præsentation!$N$11)","v":"D7"},null,"Omkostninger",{"$f":"IFERROR(IFERROR(VLOOKUP($BD$60,Præsentation!$F$11:$T$82,$AY73,FALSE),0),\"\")","v":0},{"$f":"IFERROR(IFERROR(VLOOKUP($BE$60,Præsentation!$F$11:$T$82,$AY73,FALSE),0),\"\")","v":0.4471999186909239},null,null,null,{"$f":"IFERROR(((VLOOKUP($BI$56,Præsentation!$F$11:$T$82,$AY73,FALSE))+(VLOOKUP($BI$57,Præsentation!$F$11:$T$82,$AY73,FALSE))+IFERROR((VLOOKUP($BI$58,Præsentation!$F$11:$T$82,$AY73,FALSE)),0)+(VLOOKUP($BI$59,Præsentation!$F$11:$T$82,$AY73,FALSE)))/AZ73,\"\")","v":""}]
[null,null,null,null,null,null,null,null,null,null,null,null,null,null,null,null,null,null,null,null,null,null,null,null,null,10,{"$f":"HLOOKUP(Diagrammer!AB73,'Statiske ejendomme'!$C$3:$Z$75,74,FALSE)","v":{"$error":"#REF!"}},null,null,"Kr. pr. kg sl.vægt",null,null,null,null,null,null,null,null,null,null,{"$f":"AE73/IFERROR(IFERROR(VLOOKUP($AD$59,Præsentation!$F$11:$T$82,$Z74,FALSE),0),\"\")","v":-4.0528813803710468},{"$f":"AF73/IFERROR(IFERROR(VLOOKUP($AD$59,Præsentation!$F$11:$T$82,$Z74,FALSE),0),\"\")","v":5.8124819763529745},{"$f":"AG73/IFERROR(IFERROR(VLOOKUP($AD$59,Præsentation!$F$11:$T$82,$Z74,FALSE),0),\"\")","v":12.250264346823032},{"$f":"AX74-SUM(AS74:AW74)-SUM(AO74:AQ74)","v":1.1764635201384248},{"$f":"AI73/IFERROR(IFERROR(VLOOKUP($AD$59,Præsentation!$F$11:$T$82,$Z74,FALSE),0),\"\")","v":2.4031529366528885},{"$f":"AJ73/IFERROR(IFERROR(VLOOKUP($AD$59,Præsentation!$F$11:$T$82,$Z74,FALSE),0),\"\")","v":4.0780423916178021},{"$f":"AK73/IFERROR(IFERROR(VLOOKUP($AD$59,Præsentation!$F$11:$T$82,$Z74,FALSE),0),\"\")","v":2.6760549841391907},{"$f":"AL73/IFERROR(IFERROR(VLOOKUP($AD$59,Præsentation!$F$11:$T$82,$Z74,FALSE),0),\"\")","v":0.26958569643372104},{"$f":"AM73/IFERROR(IFERROR(VLOOKUP($AD$59,Præsentation!$F$11:$T$82,$Z74,FALSE),0),\"\")","v":0.75576756704796699},{"$f":"IFERROR(IFERROR(VLOOKUP($AX$60,Præsentation!$F$11:$T$82,$Z74,FALSE),0),\"\")","v":25.368932038834952},8,{"$f":"HLOOKUP(Diagrammer!BA73,'Statiske ejendomme'!$C$3:$Z$75,74,FALSE)","v":{"$error":"#REF!"}},null,null,"Udbytte"]
[null,null,null,null,null,null,null,null,null,null,null,null,null,null,null,null,null,null,null,null,null,null,null,null,null,11,{"$f":"HLOOKUP(Diagrammer!AB75,'Statiske ejendomme'!$C$3:$Z$75,74,FALSE)","v":{"$error":"#N/A"}},{"$f":"IF(OR(Præsentation!$O$11=0,Præsentation!$O$11=\"Vælg\")=TRUE,\"Ingen valgt\",Præsentation!$P$11)","v":"U6"},null,"Kr. pr. prod. kalv",{"$f":"-IFERROR(IFERROR(VLOOKUP($AE$60,Præsentation!$F$11:$T$82,$Z75,FALSE),0),\"\")","v":-849.79617834394901},{"$f":"-IFERROR(IFERROR(VLOOKUP($AF$60,Præsentation!$F$11:$T$82,$Z75,FALSE),0),\"\")","v":1399.7070063694268},{"$f":"IFERROR(IFERROR(VLOOKUP($AG$60,Præsentation!$F$28:$T$82,$Z75,FALSE),0),\"\")","v":3750.6815286624205},{"$f":"AN75-SUM(AI75:AM75)-SUM(AE75:AG75)","v":250.28662420382079},{"$f":"IFERROR(IFERROR(VLOOKUP($AI$60,Præsentation!$F$11:$T$82,$Z75,FALSE),0),\"\")","v":700.63694267515928},{"$f":"IFERROR(IFERROR(VLOOKUP($AJ$60,Præsentation!$F$11:$T$82,$Z75,FALSE),0),\"\")","v":302.91719745222929},{"$f":"IFERROR(IFERROR(VLOOKUP($AK$60,Præsentation!$F$28:$T$82,$Z75,FALSE),0),\"\")","v":468.91082802547771},{"$f":"IFERROR(IFERROR(VLOOKUP($AL$60,Præsentation!$F$11:$T$82,$Z75,FALSE),0),\"\")","v":115.8407643312102},{"$f":"IFERROR(IFERROR(VLOOKUP($AM$60,Præsentation!$F$11:$T$82,$Z75,FALSE),0),\"\")","v":284.81528662420385},{"$f":"AX76*IFERROR(IFERROR(VLOOKUP($AD$59,Præsentation!$F$11:$T$82,$Z76,FALSE),0),\"\")","v":6424},null,null,null,null,null,null,null,null,null,null,9,{"$f":"HLOOKUP(Diagrammer!BA75,'Statiske ejendomme'!$C$3:$Z$75,74,FALSE)","v":{"$error":"#REF!"}},{"$f":"IF(OR(Præsentation!$O$11=0,Præsentation!$O$11=\"Vælg\")=TRUE,\"Ingen valgt\",Præsentation!$O$11)","v":"D10"},null,"Omkostninger",{"$f":"IFERROR(IFERROR(VLOOKUP($BD$60,Præsentation!$F$11:$T$82,$AY75,FALSE),0),\"\")","v":0},{"$f":"IFERROR(IFERROR(VLOOKUP($BE$60,Præsentation!$F$11:$T$82,$AY75,FALSE),0),\"\")","v":0.86444375106370941},null,null,null,{"$f":"IFERROR(((VLOOKUP($BI$56,Præsentation!$F$11:$T$82,$AY75,FALSE))+(VLOOKUP($BI$57,Præsentation!$F$11:$T$82,$AY75,FALSE))+IFERROR((VLOOKUP($BI$58,Præsentation!$F$11:$T$82,$AY75,FALSE)),0)+(VLOOKUP($BI$59,Præsentation!$F$11:$T$82,$AY75,FALSE)))/AZ75,\"\")","v":""}]
[null,null,null,null,null,null,null,null,null,null,null,null,null,null,null,null,null,null,null,null,null,null,null,null,null,11,{"$f":"HLOOKUP(Diagrammer!AB75,'Statiske ejendomme'!$C$3:$Z$75,74,FALSE)","v":{"$error":"#N/A"}},null,null,"Kr. pr. kg sl.vægt",null,null,null,null,null,null,null,null,null,null,{"$f":"AE75/IFERROR(IFERROR(VLOOKUP($AD$59,Præsentation!$F$11:$T$82,$Z76,FALSE),0),\"\")","v":-3.5705721779157522},{"$f":"AF75/IFERROR(IFERROR(VLOOKUP($AD$59,Præsentation!$F$11:$T$82,$Z76,FALSE),0),\"\")","v":5.8811218755017931},{"$f":"AG75/IFERROR(IFERROR(VLOOKUP($AD$59,Præsentation!$F$11:$T$82,$Z76,FALSE),0),\"\")","v":15.759166086816894},{"$f":"AX76-SUM(AS76:AW76)-SUM(AO76:AQ76)","v":1.0516244714446259},{"$f":"AI75/IFERROR(IFERROR(VLOOKUP($AD$59,Præsentation!$F$11:$T$82,$Z76,FALSE),0),\"\")","v":2.9438527003157953},{"$f":"AJ75/IFERROR(IFERROR(VLOOKUP($AD$59,Præsentation!$F$11:$T$82,$Z76,FALSE),0),\"\")","v":1.2727613338328962},{"$f":"AK75/IFERROR(IFERROR(VLOOKUP($AD$59,Præsentation!$F$11:$T$82,$Z76,FALSE),0),\"\")","v":1.9702135631322593},{"$f":"AL75/IFERROR(IFERROR(VLOOKUP($AD$59,Præsentation!$F$11:$T$82,$Z76,FALSE),0),\"\")","v":0.48672590055130333},{"$f":"AM75/IFERROR(IFERROR(VLOOKUP($AD$59,Præsentation!$F$11:$T$82,$Z76,FALSE),0),\"\")","v":1.1967028849756465},{"$f":"IFERROR(IFERROR(VLOOKUP($AX$60,Præsentation!$F$11:$T$82,$Z76,FALSE),0),\"\")","v":26.991596638655462},9,{"$f":"HLOOKUP(Diagrammer!BA75,'Statiske ejendomme'!$C$3:$Z$75,74,FALSE)","v":{"$error":"#REF!"}},null,null,"Udbytte"]
[null,null,null,null,null,null,null,null,null,null,null,null,null,null,null,null,null,null,null,null,null,null,null,null,null,12,{"$f":"HLOOKUP(Diagrammer!AB77,'Statiske ejendomme'!$C$3:$Z$75,74,FALSE)","v":{"$error":"#N/A"}},{"$f":"IF(OR(Præsentation!$P$11=0,Præsentation!$P$11=\"Vælg\")=TRUE,\"Ingen valgt\",Præsentation!$Q$11)","v":"U10"},null,"Kr. pr. prod. kalv",{"$f":"-IFERROR(IFERROR(VLOOKUP($AE$60,Præsentation!$F$11:$T$82,$Z77,FALSE),0),\"\")","v":-846.78070175438597},{"$f":"-IFERROR(IFERROR(VLOOKUP($AF$60,Præsentation!$F$11:$T$82,$Z77,FALSE),0),\"\")","v":1096.4912280701753},{"$f":"IFERROR(IFERROR(VLOOKUP($AG$60,Præsentation!$F$28:$T$82,$Z77,FALSE),0),\"\")","v":3422.4035087719299},{"$f":"AN77-SUM(AI77:AM77)-SUM(AE77:AG77)","v":123.47368421052624},{"$f":"IFERROR(IFERROR(VLOOKUP($AI$60,Præsentation!$F$11:$T$82,$Z77,FALSE),0),\"\")","v":657.89473684210532},{"$f":"IFERROR(IFERROR(VLOOKUP($AJ$60,Præsentation!$F$11:$T$82,$Z77,FALSE),0),\"\")","v":980.97368421052636},{"$f":"IFERROR(IFERROR(VLOOKUP($AK$60,Præsentation!$F$28:$T$82,$Z77,FALSE),0),\"\")","v":523.41228070175441},{"$f":"IFERROR(IFERROR(VLOOKUP($AL$60,Præsentation!$F$11:$T$82,$Z77,FALSE),0),\"\")","v":85.096491228070178},{"$f":"IFERROR(IFERROR(VLOOKUP($AM$60,Præsentation!$F$11:$T$82,$Z77,FALSE),0),\"\")","v":114.03508771929825},{"$f":"AX78*IFERROR(IFERROR(VLOOKUP($AD$59,Præsentation!$F$11:$T$82,$Z78,FALSE),0),\"\")","v":6157},null,null,null,null,null,null,null,null,null,null,10,{"$f":"HLOOKUP(Diagrammer!BA77,'Statiske ejendomme'!$C$3:$Z$75,74,FALSE)","v":{"$error":"#N/A"}},{"$f":"IF(OR(Præsentation!$P$11=0,Præsentation!$P$11=\"Vælg\")=TRUE,\"Ingen valgt\",Præsentation!$P$11)","v":"U6"},null,"Omkostninger",{"$f":"IFERROR(IFERROR(VLOOKUP($BD$60,Præsentation!$F$11:$T$82,$AY77,FALSE),0),\"\")","v":0},{"$f":"IFERROR(IFERROR(VLOOKUP($BE$60,Præsentation!$F$11:$T$82,$AY77,FALSE),0),\"\")","v":0.96773651320993614},null,null,null,{"$f":"IFERROR(((VLOOKUP($BI$56,Præsentation!$F$11:$T$82,$AY77,FALSE))+(VLOOKUP($BI$57,Præsentation!$F$11:$T$82,$AY77,FALSE))+IFERROR((VLOOKUP($BI$58,Præsentation!$F$11:$T$82,$AY77,FALSE)),0)+(VLOOKUP($BI$59,Præsentation!$F$11:$T$82,$AY77,FALSE)))/AZ77,\"\")","v":""}]
[null,null,null,null,null,null,null,null,null,null,null,null,null,null,null,null,null,null,null,null,null,null,null,null,null,12,{"$f":"HLOOKUP(Diagrammer!AB77,'Statiske ejendomme'!$C$3:$Z$75,74,FALSE)","v":{"$error":"#N/A"}},null,null,"Kr. pr. kg sl.vægt",null,null,null,null,null,null,null,null,null,null,{"$f":"AE77/IFERROR(IFERROR(VLOOKUP($AD$59,Præsentation!$F$11:$T$82,$Z78,FALSE),0),\"\")","v":-4.0131786813004071},{"$f":"AF77/IFERROR(IFERROR(VLOOKUP($AD$59,Præsentation!$F$11:$T$82,$Z78,FALSE),0),\"\")","v":5.1966408913278448},{"$f":"AG77/IFERROR(IFERROR(VLOOKUP($AD$59,Præsentation!$F$11:$T$82,$Z78,FALSE),0),\"\")","v":16.219921842520996},{"$f":"AX78-SUM(AS78:AW78)-SUM(AO78:AQ78)","v":0.58518333749064411},{"$f":"AI77/IFERROR(IFERROR(VLOOKUP($AD$59,Præsentation!$F$11:$T$82,$Z78,FALSE),0),\"\")","v":3.1179845347967077},{"$f":"AJ77/IFERROR(IFERROR(VLOOKUP($AD$59,Præsentation!$F$11:$T$82,$Z78,FALSE),0),\"\")","v":4.6491643801446747},{"$f":"AK77/IFERROR(IFERROR(VLOOKUP($AD$59,Præsentation!$F$11:$T$82,$Z78,FALSE),0),\"\")","v":2.4806269227571298},{"$f":"AL77/IFERROR(IFERROR(VLOOKUP($AD$59,Præsentation!$F$11:$T$82,$Z78,FALSE),0),\"\")","v":0.40330090629417148},{"$f":"AM77/IFERROR(IFERROR(VLOOKUP($AD$59,Præsentation!$F$11:$T$82,$Z78,FALSE),0),\"\")","v":0.540450652698096},{"$f":"IFERROR(IFERROR(VLOOKUP($AX$60,Præsentation!$F$11:$T$82,$Z78,FALSE),0),\"\")","v":29.180094786729857},10,{"$f":"HLOOKUP(Diagrammer!BA77,'Statiske ejendomme'!$C$3:$Z$75,74,FALSE)","v":{"$error":"#N/A"}},null,null,"Udbytte"]
[null,null,null,null,null,null,null,null,null,null,null,null,null,null,null,null,null,null,null,null,null,null,null,null,null,13,{"$f":"HLOOKUP(Diagrammer!AB79,'Statiske ejendomme'!$C$3:$Z$75,74,FALSE)","v":{"$error":"#REF!"}},{"$f":"IF(OR(Præsentation!$Q$11=0,Præsentation!$Q$11=\"Vælg\")=TRUE,\"Ingen valgt\",Præsentation!$R$11)","v":"D23"},null,"Kr. pr. prod. kalv",{"$f":"-IFERROR(IFERROR(VLOOKUP($AE$60,Præsentation!$F$11:$T$82,$Z79,FALSE),0),\"\")","v":-742.83231972198087},{"$f":"-IFERROR(IFERROR(VLOOKUP($AF$60,Præsentation!$F$11:$T$82,$Z79,FALSE),0),\"\")","v":1293.8079930495221},{"$f":"IFERROR(IFERROR(VLOOKUP($AG$60,Præsentation!$F$28:$T$82,$Z79,FALSE),0),\"\")","v":2962.3431798436141},{"$f":"AN79-SUM(AI79:AM79)-SUM(AE79:AG79)","v":216.63249348392719},{"$f":"IFERROR(IFERROR(VLOOKUP($AI$60,Præsentation!$F$11:$T$82,$Z79,FALSE),0),\"\")","v":525.62988705473504},{"$f":"IFERROR(IFERROR(VLOOKUP($AJ$60,Præsentation!$F$11:$T$82,$Z79,FALSE),0),\"\")","v":686.75760208514339},{"$f":"IFERROR(IFERROR(VLOOKUP($AK$60,Præsentation!$F$28:$T$82,$Z79,FALSE),0),\"\")","v":530.78279756733275},{"$f":"IFERROR(IFERROR(VLOOKUP($AL$60,Præsentation!$F$11:$T$82,$Z79,FALSE),0),\"\")","v":98.072980017376196},{"$f":"IFERROR(IFERROR(VLOOKUP($AM$60,Præsentation!$F$11:$T$82,$Z79,FALSE),0),\"\")","v":164.80538662033015},{"$f":"AX80*IFERROR(IFERROR(VLOOKUP($AD$59,Præsentation!$F$11:$T$82,$Z80,FALSE),0),\"\")","v":5736},null,null,null,null,null,null,null,null,null,null,11,{"$f":"HLOOKUP(Diagrammer!BA79,'Statiske ejendomme'!$C$3:$Z$75,74,FALSE)","v":{"$error":"#N/A"}},{"$f":"IF(OR(Præsentation!$Q$11=0,Præsentation!$Q$11=\"Vælg\")=TRUE,\"Ingen valgt\",Præsentation!$Q$11)","v":"U10"},null,"Omkostninger",{"$f":"IFERROR(IFERROR(VLOOKUP($BD$60,Præsentation!$F$11:$T$82,$AY79,FALSE),0),\"\")","v":0},{"$f":"IFERROR(IFERROR(VLOOKUP($BE$60,Præsentation!$F$11:$T$82,$AY79,FALSE),0),\"\")","v":0.815504358655045},null,null,null,{"$f":"IFERROR(((VLOOKUP($BI$56,Præsentation!$F$11:$T$82,$AY79,FALSE))+(VLOOKUP($BI$57,Præsentation!$F$11:$T$82,$AY79,FALSE))+IFERROR((VLOOKUP($BI$58,Præsentation!$F$11:$T$82,$AY79,FALSE)),0)+(VLOOKUP($BI$59,Præsentation!$F$11:$T$82,$AY79,FALSE)))/AZ79,\"\")","v":""}]
[null,null,null,null,null,null,null,null,null,null,null,null,null,null,null,null,null,null,null,null,null,null,null,null,null,13,{"$f":"HLOOKUP(Diagrammer!AB79,'Statiske ejendomme'!$C$3:$Z$75,74,FALSE)","v":{"$error":"#REF!"}},null,null,"Kr. pr. kg sl.vægt",null,null,null,null,null,null,null,null,null,null,{"$f":"AE79/IFERROR(IFERROR(VLOOKUP($AD$59,Præsentation!$F$11:$T$82,$Z80,FALSE),0),\"\")","v":-3.7141615986099041},{"$f":"AF79/IFERROR(IFERROR(VLOOKUP($AD$59,Præsentation!$F$11:$T$82,$Z80,FALSE),0),\"\")","v":6.4690399652476103},{"$f":"AG79/IFERROR(IFERROR(VLOOKUP($AD$59,Præsentation!$F$11:$T$82,$Z80,FALSE),0),\"\")","v":14.81171589921807},{"$f":"AX80-SUM(AS80:AW80)-SUM(AO80:AQ80)","v":1.0831624674196334},{"$f":"AI79/IFERROR(IFERROR(VLOOKUP($AD$59,Præsentation!$F$11:$T$82,$Z80,FALSE),0),\"\")","v":2.6281494352736754},{"$f":"AJ79/IFERROR(IFERROR(VLOOKUP($AD$59,Præsentation!$F$11:$T$82,$Z80,FALSE),0),\"\")","v":3.433788010425717},{"$f":"AK79/IFERROR(IFERROR(VLOOKUP($AD$59,Præsentation!$F$11:$T$82,$Z80,FALSE),0),\"\")","v":2.6539139878366638},{"$f":"AL79/IFERROR(IFERROR(VLOOKUP($AD$59,Præsentation!$F$11:$T$82,$Z80,FALSE),0),\"\")","v":0.49036490008688099},{"$f":"AM79/IFERROR(IFERROR(VLOOKUP($AD$59,Præsentation!$F$11:$T$82,$Z80,FALSE),0),\"\")","v":0.82402693310165076},{"$f":"IFERROR(IFERROR(VLOOKUP($AX$60,Præsentation!$F$11:$T$82,$Z80,FALSE),0),\"\")","v":28.68},11,{"$f":"HLOOKUP(Diagrammer!BA79,'Statiske ejendomme'!$C$3:$Z$75,74,FALSE)","v":{"$error":"#N/A"}},null,null,"Udbytte"]
[null,null,null,null,null,null,null,null,null,null,null,null,null,null,null,null,null,null,null,null,null,null,null,null,null,14,{"$f":"HLOOKUP(Diagrammer!AB81,'Statiske ejendomme'!$C$3:$Z$75,74,FALSE)","v":{"$error":"#N/A"}},{"$f":"IF(OR(Præsentation!$R$11=0,Præsentation!$R$11=\"Vælg\")=TRUE,\"Ingen valgt\",Præsentation!$S$11)","v":"U7"},null,"Kr. pr. prod. kalv",{"$f":"-IFERROR(IFERROR(VLOOKUP($AE$60,Præsentation!$F$11:$T$82,$Z81,FALSE),0),\"\")","v":-757.73943661971828},{"$f":"-IFERROR(IFERROR(VLOOKUP($AF$60,Præsentation!$F$11:$T$82,$Z81,FALSE),0),\"\")","v":1143.894366197183},{"$f":"IFERROR(IFERROR(VLOOKUP($AG$60,Præsentation!$F$28:$T$82,$Z81,FALSE),0),\"\")","v":3514.3732394366198},{"$f":"AN81-SUM(AI81:AM81)-SUM(AE81:AG81)","v":267.87323943661977},{"$f":"IFERROR(IFERROR(VLOOKUP($AI$60,Præsentation!$F$11:$T$82,$Z81,FALSE),0),\"\")","v":528.16901408450701},{"$f":"IFERROR(IFERROR(VLOOKUP($AJ$60,Præsentation!$F$11:$T$82,$Z81,FALSE),0),\"\")","v":467.8098591549296},{"$f":"IFERROR(IFERROR(VLOOKUP($AK$60,Præsentation!$F$28:$T$82,$Z81,FALSE),0),\"\")","v":348.92253521126759},{"$f":"IFERROR(IFERROR(VLOOKUP($AL$60,Præsentation!$F$11:$T$82,$Z81,FALSE),0),\"\")","v":50.007042253521128},{"$f":"IFERROR(IFERROR(VLOOKUP($AM$60,Præsentation!$F$11:$T$82,$Z81,FALSE),0),\"\")","v":281.6901408450704},{"$f":"AX82*IFERROR(IFERROR(VLOOKUP($AD$59,Præsentation!$F$11:$T$82,$Z82,FALSE),0),\"\")","v":5845},null,null,null,null,null,null,null,null,null,null,12,{"$f":"HLOOKUP(Diagrammer!BA81,'Statiske ejendomme'!$C$3:$Z$75,74,FALSE)","v":{"$error":"#REF!"}},{"$f":"IF(OR(Præsentation!$R$11=0,Præsentation!$R$11=\"Vælg\")=TRUE,\"Ingen valgt\",Præsentation!$R$11)","v":"D23"},null,"Omkostninger",{"$f":"IFERROR(IFERROR(VLOOKUP($BD$60,Præsentation!$F$11:$T$82,$AY81,FALSE),0),\"\")","v":0},{"$f":"IFERROR(IFERROR(VLOOKUP($BE$60,Præsentation!$F$11:$T$82,$AY81,FALSE),0),\"\")","v":0.3891847603441202},null,null,null,{"$f":"IFERROR(((VLOOKUP($BI$56,Præsentation!$F$11:$T$82,$AY81,FALSE))+(VLOOKUP($BI$57,Præsentation!$F$11:$T$82,$AY81,FALSE))+IFERROR((VLOOKUP($BI$58,Præsentation!$F$11:$T$82,$AY81,FALSE)),0)+(VLOOKUP($BI$59,Præsentation!$F$11:$T$82,$AY81,FALSE)))/AZ81,\"\")","v":""}]
[null,null,null,null,null,null,null,null,null,null,null,null,null,null,null,null,null,null,null,null,null,null,null,null,null,14,{"$f":"HLOOKUP(Diagrammer!AB81,'Statiske ejendomme'!$C$3:$Z$75,74,FALSE)","v":{"$error":"#N/A"}},null,null,"Kr. pr. kg sl.vægt",null,null,null,null,null,null,null,null,null,null,{"$f":"AE81/IFERROR(IFERROR(VLOOKUP($AD$59,Præsentation!$F$11:$T$82,$Z82,FALSE),0),\"\")","v":-3.1572476525821593},{"$f":"AF81/IFERROR(IFERROR(VLOOKUP($AD$59,Præsentation!$F$11:$T$82,$Z82,FALSE),0),\"\")","v":4.7662265258215957},{"$f":"AG81/IFERROR(IFERROR(VLOOKUP($AD$59,Præsentation!$F$11:$T$82,$Z82,FALSE),0),\"\")","v":14.643221830985915},{"$f":"AX82-SUM(AS82:AW82)-SUM(AO82:AQ82)","v":1.1161384976525852},{"$f":"AI81/IFERROR(IFERROR(VLOOKUP($AD$59,Præsentation!$F$11:$T$82,$Z82,FALSE),0),\"\")","v":2.2007042253521125},{"$f":"AJ81/IFERROR(IFERROR(VLOOKUP($AD$59,Præsentation!$F$11:$T$82,$Z82,FALSE),0),\"\")","v":1.9492077464788733},{"$f":"AK81/IFERROR(IFERROR(VLOOKUP($AD$59,Præsentation!$F$11:$T$82,$Z82,FALSE),0),\"\")","v":1.4538438967136149},{"$f":"AL81/IFERROR(IFERROR(VLOOKUP($AD$59,Præsentation!$F$11:$T$82,$Z82,FALSE),0),\"\")","v":0.20836267605633804},{"$f":"AM81/IFERROR(IFERROR(VLOOKUP($AD$59,Præsentation!$F$11:$T$82,$Z82,FALSE),0),\"\")","v":1.1737089201877933},{"$f":"IFERROR(IFERROR(VLOOKUP($AX$60,Præsentation!$F$11:$T$82,$Z82,FALSE),0),\"\")","v":24.354166666666668},12,{"$f":"HLOOKUP(Diagrammer!BA81,'Statiske ejendomme'!$C$3:$Z$75,74,FALSE)","v":{"$error":"#REF!"}},null,null,"Udbytte"]
[null,null,null,null,null,null,null,null,null,null,null,null,null,null,null,null,null,null,null,null,null,null,null,null,null,15,{"$f":"HLOOKUP(Diagrammer!AB83,'Statiske ejendomme'!$C$3:$Z$75,74,FALSE)","v":{"$error":"#REF!"}},{"$f":"IF(OR(Præsentation!$S$11=0,Præsentation!$S$11=\"Vælg\")=TRUE,\"Ingen valgt\",Præsentation!$T$11)","v":"D5"},null,"Kr. pr. prod. kalv",{"$f":"-IFERROR(IFERROR(VLOOKUP($AE$60,Præsentation!$F$11:$T$82,$Z83,FALSE),0),\"\")","v":-811.91144278606964},{"$f":"-IFERROR(IFERROR(VLOOKUP($AF$60,Præsentation!$F$11:$T$82,$Z83,FALSE),0),\"\")","v":1296.1701492537313},{"$f":"IFERROR(IFERROR(VLOOKUP($AG$60,Præsentation!$F$28:$T$82,$Z83,FALSE),0),\"\")","v":3032.990049751244},{"$f":"AN83-SUM(AI83:AM83)-SUM(AE83:AG83)","v":135.85273631840801},{"$f":"IFERROR(IFERROR(VLOOKUP($AI$60,Præsentation!$F$11:$T$82,$Z83,FALSE),0),\"\")","v":665.08258706467666},{"$f":"IFERROR(IFERROR(VLOOKUP($AJ$60,Præsentation!$F$11:$T$82,$Z83,FALSE),0),\"\")","v":361.49950248756221},{"$f":"IFERROR(IFERROR(VLOOKUP($AK$60,Præsentation!$F$28:$T$82,$Z83,FALSE),0),\"\")","v":401.14726368159205},{"$f":"IFERROR(IFERROR(VLOOKUP($AL$60,Præsentation!$F$11:$T$82,$Z83,FALSE),0),\"\")","v":93.870646766169159},{"$f":"IFERROR(IFERROR(VLOOKUP($AM$60,Præsentation!$F$11:$T$82,$Z83,FALSE),0),\"\")","v":145.29850746268656},{"$f":"AX84*IFERROR(IFERROR(VLOOKUP($AD$59,Præsentation!$F$11:$T$82,$Z84,FALSE),0),\"\")","v":5320},null,null,null,null,null,null,null,null,null,null,13,{"$f":"HLOOKUP(Diagrammer!BA83,'Statiske ejendomme'!$C$3:$Z$75,74,FALSE)","v":{"$error":"#N/A"}},{"$f":"IF(OR(Præsentation!$S$11=0,Præsentation!$S$11=\"Vælg\")=TRUE,\"Ingen valgt\",Præsentation!$S$11)","v":"U7"},null,"Omkostninger",{"$f":"IFERROR(IFERROR(VLOOKUP($BD$60,Præsentation!$F$11:$T$82,$AY83,FALSE),0),\"\")","v":0},{"$f":"IFERROR(IFERROR(VLOOKUP($BE$60,Præsentation!$F$11:$T$82,$AY83,FALSE),0),\"\")","v":0.85827732395822598},null,null,null,{"$f":"IFERROR(((VLOOKUP($BI$56,Præsentation!$F$11:$T$82,$AY83,FALSE))+(VLOOKUP($BI$57,Præsentation!$F$11:$T$82,$AY83,FALSE))+IFERROR((VLOOKUP($BI$58,Præsentation!$F$11:$T$82,$AY83,FALSE)),0)+(VLOOKUP($BI$59,Præsentation!$F$11:$T$82,$AY83,FALSE)))/AZ83,\"\")","v":""}]
[null,null,null,null,null,null,null,null,null,null,null,null,null,null,null,null,null,null,null,null,null,null,null,null,null,15,{"$f":"HLOOKUP(Diagrammer!AB83,'Statiske ejendomme'!$C$3:$Z$75,74,FALSE)","v":{"$error":"#REF!"}},null,null,"Kr. pr. kg sl.vægt",null,null,null,null,null,null,null,null,null,null,{"$f":"AE83/IFERROR(IFERROR(VLOOKUP($AD$59,Præsentation!$F$11:$T$82,$Z84,FALSE),0),\"\")","v":-3.7243644164498608},{"$f":"AF83/IFERROR(IFERROR(VLOOKUP($AD$59,Præsentation!$F$11:$T$82,$Z84,FALSE),0),\"\")","v":5.9457346296042726},{"$f":"AG83/IFERROR(IFERROR(VLOOKUP($AD$59,Præsentation!$F$11:$T$82,$Z84,FALSE),0),\"\")","v":13.912798393354331},{"$f":"AX84-SUM(AS84:AW84)-SUM(AO84:AQ84)","v":0.6231776895339749},{"$f":"AI83/IFERROR(IFERROR(VLOOKUP($AD$59,Præsentation!$F$11:$T$82,$Z84,FALSE),0),\"\")","v":3.0508375553425533},{"$f":"AJ83/IFERROR(IFERROR(VLOOKUP($AD$59,Præsentation!$F$11:$T$82,$Z84,FALSE),0),\"\")","v":1.6582545985667991},{"$f":"AK83/IFERROR(IFERROR(VLOOKUP($AD$59,Præsentation!$F$11:$T$82,$Z84,FALSE),0),\"\")","v":1.8401250627595966},{"$f":"AL83/IFERROR(IFERROR(VLOOKUP($AD$59,Præsentation!$F$11:$T$82,$Z84,FALSE),0),\"\")","v":0.4305992970925191},{"$f":"AM83/IFERROR(IFERROR(VLOOKUP($AD$59,Præsentation!$F$11:$T$82,$Z84,FALSE),0),\"\")","v":0.66650691496645209},{"$f":"IFERROR(IFERROR(VLOOKUP($AX$60,Præsentation!$F$11:$T$82,$Z84,FALSE),0),\"\")","v":24.403669724770641},13,{"$f":"HLOOKUP(Diagrammer!BA83,'Statiske ejendomme'!$C$3:$Z$75,74,FALSE)","v":{"$error":"#N/A"}},null,null,"Udbytte"]
[null,null,null,null,null,null,null,null,null,null,null,null,null,null,null,null,null,null,null,null,null,null,null,null,null,16,{"$f":"HLOOKUP(Diagrammer!AB85,'Statiske ejendomme'!$C$3:$Z$75,74,FALSE)","v":{"$error":"#N/A"}},{"$f":"IF(OR(Præsentation!$S$11=0,Præsentation!$S$11=\"Vælg\")=TRUE,\"Ingen valgt\",Præsentation!$U$11)","v":0},null,"Kr. pr. prod. kalv",{"$f":"-IFERROR(IFERROR(VLOOKUP($AE$60,Præsentation!$F$11:$T$82,$Z85,FALSE),0),\"\")","v":0},{"$f":"-IFERROR(IFERROR(VLOOKUP($AF$60,Præsentation!$F$11:$T$82,$Z85,FALSE),0),\"\")","v":0},{"$f":"IFERROR(IFERROR(VLOOKUP($AG$60,Præsentation!$F$28:$T$82,$Z85,FALSE),0),\"\")","v":0},{"$f":"AN85-SUM(AI85:AM85)-SUM(AE85:AG85)","v":0},{"$f":"IFERROR(IFERROR(VLOOKUP($AI$60,Præsentation!$F$11:$T$82,$Z85,FALSE),0),\"\")","v":0},{"$f":"IFERROR(IFERROR(VLOOKUP($AJ$60,Præsentation!$F$11:$T$82,$Z85,FALSE),0),\"\")","v":0},{"$f":"IFERROR(IFERROR(VLOOKUP($AK$60,Præsentation!$F$28:$T$82,$Z85,FALSE),0),\"\")","v":0},{"$f":"IFERROR(IFERROR(VLOOKUP($AL$60,Præsentation!$F$11:$T$82,$Z85,FALSE),0),\"\")","v":0},{"$f":"IFERROR(IFERROR(VLOOKUP($AM$60,Præsentation!$F$11:$T$82,$Z85,FALSE),0),\"\")","v":0},{"$f":"AX86*IFERROR(IFERROR(VLOOKUP($AD$59,Præsentation!$F$11:$T$82,$Z86,FALSE),0),\"\")","v":0},null,null,null,null,null,null,null,null,null,null,14,{"$f":"HLOOKUP(Diagrammer!BA85,'Statiske ejendomme'!$C$3:$Z$75,74,FALSE)","v":{"$error":"#N/A"}},{"$f":"IF(OR(Præsentation!$S$11=0,Præsentation!$S$11=\"Vælg\")=TRUE,\"Ingen valgt\",Præsentation!$S$11)","v":"U7"},null,"Omkostninger",{"$f":"IFERROR(IFERROR(VLOOKUP($BD$60,Præsentation!$F$11:$T$82,$AY85,FALSE),0),\"\")","v":0},{"$f":"IFERROR(IFERROR(VLOOKUP($BE$60,Præsentation!$F$11:$T$82,$AY85,FALSE),0),\"\")","v":0.91641999374293037},null,null,null,{"$f":"IFERROR(((VLOOKUP($BI$56,Præsentation!$F$11:$T$82,$AY85,FALSE))+(VLOOKUP($BI$57,Præsentation!$F$11:$T$82,$AY85,FALSE))+IFERROR((VLOOKUP($BI$58,Præsentation!$F$11:$T$82,$AY85,FALSE)),0)+(VLOOKUP($BI$59,Præsentation!$F$11:$T$82,$AY85,FALSE)))/AZ85,\"\")","v":""}]
[null,null,null,null,null,null,null,null,null,null,null,null,null,null,null,null,null,null,null,null,null,null,null,null,null,16,{"$f":"HLOOKUP(Diagrammer!AB85,'Statiske ejendomme'!$C$3:$Z$75,74,FALSE)","v":{"$error":"#N/A"}},null,null,"Kr. pr. kg sl.vægt",null,null,null,null,null,null,{"$f":"IFERROR(((VLOOKUP($AK$58,Præsentation!$F$11:$T$82,$Z86,FALSE))-(VLOOKUP($AK$59,Præsentation!$F$11:$T$82,$Z86,FALSE)))/AA86,\"\")","v":""},{"$f":"IFERROR(VLOOKUP($AL$59,Præsentation!$F$11:$T$82,$Z86,FALSE)/AA86,\"\")","v":""},null,null,{"$f":"AE85/IFERROR(IFERROR(VLOOKUP($AD$59,Præsentation!$F$11:$T$82,$Z86,FALSE),0),\"\")","v":{"$error":"#DIV/0!"}},{"$f":"AF85/IFERROR(IFERROR(VLOOKUP($AD$59,Præsentation!$F$11:$T$82,$Z86,FALSE),0),\"\")","v":{"$error":"#DIV/0!"}},{"$f":"AG85/IFERROR(IFERROR(VLOOKUP($AD$59,Præsentation!$F$11:$T$82,$Z86,FALSE),0),\"\")","v":{"$error":"#DIV/0!"}},{"$f":"AX86-SUM(AS86:AW86)-SUM(AO86:AQ86)","v":{"$error":"#DIV/0!"}},{"$f":"AI85/IFERROR(IFERROR(VLOOKUP($AD$59,Præsentation!$F$11:$T$82,$Z86,FALSE),0),\"\")","v":{"$error":"#DIV/0!"}},{"$f":"AJ85/IFERROR(IFERROR(VLOOKUP($AD$59,Præsentation!$F$11:$T$82,$Z86,FALSE),0),\"\")","v":{"$error":"#DIV/0!"}},{"$f":"AK85/IFERROR(IFERROR(VLOOKUP($AD$59,Præsentation!$F$11:$T$82,$Z86,FALSE),0),\"\")","v":{"$error":"#DIV/0!"}},{"$f":"AL85/IFERROR(IFERROR(VLOOKUP($AD$59,Præsentation!$F$11:$T$82,$Z86,FALSE),0),\"\")","v":{"$error":"#DIV/0!"}},{"$f":"AM85/IFERROR(IFERROR(VLOOKUP($AD$59,Præsentation!$F$11:$T$82,$Z86,FALSE),0),\"\")","v":{"$error":"#DIV/0!"}},{"$f":"IFERROR(IFERROR(VLOOKUP($AX$60,Præsentation!$F$11:$T$82,$Z86,FALSE),0),\"\")","v":0},14,{"$f":"HLOOKUP(Diagrammer!BA85,'Statiske ejendomme'!$C$3:$Z$75,74,FALSE)","v":{"$error":"#N/A"}},null,null,"Udbytte"]

{"sheet":"Kredsudvælgelse","index":7,"n_rows":317,"n_cols":37,"rows_kept":317,"cut":false,"hidden":true,"merged":[[17,27,17,28],[17,24,17,26],[17,18,17,23],[17,30,17,33],[17,34,17,39]]}
["Kredsnr",null,null,null,null,null,null,null,null,null,null,null,null,null,null,null,1,null,1,null,1,null,1,null,1,null,null,"Til valg af ejendomme (Statisk = 0, kreds = 1)"]
[null,null,null,null,null,null,null,null,null,null,null,null,null,null,"Prodgren",null,"Ejendomsnr","prodgren","Ejendomsnr","prodgren","Ejendomsnr","prodgren","Ejendomsnr","prodgren","Ejendomsnr","prodgren",null,{"$f":"IF(ISTEXT(Præsentation!K12)=TRUE,0,1)","v":0},{"$f":"IF(ISTEXT(Præsentation!L12)=TRUE,0,1)","v":0},{"$f":"IF(ISTEXT(Præsentation!M12)=TRUE,0,1)","v":0},{"$f":"IF(ISTEXT(Præsentation!N12)=TRUE,0,1)","v":0},{"$f":"IF(ISTEXT(Præsentation!O12)=TRUE,0,1)","v":0},{"$f":"IF(ISTEXT(Præsentation!P12)=TRUE,0,1)","v":0},{"$f":"IF(ISTEXT(Præsentation!Q12)=TRUE,0,1)","v":0},{"$f":"IF(ISTEXT(Præsentation!R12)=TRUE,0,1)","v":0},{"$f":"IF(ISTEXT(Præsentation!S12)=TRUE,0,1)","v":0},{"$f":"IF(ISTEXT(Præsentation!T12)=TRUE,0,1)","v":0}]
[null,null,null,null,null,null,null,null,null,null,null,null,null,null,6300,null,{"$f":"Præsentation!K12","v":"D1"},{"$f":"$O$3","v":6300},{"$f":"Præsentation!L12","v":"D4"},{"$f":"$O$3","v":6300},{"$f":"Præsentation!M12","v":"D6"},{"$f":"$O$3","v":6300},{"$f":"Præsentation!N12","v":"D7"},{"$f":"$O$3","v":6300},{"$f":"Præsentation!O12","v":"D10"},{"$f":"$O$3","v":6300},null,null,null,null,null,null,{"$f":"IF(ISTEXT(Præsentation!P12)=TRUE,0,1)","v":0}]
[null,null,null,null,null,null,null,null,null,null,null,null,null,null,null,null,null,null,null,null,null,null,null,null,null,null,null,"Identer",{"$f":"Choices!A1","v":2},{"$f":"Choices!$A$1*10+Choices!$D$1","v":20},{"$f":"Choices!A1*100+Choices!D1*10+Choices!G1","v":200},"Præsentation"]
[null,null,null,null,null,null,null,null,null,null,null,null,null,null,null,null,1,null,1,null,1,null,1,null,1,null,null,"Identer",{"$f":"Choices!A10","v":2},{"$f":"Choices!$A$10*10+Choices!$D$10","v":20},{"$f":"Choices!A10*100+Choices!D10*10+Choices!G10","v":200},"Fraktilanalyse"]
[null,null,null,null,null,null,null,null,null,null,null,null,null,null,null,null,"Ejendomsnr","prodgren","Ejendomsnr","prodgren","Ejendomsnr","prodgren","Ejendomsnr","prodgren","Ejendomsnr","prodgren"]
[null,null,null,null,null,null,null,null,null,null,null,null,null,null,null,null,{"$f":"Præsentation!P12","v":"U6"},{"$f":"$O$3","v":6300},{"$f":"Præsentation!Q12","v":"U10"},{"$f":"$O$3","v":6300},{"$f":"Præsentation!R12","v":"D23"},{"$f":"$O$3","v":6300},{"$f":"Præsentation!S12","v":"U7"},{"$f":"$O$3","v":6300},{"$f":"Præsentation!T12","v":"D5"},{"$f":"$O$3","v":6300},null,null,null,"Til valg af ejendom fraktil"]
[null,null,null,null,null,null,null,null,null,null,null,null,null,null,null,null,null,null,null,null,null,null,null,null,null,null,null,null,null,{"$f":"IF(ISTEXT(Fraktilanalyse!$C$6)=TRUE,0,1)","v":0}]
[null,null,null,null,null,null,null,null,null,null,null,null,null,null,"Prodgren fraktil",null,1,{"$f":"IF(ISTEXT(Fraktilanalyse!C6)=TRUE,0,1)","v":0}]
["Kredsnr",null,null,null,null,null,null,null,null,null,null,null,null,null,6300,null,"Ejendomsnr","prodgren"]
[null,null,null,null,null,null,null,null,null,null,null,null,null,null,null,null,{"$f":"Fraktilanalyse!$Y$8","v":"D5"},{"$f":"$O$10","v":6300}]
[]
[]
[]
[]
[]
[]
[null,null,null,null,null,null,null,null,null,null,null,null,null,null,null,"Til fraktilanalyse","Til præsentation"]
[null,null,null,null,null,null,null,null,null,null,null,null,null,null,null,"Ejendomsnumre","Ejendomsnumre"]
[null,null,null,null,null,null,null,null,null,null,null,null,null,null,null,"Vælg","Vælg"]
[null,null,null,null,null,null,null,null,null,null,null,null,null,null,"Statiske ejendomme","D1","D1","Statiske ejendomme"]
[null,null,null,null,null,null,null,null,null,null,null,null,null,null,null,"D2","D2"]
[null,null,null,null,null,null,null,null,null,null,null,null,null,null,null,"D4","D4"]
[null,null,null,null,null,null,null,null,null,null,null,null,null,null,null,"D5","D5"]
[null,null,null,null,null,null,null,null,null,null,null,null,null,null,null,"D6","D6"]
[null,null,null,null,null,null,null,null,null,null,null,null,null,null,null,"D7","D7"]
[null,null,null,null,null,null,null,null,null,null,null,null,null,null,null,"D9","D9"]
[null,null,null,null,null,null,null,null,null,null,null,null,null,null,null,"D10","D10"]
[null,null,null,null,null,null,null,null,null,null,null,null,null,null,null,"D11","D11"]
[null,null,null,null,null,null,null,null,null,null,null,null,null,null,null,"D12","D12"]
[null,null,null,null,null,null,null,null,null,null,null,null,null,null,null,"D13","D13"]
[null,null,null,null,null,null,null,null,null,null,null,null,null,null,null,"D14","D14"]
[null,null,null,null,null,null,null,null,null,null,null,null,null,null,null,"D15","D15"]
[null,null,null,null,null,null,null,null,null,null,null,null,null,null,null,"D16","D16"]
[null,null,null,null,null,null,null,null,null,null,null,null,null,null,null,"D17","D17"]
[null,null,null,null,null,null,null,null,null,null,null,null,null,null,null,"D19","D19"]
[null,null,null,null,null,null,null,null,null,null,null,null,null,null,null,"D20","D20"]
[null,null,null,null,null,null,null,null,null,null,null,null,null,null,null,"D21","D21"]
[null,null,null,null,null,null,null,null,null,null,null,null,null,null,null,"D22","D22"]
[null,null,null,null,null,null,null,null,null,null,null,null,null,null,null,"D23","D23"]
[null,null,null,null,null,null,null,null,null,null,null,null,null,null,null,"D24","D24"]
[null,null,null,null,null,null,null,null,null,null,null,null,null,null,null,"D25","D25"]
[null,null,null,null,null,null,null,null,null,null,null,null,null,null,null,"D26","D26"]
[null,null,null,null,null,null,null,null,null,null,null,null,null,null,null,"D27","D27"]
[null,null,null,null,null,null,null,null,null,null,null,null,null,null,null,"U1","U1"]
[null,null,null,null,null,null,null,null,null,null,null,null,null,null,null,"U2","U2"]
[null,null,null,null,null,null,null,null,null,null,null,null,null,null,null,"U3","U3"]
[null,null,null,null,null,null,null,null,null,null,null,null,null,null,null,"U4","U4"]
[null,null,null,null,null,null,null,null,null,null,null,null,null,null,null,"U6","U6"]
[null,null,null,null,null,null,null,null,null,null,null,null,null,null,null,"U7","U7"]
[null,null,null,null,null,null,null,null,null,null,null,null,null,null,null,"U8","U8"]
[null,null,null,null,null,null,null,null,null,null,null,null,null,null,null,"U9","U9"]
[null,null,null,null,null,null,null,null,null,null,null,null,null,null,null,"U10","U10"]
[null,null,null,null,null,null,null,null,null,null,null,null,null,null,null,"U11","U11"]
[null,null,null,null,null,null,null,null,"Slagtekalve",null,null,null,null,null,null,"U12","U12"]
[null,null,null,null,null,null,null,null,"Prodgren","Prodgren",null,null,null,null,null,"U13","U13"]
[null,null,null,null,null,null,null,null,6300,6300,null,null,null,null,null,"U14","U14"]
[null,null,null,null,null,null,null,null,"Indeks","Ejendomsnr"]
[null,null,null,null,null,null,null,null,1,null,null,null,null,null,null,{"$f":"IF(ISNUMBER(Identifikation6300[[#This Row],[Ejendomsnr]]),Identifikation6300[[#This Row],[Ejendomsnr]],\"Vælg\")","v":"Vælg"},{"$f":"IF(ISNUMBER(Identifikation6300[[#This Row],[Ejendomsnr]]),Identifikation6300[[#This Row],[Ejendomsnr]],\"Vælg\")","v":"Vælg"}]
[null,null,null,null,null,null,null,null,null,null,null,null,null,null,null,{"$f":"IF(ISNUMBER(Identifikation6300[[#This Row],[Ejendomsnr]]),Identifikation6300[[#This Row],[Ejendomsnr]],\"Vælg\")","v":"Vælg"},{"$f":"IF(ISNUMBER(Identifikation6300[[#This Row],[Ejendomsnr]]),Identifikation6300[[#This Row],[Ejendomsnr]],\"Vælg\")","v":"Vælg"}]
[null,null,null,null,null,null,null,null,null,null,null,null,null,null,null,{"$f":"IF(ISNUMBER(Identifikation6300[[#This Row],[Ejendomsnr]]),Identifikation6300[[#This Row],[Ejendomsnr]],\"Vælg\")","v":"Vælg"},{"$f":"IF(ISNUMBER(Identifikation6300[[#This Row],[Ejendomsnr]]),Identifikation6300[[#This Row],[Ejendomsnr]],\"Vælg\")","v":"Vælg"}]
[null,null,null,null,null,null,null,null,null,null,null,null,null,null,null,{"$f":"IF(ISNUMBER(Identifikation6300[[#This Row],[Ejendomsnr]]),Identifikation6300[[#This Row],[Ejendomsnr]],\"Vælg\")","v":"Vælg"},{"$f":"IF(ISNUMBER(Identifikation6300[[#This Row],[Ejendomsnr]]),Identifikation6300[[#This Row],[Ejendomsnr]],\"Vælg\")","v":"Vælg"}]
[null,null,null,null,null,null,null,null,null,null,null,null,null,null,null,{"$f":"IF(ISNUMBER(Identifikation6300[[#This Row],[Ejendomsnr]]),Identifikation6300[[#This Row],[Ejendomsnr]],\"Vælg\")","v":"Vælg"},{"$f":"IF(ISNUMBER(Identifikation6300[[#This Row],[Ejendomsnr]]),Identifikation6300[[#This Row],[Ejendomsnr]],\"Vælg\")","v":"Vælg"}]
[null,null,null,null,null,null,null,null,null,null,null,null,null,null,null,{"$f":"IF(ISNUMBER(Identifikation6300[[#This Row],[Ejendomsnr]]),Identifikation6300[[#This Row],[Ejendomsnr]],\"Vælg\")","v":"Vælg"},{"$f":"IF(ISNUMBER(Identifikation6300[[#This Row],[Ejendomsnr]]),Identifikation6300[[#This Row],[Ejendomsnr]],\"Vælg\")","v":"Vælg"}]
[null,null,null,null,null,null,null,null,null,null,null,null,null,null,"Kredsejendomme",{"$f":"IF(ISNUMBER(Identifikation6300[[#This Row],[Ejendomsnr]]),Identifikation6300[[#This Row],[Ejendomsnr]],\"Vælg\")","v":"Vælg"},{"$f":"IF(ISNUMBER(Identifikation6300[[#This Row],[Ejendomsnr]]),Identifikation6300[[#This Row],[Ejendomsnr]],\"Vælg\")","v":"Vælg"},"Kredsejendomme"]
[null,null,null,null,null,null,null,null,null,null,null,null,null,null,null,{"$f":"IF(ISNUMBER(Identifikation6300[[#This Row],[Ejendomsnr]]),Identifikation6300[[#This Row],[Ejendomsnr]],\"Vælg\")","v":"Vælg"},{"$f":"IF(ISNUMBER(Identifikation6300[[#This Row],[Ejendomsnr]]),Identifikation6300[[#This Row],[Ejendomsnr]],\"Vælg\")","v":"Vælg"}]
[null,null,null,null,null,null,null,null,null,null,null,null,null,null,null,{"$f":"IF(ISNUMBER(Identifikation6300[[#This Row],[Ejendomsnr]]),Identifikation6300[[#This Row],[Ejendomsnr]],\"Vælg\")","v":"Vælg"},{"$f":"IF(ISNUMBER(Identifikation6300[[#This Row],[Ejendomsnr]]),Identifikation6300[[#This Row],[Ejendomsnr]],\"Vælg\")","v":"Vælg"}]
[null,null,null,null,null,null,null,null,null,null,null,null,null,null,null,{"$f":"IF(ISNUMBER(Identifikation6300[[#This Row],[Ejendomsnr]]),Identifikation6300[[#This Row],[Ejendomsnr]],\"Vælg\")","v":"Vælg"},{"$f":"IF(ISNUMBER(Identifikation6300[[#This Row],[Ejendomsnr]]),Identifikation6300[[#This Row],[Ejendomsnr]],\"Vælg\")","v":"Vælg"}]
[null,null,null,null,null,null,null,null,null,null,null,null,null,null,null,{"$f":"IF(ISNUMBER(Identifikation6300[[#This Row],[Ejendomsnr]]),Identifikation6300[[#This Row],[Ejendomsnr]],\"Vælg\")","v":"Vælg"},{"$f":"IF(ISNUMBER(Identifikation6300[[#This Row],[Ejendomsnr]]),Identifikation6300[[#This Row],[Ejendomsnr]],\"Vælg\")","v":"Vælg"}]
[null,null,null,null,null,null,null,null,null,null,null,null,null,null,null,{"$f":"IF(ISNUMBER(Identifikation6300[[#This Row],[Ejendomsnr]]),Identifikation6300[[#This Row],[Ejendomsnr]],\"Vælg\")","v":"Vælg"},{"$f":"IF(ISNUMBER(Identifikation6300[[#This Row],[Ejendomsnr]]),Identifikation6300[[#This Row],[Ejendomsnr]],\"Vælg\")","v":"Vælg"}]
[null,null,null,null,null,null,null,null,null,null,null,null,null,null,null,{"$f":"IF(ISNUMBER(Identifikation6300[[#This Row],[Ejendomsnr]]),Identifikation6300[[#This Row],[Ejendomsnr]],\"Vælg\")","v":"Vælg"},{"$f":"IF(ISNUMBER(Identifikation6300[[#This Row],[Ejendomsnr]]),Identifikation6300[[#This Row],[Ejendomsnr]],\"Vælg\")","v":"Vælg"}]
[null,null,null,null,null,null,null,null,null,null,null,null,null,null,null,{"$f":"IF(ISNUMBER(Identifikation6300[[#This Row],[Ejendomsnr]]),Identifikation6300[[#This Row],[Ejendomsnr]],\"Vælg\")","v":"Vælg"},{"$f":"IF(ISNUMBER(Identifikation6300[[#This Row],[Ejendomsnr]]),Identifikation6300[[#This Row],[Ejendomsnr]],\"Vælg\")","v":"Vælg"}]
[null,null,null,null,null,null,null,null,null,null,null,null,null,null,null,{"$f":"IF(ISNUMBER(Identifikation6300[[#This Row],[Ejendomsnr]]),Identifikation6300[[#This Row],[Ejendomsnr]],\"Vælg\")","v":"Vælg"},{"$f":"IF(ISNUMBER(Identifikation6300[[#This Row],[Ejendomsnr]]),Identifikation6300[[#This Row],[Ejendomsnr]],\"Vælg\")","v":"Vælg"}]
[null,null,null,null,null,null,null,null,null,null,null,null,null,null,null,{"$f":"IF(ISNUMBER(Identifikation6300[[#This Row],[Ejendomsnr]]),Identifikation6300[[#This Row],[Ejendomsnr]],\"Vælg\")","v":"Vælg"},{"$f":"IF(ISNUMBER(Identifikation6300[[#This Row],[Ejendomsnr]]),Identifikation6300[[#This Row],[Ejendomsnr]],\"Vælg\")","v":"Vælg"}]
[null,null,null,null,null,null,null,null,null,null,null,null,null,null,null,{"$f":"IF(ISNUMBER(Identifikation6300[[#This Row],[Ejendomsnr]]),Identifikation6300[[#This Row],[Ejendomsnr]],\"Vælg\")","v":"Vælg"},{"$f":"IF(ISNUMBER(Identifikation6300[[#This Row],[Ejendomsnr]]),Identifikation6300[[#This Row],[Ejendomsnr]],\"Vælg\")","v":"Vælg"}]
[null,null,null,null,null,null,null,null,null,null,null,null,null,null,null,{"$f":"IF(ISNUMBER(Identifikation6300[[#This Row],[Ejendomsnr]]),Identifikation6300[[#This Row],[Ejendomsnr]],\"Vælg\")","v":"Vælg"},{"$f":"IF(ISNUMBER(Identifikation6300[[#This Row],[Ejendomsnr]]),Identifikation6300[[#This Row],[Ejendomsnr]],\"Vælg\")","v":"Vælg"}]
[null,null,null,null,null,null,null,null,null,null,null,null,null,null,null,{"$f":"IF(ISNUMBER(Identifikation6300[[#This Row],[Ejendomsnr]]),Identifikation6300[[#This Row],[Ejendomsnr]],\"Vælg\")","v":"Vælg"},{"$f":"IF(ISNUMBER(Identifikation6300[[#This Row],[Ejendomsnr]]),Identifikation6300[[#This Row],[Ejendomsnr]],\"Vælg\")","v":"Vælg"}]
[null,null,null,null,null,null,null,null,null,null,null,null,null,null,null,{"$f":"IF(ISNUMBER(Identifikation6300[[#This Row],[Ejendomsnr]]),Identifikation6300[[#This Row],[Ejendomsnr]],\"Vælg\")","v":"Vælg"},{"$f":"IF(ISNUMBER(Identifikation6300[[#This Row],[Ejendomsnr]]),Identifikation6300[[#This Row],[Ejendomsnr]],\"Vælg\")","v":"Vælg"}]
[null,null,null,null,null,null,null,null,null,null,null,null,null,null,null,{"$f":"IF(ISNUMBER(Identifikation6300[[#This Row],[Ejendomsnr]]),Identifikation6300[[#This Row],[Ejendomsnr]],\"Vælg\")","v":"Vælg"},{"$f":"IF(ISNUMBER(Identifikation6300[[#This Row],[Ejendomsnr]]),Identifikation6300[[#This Row],[Ejendomsnr]],\"Vælg\")","v":"Vælg"}]
[null,null,null,null,null,null,null,null,null,null,null,null,null,null,null,{"$f":"IF(ISNUMBER(Identifikation6300[[#This Row],[Ejendomsnr]]),Identifikation6300[[#This Row],[Ejendomsnr]],\"Vælg\")","v":"Vælg"},{"$f":"IF(ISNUMBER(Identifikation6300[[#This Row],[Ejendomsnr]]),Identifikation6300[[#This Row],[Ejendomsnr]],\"Vælg\")","v":"Vælg"}]
[null,null,null,null,null,null,null,null,null,null,null,null,null,null,null,{"$f":"IF(ISNUMBER(Identifikation6300[[#This Row],[Ejendomsnr]]),Identifikation6300[[#This Row],[Ejendomsnr]],\"Vælg\")","v":"Vælg"},{"$f":"IF(ISNUMBER(Identifikation6300[[#This Row],[Ejendomsnr]]),Identifikation6300[[#This Row],[Ejendomsnr]],\"Vælg\")","v":"Vælg"}]
[null,null,null,null,null,null,null,null,null,null,null,null,null,null,null,{"$f":"IF(ISNUMBER(Identifikation6300[[#This Row],[Ejendomsnr]]),Identifikation6300[[#This Row],[Ejendomsnr]],\"Vælg\")","v":"Vælg"},{"$f":"IF(ISNUMBER(Identifikation6300[[#This Row],[Ejendomsnr]]),Identifikation6300[[#This Row],[Ejendomsnr]],\"Vælg\")","v":"Vælg"}]
[null,null,null,null,null,null,null,null,null,null,null,null,null,null,null,{"$f":"IF(ISNUMBER(Identifikation6300[[#This Row],[Ejendomsnr]]),Identifikation6300[[#This Row],[Ejendomsnr]],\"Vælg\")","v":"Vælg"},{"$f":"IF(ISNUMBER(Identifikation6300[[#This Row],[Ejendomsnr]]),Identifikation6300[[#This Row],[Ejendomsnr]],\"Vælg\")","v":"Vælg"}]
[null,null,null,null,null,null,null,null,null,null,null,null,null,null,null,{"$f":"IF(ISNUMBER(Identifikation6300[[#This Row],[Ejendomsnr]]),Identifikation6300[[#This Row],[Ejendomsnr]],\"Vælg\")","v":"Vælg"},{"$f":"IF(ISNUMBER(Identifikation6300[[#This Row],[Ejendomsnr]]),Identifikation6300[[#This Row],[Ejendomsnr]],\"Vælg\")","v":"Vælg"}]
[null,null,null,null,null,null,null,null,null,null,null,null,null,null,null,{"$f":"IF(ISNUMBER(Identifikation6300[[#This Row],[Ejendomsnr]]),Identifikation6300[[#This Row],[Ejendomsnr]],\"Vælg\")","v":"Vælg"},{"$f":"IF(ISNUMBER(Identifikation6300[[#This Row],[Ejendomsnr]]),Identifikation6300[[#This Row],[Ejendomsnr]],\"Vælg\")","v":"Vælg"}]
[null,null,null,null,null,null,null,null,null,null,null,null,null,null,null,{"$f":"IF(ISNUMBER(Identifikation6300[[#This Row],[Ejendomsnr]]),Identifikation6300[[#This Row],[Ejendomsnr]],\"Vælg\")","v":"Vælg"},{"$f":"IF(ISNUMBER(Identifikation6300[[#This Row],[Ejendomsnr]]),Identifikation6300[[#This Row],[Ejendomsnr]],\"Vælg\")","v":"Vælg"}]
[null,null,null,null,null,null,null,null,null,null,null,null,null,null,null,{"$f":"IF(ISNUMBER(Identifikation6300[[#This Row],[Ejendomsnr]]),Identifikation6300[[#This Row],[Ejendomsnr]],\"Vælg\")","v":"Vælg"},{"$f":"IF(ISNUMBER(Identifikation6300[[#This Row],[Ejendomsnr]]),Identifikation6300[[#This Row],[Ejendomsnr]],\"Vælg\")","v":"Vælg"}]
[null,null,null,null,null,null,null,null,null,null,null,null,null,null,null,{"$f":"IF(ISNUMBER(Identifikation6300[[#This Row],[Ejendomsnr]]),Identifikation6300[[#This Row],[Ejendomsnr]],\"Vælg\")","v":"Vælg"},{"$f":"IF(ISNUMBER(Identifikation6300[[#This Row],[Ejendomsnr]]),Identifikation6300[[#This Row],[Ejendomsnr]],\"Vælg\")","v":"Vælg"}]
[null,null,null,null,null,null,null,null,null,null,null,null,null,null,null,{"$f":"IF(ISNUMBER(Identifikation6300[[#This Row],[Ejendomsnr]]),Identifikation6300[[#This Row],[Ejendomsnr]],\"Vælg\")","v":"Vælg"},{"$f":"IF(ISNUMBER(Identifikation6300[[#This Row],[Ejendomsnr]]),Identifikation6300[[#This Row],[Ejendomsnr]],\"Vælg\")","v":"Vælg"}]
[null,null,null,null,null,null,null,null,null,null,null,null,null,null,null,{"$f":"IF(ISNUMBER(Identifikation6300[[#This Row],[Ejendomsnr]]),Identifikation6300[[#This Row],[Ejendomsnr]],\"Vælg\")","v":"Vælg"},{"$f":"IF(ISNUMBER(Identifikation6300[[#This Row],[Ejendomsnr]]),Identifikation6300[[#This Row],[Ejendomsnr]],\"Vælg\")","v":"Vælg"}]
[null,null,null,null,null,null,null,null,null,null,null,null,null,null,null,{"$f":"IF(ISNUMBER(Identifikation6300[[#This Row],[Ejendomsnr]]),Identifikation6300[[#This Row],[Ejendomsnr]],\"Vælg\")","v":"Vælg"},{"$f":"IF(ISNUMBER(Identifikation6300[[#This Row],[Ejendomsnr]]),Identifikation6300[[#This Row],[Ejendomsnr]],\"Vælg\")","v":"Vælg"}]
[null,null,null,null,null,null,null,null,null,null,null,null,null,null,null,{"$f":"IF(ISNUMBER(Identifikation6300[[#This Row],[Ejendomsnr]]),Identifikation6300[[#This Row],[Ejendomsnr]],\"Vælg\")","v":"Vælg"},{"$f":"IF(ISNUMBER(Identifikation6300[[#This Row],[Ejendomsnr]]),Identifikation6300[[#This Row],[Ejendomsnr]],\"Vælg\")","v":"Vælg"}]
[null,null,null,null,null,null,null,null,null,null,null,null,null,null,null,{"$f":"IF(ISNUMBER(Identifikation6300[[#This Row],[Ejendomsnr]]),Identifikation6300[[#This Row],[Ejendomsnr]],\"Vælg\")","v":"Vælg"},{"$f":"IF(ISNUMBER(Identifikation6300[[#This Row],[Ejendomsnr]]),Identifikation6300[[#This Row],[Ejendomsnr]],\"Vælg\")","v":"Vælg"}]
[null,null,null,null,null,null,null,null,null,null,null,null,null,null,null,{"$f":"IF(ISNUMBER(Identifikation6300[[#This Row],[Ejendomsnr]]),Identifikation6300[[#This Row],[Ejendomsnr]],\"Vælg\")","v":"Vælg"},{"$f":"IF(ISNUMBER(Identifikation6300[[#This Row],[Ejendomsnr]]),Identifikation6300[[#This Row],[Ejendomsnr]],\"Vælg\")","v":"Vælg"}]
[null,null,null,null,null,null,null,null,null,null,null,null,null,null,null,{"$f":"IF(ISNUMBER(Identifikation6300[[#This Row],[Ejendomsnr]]),Identifikation6300[[#This Row],[Ejendomsnr]],\"Vælg\")","v":"Vælg"},{"$f":"IF(ISNUMBER(Identifikation6300[[#This Row],[Ejendomsnr]]),Identifikation6300[[#This Row],[Ejendomsnr]],\"Vælg\")","v":"Vælg"}]
[null,null,null,null,null,null,null,null,null,null,null,null,null,null,null,{"$f":"IF(ISNUMBER(Identifikation6300[[#This Row],[Ejendomsnr]]),Identifikation6300[[#This Row],[Ejendomsnr]],\"Vælg\")","v":"Vælg"},{"$f":"IF(ISNUMBER(Identifikation6300[[#This Row],[Ejendomsnr]]),Identifikation6300[[#This Row],[Ejendomsnr]],\"Vælg\")","v":"Vælg"}]
[null,null,null,null,null,null,null,null,null,null,null,null,null,null,null,{"$f":"IF(ISNUMBER(Identifikation6300[[#This Row],[Ejendomsnr]]),Identifikation6300[[#This Row],[Ejendomsnr]],\"Vælg\")","v":"Vælg"},{"$f":"IF(ISNUMBER(Identifikation6300[[#This Row],[Ejendomsnr]]),Identifikation6300[[#This Row],[Ejendomsnr]],\"Vælg\")","v":"Vælg"}]
[null,null,null,null,null,null,null,null,null,null,null,null,null,null,null,{"$f":"IF(ISNUMBER(Identifikation6300[[#This Row],[Ejendomsnr]]),Identifikation6300[[#This Row],[Ejendomsnr]],\"Vælg\")","v":"Vælg"},{"$f":"IF(ISNUMBER(Identifikation6300[[#This Row],[Ejendomsnr]]),Identifikation6300[[#This Row],[Ejendomsnr]],\"Vælg\")","v":"Vælg"}]
[null,null,null,null,null,null,null,null,null,null,null,null,null,null,null,{"$f":"IF(ISNUMBER(Identifikation6300[[#This Row],[Ejendomsnr]]),Identifikation6300[[#This Row],[Ejendomsnr]],\"Vælg\")","v":"Vælg"},{"$f":"IF(ISNUMBER(Identifikation6300[[#This Row],[Ejendomsnr]]),Identifikation6300[[#This Row],[Ejendomsnr]],\"Vælg\")","v":"Vælg"}]
[null,null,null,null,null,null,null,null,null,null,null,null,null,null,null,{"$f":"IF(ISNUMBER(Identifikation6300[[#This Row],[Ejendomsnr]]),Identifikation6300[[#This Row],[Ejendomsnr]],\"Vælg\")","v":"Vælg"},{"$f":"IF(ISNUMBER(Identifikation6300[[#This Row],[Ejendomsnr]]),Identifikation6300[[#This Row],[Ejendomsnr]],\"Vælg\")","v":"Vælg"}]
[null,null,null,null,null,null,null,null,null,null,null,null,null,null,null,{"$f":"IF(ISNUMBER(Identifikation6300[[#This Row],[Ejendomsnr]]),Identifikation6300[[#This Row],[Ejendomsnr]],\"Vælg\")","v":"Vælg"},{"$f":"IF(ISNUMBER(Identifikation6300[[#This Row],[Ejendomsnr]]),Identifikation6300[[#This Row],[Ejendomsnr]],\"Vælg\")","v":"Vælg"}]
[null,null,null,null,null,null,null,null,null,null,null,null,null,null,null,{"$f":"IF(ISNUMBER(Identifikation6300[[#This Row],[Ejendomsnr]]),Identifikation6300[[#This Row],[Ejendomsnr]],\"Vælg\")","v":"Vælg"},{"$f":"IF(ISNUMBER(Identifikation6300[[#This Row],[Ejendomsnr]]),Identifikation6300[[#This Row],[Ejendomsnr]],\"Vælg\")","v":"Vælg"}]
[null,null,null,null,null,null,null,null,null,null,null,null,null,null,null,{"$f":"IF(ISNUMBER(Identifikation6300[[#This Row],[Ejendomsnr]]),Identifikation6300[[#This Row],[Ejendomsnr]],\"Vælg\")","v":"Vælg"},{"$f":"IF(ISNUMBER(Identifikation6300[[#This Row],[Ejendomsnr]]),Identifikation6300[[#This Row],[Ejendomsnr]],\"Vælg\")","v":"Vælg"}]
[null,null,null,null,null,null,null,null,null,null,null,null,null,null,null,{"$f":"IF(ISNUMBER(Identifikation6300[[#This Row],[Ejendomsnr]]),Identifikation6300[[#This Row],[Ejendomsnr]],\"Vælg\")","v":"Vælg"},{"$f":"IF(ISNUMBER(Identifikation6300[[#This Row],[Ejendomsnr]]),Identifikation6300[[#This Row],[Ejendomsnr]],\"Vælg\")","v":"Vælg"}]
[null,null,null,null,null,null,null,null,null,null,null,null,null,null,null,{"$f":"IF(ISNUMBER(Identifikation6300[[#This Row],[Ejendomsnr]]),Identifikation6300[[#This Row],[Ejendomsnr]],\"Vælg\")","v":"Vælg"},{"$f":"IF(ISNUMBER(Identifikation6300[[#This Row],[Ejendomsnr]]),Identifikation6300[[#This Row],[Ejendomsnr]],\"Vælg\")","v":"Vælg"}]
[null,null,null,null,null,null,null,null,null,null,null,null,null,null,null,{"$f":"IF(ISNUMBER(Identifikation6300[[#This Row],[Ejendomsnr]]),Identifikation6300[[#This Row],[Ejendomsnr]],\"Vælg\")","v":"Vælg"},{"$f":"IF(ISNUMBER(Identifikation6300[[#This Row],[Ejendomsnr]]),Identifikation6300[[#This Row],[Ejendomsnr]],\"Vælg\")","v":"Vælg"}]
[null,null,null,null,null,null,null,null,null,null,null,null,null,null,null,{"$f":"IF(ISNUMBER(Identifikation6300[[#This Row],[Ejendomsnr]]),Identifikation6300[[#This Row],[Ejendomsnr]],\"Vælg\")","v":"Vælg"},{"$f":"IF(ISNUMBER(Identifikation6300[[#This Row],[Ejendomsnr]]),Identifikation6300[[#This Row],[Ejendomsnr]],\"Vælg\")","v":"Vælg"}]
[null,null,null,null,null,null,null,null,null,null,null,null,null,null,null,{"$f":"IF(ISNUMBER(Identifikation6300[[#This Row],[Ejendomsnr]]),Identifikation6300[[#This Row],[Ejendomsnr]],\"Vælg\")","v":"Vælg"},{"$f":"IF(ISNUMBER(Identifikation6300[[#This Row],[Ejendomsnr]]),Identifikation6300[[#This Row],[Ejendomsnr]],\"Vælg\")","v":"Vælg"}]
[null,null,null,null,null,null,null,null,null,null,null,null,null,null,null,{"$f":"IF(ISNUMBER(Identifikation6300[[#This Row],[Ejendomsnr]]),Identifikation6300[[#This Row],[Ejendomsnr]],\"Vælg\")","v":"Vælg"},{"$f":"IF(ISNUMBER(Identifikation6300[[#This Row],[Ejendomsnr]]),Identifikation6300[[#This Row],[Ejendomsnr]],\"Vælg\")","v":"Vælg"}]
[null,null,null,null,null,null,null,null,null,null,null,null,null,null,null,{"$f":"IF(ISNUMBER(Identifikation6300[[#This Row],[Ejendomsnr]]),Identifikation6300[[#This Row],[Ejendomsnr]],\"Vælg\")","v":"Vælg"},{"$f":"IF(ISNUMBER(Identifikation6300[[#This Row],[Ejendomsnr]]),Identifikation6300[[#This Row],[Ejendomsnr]],\"Vælg\")","v":"Vælg"}]
[null,null,null,null,null,null,null,null,null,null,null,null,null,null,null,{"$f":"IF(ISNUMBER(Identifikation6300[[#This Row],[Ejendomsnr]]),Identifikation6300[[#This Row],[Ejendomsnr]],\"Vælg\")","v":"Vælg"},{"$f":"IF(ISNUMBER(Identifikation6300[[#This Row],[Ejendomsnr]]),Identifikation6300[[#This Row],[Ejendomsnr]],\"Vælg\")","v":"Vælg"}]
[null,null,null,null,null,null,null,null,null,null,null,null,null,null,null,{"$f":"IF(ISNUMBER(Identifikation6300[[#This Row],[Ejendomsnr]]),Identifikation6300[[#This Row],[Ejendomsnr]],\"Vælg\")","v":"Vælg"},{"$f":"IF(ISNUMBER(Identifikation6300[[#This Row],[Ejendomsnr]]),Identifikation6300[[#This Row],[Ejendomsnr]],\"Vælg\")","v":"Vælg"}]
[null,null,null,null,null,null,null,null,null,null,null,null,null,null,null,{"$f":"IF(ISNUMBER(Identifikation6300[[#This Row],[Ejendomsnr]]),Identifikation6300[[#This Row],[Ejendomsnr]],\"Vælg\")","v":"Vælg"},{"$f":"IF(ISNUMBER(Identifikation6300[[#This Row],[Ejendomsnr]]),Identifikation6300[[#This Row],[Ejendomsnr]],\"Vælg\")","v":"Vælg"}]
[null,null,null,null,null,null,null,null,null,null,null,null,null,null,null,{"$f":"IF(ISNUMBER(Identifikation6300[[#This Row],[Ejendomsnr]]),Identifikation6300[[#This Row],[Ejendomsnr]],\"Vælg\")","v":"Vælg"},{"$f":"IF(ISNUMBER(Identifikation6300[[#This Row],[Ejendomsnr]]),Identifikation6300[[#This Row],[Ejendomsnr]],\"Vælg\")","v":"Vælg"}]
[null,null,null,null,null,null,null,null,null,null,null,null,null,null,null,{"$f":"IF(ISNUMBER(Identifikation6300[[#This Row],[Ejendomsnr]]),Identifikation6300[[#This Row],[Ejendomsnr]],\"Vælg\")","v":"Vælg"},{"$f":"IF(ISNUMBER(Identifikation6300[[#This Row],[Ejendomsnr]]),Identifikation6300[[#This Row],[Ejendomsnr]],\"Vælg\")","v":"Vælg"}]
[null,null,null,null,null,null,null,null,null,null,null,null,null,null,null,{"$f":"IF(ISNUMBER(Identifikation6300[[#This Row],[Ejendomsnr]]),Identifikation6300[[#This Row],[Ejendomsnr]],\"Vælg\")","v":"Vælg"},{"$f":"IF(ISNUMBER(Identifikation6300[[#This Row],[Ejendomsnr]]),Identifikation6300[[#This Row],[Ejendomsnr]],\"Vælg\")","v":"Vælg"}]
[null,null,null,null,null,null,null,null,null,null,null,null,null,null,null,{"$f":"IF(ISNUMBER(Identifikation6300[[#This Row],[Ejendomsnr]]),Identifikation6300[[#This Row],[Ejendomsnr]],\"Vælg\")","v":"Vælg"},{"$f":"IF(ISNUMBER(Identifikation6300[[#This Row],[Ejendomsnr]]),Identifikation6300[[#This Row],[Ejendomsnr]],\"Vælg\")","v":"Vælg"}]
[null,null,null,null,null,null,null,null,null,null,null,null,null,null,null,{"$f":"IF(ISNUMBER(Identifikation6300[[#This Row],[Ejendomsnr]]),Identifikation6300[[#This Row],[Ejendomsnr]],\"Vælg\")","v":"Vælg"},{"$f":"IF(ISNUMBER(Identifikation6300[[#This Row],[Ejendomsnr]]),Identifikation6300[[#This Row],[Ejendomsnr]],\"Vælg\")","v":"Vælg"}]
[null,null,null,null,null,null,null,null,null,null,null,null,null,null,null,{"$f":"IF(ISNUMBER(Identifikation6300[[#This Row],[Ejendomsnr]]),Identifikation6300[[#This Row],[Ejendomsnr]],\"Vælg\")","v":"Vælg"},{"$f":"IF(ISNUMBER(Identifikation6300[[#This Row],[Ejendomsnr]]),Identifikation6300[[#This Row],[Ejendomsnr]],\"Vælg\")","v":"Vælg"}]
[null,null,null,null,null,null,null,null,null,null,null,null,null,null,null,{"$f":"IF(ISNUMBER(Identifikation6300[[#This Row],[Ejendomsnr]]),Identifikation6300[[#This Row],[Ejendomsnr]],\"Vælg\")","v":"Vælg"},{"$f":"IF(ISNUMBER(Identifikation6300[[#This Row],[Ejendomsnr]]),Identifikation6300[[#This Row],[Ejendomsnr]],\"Vælg\")","v":"Vælg"}]
[null,null,null,null,null,null,null,null,null,null,null,null,null,null,null,{"$f":"IF(ISNUMBER(Identifikation6300[[#This Row],[Ejendomsnr]]),Identifikation6300[[#This Row],[Ejendomsnr]],\"Vælg\")","v":"Vælg"},{"$f":"IF(ISNUMBER(Identifikation6300[[#This Row],[Ejendomsnr]]),Identifikation6300[[#This Row],[Ejendomsnr]],\"Vælg\")","v":"Vælg"}]
[null,null,null,null,null,null,null,null,null,null,null,null,null,null,null,{"$f":"IF(ISNUMBER(Identifikation6300[[#This Row],[Ejendomsnr]]),Identifikation6300[[#This Row],[Ejendomsnr]],\"Vælg\")","v":"Vælg"},{"$f":"IF(ISNUMBER(Identifikation6300[[#This Row],[Ejendomsnr]]),Identifikation6300[[#This Row],[Ejendomsnr]],\"Vælg\")","v":"Vælg"}]
[null,null,null,null,null,null,null,null,null,null,null,null,null,null,null,{"$f":"IF(ISNUMBER(Identifikation6300[[#This Row],[Ejendomsnr]]),Identifikation6300[[#This Row],[Ejendomsnr]],\"Vælg\")","v":"Vælg"},{"$f":"IF(ISNUMBER(Identifikation6300[[#This Row],[Ejendomsnr]]),Identifikation6300[[#This Row],[Ejendomsnr]],\"Vælg\")","v":"Vælg"}]
[null,null,null,null,null,null,null,null,null,null,null,null,null,null,null,{"$f":"IF(ISNUMBER(Identifikation6300[[#This Row],[Ejendomsnr]]),Identifikation6300[[#This Row],[Ejendomsnr]],\"Vælg\")","v":"Vælg"},{"$f":"IF(ISNUMBER(Identifikation6300[[#This Row],[Ejendomsnr]]),Identifikation6300[[#This Row],[Ejendomsnr]],\"Vælg\")","v":"Vælg"}]
[null,null,null,null,null,null,null,null,null,null,null,null,null,null,null,{"$f":"IF(ISNUMBER(Identifikation6300[[#This Row],[Ejendomsnr]]),Identifikation6300[[#This Row],[Ejendomsnr]],\"Vælg\")","v":"Vælg"},{"$f":"IF(ISNUMBER(Identifikation6300[[#This Row],[Ejendomsnr]]),Identifikation6300[[#This Row],[Ejendomsnr]],\"Vælg\")","v":"Vælg"}]
[null,null,null,null,null,null,null,null,null,null,null,null,null,null,null,{"$f":"IF(ISNUMBER(Identifikation6300[[#This Row],[Ejendomsnr]]),Identifikation6300[[#This Row],[Ejendomsnr]],\"Vælg\")","v":"Vælg"},{"$f":"IF(ISNUMBER(Identifikation6300[[#This Row],[Ejendomsnr]]),Identifikation6300[[#This Row],[Ejendomsnr]],\"Vælg\")","v":"Vælg"}]
[null,null,null,null,null,null,null,null,null,null,null,null,null,null,null,{"$f":"IF(ISNUMBER(Identifikation6300[[#This Row],[Ejendomsnr]]),Identifikation6300[[#This Row],[Ejendomsnr]],\"Vælg\")","v":"Vælg"},{"$f":"IF(ISNUMBER(Identifikation6300[[#This Row],[Ejendomsnr]]),Identifikation6300[[#This Row],[Ejendomsnr]],\"Vælg\")","v":"Vælg"}]
[null,null,null,null,null,null,null,null,null,null,null,null,null,null,null,{"$f":"IF(ISNUMBER(Identifikation6300[[#This Row],[Ejendomsnr]]),Identifikation6300[[#This Row],[Ejendomsnr]],\"Vælg\")","v":"Vælg"},{"$f":"IF(ISNUMBER(Identifikation6300[[#This Row],[Ejendomsnr]]),Identifikation6300[[#This Row],[Ejendomsnr]],\"Vælg\")","v":"Vælg"}]
[null,null,null,null,null,null,null,null,null,null,null,null,null,null,null,{"$f":"IF(ISNUMBER(Identifikation6300[[#This Row],[Ejendomsnr]]),Identifikation6300[[#This Row],[Ejendomsnr]],\"Vælg\")","v":"Vælg"},{"$f":"IF(ISNUMBER(Identifikation6300[[#This Row],[Ejendomsnr]]),Identifikation6300[[#This Row],[Ejendomsnr]],\"Vælg\")","v":"Vælg"}]
[null,null,null,null,null,null,null,null,null,null,null,null,null,null,null,{"$f":"IF(ISNUMBER(Identifikation6300[[#This Row],[Ejendomsnr]]),Identifikation6300[[#This Row],[Ejendomsnr]],\"Vælg\")","v":"Vælg"},{"$f":"IF(ISNUMBER(Identifikation6300[[#This Row],[Ejendomsnr]]),Identifikation6300[[#This Row],[Ejendomsnr]],\"Vælg\")","v":"Vælg"}]
[null,null,null,null,null,null,null,null,null,null,null,null,null,null,null,{"$f":"IF(ISNUMBER(Identifikation6300[[#This Row],[Ejendomsnr]]),Identifikation6300[[#This Row],[Ejendomsnr]],\"Vælg\")","v":"Vælg"},{"$f":"IF(ISNUMBER(Identifikation6300[[#This Row],[Ejendomsnr]]),Identifikation6300[[#This Row],[Ejendomsnr]],\"Vælg\")","v":"Vælg"}]
[null,null,null,null,null,null,null,null,null,null,null,null,null,null,null,{"$f":"IF(ISNUMBER(Identifikation6300[[#This Row],[Ejendomsnr]]),Identifikation6300[[#This Row],[Ejendomsnr]],\"Vælg\")","v":"Vælg"},{"$f":"IF(ISNUMBER(Identifikation6300[[#This Row],[Ejendomsnr]]),Identifikation6300[[#This Row],[Ejendomsnr]],\"Vælg\")","v":"Vælg"}]
[null,null,null,null,null,null,null,null,null,null,null,null,null,null,null,{"$f":"IF(ISNUMBER(Identifikation6300[[#This Row],[Ejendomsnr]]),Identifikation6300[[#This Row],[Ejendomsnr]],\"Vælg\")","v":"Vælg"},{"$f":"IF(ISNUMBER(Identifikation6300[[#This Row],[Ejendomsnr]]),Identifikation6300[[#This Row],[Ejendomsnr]],\"Vælg\")","v":"Vælg"}]
[null,null,null,null,null,null,null,null,null,null,null,null,null,null,null,{"$f":"IF(ISNUMBER(Identifikation6300[[#This Row],[Ejendomsnr]]),Identifikation6300[[#This Row],[Ejendomsnr]],\"Vælg\")","v":"Vælg"},{"$f":"IF(ISNUMBER(Identifikation6300[[#This Row],[Ejendomsnr]]),Identifikation6300[[#This Row],[Ejendomsnr]],\"Vælg\")","v":"Vælg"}]
[null,null,null,null,null,null,null,null,null,null,null,null,null,null,null,{"$f":"IF(ISNUMBER(Identifikation6300[[#This Row],[Ejendomsnr]]),Identifikation6300[[#This Row],[Ejendomsnr]],\"Vælg\")","v":"Vælg"},{"$f":"IF(ISNUMBER(Identifikation6300[[#This Row],[Ejendomsnr]]),Identifikation6300[[#This Row],[Ejendomsnr]],\"Vælg\")","v":"Vælg"}]
[null,null,null,null,null,null,null,null,null,null,null,null,null,null,null,{"$f":"IF(ISNUMBER(Identifikation6300[[#This Row],[Ejendomsnr]]),Identifikation6300[[#This Row],[Ejendomsnr]],\"Vælg\")","v":"Vælg"},{"$f":"IF(ISNUMBER(Identifikation6300[[#This Row],[Ejendomsnr]]),Identifikation6300[[#This Row],[Ejendomsnr]],\"Vælg\")","v":"Vælg"}]
[null,null,null,null,null,null,null,null,null,null,null,null,null,null,null,{"$f":"IF(ISNUMBER(Identifikation6300[[#This Row],[Ejendomsnr]]),Identifikation6300[[#This Row],[Ejendomsnr]],\"Vælg\")","v":"Vælg"},{"$f":"IF(ISNUMBER(Identifikation6300[[#This Row],[Ejendomsnr]]),Identifikation6300[[#This Row],[Ejendomsnr]],\"Vælg\")","v":"Vælg"}]
[null,null,null,null,null,null,null,null,null,null,null,null,null,null,null,{"$f":"IF(ISNUMBER(Identifikation6300[[#This Row],[Ejendomsnr]]),Identifikation6300[[#This Row],[Ejendomsnr]],\"Vælg\")","v":"Vælg"},{"$f":"IF(ISNUMBER(Identifikation6300[[#This Row],[Ejendomsnr]]),Identifikation6300[[#This Row],[Ejendomsnr]],\"Vælg\")","v":"Vælg"}]
[null,null,null,null,null,null,null,null,null,null,null,null,null,null,null,{"$f":"IF(ISNUMBER(Identifikation6300[[#This Row],[Ejendomsnr]]),Identifikation6300[[#This Row],[Ejendomsnr]],\"Vælg\")","v":"Vælg"},{"$f":"IF(ISNUMBER(Identifikation6300[[#This Row],[Ejendomsnr]]),Identifikation6300[[#This Row],[Ejendomsnr]],\"Vælg\")","v":"Vælg"}]
[null,null,null,null,null,null,null,null,null,null,null,null,null,null,null,{"$f":"IF(ISNUMBER(Identifikation6300[[#This Row],[Ejendomsnr]]),Identifikation6300[[#This Row],[Ejendomsnr]],\"Vælg\")","v":"Vælg"},{"$f":"IF(ISNUMBER(Identifikation6300[[#This Row],[Ejendomsnr]]),Identifikation6300[[#This Row],[Ejendomsnr]],\"Vælg\")","v":"Vælg"}]
[null,null,null,null,null,null,null,null,null,null,null,null,null,null,null,{"$f":"IF(ISNUMBER(Identifikation6300[[#This Row],[Ejendomsnr]]),Identifikation6300[[#This Row],[Ejendomsnr]],\"Vælg\")","v":"Vælg"},{"$f":"IF(ISNUMBER(Identifikation6300[[#This Row],[Ejendomsnr]]),Identifikation6300[[#This Row],[Ejendomsnr]],\"Vælg\")","v":"Vælg"}]
[null,null,null,null,null,null,null,null,null,null,null,null,null,null,null,{"$f":"IF(ISNUMBER(Identifikation6300[[#This Row],[Ejendomsnr]]),Identifikation6300[[#This Row],[Ejendomsnr]],\"Vælg\")","v":"Vælg"},{"$f":"IF(ISNUMBER(Identifikation6300[[#This Row],[Ejendomsnr]]),Identifikation6300[[#This Row],[Ejendomsnr]],\"Vælg\")","v":"Vælg"}]
[null,null,null,null,null,null,null,null,null,null,null,null,null,null,null,{"$f":"IF(ISNUMBER(Identifikation6300[[#This Row],[Ejendomsnr]]),Identifikation6300[[#This Row],[Ejendomsnr]],\"Vælg\")","v":"Vælg"},{"$f":"IF(ISNUMBER(Identifikation6300[[#This Row],[Ejendomsnr]]),Identifikation6300[[#This Row],[Ejendomsnr]],\"Vælg\")","v":"Vælg"}]
[null,null,null,null,null,null,null,null,null,null,null,null,null,null,null,{"$f":"IF(ISNUMBER(Identifikation6300[[#This Row],[Ejendomsnr]]),Identifikation6300[[#This Row],[Ejendomsnr]],\"Vælg\")","v":"Vælg"},{"$f":"IF(ISNUMBER(Identifikation6300[[#This Row],[Ejendomsnr]]),Identifikation6300[[#This Row],[Ejendomsnr]],\"Vælg\")","v":"Vælg"}]
[null,null,null,null,null,null,null,null,null,null,null,null,null,null,null,{"$f":"IF(ISNUMBER(Identifikation6300[[#This Row],[Ejendomsnr]]),Identifikation6300[[#This Row],[Ejendomsnr]],\"Vælg\")","v":"Vælg"},{"$f":"IF(ISNUMBER(Identifikation6300[[#This Row],[Ejendomsnr]]),Identifikation6300[[#This Row],[Ejendomsnr]],\"Vælg\")","v":"Vælg"}]
[null,null,null,null,null,null,null,null,null,null,null,null,null,null,null,{"$f":"IF(ISNUMBER(Identifikation6300[[#This Row],[Ejendomsnr]]),Identifikation6300[[#This Row],[Ejendomsnr]],\"Vælg\")","v":"Vælg"},{"$f":"IF(ISNUMBER(Identifikation6300[[#This Row],[Ejendomsnr]]),Identifikation6300[[#This Row],[Ejendomsnr]],\"Vælg\")","v":"Vælg"}]
[null,null,null,null,null,null,null,null,null,null,null,null,null,null,null,{"$f":"IF(ISNUMBER(Identifikation6300[[#This Row],[Ejendomsnr]]),Identifikation6300[[#This Row],[Ejendomsnr]],\"Vælg\")","v":"Vælg"},{"$f":"IF(ISNUMBER(Identifikation6300[[#This Row],[Ejendomsnr]]),Identifikation6300[[#This Row],[Ejendomsnr]],\"Vælg\")","v":"Vælg"}]
[null,null,null,null,null,null,null,null,null,null,null,null,null,null,null,{"$f":"IF(ISNUMBER(Identifikation6300[[#This Row],[Ejendomsnr]]),Identifikation6300[[#This Row],[Ejendomsnr]],\"Vælg\")","v":"Vælg"},{"$f":"IF(ISNUMBER(Identifikation6300[[#This Row],[Ejendomsnr]]),Identifikation6300[[#This Row],[Ejendomsnr]],\"Vælg\")","v":"Vælg"}]
[null,null,null,null,null,null,null,null,null,null,null,null,null,null,null,{"$f":"IF(ISNUMBER(Identifikation6300[[#This Row],[Ejendomsnr]]),Identifikation6300[[#This Row],[Ejendomsnr]],\"Vælg\")","v":"Vælg"},{"$f":"IF(ISNUMBER(Identifikation6300[[#This Row],[Ejendomsnr]]),Identifikation6300[[#This Row],[Ejendomsnr]],\"Vælg\")","v":"Vælg"}]
[null,null,null,null,null,null,null,null,null,null,null,null,null,null,null,{"$f":"IF(ISNUMBER(Identifikation6300[[#This Row],[Ejendomsnr]]),Identifikation6300[[#This Row],[Ejendomsnr]],\"Vælg\")","v":"Vælg"},{"$f":"IF(ISNUMBER(Identifikation6300[[#This Row],[Ejendomsnr]]),Identifikation6300[[#This Row],[Ejendomsnr]],\"Vælg\")","v":"Vælg"}]
[null,null,null,null,null,null,null,null,null,null,null,null,null,null,null,{"$f":"IF(ISNUMBER(Identifikation6300[[#This Row],[Ejendomsnr]]),Identifikation6300[[#This Row],[Ejendomsnr]],\"Vælg\")","v":"Vælg"},{"$f":"IF(ISNUMBER(Identifikation6300[[#This Row],[Ejendomsnr]]),Identifikation6300[[#This Row],[Ejendomsnr]],\"Vælg\")","v":"Vælg"}]
[null,null,null,null,null,null,null,null,null,null,null,null,null,null,null,{"$f":"IF(ISNUMBER(Identifikation6300[[#This Row],[Ejendomsnr]]),Identifikation6300[[#This Row],[Ejendomsnr]],\"Vælg\")","v":"Vælg"},{"$f":"IF(ISNUMBER(Identifikation6300[[#This Row],[Ejendomsnr]]),Identifikation6300[[#This Row],[Ejendomsnr]],\"Vælg\")","v":"Vælg"}]
[null,null,null,null,null,null,null,null,null,null,null,null,null,null,null,{"$f":"IF(ISNUMBER(Identifikation6300[[#This Row],[Ejendomsnr]]),Identifikation6300[[#This Row],[Ejendomsnr]],\"Vælg\")","v":"Vælg"},{"$f":"IF(ISNUMBER(Identifikation6300[[#This Row],[Ejendomsnr]]),Identifikation6300[[#This Row],[Ejendomsnr]],\"Vælg\")","v":"Vælg"}]
[null,null,null,null,null,null,null,null,null,null,null,null,null,null,null,{"$f":"IF(ISNUMBER(Identifikation6300[[#This Row],[Ejendomsnr]]),Identifikation6300[[#This Row],[Ejendomsnr]],\"Vælg\")","v":"Vælg"},{"$f":"IF(ISNUMBER(Identifikation6300[[#This Row],[Ejendomsnr]]),Identifikation6300[[#This Row],[Ejendomsnr]],\"Vælg\")","v":"Vælg"}]
[null,null,null,null,null,null,null,null,null,null,null,null,null,null,null,{"$f":"IF(ISNUMBER(Identifikation6300[[#This Row],[Ejendomsnr]]),Identifikation6300[[#This Row],[Ejendomsnr]],\"Vælg\")","v":"Vælg"},{"$f":"IF(ISNUMBER(Identifikation6300[[#This Row],[Ejendomsnr]]),Identifikation6300[[#This Row],[Ejendomsnr]],\"Vælg\")","v":"Vælg"}]
[null,null,null,null,null,null,null,null,null,null,null,null,null,null,null,{"$f":"IF(ISNUMBER(Identifikation6300[[#This Row],[Ejendomsnr]]),Identifikation6300[[#This Row],[Ejendomsnr]],\"Vælg\")","v":"Vælg"},{"$f":"IF(ISNUMBER(Identifikation6300[[#This Row],[Ejendomsnr]]),Identifikation6300[[#This Row],[Ejendomsnr]],\"Vælg\")","v":"Vælg"}]
[null,null,null,null,null,null,null,null,null,null,null,null,null,null,null,{"$f":"IF(ISNUMBER(Identifikation6300[[#This Row],[Ejendomsnr]]),Identifikation6300[[#This Row],[Ejendomsnr]],\"Vælg\")","v":"Vælg"},{"$f":"IF(ISNUMBER(Identifikation6300[[#This Row],[Ejendomsnr]]),Identifikation6300[[#This Row],[Ejendomsnr]],\"Vælg\")","v":"Vælg"}]
[null,null,null,null,null,null,null,null,null,null,null,null,null,null,null,{"$f":"IF(ISNUMBER(Identifikation6300[[#This Row],[Ejendomsnr]]),Identifikation6300[[#This Row],[Ejendomsnr]],\"Vælg\")","v":"Vælg"},{"$f":"IF(ISNUMBER(Identifikation6300[[#This Row],[Ejendomsnr]]),Identifikation6300[[#This Row],[Ejendomsnr]],\"Vælg\")","v":"Vælg"}]
[null,null,null,null,null,null,null,null,null,null,null,null,null,null,null,{"$f":"IF(ISNUMBER(Identifikation6300[[#This Row],[Ejendomsnr]]),Identifikation6300[[#This Row],[Ejendomsnr]],\"Vælg\")","v":"Vælg"},{"$f":"IF(ISNUMBER(Identifikation6300[[#This Row],[Ejendomsnr]]),Identifikation6300[[#This Row],[Ejendomsnr]],\"Vælg\")","v":"Vælg"}]
[null,null,null,null,null,null,null,null,null,null,null,null,null,null,null,{"$f":"IF(ISNUMBER(Identifikation6300[[#This Row],[Ejendomsnr]]),Identifikation6300[[#This Row],[Ejendomsnr]],\"Vælg\")","v":"Vælg"},{"$f":"IF(ISNUMBER(Identifikation6300[[#This Row],[Ejendomsnr]]),Identifikation6300[[#This Row],[Ejendomsnr]],\"Vælg\")","v":"Vælg"}]
[null,null,null,null,null,null,null,null,null,null,null,null,null,null,null,{"$f":"IF(ISNUMBER(Identifikation6300[[#This Row],[Ejendomsnr]]),Identifikation6300[[#This Row],[Ejendomsnr]],\"Vælg\")","v":"Vælg"},{"$f":"IF(ISNUMBER(Identifikation6300[[#This Row],[Ejendomsnr]]),Identifikation6300[[#This Row],[Ejendomsnr]],\"Vælg\")","v":"Vælg"}]
[null,null,null,null,null,null,null,null,null,null,null,null,null,null,null,{"$f":"IF(ISNUMBER(Identifikation6300[[#This Row],[Ejendomsnr]]),Identifikation6300[[#This Row],[Ejendomsnr]],\"Vælg\")","v":"Vælg"},{"$f":"IF(ISNUMBER(Identifikation6300[[#This Row],[Ejendomsnr]]),Identifikation6300[[#This Row],[Ejendomsnr]],\"Vælg\")","v":"Vælg"}]
[null,null,null,null,null,null,null,null,null,null,null,null,null,null,null,{"$f":"IF(ISNUMBER(Identifikation6300[[#This Row],[Ejendomsnr]]),Identifikation6300[[#This Row],[Ejendomsnr]],\"Vælg\")","v":"Vælg"},{"$f":"IF(ISNUMBER(Identifikation6300[[#This Row],[Ejendomsnr]]),Identifikation6300[[#This Row],[Ejendomsnr]],\"Vælg\")","v":"Vælg"}]
[null,null,null,null,null,null,null,null,null,null,null,null,null,null,null,{"$f":"IF(ISNUMBER(Identifikation6300[[#This Row],[Ejendomsnr]]),Identifikation6300[[#This Row],[Ejendomsnr]],\"Vælg\")","v":"Vælg"},{"$f":"IF(ISNUMBER(Identifikation6300[[#This Row],[Ejendomsnr]]),Identifikation6300[[#This Row],[Ejendomsnr]],\"Vælg\")","v":"Vælg"}]
[null,null,null,null,null,null,null,null,null,null,null,null,null,null,null,{"$f":"IF(ISNUMBER(Identifikation6300[[#This Row],[Ejendomsnr]]),Identifikation6300[[#This Row],[Ejendomsnr]],\"Vælg\")","v":"Vælg"},{"$f":"IF(ISNUMBER(Identifikation6300[[#This Row],[Ejendomsnr]]),Identifikation6300[[#This Row],[Ejendomsnr]],\"Vælg\")","v":"Vælg"}]
[null,null,null,null,null,null,null,null,null,null,null,null,null,null,null,{"$f":"IF(ISNUMBER(Identifikation6300[[#This Row],[Ejendomsnr]]),Identifikation6300[[#This Row],[Ejendomsnr]],\"Vælg\")","v":"Vælg"},{"$f":"IF(ISNUMBER(Identifikation6300[[#This Row],[Ejendomsnr]]),Identifikation6300[[#This Row],[Ejendomsnr]],\"Vælg\")","v":"Vælg"}]
[null,null,null,null,null,null,null,null,null,null,null,null,null,null,null,{"$f":"IF(ISNUMBER(Identifikation6300[[#This Row],[Ejendomsnr]]),Identifikation6300[[#This Row],[Ejendomsnr]],\"Vælg\")","v":"Vælg"},{"$f":"IF(ISNUMBER(Identifikation6300[[#This Row],[Ejendomsnr]]),Identifikation6300[[#This Row],[Ejendomsnr]],\"Vælg\")","v":"Vælg"}]
[null,null,null,null,null,null,null,null,null,null,null,null,null,null,null,{"$f":"IF(ISNUMBER(Identifikation6300[[#This Row],[Ejendomsnr]]),Identifikation6300[[#This Row],[Ejendomsnr]],\"Vælg\")","v":"Vælg"},{"$f":"IF(ISNUMBER(Identifikation6300[[#This Row],[Ejendomsnr]]),Identifikation6300[[#This Row],[Ejendomsnr]],\"Vælg\")","v":"Vælg"}]
[null,null,null,null,null,null,null,null,null,null,null,null,null,null,null,{"$f":"IF(ISNUMBER(Identifikation6300[[#This Row],[Ejendomsnr]]),Identifikation6300[[#This Row],[Ejendomsnr]],\"Vælg\")","v":"Vælg"},{"$f":"IF(ISNUMBER(Identifikation6300[[#This Row],[Ejendomsnr]]),Identifikation6300[[#This Row],[Ejendomsnr]],\"Vælg\")","v":"Vælg"}]
[null,null,null,null,null,null,null,null,null,null,null,null,null,null,null,{"$f":"IF(ISNUMBER(Identifikation6300[[#This Row],[Ejendomsnr]]),Identifikation6300[[#This Row],[Ejendomsnr]],\"Vælg\")","v":"Vælg"},{"$f":"IF(ISNUMBER(Identifikation6300[[#This Row],[Ejendomsnr]]),Identifikation6300[[#This Row],[Ejendomsnr]],\"Vælg\")","v":"Vælg"}]
[null,null,null,null,null,null,null,null,null,null,null,null,null,null,null,{"$f":"IF(ISNUMBER(Identifikation6300[[#This Row],[Ejendomsnr]]),Identifikation6300[[#This Row],[Ejendomsnr]],\"Vælg\")","v":"Vælg"},{"$f":"IF(ISNUMBER(Identifikation6300[[#This Row],[Ejendomsnr]]),Identifikation6300[[#This Row],[Ejendomsnr]],\"Vælg\")","v":"Vælg"}]
[null,null,null,null,null,null,null,null,null,null,null,null,null,null,null,{"$f":"IF(ISNUMBER(Identifikation6300[[#This Row],[Ejendomsnr]]),Identifikation6300[[#This Row],[Ejendomsnr]],\"Vælg\")","v":"Vælg"},{"$f":"IF(ISNUMBER(Identifikation6300[[#This Row],[Ejendomsnr]]),Identifikation6300[[#This Row],[Ejendomsnr]],\"Vælg\")","v":"Vælg"}]
[null,null,null,null,null,null,null,null,null,null,null,null,null,null,null,{"$f":"IF(ISNUMBER(Identifikation6300[[#This Row],[Ejendomsnr]]),Identifikation6300[[#This Row],[Ejendomsnr]],\"Vælg\")","v":"Vælg"},{"$f":"IF(ISNUMBER(Identifikation6300[[#This Row],[Ejendomsnr]]),Identifikation6300[[#This Row],[Ejendomsnr]],\"Vælg\")","v":"Vælg"}]
[null,null,null,null,null,null,null,null,null,null,null,null,null,null,null,{"$f":"IF(ISNUMBER(Identifikation6300[[#This Row],[Ejendomsnr]]),Identifikation6300[[#This Row],[Ejendomsnr]],\"Vælg\")","v":"Vælg"},{"$f":"IF(ISNUMBER(Identifikation6300[[#This Row],[Ejendomsnr]]),Identifikation6300[[#This Row],[Ejendomsnr]],\"Vælg\")","v":"Vælg"}]
[null,null,null,null,null,null,null,null,null,null,null,null,null,null,null,{"$f":"IF(ISNUMBER(Identifikation6300[[#This Row],[Ejendomsnr]]),Identifikation6300[[#This Row],[Ejendomsnr]],\"Vælg\")","v":"Vælg"},{"$f":"IF(ISNUMBER(Identifikation6300[[#This Row],[Ejendomsnr]]),Identifikation6300[[#This Row],[Ejendomsnr]],\"Vælg\")","v":"Vælg"}]
[null,null,null,null,null,null,null,null,null,null,null,null,null,null,null,{"$f":"IF(ISNUMBER(Identifikation6300[[#This Row],[Ejendomsnr]]),Identifikation6300[[#This Row],[Ejendomsnr]],\"Vælg\")","v":"Vælg"},{"$f":"IF(ISNUMBER(Identifikation6300[[#This Row],[Ejendomsnr]]),Identifikation6300[[#This Row],[Ejendomsnr]],\"Vælg\")","v":"Vælg"}]
[null,null,null,null,null,null,null,null,null,null,null,null,null,null,null,{"$f":"IF(ISNUMBER(Identifikation6300[[#This Row],[Ejendomsnr]]),Identifikation6300[[#This Row],[Ejendomsnr]],\"Vælg\")","v":"Vælg"},{"$f":"IF(ISNUMBER(Identifikation6300[[#This Row],[Ejendomsnr]]),Identifikation6300[[#This Row],[Ejendomsnr]],\"Vælg\")","v":"Vælg"}]
[null,null,null,null,null,null,null,null,null,null,null,null,null,null,null,{"$f":"IF(ISNUMBER(Identifikation6300[[#This Row],[Ejendomsnr]]),Identifikation6300[[#This Row],[Ejendomsnr]],\"Vælg\")","v":"Vælg"},{"$f":"IF(ISNUMBER(Identifikation6300[[#This Row],[Ejendomsnr]]),Identifikation6300[[#This Row],[Ejendomsnr]],\"Vælg\")","v":"Vælg"}]
[null,null,null,null,null,null,null,null,null,null,null,null,null,null,null,{"$f":"IF(ISNUMBER(Identifikation6300[[#This Row],[Ejendomsnr]]),Identifikation6300[[#This Row],[Ejendomsnr]],\"Vælg\")","v":"Vælg"},{"$f":"IF(ISNUMBER(Identifikation6300[[#This Row],[Ejendomsnr]]),Identifikation6300[[#This Row],[Ejendomsnr]],\"Vælg\")","v":"Vælg"}]
[null,null,null,null,null,null,null,null,null,null,null,null,null,null,null,{"$f":"IF(ISNUMBER(Identifikation6300[[#This Row],[Ejendomsnr]]),Identifikation6300[[#This Row],[Ejendomsnr]],\"Vælg\")","v":"Vælg"},{"$f":"IF(ISNUMBER(Identifikation6300[[#This Row],[Ejendomsnr]]),Identifikation6300[[#This Row],[Ejendomsnr]],\"Vælg\")","v":"Vælg"}]
[null,null,null,null,null,null,null,null,null,null,null,null,null,null,null,{"$f":"IF(ISNUMBER(Identifikation6300[[#This Row],[Ejendomsnr]]),Identifikation6300[[#This Row],[Ejendomsnr]],\"Vælg\")","v":"Vælg"},{"$f":"IF(ISNUMBER(Identifikation6300[[#This Row],[Ejendomsnr]]),Identifikation6300[[#This Row],[Ejendomsnr]],\"Vælg\")","v":"Vælg"}]
[null,null,null,null,null,null,null,null,null,null,null,null,null,null,null,{"$f":"IF(ISNUMBER(Identifikation6300[[#This Row],[Ejendomsnr]]),Identifikation6300[[#This Row],[Ejendomsnr]],\"Vælg\")","v":"Vælg"},{"$f":"IF(ISNUMBER(Identifikation6300[[#This Row],[Ejendomsnr]]),Identifikation6300[[#This Row],[Ejendomsnr]],\"Vælg\")","v":"Vælg"}]
[null,null,null,null,null,null,null,null,null,null,null,null,null,null,null,{"$f":"IF(ISNUMBER(Identifikation6300[[#This Row],[Ejendomsnr]]),Identifikation6300[[#This Row],[Ejendomsnr]],\"Vælg\")","v":"Vælg"},{"$f":"IF(ISNUMBER(Identifikation6300[[#This Row],[Ejendomsnr]]),Identifikation6300[[#This Row],[Ejendomsnr]],\"Vælg\")","v":"Vælg"}]
[null,null,null,null,null,null,null,null,null,null,null,null,null,null,null,{"$f":"IF(ISNUMBER(Identifikation6300[[#This Row],[Ejendomsnr]]),Identifikation6300[[#This Row],[Ejendomsnr]],\"Vælg\")","v":"Vælg"},{"$f":"IF(ISNUMBER(Identifikation6300[[#This Row],[Ejendomsnr]]),Identifikation6300[[#This Row],[Ejendomsnr]],\"Vælg\")","v":"Vælg"}]
[null,null,null,null,null,null,null,null,null,null,null,null,null,null,null,{"$f":"IF(ISNUMBER(Identifikation6300[[#This Row],[Ejendomsnr]]),Identifikation6300[[#This Row],[Ejendomsnr]],\"Vælg\")","v":"Vælg"},{"$f":"IF(ISNUMBER(Identifikation6300[[#This Row],[Ejendomsnr]]),Identifikation6300[[#This Row],[Ejendomsnr]],\"Vælg\")","v":"Vælg"}]
[null,null,null,null,null,null,null,null,null,null,null,null,null,null,null,{"$f":"IF(ISNUMBER(Identifikation6300[[#This Row],[Ejendomsnr]]),Identifikation6300[[#This Row],[Ejendomsnr]],\"Vælg\")","v":"Vælg"},{"$f":"IF(ISNUMBER(Identifikation6300[[#This Row],[Ejendomsnr]]),Identifikation6300[[#This Row],[Ejendomsnr]],\"Vælg\")","v":"Vælg"}]
[null,null,null,null,null,null,null,null,null,null,null,null,null,null,null,{"$f":"IF(ISNUMBER(Identifikation6300[[#This Row],[Ejendomsnr]]),Identifikation6300[[#This Row],[Ejendomsnr]],\"Vælg\")","v":"Vælg"},{"$f":"IF(ISNUMBER(Identifikation6300[[#This Row],[Ejendomsnr]]),Identifikation6300[[#This Row],[Ejendomsnr]],\"Vælg\")","v":"Vælg"}]
[null,null,null,null,null,null,null,null,null,null,null,null,null,null,null,{"$f":"IF(ISNUMBER(Identifikation6300[[#This Row],[Ejendomsnr]]),Identifikation6300[[#This Row],[Ejendomsnr]],\"Vælg\")","v":"Vælg"},{"$f":"IF(ISNUMBER(Identifikation6300[[#This Row],[Ejendomsnr]]),Identifikation6300[[#This Row],[Ejendomsnr]],\"Vælg\")","v":"Vælg"}]
[null,null,null,null,null,null,null,null,null,null,null,null,null,null,null,{"$f":"IF(ISNUMBER(Identifikation6300[[#This Row],[Ejendomsnr]]),Identifikation6300[[#This Row],[Ejendomsnr]],\"Vælg\")","v":"Vælg"},{"$f":"IF(ISNUMBER(Identifikation6300[[#This Row],[Ejendomsnr]]),Identifikation6300[[#This Row],[Ejendomsnr]],\"Vælg\")","v":"Vælg"}]
[null,null,null,null,null,null,null,null,null,null,null,null,null,null,null,{"$f":"IF(ISNUMBER(Identifikation6300[[#This Row],[Ejendomsnr]]),Identifikation6300[[#This Row],[Ejendomsnr]],\"Vælg\")","v":"Vælg"},{"$f":"IF(ISNUMBER(Identifikation6300[[#This Row],[Ejendomsnr]]),Identifikation6300[[#This Row],[Ejendomsnr]],\"Vælg\")","v":"Vælg"}]
[null,null,null,null,null,null,null,null,null,null,null,null,null,null,null,{"$f":"IF(ISNUMBER(Identifikation6300[[#This Row],[Ejendomsnr]]),Identifikation6300[[#This Row],[Ejendomsnr]],\"Vælg\")","v":"Vælg"},{"$f":"IF(ISNUMBER(Identifikation6300[[#This Row],[Ejendomsnr]]),Identifikation6300[[#This Row],[Ejendomsnr]],\"Vælg\")","v":"Vælg"}]
[null,null,null,null,null,null,null,null,null,null,null,null,null,null,null,{"$f":"IF(ISNUMBER(Identifikation6300[[#This Row],[Ejendomsnr]]),Identifikation6300[[#This Row],[Ejendomsnr]],\"Vælg\")","v":"Vælg"},{"$f":"IF(ISNUMBER(Identifikation6300[[#This Row],[Ejendomsnr]]),Identifikation6300[[#This Row],[Ejendomsnr]],\"Vælg\")","v":"Vælg"}]
[null,null,null,null,null,null,null,null,null,null,null,null,null,null,null,{"$f":"IF(ISNUMBER(Identifikation6300[[#This Row],[Ejendomsnr]]),Identifikation6300[[#This Row],[Ejendomsnr]],\"Vælg\")","v":"Vælg"},{"$f":"IF(ISNUMBER(Identifikation6300[[#This Row],[Ejendomsnr]]),Identifikation6300[[#This Row],[Ejendomsnr]],\"Vælg\")","v":"Vælg"}]
[null,null,null,null,null,null,null,null,null,null,null,null,null,null,null,{"$f":"IF(ISNUMBER(Identifikation6300[[#This Row],[Ejendomsnr]]),Identifikation6300[[#This Row],[Ejendomsnr]],\"Vælg\")","v":"Vælg"},{"$f":"IF(ISNUMBER(Identifikation6300[[#This Row],[Ejendomsnr]]),Identifikation6300[[#This Row],[Ejendomsnr]],\"Vælg\")","v":"Vælg"}]
[null,null,null,null,null,null,null,null,null,null,null,null,null,null,null,{"$f":"IF(ISNUMBER(Identifikation6300[[#This Row],[Ejendomsnr]]),Identifikation6300[[#This Row],[Ejendomsnr]],\"Vælg\")","v":"Vælg"},{"$f":"IF(ISNUMBER(Identifikation6300[[#This Row],[Ejendomsnr]]),Identifikation6300[[#This Row],[Ejendomsnr]],\"Vælg\")","v":"Vælg"}]
[null,null,null,null,null,null,null,null,null,null,null,null,null,null,null,{"$f":"IF(ISNUMBER(Identifikation6300[[#This Row],[Ejendomsnr]]),Identifikation6300[[#This Row],[Ejendomsnr]],\"Vælg\")","v":"Vælg"},{"$f":"IF(ISNUMBER(Identifikation6300[[#This Row],[Ejendomsnr]]),Identifikation6300[[#This Row],[Ejendomsnr]],\"Vælg\")","v":"Vælg"}]
[null,null,null,null,null,null,null,null,null,null,null,null,null,null,null,{"$f":"IF(ISNUMBER(Identifikation6300[[#This Row],[Ejendomsnr]]),Identifikation6300[[#This Row],[Ejendomsnr]],\"Vælg\")","v":"Vælg"},{"$f":"IF(ISNUMBER(Identifikation6300[[#This Row],[Ejendomsnr]]),Identifikation6300[[#This Row],[Ejendomsnr]],\"Vælg\")","v":"Vælg"}]
[null,null,null,null,null,null,null,null,null,null,null,null,null,null,null,{"$f":"IF(ISNUMBER(Identifikation6300[[#This Row],[Ejendomsnr]]),Identifikation6300[[#This Row],[Ejendomsnr]],\"Vælg\")","v":"Vælg"},{"$f":"IF(ISNUMBER(Identifikation6300[[#This Row],[Ejendomsnr]]),Identifikation6300[[#This Row],[Ejendomsnr]],\"Vælg\")","v":"Vælg"}]
[null,null,null,null,null,null,null,null,null,null,null,null,null,null,null,{"$f":"IF(ISNUMBER(Identifikation6300[[#This Row],[Ejendomsnr]]),Identifikation6300[[#This Row],[Ejendomsnr]],\"Vælg\")","v":"Vælg"},{"$f":"IF(ISNUMBER(Identifikation6300[[#This Row],[Ejendomsnr]]),Identifikation6300[[#This Row],[Ejendomsnr]],\"Vælg\")","v":"Vælg"}]
[null,null,null,null,null,null,null,null,null,null,null,null,null,null,null,{"$f":"IF(ISNUMBER(Identifikation6300[[#This Row],[Ejendomsnr]]),Identifikation6300[[#This Row],[Ejendomsnr]],\"Vælg\")","v":"Vælg"},{"$f":"IF(ISNUMBER(Identifikation6300[[#This Row],[Ejendomsnr]]),Identifikation6300[[#This Row],[Ejendomsnr]],\"Vælg\")","v":"Vælg"}]
[null,null,null,null,null,null,null,null,null,null,null,null,null,null,null,{"$f":"IF(ISNUMBER(Identifikation6300[[#This Row],[Ejendomsnr]]),Identifikation6300[[#This Row],[Ejendomsnr]],\"Vælg\")","v":"Vælg"},{"$f":"IF(ISNUMBER(Identifikation6300[[#This Row],[Ejendomsnr]]),Identifikation6300[[#This Row],[Ejendomsnr]],\"Vælg\")","v":"Vælg"}]
[null,null,null,null,null,null,null,null,null,null,null,null,null,null,null,{"$f":"IF(ISNUMBER(Identifikation6300[[#This Row],[Ejendomsnr]]),Identifikation6300[[#This Row],[Ejendomsnr]],\"Vælg\")","v":"Vælg"},{"$f":"IF(ISNUMBER(Identifikation6300[[#This Row],[Ejendomsnr]]),Identifikation6300[[#This Row],[Ejendomsnr]],\"Vælg\")","v":"Vælg"}]
[null,null,null,null,null,null,null,null,null,null,null,null,null,null,null,{"$f":"IF(ISNUMBER(Identifikation6300[[#This Row],[Ejendomsnr]]),Identifikation6300[[#This Row],[Ejendomsnr]],\"Vælg\")","v":"Vælg"},{"$f":"IF(ISNUMBER(Identifikation6300[[#This Row],[Ejendomsnr]]),Identifikation6300[[#This Row],[Ejendomsnr]],\"Vælg\")","v":"Vælg"}]
[null,null,null,null,null,null,null,null,null,null,null,null,null,null,null,{"$f":"IF(ISNUMBER(Identifikation6300[[#This Row],[Ejendomsnr]]),Identifikation6300[[#This Row],[Ejendomsnr]],\"Vælg\")","v":"Vælg"},{"$f":"IF(ISNUMBER(Identifikation6300[[#This Row],[Ejendomsnr]]),Identifikation6300[[#This Row],[Ejendomsnr]],\"Vælg\")","v":"Vælg"}]
[null,null,null,null,null,null,null,null,null,null,null,null,null,null,null,{"$f":"IF(ISNUMBER(Identifikation6300[[#This Row],[Ejendomsnr]]),Identifikation6300[[#This Row],[Ejendomsnr]],\"Vælg\")","v":"Vælg"},{"$f":"IF(ISNUMBER(Identifikation6300[[#This Row],[Ejendomsnr]]),Identifikation6300[[#This Row],[Ejendomsnr]],\"Vælg\")","v":"Vælg"}]
[null,null,null,null,null,null,null,null,null,null,null,null,null,null,null,{"$f":"IF(ISNUMBER(Identifikation6300[[#This Row],[Ejendomsnr]]),Identifikation6300[[#This Row],[Ejendomsnr]],\"Vælg\")","v":"Vælg"},{"$f":"IF(ISNUMBER(Identifikation6300[[#This Row],[Ejendomsnr]]),Identifikation6300[[#This Row],[Ejendomsnr]],\"Vælg\")","v":"Vælg"}]
[null,null,null,null,null,null,null,null,null,null,null,null,null,null,null,{"$f":"IF(ISNUMBER(Identifikation6300[[#This Row],[Ejendomsnr]]),Identifikation6300[[#This Row],[Ejendomsnr]],\"Vælg\")","v":"Vælg"},{"$f":"IF(ISNUMBER(Identifikation6300[[#This Row],[Ejendomsnr]]),Identifikation6300[[#This Row],[Ejendomsnr]],\"Vælg\")","v":"Vælg"}]
[null,null,null,null,null,null,null,null,null,null,null,null,null,null,null,{"$f":"IF(ISNUMBER(Identifikation6300[[#This Row],[Ejendomsnr]]),Identifikation6300[[#This Row],[Ejendomsnr]],\"Vælg\")","v":"Vælg"},{"$f":"IF(ISNUMBER(Identifikation6300[[#This Row],[Ejendomsnr]]),Identifikation6300[[#This Row],[Ejendomsnr]],\"Vælg\")","v":"Vælg"}]
[null,null,null,null,null,null,null,null,null,null,null,null,null,null,null,{"$f":"IF(ISNUMBER(Identifikation6300[[#This Row],[Ejendomsnr]]),Identifikation6300[[#This Row],[Ejendomsnr]],\"Vælg\")","v":"Vælg"},{"$f":"IF(ISNUMBER(Identifikation6300[[#This Row],[Ejendomsnr]]),Identifikation6300[[#This Row],[Ejendomsnr]],\"Vælg\")","v":"Vælg"}]
[null,null,null,null,null,null,null,null,null,null,null,null,null,null,null,{"$f":"IF(ISNUMBER(Identifikation6300[[#This Row],[Ejendomsnr]]),Identifikation6300[[#This Row],[Ejendomsnr]],\"Vælg\")","v":"Vælg"},{"$f":"IF(ISNUMBER(Identifikation6300[[#This Row],[Ejendomsnr]]),Identifikation6300[[#This Row],[Ejendomsnr]],\"Vælg\")","v":"Vælg"}]
[null,null,null,null,null,null,null,null,null,null,null,null,null,null,null,{"$f":"IF(ISNUMBER(Identifikation6300[[#This Row],[Ejendomsnr]]),Identifikation6300[[#This Row],[Ejendomsnr]],\"Vælg\")","v":"Vælg"},{"$f":"IF(ISNUMBER(Identifikation6300[[#This Row],[Ejendomsnr]]),Identifikation6300[[#This Row],[Ejendomsnr]],\"Vælg\")","v":"Vælg"}]
[null,null,null,null,null,null,null,null,null,null,null,null,null,null,null,{"$f":"IF(ISNUMBER(Identifikation6300[[#This Row],[Ejendomsnr]]),Identifikation6300[[#This Row],[Ejendomsnr]],\"Vælg\")","v":"Vælg"},{"$f":"IF(ISNUMBER(Identifikation6300[[#This Row],[Ejendomsnr]]),Identifikation6300[[#This Row],[Ejendomsnr]],\"Vælg\")","v":"Vælg"}]
[null,null,null,null,null,null,null,null,null,null,null,null,null,null,null,{"$f":"IF(ISNUMBER(Identifikation6300[[#This Row],[Ejendomsnr]]),Identifikation6300[[#This Row],[Ejendomsnr]],\"Vælg\")","v":"Vælg"},{"$f":"IF(ISNUMBER(Identifikation6300[[#This Row],[Ejendomsnr]]),Identifikation6300[[#This Row],[Ejendomsnr]],\"Vælg\")","v":"Vælg"}]
[null,null,null,null,null,null,null,null,null,null,null,null,null,null,null,{"$f":"IF(ISNUMBER(Identifikation6300[[#This Row],[Ejendomsnr]]),Identifikation6300[[#This Row],[Ejendomsnr]],\"Vælg\")","v":"Vælg"},{"$f":"IF(ISNUMBER(Identifikation6300[[#This Row],[Ejendomsnr]]),Identifikation6300[[#This Row],[Ejendomsnr]],\"Vælg\")","v":"Vælg"}]
[null,null,null,null,null,null,null,null,null,null,null,null,null,null,null,{"$f":"IF(ISNUMBER(Identifikation6300[[#This Row],[Ejendomsnr]]),Identifikation6300[[#This Row],[Ejendomsnr]],\"Vælg\")","v":"Vælg"},{"$f":"IF(ISNUMBER(Identifikation6300[[#This Row],[Ejendomsnr]]),Identifikation6300[[#This Row],[Ejendomsnr]],\"Vælg\")","v":"Vælg"}]
[null,null,null,null,null,null,null,null,null,null,null,null,null,null,null,{"$f":"IF(ISNUMBER(Identifikation6300[[#This Row],[Ejendomsnr]]),Identifikation6300[[#This Row],[Ejendomsnr]],\"Vælg\")","v":"Vælg"},{"$f":"IF(ISNUMBER(Identifikation6300[[#This Row],[Ejendomsnr]]),Identifikation6300[[#This Row],[Ejendomsnr]],\"Vælg\")","v":"Vælg"}]
[null,null,null,null,null,null,null,null,null,null,null,null,null,null,null,{"$f":"IF(ISNUMBER(Identifikation6300[[#This Row],[Ejendomsnr]]),Identifikation6300[[#This Row],[Ejendomsnr]],\"Vælg\")","v":"Vælg"},{"$f":"IF(ISNUMBER(Identifikation6300[[#This Row],[Ejendomsnr]]),Identifikation6300[[#This Row],[Ejendomsnr]],\"Vælg\")","v":"Vælg"}]
[null,null,null,null,null,null,null,null,null,null,null,null,null,null,null,{"$f":"IF(ISNUMBER(Identifikation6300[[#This Row],[Ejendomsnr]]),Identifikation6300[[#This Row],[Ejendomsnr]],\"Vælg\")","v":"Vælg"},{"$f":"IF(ISNUMBER(Identifikation6300[[#This Row],[Ejendomsnr]]),Identifikation6300[[#This Row],[Ejendomsnr]],\"Vælg\")","v":"Vælg"}]
[null,null,null,null,null,null,null,null,null,null,null,null,null,null,null,{"$f":"IF(ISNUMBER(Identifikation6300[[#This Row],[Ejendomsnr]]),Identifikation6300[[#This Row],[Ejendomsnr]],\"Vælg\")","v":"Vælg"},{"$f":"IF(ISNUMBER(Identifikation6300[[#This Row],[Ejendomsnr]]),Identifikation6300[[#This Row],[Ejendomsnr]],\"Vælg\")","v":"Vælg"}]
[null,null,null,null,null,null,null,null,null,null,null,null,null,null,null,{"$f":"IF(ISNUMBER(Identifikation6300[[#This Row],[Ejendomsnr]]),Identifikation6300[[#This Row],[Ejendomsnr]],\"Vælg\")","v":"Vælg"},{"$f":"IF(ISNUMBER(Identifikation6300[[#This Row],[Ejendomsnr]]),Identifikation6300[[#This Row],[Ejendomsnr]],\"Vælg\")","v":"Vælg"}]
[null,null,null,null,null,null,null,null,null,null,null,null,null,null,null,{"$f":"IF(ISNUMBER(Identifikation6300[[#This Row],[Ejendomsnr]]),Identifikation6300[[#This Row],[Ejendomsnr]],\"Vælg\")","v":"Vælg"},{"$f":"IF(ISNUMBER(Identifikation6300[[#This Row],[Ejendomsnr]]),Identifikation6300[[#This Row],[Ejendomsnr]],\"Vælg\")","v":"Vælg"}]
[null,null,null,null,null,null,null,null,null,null,null,null,null,null,null,{"$f":"IF(ISNUMBER(Identifikation6300[[#This Row],[Ejendomsnr]]),Identifikation6300[[#This Row],[Ejendomsnr]],\"Vælg\")","v":"Vælg"},{"$f":"IF(ISNUMBER(Identifikation6300[[#This Row],[Ejendomsnr]]),Identifikation6300[[#This Row],[Ejendomsnr]],\"Vælg\")","v":"Vælg"}]
[null,null,null,null,null,null,null,null,null,null,null,null,null,null,null,{"$f":"IF(ISNUMBER(Identifikation6300[[#This Row],[Ejendomsnr]]),Identifikation6300[[#This Row],[Ejendomsnr]],\"Vælg\")","v":"Vælg"},{"$f":"IF(ISNUMBER(Identifikation6300[[#This Row],[Ejendomsnr]]),Identifikation6300[[#This Row],[Ejendomsnr]],\"Vælg\")","v":"Vælg"}]
[null,null,null,null,null,null,null,null,null,null,null,null,null,null,null,{"$f":"IF(ISNUMBER(Identifikation6300[[#This Row],[Ejendomsnr]]),Identifikation6300[[#This Row],[Ejendomsnr]],\"Vælg\")","v":"Vælg"},{"$f":"IF(ISNUMBER(Identifikation6300[[#This Row],[Ejendomsnr]]),Identifikation6300[[#This Row],[Ejendomsnr]],\"Vælg\")","v":"Vælg"}]
[null,null,null,null,null,null,null,null,null,null,null,null,null,null,null,{"$f":"IF(ISNUMBER(Identifikation6300[[#This Row],[Ejendomsnr]]),Identifikation6300[[#This Row],[Ejendomsnr]],\"Vælg\")","v":"Vælg"},{"$f":"IF(ISNUMBER(Identifikation6300[[#This Row],[Ejendomsnr]]),Identifikation6300[[#This Row],[Ejendomsnr]],\"Vælg\")","v":"Vælg"}]
[null,null,null,null,null,null,null,null,null,null,null,null,null,null,null,{"$f":"IF(ISNUMBER(Identifikation6300[[#This Row],[Ejendomsnr]]),Identifikation6300[[#This Row],[Ejendomsnr]],\"Vælg\")","v":"Vælg"},{"$f":"IF(ISNUMBER(Identifikation6300[[#This Row],[Ejendomsnr]]),Identifikation6300[[#This Row],[Ejendomsnr]],\"Vælg\")","v":"Vælg"}]
[null,null,null,null,null,null,null,null,null,null,null,null,null,null,null,{"$f":"IF(ISNUMBER(Identifikation6300[[#This Row],[Ejendomsnr]]),Identifikation6300[[#This Row],[Ejendomsnr]],\"Vælg\")","v":"Vælg"},{"$f":"IF(ISNUMBER(Identifikation6300[[#This Row],[Ejendomsnr]]),Identifikation6300[[#This Row],[Ejendomsnr]],\"Vælg\")","v":"Vælg"}]
[null,null,null,null,null,null,null,null,null,null,null,null,null,null,null,{"$f":"IF(ISNUMBER(Identifikation6300[[#This Row],[Ejendomsnr]]),Identifikation6300[[#This Row],[Ejendomsnr]],\"Vælg\")","v":"Vælg"},{"$f":"IF(ISNUMBER(Identifikation6300[[#This Row],[Ejendomsnr]]),Identifikation6300[[#This Row],[Ejendomsnr]],\"Vælg\")","v":"Vælg"}]
[null,null,null,null,null,null,null,null,null,null,null,null,null,null,null,{"$f":"IF(ISNUMBER(Identifikation6300[[#This Row],[Ejendomsnr]]),Identifikation6300[[#This Row],[Ejendomsnr]],\"Vælg\")","v":"Vælg"},{"$f":"IF(ISNUMBER(Identifikation6300[[#This Row],[Ejendomsnr]]),Identifikation6300[[#This Row],[Ejendomsnr]],\"Vælg\")","v":"Vælg"}]
[null,null,null,null,null,null,null,null,null,null,null,null,null,null,null,{"$f":"IF(ISNUMBER(Identifikation6300[[#This Row],[Ejendomsnr]]),Identifikation6300[[#This Row],[Ejendomsnr]],\"Vælg\")","v":"Vælg"},{"$f":"IF(ISNUMBER(Identifikation6300[[#This Row],[Ejendomsnr]]),Identifikation6300[[#This Row],[Ejendomsnr]],\"Vælg\")","v":"Vælg"}]
[null,null,null,null,null,null,null,null,null,null,null,null,null,null,null,{"$f":"IF(ISNUMBER(Identifikation6300[[#This Row],[Ejendomsnr]]),Identifikation6300[[#This Row],[Ejendomsnr]],\"Vælg\")","v":"Vælg"},{"$f":"IF(ISNUMBER(Identifikation6300[[#This Row],[Ejendomsnr]]),Identifikation6300[[#This Row],[Ejendomsnr]],\"Vælg\")","v":"Vælg"}]
[null,null,null,null,null,null,null,null,null,null,null,null,null,null,null,{"$f":"IF(ISNUMBER(Identifikation6300[[#This Row],[Ejendomsnr]]),Identifikation6300[[#This Row],[Ejendomsnr]],\"Vælg\")","v":"Vælg"},{"$f":"IF(ISNUMBER(Identifikation6300[[#This Row],[Ejendomsnr]]),Identifikation6300[[#This Row],[Ejendomsnr]],\"Vælg\")","v":"Vælg"}]
[null,null,null,null,null,null,null,null,null,null,null,null,null,null,null,{"$f":"IF(ISNUMBER(Identifikation6300[[#This Row],[Ejendomsnr]]),Identifikation6300[[#This Row],[Ejendomsnr]],\"Vælg\")","v":"Vælg"},{"$f":"IF(ISNUMBER(Identifikation6300[[#This Row],[Ejendomsnr]]),Identifikation6300[[#This Row],[Ejendomsnr]],\"Vælg\")","v":"Vælg"}]
[null,null,null,null,null,null,null,null,null,null,null,null,null,null,null,{"$f":"IF(ISNUMBER(Identifikation6300[[#This Row],[Ejendomsnr]]),Identifikation6300[[#This Row],[Ejendomsnr]],\"Vælg\")","v":"Vælg"},{"$f":"IF(ISNUMBER(Identifikation6300[[#This Row],[Ejendomsnr]]),Identifikation6300[[#This Row],[Ejendomsnr]],\"Vælg\")","v":"Vælg"}]
[null,null,null,null,null,null,null,null,null,null,null,null,null,null,null,{"$f":"IF(ISNUMBER(Identifikation6300[[#This Row],[Ejendomsnr]]),Identifikation6300[[#This Row],[Ejendomsnr]],\"Vælg\")","v":"Vælg"},{"$f":"IF(ISNUMBER(Identifikation6300[[#This Row],[Ejendomsnr]]),Identifikation6300[[#This Row],[Ejendomsnr]],\"Vælg\")","v":"Vælg"}]
[null,null,null,null,null,null,null,null,null,null,null,null,null,null,null,{"$f":"IF(ISNUMBER(Identifikation6300[[#This Row],[Ejendomsnr]]),Identifikation6300[[#This Row],[Ejendomsnr]],\"Vælg\")","v":"Vælg"},{"$f":"IF(ISNUMBER(Identifikation6300[[#This Row],[Ejendomsnr]]),Identifikation6300[[#This Row],[Ejendomsnr]],\"Vælg\")","v":"Vælg"}]
[null,null,null,null,null,null,null,null,null,null,null,null,null,null,null,{"$f":"IF(ISNUMBER(Identifikation6300[[#This Row],[Ejendomsnr]]),Identifikation6300[[#This Row],[Ejendomsnr]],\"Vælg\")","v":"Vælg"},{"$f":"IF(ISNUMBER(Identifikation6300[[#This Row],[Ejendomsnr]]),Identifikation6300[[#This Row],[Ejendomsnr]],\"Vælg\")","v":"Vælg"}]
[null,null,null,null,null,null,null,null,null,null,null,null,null,null,null,{"$f":"IF(ISNUMBER(Identifikation6300[[#This Row],[Ejendomsnr]]),Identifikation6300[[#This Row],[Ejendomsnr]],\"Vælg\")","v":"Vælg"},{"$f":"IF(ISNUMBER(Identifikation6300[[#This Row],[Ejendomsnr]]),Identifikation6300[[#This Row],[Ejendomsnr]],\"Vælg\")","v":"Vælg"}]
[null,null,null,null,null,null,null,null,null,null,null,null,null,null,null,{"$f":"IF(ISNUMBER(Identifikation6300[[#This Row],[Ejendomsnr]]),Identifikation6300[[#This Row],[Ejendomsnr]],\"Vælg\")","v":"Vælg"},{"$f":"IF(ISNUMBER(Identifikation6300[[#This Row],[Ejendomsnr]]),Identifikation6300[[#This Row],[Ejendomsnr]],\"Vælg\")","v":"Vælg"}]
[null,null,null,null,null,null,null,null,null,null,null,null,null,null,null,{"$f":"IF(ISNUMBER(Identifikation6300[[#This Row],[Ejendomsnr]]),Identifikation6300[[#This Row],[Ejendomsnr]],\"Vælg\")","v":"Vælg"},{"$f":"IF(ISNUMBER(Identifikation6300[[#This Row],[Ejendomsnr]]),Identifikation6300[[#This Row],[Ejendomsnr]],\"Vælg\")","v":"Vælg"}]
[null,null,null,null,null,null,null,null,null,null,null,null,null,null,null,{"$f":"IF(ISNUMBER(Identifikation6300[[#This Row],[Ejendomsnr]]),Identifikation6300[[#This Row],[Ejendomsnr]],\"Vælg\")","v":"Vælg"},{"$f":"IF(ISNUMBER(Identifikation6300[[#This Row],[Ejendomsnr]]),Identifikation6300[[#This Row],[Ejendomsnr]],\"Vælg\")","v":"Vælg"}]
[null,null,null,null,null,null,null,null,null,null,null,null,null,null,null,{"$f":"IF(ISNUMBER(Identifikation6300[[#This Row],[Ejendomsnr]]),Identifikation6300[[#This Row],[Ejendomsnr]],\"Vælg\")","v":"Vælg"},{"$f":"IF(ISNUMBER(Identifikation6300[[#This Row],[Ejendomsnr]]),Identifikation6300[[#This Row],[Ejendomsnr]],\"Vælg\")","v":"Vælg"}]
[null,null,null,null,null,null,null,null,null,null,null,null,null,null,null,{"$f":"IF(ISNUMBER(Identifikation6300[[#This Row],[Ejendomsnr]]),Identifikation6300[[#This Row],[Ejendomsnr]],\"Vælg\")","v":"Vælg"},{"$f":"IF(ISNUMBER(Identifikation6300[[#This Row],[Ejendomsnr]]),Identifikation6300[[#This Row],[Ejendomsnr]],\"Vælg\")","v":"Vælg"}]
[null,null,null,null,null,null,null,null,null,null,null,null,null,null,null,{"$f":"IF(ISNUMBER(Identifikation6300[[#This Row],[Ejendomsnr]]),Identifikation6300[[#This Row],[Ejendomsnr]],\"Vælg\")","v":"Vælg"},{"$f":"IF(ISNUMBER(Identifikation6300[[#This Row],[Ejendomsnr]]),Identifikation6300[[#This Row],[Ejendomsnr]],\"Vælg\")","v":"Vælg"}]
[null,null,null,null,null,null,null,null,null,null,null,null,null,null,null,{"$f":"IF(ISNUMBER(Identifikation6300[[#This Row],[Ejendomsnr]]),Identifikation6300[[#This Row],[Ejendomsnr]],\"Vælg\")","v":"Vælg"},{"$f":"IF(ISNUMBER(Identifikation6300[[#This Row],[Ejendomsnr]]),Identifikation6300[[#This Row],[Ejendomsnr]],\"Vælg\")","v":"Vælg"}]
[null,null,null,null,null,null,null,null,null,null,null,null,null,null,null,{"$f":"IF(ISNUMBER(Identifikation6300[[#This Row],[Ejendomsnr]]),Identifikation6300[[#This Row],[Ejendomsnr]],\"Vælg\")","v":"Vælg"},{"$f":"IF(ISNUMBER(Identifikation6300[[#This Row],[Ejendomsnr]]),Identifikation6300[[#This Row],[Ejendomsnr]],\"Vælg\")","v":"Vælg"}]
[null,null,null,null,null,null,null,null,null,null,null,null,null,null,null,{"$f":"IF(ISNUMBER(Identifikation6300[[#This Row],[Ejendomsnr]]),Identifikation6300[[#This Row],[Ejendomsnr]],\"Vælg\")","v":"Vælg"},{"$f":"IF(ISNUMBER(Identifikation6300[[#This Row],[Ejendomsnr]]),Identifikation6300[[#This Row],[Ejendomsnr]],\"Vælg\")","v":"Vælg"}]
[null,null,null,null,null,null,null,null,null,null,null,null,null,null,null,{"$f":"IF(ISNUMBER(Identifikation6300[[#This Row],[Ejendomsnr]]),Identifikation6300[[#This Row],[Ejendomsnr]],\"Vælg\")","v":"Vælg"},{"$f":"IF(ISNUMBER(Identifikation6300[[#This Row],[Ejendomsnr]]),Identifikation6300[[#This Row],[Ejendomsnr]],\"Vælg\")","v":"Vælg"}]
[null,null,null,null,null,null,null,null,null,null,null,null,null,null,null,{"$f":"IF(ISNUMBER(Identifikation6300[[#This Row],[Ejendomsnr]]),Identifikation6300[[#This Row],[Ejendomsnr]],\"Vælg\")","v":"Vælg"},{"$f":"IF(ISNUMBER(Identifikation6300[[#This Row],[Ejendomsnr]]),Identifikation6300[[#This Row],[Ejendomsnr]],\"Vælg\")","v":"Vælg"}]
[null,null,null,null,null,null,null,null,null,null,null,null,null,null,null,{"$f":"IF(ISNUMBER(Identifikation6300[[#This Row],[Ejendomsnr]]),Identifikation6300[[#This Row],[Ejendomsnr]],\"Vælg\")","v":"Vælg"},{"$f":"IF(ISNUMBER(Identifikation6300[[#This Row],[Ejendomsnr]]),Identifikation6300[[#This Row],[Ejendomsnr]],\"Vælg\")","v":"Vælg"}]
[null,null,null,null,null,null,null,null,null,null,null,null,null,null,null,{"$f":"IF(ISNUMBER(Identifikation6300[[#This Row],[Ejendomsnr]]),Identifikation6300[[#This Row],[Ejendomsnr]],\"Vælg\")","v":"Vælg"},{"$f":"IF(ISNUMBER(Identifikation6300[[#This Row],[Ejendomsnr]]),Identifikation6300[[#This Row],[Ejendomsnr]],\"Vælg\")","v":"Vælg"}]
[null,null,null,null,null,null,null,null,null,null,null,null,null,null,null,{"$f":"IF(ISNUMBER(Identifikation6300[[#This Row],[Ejendomsnr]]),Identifikation6300[[#This Row],[Ejendomsnr]],\"Vælg\")","v":"Vælg"},{"$f":"IF(ISNUMBER(Identifikation6300[[#This Row],[Ejendomsnr]]),Identifikation6300[[#This Row],[Ejendomsnr]],\"Vælg\")","v":"Vælg"}]
[null,null,null,null,null,null,null,null,null,null,null,null,null,null,null,{"$f":"IF(ISNUMBER(Identifikation6300[[#This Row],[Ejendomsnr]]),Identifikation6300[[#This Row],[Ejendomsnr]],\"Vælg\")","v":"Vælg"},{"$f":"IF(ISNUMBER(Identifikation6300[[#This Row],[Ejendomsnr]]),Identifikation6300[[#This Row],[Ejendomsnr]],\"Vælg\")","v":"Vælg"}]
[null,null,null,null,null,null,null,null,null,null,null,null,null,null,null,{"$f":"IF(ISNUMBER(Identifikation6300[[#This Row],[Ejendomsnr]]),Identifikation6300[[#This Row],[Ejendomsnr]],\"Vælg\")","v":"Vælg"},{"$f":"IF(ISNUMBER(Identifikation6300[[#This Row],[Ejendomsnr]]),Identifikation6300[[#This Row],[Ejendomsnr]],\"Vælg\")","v":"Vælg"}]
[null,null,null,null,null,null,null,null,null,null,null,null,null,null,null,{"$f":"IF(ISNUMBER(Identifikation6300[[#This Row],[Ejendomsnr]]),Identifikation6300[[#This Row],[Ejendomsnr]],\"Vælg\")","v":"Vælg"},{"$f":"IF(ISNUMBER(Identifikation6300[[#This Row],[Ejendomsnr]]),Identifikation6300[[#This Row],[Ejendomsnr]],\"Vælg\")","v":"Vælg"}]
[null,null,null,null,null,null,null,null,null,null,null,null,null,null,null,{"$f":"IF(ISNUMBER(Identifikation6300[[#This Row],[Ejendomsnr]]),Identifikation6300[[#This Row],[Ejendomsnr]],\"Vælg\")","v":"Vælg"},{"$f":"IF(ISNUMBER(Identifikation6300[[#This Row],[Ejendomsnr]]),Identifikation6300[[#This Row],[Ejendomsnr]],\"Vælg\")","v":"Vælg"}]
[null,null,null,null,null,null,null,null,null,null,null,null,null,null,null,{"$f":"IF(ISNUMBER(Identifikation6300[[#This Row],[Ejendomsnr]]),Identifikation6300[[#This Row],[Ejendomsnr]],\"Vælg\")","v":"Vælg"},{"$f":"IF(ISNUMBER(Identifikation6300[[#This Row],[Ejendomsnr]]),Identifikation6300[[#This Row],[Ejendomsnr]],\"Vælg\")","v":"Vælg"}]
[null,null,null,null,null,null,null,null,null,null,null,null,null,null,null,{"$f":"IF(ISNUMBER(Identifikation6300[[#This Row],[Ejendomsnr]]),Identifikation6300[[#This Row],[Ejendomsnr]],\"Vælg\")","v":"Vælg"},{"$f":"IF(ISNUMBER(Identifikation6300[[#This Row],[Ejendomsnr]]),Identifikation6300[[#This Row],[Ejendomsnr]],\"Vælg\")","v":"Vælg"}]
[null,null,null,null,null,null,null,null,null,null,null,null,null,null,null,{"$f":"IF(ISNUMBER(Identifikation6300[[#This Row],[Ejendomsnr]]),Identifikation6300[[#This Row],[Ejendomsnr]],\"Vælg\")","v":"Vælg"},{"$f":"IF(ISNUMBER(Identifikation6300[[#This Row],[Ejendomsnr]]),Identifikation6300[[#This Row],[Ejendomsnr]],\"Vælg\")","v":"Vælg"}]
[null,null,null,null,null,null,null,null,null,null,null,null,null,null,null,{"$f":"IF(ISNUMBER(Identifikation6300[[#This Row],[Ejendomsnr]]),Identifikation6300[[#This Row],[Ejendomsnr]],\"Vælg\")","v":"Vælg"},{"$f":"IF(ISNUMBER(Identifikation6300[[#This Row],[Ejendomsnr]]),Identifikation6300[[#This Row],[Ejendomsnr]],\"Vælg\")","v":"Vælg"}]
[null,null,null,null,null,null,null,null,null,null,null,null,null,null,null,{"$f":"IF(ISNUMBER(Identifikation6300[[#This Row],[Ejendomsnr]]),Identifikation6300[[#This Row],[Ejendomsnr]],\"Vælg\")","v":"Vælg"},{"$f":"IF(ISNUMBER(Identifikation6300[[#This Row],[Ejendomsnr]]),Identifikation6300[[#This Row],[Ejendomsnr]],\"Vælg\")","v":"Vælg"}]
[null,null,null,null,null,null,null,null,null,null,null,null,null,null,null,{"$f":"IF(ISNUMBER(Identifikation6300[[#This Row],[Ejendomsnr]]),Identifikation6300[[#This Row],[Ejendomsnr]],\"Vælg\")","v":"Vælg"},{"$f":"IF(ISNUMBER(Identifikation6300[[#This Row],[Ejendomsnr]]),Identifikation6300[[#This Row],[Ejendomsnr]],\"Vælg\")","v":"Vælg"}]
[null,null,null,null,null,null,null,null,null,null,null,null,null,null,null,{"$f":"IF(ISNUMBER(Identifikation6300[[#This Row],[Ejendomsnr]]),Identifikation6300[[#This Row],[Ejendomsnr]],\"Vælg\")","v":"Vælg"},{"$f":"IF(ISNUMBER(Identifikation6300[[#This Row],[Ejendomsnr]]),Identifikation6300[[#This Row],[Ejendomsnr]],\"Vælg\")","v":"Vælg"}]
[null,null,null,null,null,null,null,null,null,null,null,null,null,null,null,{"$f":"IF(ISNUMBER(Identifikation6300[[#This Row],[Ejendomsnr]]),Identifikation6300[[#This Row],[Ejendomsnr]],\"Vælg\")","v":"Vælg"},{"$f":"IF(ISNUMBER(Identifikation6300[[#This Row],[Ejendomsnr]]),Identifikation6300[[#This Row],[Ejendomsnr]],\"Vælg\")","v":"Vælg"}]
[null,null,null,null,null,null,null,null,null,null,null,null,null,null,null,{"$f":"IF(ISNUMBER(Identifikation6300[[#This Row],[Ejendomsnr]]),Identifikation6300[[#This Row],[Ejendomsnr]],\"Vælg\")","v":"Vælg"},{"$f":"IF(ISNUMBER(Identifikation6300[[#This Row],[Ejendomsnr]]),Identifikation6300[[#This Row],[Ejendomsnr]],\"Vælg\")","v":"Vælg"}]
[null,null,null,null,null,null,null,null,null,null,null,null,null,null,null,{"$f":"IF(ISNUMBER(Identifikation6300[[#This Row],[Ejendomsnr]]),Identifikation6300[[#This Row],[Ejendomsnr]],\"Vælg\")","v":"Vælg"},{"$f":"IF(ISNUMBER(Identifikation6300[[#This Row],[Ejendomsnr]]),Identifikation6300[[#This Row],[Ejendomsnr]],\"Vælg\")","v":"Vælg"}]
[null,null,null,null,null,null,null,null,null,null,null,null,null,null,null,{"$f":"IF(ISNUMBER(Identifikation6300[[#This Row],[Ejendomsnr]]),Identifikation6300[[#This Row],[Ejendomsnr]],\"Vælg\")","v":"Vælg"},{"$f":"IF(ISNUMBER(Identifikation6300[[#This Row],[Ejendomsnr]]),Identifikation6300[[#This Row],[Ejendomsnr]],\"Vælg\")","v":"Vælg"}]
[null,null,null,null,null,null,null,null,null,null,null,null,null,null,null,{"$f":"IF(ISNUMBER(Identifikation6300[[#This Row],[Ejendomsnr]]),Identifikation6300[[#This Row],[Ejendomsnr]],\"Vælg\")","v":"Vælg"},{"$f":"IF(ISNUMBER(Identifikation6300[[#This Row],[Ejendomsnr]]),Identifikation6300[[#This Row],[Ejendomsnr]],\"Vælg\")","v":"Vælg"}]
[null,null,null,null,null,null,null,null,null,null,null,null,null,null,null,{"$f":"IF(ISNUMBER(Identifikation6300[[#This Row],[Ejendomsnr]]),Identifikation6300[[#This Row],[Ejendomsnr]],\"Vælg\")","v":"Vælg"},{"$f":"IF(ISNUMBER(Identifikation6300[[#This Row],[Ejendomsnr]]),Identifikation6300[[#This Row],[Ejendomsnr]],\"Vælg\")","v":"Vælg"}]
[null,null,null,null,null,null,null,null,null,null,null,null,null,null,null,{"$f":"IF(ISNUMBER(Identifikation6300[[#This Row],[Ejendomsnr]]),Identifikation6300[[#This Row],[Ejendomsnr]],\"Vælg\")","v":"Vælg"},{"$f":"IF(ISNUMBER(Identifikation6300[[#This Row],[Ejendomsnr]]),Identifikation6300[[#This Row],[Ejendomsnr]],\"Vælg\")","v":"Vælg"}]
[null,null,null,null,null,null,null,null,null,null,null,null,null,null,null,{"$f":"IF(ISNUMBER(Identifikation6300[[#This Row],[Ejendomsnr]]),Identifikation6300[[#This Row],[Ejendomsnr]],\"Vælg\")","v":"Vælg"},{"$f":"IF(ISNUMBER(Identifikation6300[[#This Row],[Ejendomsnr]]),Identifikation6300[[#This Row],[Ejendomsnr]],\"Vælg\")","v":"Vælg"}]
[null,null,null,null,null,null,null,null,null,null,null,null,null,null,null,{"$f":"IF(ISNUMBER(Identifikation6300[[#This Row],[Ejendomsnr]]),Identifikation6300[[#This Row],[Ejendomsnr]],\"Vælg\")","v":"Vælg"},{"$f":"IF(ISNUMBER(Identifikation6300[[#This Row],[Ejendomsnr]]),Identifikation6300[[#This Row],[Ejendomsnr]],\"Vælg\")","v":"Vælg"}]
[null,null,null,null,null,null,null,null,null,null,null,null,null,null,null,{"$f":"IF(ISNUMBER(Identifikation6300[[#This Row],[Ejendomsnr]]),Identifikation6300[[#This Row],[Ejendomsnr]],\"Vælg\")","v":"Vælg"},{"$f":"IF(ISNUMBER(Identifikation6300[[#This Row],[Ejendomsnr]]),Identifikation6300[[#This Row],[Ejendomsnr]],\"Vælg\")","v":"Vælg"}]
[null,null,null,null,null,null,null,null,null,null,null,null,null,null,null,{"$f":"IF(ISNUMBER(Identifikation6300[[#This Row],[Ejendomsnr]]),Identifikation6300[[#This Row],[Ejendomsnr]],\"Vælg\")","v":"Vælg"},{"$f":"IF(ISNUMBER(Identifikation6300[[#This Row],[Ejendomsnr]]),Identifikation6300[[#This Row],[Ejendomsnr]],\"Vælg\")","v":"Vælg"}]
[null,null,null,null,null,null,null,null,null,null,null,null,null,null,null,{"$f":"IF(ISNUMBER(Identifikation6300[[#This Row],[Ejendomsnr]]),Identifikation6300[[#This Row],[Ejendomsnr]],\"Vælg\")","v":"Vælg"},{"$f":"IF(ISNUMBER(Identifikation6300[[#This Row],[Ejendomsnr]]),Identifikation6300[[#This Row],[Ejendomsnr]],\"Vælg\")","v":"Vælg"}]
[null,null,null,null,null,null,null,null,null,null,null,null,null,null,null,{"$f":"IF(ISNUMBER(Identifikation6300[[#This Row],[Ejendomsnr]]),Identifikation6300[[#This Row],[Ejendomsnr]],\"Vælg\")","v":"Vælg"},{"$f":"IF(ISNUMBER(Identifikation6300[[#This Row],[Ejendomsnr]]),Identifikation6300[[#This Row],[Ejendomsnr]],\"Vælg\")","v":"Vælg"}]
[null,null,null,null,null,null,null,null,null,null,null,null,null,null,null,{"$f":"IF(ISNUMBER(Identifikation6300[[#This Row],[Ejendomsnr]]),Identifikation6300[[#This Row],[Ejendomsnr]],\"Vælg\")","v":"Vælg"},{"$f":"IF(ISNUMBER(Identifikation6300[[#This Row],[Ejendomsnr]]),Identifikation6300[[#This Row],[Ejendomsnr]],\"Vælg\")","v":"Vælg"}]
[null,null,null,null,null,null,null,null,null,null,null,null,null,null,null,{"$f":"IF(ISNUMBER(Identifikation6300[[#This Row],[Ejendomsnr]]),Identifikation6300[[#This Row],[Ejendomsnr]],\"Vælg\")","v":"Vælg"},{"$f":"IF(ISNUMBER(Identifikation6300[[#This Row],[Ejendomsnr]]),Identifikation6300[[#This Row],[Ejendomsnr]],\"Vælg\")","v":"Vælg"}]
[null,null,null,null,null,null,null,null,null,null,null,null,null,null,null,{"$f":"IF(ISNUMBER(Identifikation6300[[#This Row],[Ejendomsnr]]),Identifikation6300[[#This Row],[Ejendomsnr]],\"Vælg\")","v":"Vælg"},{"$f":"IF(ISNUMBER(Identifikation6300[[#This Row],[Ejendomsnr]]),Identifikation6300[[#This Row],[Ejendomsnr]],\"Vælg\")","v":"Vælg"}]
[null,null,null,null,null,null,null,null,null,null,null,null,null,null,null,{"$f":"IF(ISNUMBER(Identifikation6300[[#This Row],[Ejendomsnr]]),Identifikation6300[[#This Row],[Ejendomsnr]],\"Vælg\")","v":"Vælg"},{"$f":"IF(ISNUMBER(Identifikation6300[[#This Row],[Ejendomsnr]]),Identifikation6300[[#This Row],[Ejendomsnr]],\"Vælg\")","v":"Vælg"}]
[null,null,null,null,null,null,null,null,null,null,null,null,null,null,null,{"$f":"IF(ISNUMBER(Identifikation6300[[#This Row],[Ejendomsnr]]),Identifikation6300[[#This Row],[Ejendomsnr]],\"Vælg\")","v":"Vælg"},{"$f":"IF(ISNUMBER(Identifikation6300[[#This Row],[Ejendomsnr]]),Identifikation6300[[#This Row],[Ejendomsnr]],\"Vælg\")","v":"Vælg"}]
[null,null,null,null,null,null,null,null,null,null,null,null,null,null,null,{"$f":"IF(ISNUMBER(Identifikation6300[[#This Row],[Ejendomsnr]]),Identifikation6300[[#This Row],[Ejendomsnr]],\"Vælg\")","v":"Vælg"},{"$f":"IF(ISNUMBER(Identifikation6300[[#This Row],[Ejendomsnr]]),Identifikation6300[[#This Row],[Ejendomsnr]],\"Vælg\")","v":"Vælg"}]
[null,null,null,null,null,null,null,null,null,null,null,null,null,null,null,{"$f":"IF(ISNUMBER(Identifikation6300[[#This Row],[Ejendomsnr]]),Identifikation6300[[#This Row],[Ejendomsnr]],\"Vælg\")","v":"Vælg"},{"$f":"IF(ISNUMBER(Identifikation6300[[#This Row],[Ejendomsnr]]),Identifikation6300[[#This Row],[Ejendomsnr]],\"Vælg\")","v":"Vælg"}]
[null,null,null,null,null,null,null,null,null,null,null,null,null,null,null,{"$f":"IF(ISNUMBER(Identifikation6300[[#This Row],[Ejendomsnr]]),Identifikation6300[[#This Row],[Ejendomsnr]],\"Vælg\")","v":"Vælg"},{"$f":"IF(ISNUMBER(Identifikation6300[[#This Row],[Ejendomsnr]]),Identifikation6300[[#This Row],[Ejendomsnr]],\"Vælg\")","v":"Vælg"}]
[null,null,null,null,null,null,null,null,null,null,null,null,null,null,null,{"$f":"IF(ISNUMBER(Identifikation6300[[#This Row],[Ejendomsnr]]),Identifikation6300[[#This Row],[Ejendomsnr]],\"Vælg\")","v":"Vælg"},{"$f":"IF(ISNUMBER(Identifikation6300[[#This Row],[Ejendomsnr]]),Identifikation6300[[#This Row],[Ejendomsnr]],\"Vælg\")","v":"Vælg"}]
[null,null,null,null,null,null,null,null,null,null,null,null,null,null,null,{"$f":"IF(ISNUMBER(Identifikation6300[[#This Row],[Ejendomsnr]]),Identifikation6300[[#This Row],[Ejendomsnr]],\"Vælg\")","v":"Vælg"},{"$f":"IF(ISNUMBER(Identifikation6300[[#This Row],[Ejendomsnr]]),Identifikation6300[[#This Row],[Ejendomsnr]],\"Vælg\")","v":"Vælg"}]
[null,null,null,null,null,null,null,null,null,null,null,null,null,null,null,{"$f":"IF(ISNUMBER(Identifikation6300[[#This Row],[Ejendomsnr]]),Identifikation6300[[#This Row],[Ejendomsnr]],\"Vælg\")","v":"Vælg"},{"$f":"IF(ISNUMBER(Identifikation6300[[#This Row],[Ejendomsnr]]),Identifikation6300[[#This Row],[Ejendomsnr]],\"Vælg\")","v":"Vælg"}]
[null,null,null,null,null,null,null,null,null,null,null,null,null,null,null,{"$f":"IF(ISNUMBER(Identifikation6300[[#This Row],[Ejendomsnr]]),Identifikation6300[[#This Row],[Ejendomsnr]],\"Vælg\")","v":"Vælg"},{"$f":"IF(ISNUMBER(Identifikation6300[[#This Row],[Ejendomsnr]]),Identifikation6300[[#This Row],[Ejendomsnr]],\"Vælg\")","v":"Vælg"}]
[null,null,null,null,null,null,null,null,null,null,null,null,null,null,null,{"$f":"IF(ISNUMBER(Identifikation6300[[#This Row],[Ejendomsnr]]),Identifikation6300[[#This Row],[Ejendomsnr]],\"Vælg\")","v":"Vælg"},{"$f":"IF(ISNUMBER(Identifikation6300[[#This Row],[Ejendomsnr]]),Identifikation6300[[#This Row],[Ejendomsnr]],\"Vælg\")","v":"Vælg"}]
[null,null,null,null,null,null,null,null,null,null,null,null,null,null,null,{"$f":"IF(ISNUMBER(Identifikation6300[[#This Row],[Ejendomsnr]]),Identifikation6300[[#This Row],[Ejendomsnr]],\"Vælg\")","v":"Vælg"},{"$f":"IF(ISNUMBER(Identifikation6300[[#This Row],[Ejendomsnr]]),Identifikation6300[[#This Row],[Ejendomsnr]],\"Vælg\")","v":"Vælg"}]
[null,null,null,null,null,null,null,null,null,null,null,null,null,null,null,{"$f":"IF(ISNUMBER(Identifikation6300[[#This Row],[Ejendomsnr]]),Identifikation6300[[#This Row],[Ejendomsnr]],\"Vælg\")","v":"Vælg"},{"$f":"IF(ISNUMBER(Identifikation6300[[#This Row],[Ejendomsnr]]),Identifikation6300[[#This Row],[Ejendomsnr]],\"Vælg\")","v":"Vælg"}]
[null,null,null,null,null,null,null,null,null,null,null,null,null,null,null,{"$f":"IF(ISNUMBER(Identifikation6300[[#This Row],[Ejendomsnr]]),Identifikation6300[[#This Row],[Ejendomsnr]],\"Vælg\")","v":"Vælg"},{"$f":"IF(ISNUMBER(Identifikation6300[[#This Row],[Ejendomsnr]]),Identifikation6300[[#This Row],[Ejendomsnr]],\"Vælg\")","v":"Vælg"}]
[null,null,null,null,null,null,null,null,null,null,null,null,null,null,null,{"$f":"IF(ISNUMBER(Identifikation6300[[#This Row],[Ejendomsnr]]),Identifikation6300[[#This Row],[Ejendomsnr]],\"Vælg\")","v":"Vælg"},{"$f":"IF(ISNUMBER(Identifikation6300[[#This Row],[Ejendomsnr]]),Identifikation6300[[#This Row],[Ejendomsnr]],\"Vælg\")","v":"Vælg"}]
[null,null,null,null,null,null,null,null,null,null,null,null,null,null,null,{"$f":"IF(ISNUMBER(Identifikation6300[[#This Row],[Ejendomsnr]]),Identifikation6300[[#This Row],[Ejendomsnr]],\"Vælg\")","v":"Vælg"},{"$f":"IF(ISNUMBER(Identifikation6300[[#This Row],[Ejendomsnr]]),Identifikation6300[[#This Row],[Ejendomsnr]],\"Vælg\")","v":"Vælg"}]
[null,null,null,null,null,null,null,null,null,null,null,null,null,null,null,{"$f":"IF(ISNUMBER(Identifikation6300[[#This Row],[Ejendomsnr]]),Identifikation6300[[#This Row],[Ejendomsnr]],\"Vælg\")","v":"Vælg"},{"$f":"IF(ISNUMBER(Identifikation6300[[#This Row],[Ejendomsnr]]),Identifikation6300[[#This Row],[Ejendomsnr]],\"Vælg\")","v":"Vælg"}]
[null,null,null,null,null,null,null,null,null,null,null,null,null,null,null,{"$f":"IF(ISNUMBER(Identifikation6300[[#This Row],[Ejendomsnr]]),Identifikation6300[[#This Row],[Ejendomsnr]],\"Vælg\")","v":"Vælg"},{"$f":"IF(ISNUMBER(Identifikation6300[[#This Row],[Ejendomsnr]]),Identifikation6300[[#This Row],[Ejendomsnr]],\"Vælg\")","v":"Vælg"}]
[null,null,null,null,null,null,null,null,null,null,null,null,null,null,null,{"$f":"IF(ISNUMBER(Identifikation6300[[#This Row],[Ejendomsnr]]),Identifikation6300[[#This Row],[Ejendomsnr]],\"Vælg\")","v":"Vælg"},{"$f":"IF(ISNUMBER(Identifikation6300[[#This Row],[Ejendomsnr]]),Identifikation6300[[#This Row],[Ejendomsnr]],\"Vælg\")","v":"Vælg"}]
[null,null,null,null,null,null,null,null,null,null,null,null,null,null,null,{"$f":"IF(ISNUMBER(Identifikation6300[[#This Row],[Ejendomsnr]]),Identifikation6300[[#This Row],[Ejendomsnr]],\"Vælg\")","v":"Vælg"},{"$f":"IF(ISNUMBER(Identifikation6300[[#This Row],[Ejendomsnr]]),Identifikation6300[[#This Row],[Ejendomsnr]],\"Vælg\")","v":"Vælg"}]
[null,null,null,null,null,null,null,null,null,null,null,null,null,null,null,{"$f":"IF(ISNUMBER(Identifikation6300[[#This Row],[Ejendomsnr]]),Identifikation6300[[#This Row],[Ejendomsnr]],\"Vælg\")","v":"Vælg"},{"$f":"IF(ISNUMBER(Identifikation6300[[#This Row],[Ejendomsnr]]),Identifikation6300[[#This Row],[Ejendomsnr]],\"Vælg\")","v":"Vælg"}]
[null,null,null,null,null,null,null,null,null,null,null,null,null,null,null,{"$f":"IF(ISNUMBER(Identifikation6300[[#This Row],[Ejendomsnr]]),Identifikation6300[[#This Row],[Ejendomsnr]],\"Vælg\")","v":"Vælg"},{"$f":"IF(ISNUMBER(Identifikation6300[[#This Row],[Ejendomsnr]]),Identifikation6300[[#This Row],[Ejendomsnr]],\"Vælg\")","v":"Vælg"}]
[null,null,null,null,null,null,null,null,null,null,null,null,null,null,null,{"$f":"IF(ISNUMBER(Identifikation6300[[#This Row],[Ejendomsnr]]),Identifikation6300[[#This Row],[Ejendomsnr]],\"Vælg\")","v":"Vælg"},{"$f":"IF(ISNUMBER(Identifikation6300[[#This Row],[Ejendomsnr]]),Identifikation6300[[#This Row],[Ejendomsnr]],\"Vælg\")","v":"Vælg"}]
[null,null,null,null,null,null,null,null,null,null,null,null,null,null,null,{"$f":"IF(ISNUMBER(Identifikation6300[[#This Row],[Ejendomsnr]]),Identifikation6300[[#This Row],[Ejendomsnr]],\"Vælg\")","v":"Vælg"},{"$f":"IF(ISNUMBER(Identifikation6300[[#This Row],[Ejendomsnr]]),Identifikation6300[[#This Row],[Ejendomsnr]],\"Vælg\")","v":"Vælg"}]
[null,null,null,null,null,null,null,null,null,null,null,null,null,null,null,{"$f":"IF(ISNUMBER(Identifikation6300[[#This Row],[Ejendomsnr]]),Identifikation6300[[#This Row],[Ejendomsnr]],\"Vælg\")","v":"Vælg"},{"$f":"IF(ISNUMBER(Identifikation6300[[#This Row],[Ejendomsnr]]),Identifikation6300[[#This Row],[Ejendomsnr]],\"Vælg\")","v":"Vælg"}]
[null,null,null,null,null,null,null,null,null,null,null,null,null,null,null,{"$f":"IF(ISNUMBER(Identifikation6300[[#This Row],[Ejendomsnr]]),Identifikation6300[[#This Row],[Ejendomsnr]],\"Vælg\")","v":"Vælg"},{"$f":"IF(ISNUMBER(Identifikation6300[[#This Row],[Ejendomsnr]]),Identifikation6300[[#This Row],[Ejendomsnr]],\"Vælg\")","v":"Vælg"}]
[null,null,null,null,null,null,null,null,null,null,null,null,null,null,null,{"$f":"IF(ISNUMBER(Identifikation6300[[#This Row],[Ejendomsnr]]),Identifikation6300[[#This Row],[Ejendomsnr]],\"Vælg\")","v":"Vælg"},{"$f":"IF(ISNUMBER(Identifikation6300[[#This Row],[Ejendomsnr]]),Identifikation6300[[#This Row],[Ejendomsnr]],\"Vælg\")","v":"Vælg"}]
[null,null,null,null,null,null,null,null,null,null,null,null,null,null,null,{"$f":"IF(ISNUMBER(Identifikation6300[[#This Row],[Ejendomsnr]]),Identifikation6300[[#This Row],[Ejendomsnr]],\"Vælg\")","v":"Vælg"},{"$f":"IF(ISNUMBER(Identifikation6300[[#This Row],[Ejendomsnr]]),Identifikation6300[[#This Row],[Ejendomsnr]],\"Vælg\")","v":"Vælg"}]
[null,null,null,null,null,null,null,null,null,null,null,null,null,null,null,{"$f":"IF(ISNUMBER(Identifikation6300[[#This Row],[Ejendomsnr]]),Identifikation6300[[#This Row],[Ejendomsnr]],\"Vælg\")","v":"Vælg"},{"$f":"IF(ISNUMBER(Identifikation6300[[#This Row],[Ejendomsnr]]),Identifikation6300[[#This Row],[Ejendomsnr]],\"Vælg\")","v":"Vælg"}]
[null,null,null,null,null,null,null,null,null,null,null,null,null,null,null,{"$f":"IF(ISNUMBER(Identifikation6300[[#This Row],[Ejendomsnr]]),Identifikation6300[[#This Row],[Ejendomsnr]],\"Vælg\")","v":"Vælg"},{"$f":"IF(ISNUMBER(Identifikation6300[[#This Row],[Ejendomsnr]]),Identifikation6300[[#This Row],[Ejendomsnr]],\"Vælg\")","v":"Vælg"}]
[null,null,null,null,null,null,null,null,null,null,null,null,null,null,null,{"$f":"IF(ISNUMBER(Identifikation6300[[#This Row],[Ejendomsnr]]),Identifikation6300[[#This Row],[Ejendomsnr]],\"Vælg\")","v":"Vælg"},{"$f":"IF(ISNUMBER(Identifikation6300[[#This Row],[Ejendomsnr]]),Identifikation6300[[#This Row],[Ejendomsnr]],\"Vælg\")","v":"Vælg"}]
[null,null,null,null,null,null,null,null,null,null,null,null,null,null,null,{"$f":"IF(ISNUMBER(Identifikation6300[[#This Row],[Ejendomsnr]]),Identifikation6300[[#This Row],[Ejendomsnr]],\"Vælg\")","v":"Vælg"},{"$f":"IF(ISNUMBER(Identifikation6300[[#This Row],[Ejendomsnr]]),Identifikation6300[[#This Row],[Ejendomsnr]],\"Vælg\")","v":"Vælg"}]
[null,null,null,null,null,null,null,null,null,null,null,null,null,null,null,{"$f":"IF(ISNUMBER(Identifikation6300[[#This Row],[Ejendomsnr]]),Identifikation6300[[#This Row],[Ejendomsnr]],\"Vælg\")","v":"Vælg"},{"$f":"IF(ISNUMBER(Identifikation6300[[#This Row],[Ejendomsnr]]),Identifikation6300[[#This Row],[Ejendomsnr]],\"Vælg\")","v":"Vælg"}]
[null,null,null,null,null,null,null,null,null,null,null,null,null,null,null,{"$f":"IF(ISNUMBER(Identifikation6300[[#This Row],[Ejendomsnr]]),Identifikation6300[[#This Row],[Ejendomsnr]],\"Vælg\")","v":"Vælg"},{"$f":"IF(ISNUMBER(Identifikation6300[[#This Row],[Ejendomsnr]]),Identifikation6300[[#This Row],[Ejendomsnr]],\"Vælg\")","v":"Vælg"}]
[null,null,null,null,null,null,null,null,null,null,null,null,null,null,null,{"$f":"IF(ISNUMBER(Identifikation6300[[#This Row],[Ejendomsnr]]),Identifikation6300[[#This Row],[Ejendomsnr]],\"Vælg\")","v":"Vælg"},{"$f":"IF(ISNUMBER(Identifikation6300[[#This Row],[Ejendomsnr]]),Identifikation6300[[#This Row],[Ejendomsnr]],\"Vælg\")","v":"Vælg"}]
[null,null,null,null,null,null,null,null,null,null,null,null,null,null,null,{"$f":"IF(ISNUMBER(Identifikation6300[[#This Row],[Ejendomsnr]]),Identifikation6300[[#This Row],[Ejendomsnr]],\"Vælg\")","v":"Vælg"},{"$f":"IF(ISNUMBER(Identifikation6300[[#This Row],[Ejendomsnr]]),Identifikation6300[[#This Row],[Ejendomsnr]],\"Vælg\")","v":"Vælg"}]
[null,null,null,null,null,null,null,null,null,null,null,null,null,null,null,{"$f":"IF(ISNUMBER(Identifikation6300[[#This Row],[Ejendomsnr]]),Identifikation6300[[#This Row],[Ejendomsnr]],\"Vælg\")","v":"Vælg"},{"$f":"IF(ISNUMBER(Identifikation6300[[#This Row],[Ejendomsnr]]),Identifikation6300[[#This Row],[Ejendomsnr]],\"Vælg\")","v":"Vælg"}]
[null,null,null,null,null,null,null,null,null,null,null,null,null,null,null,{"$f":"IF(ISNUMBER(Identifikation6300[[#This Row],[Ejendomsnr]]),Identifikation6300[[#This Row],[Ejendomsnr]],\"Vælg\")","v":"Vælg"},{"$f":"IF(ISNUMBER(Identifikation6300[[#This Row],[Ejendomsnr]]),Identifikation6300[[#This Row],[Ejendomsnr]],\"Vælg\")","v":"Vælg"}]
[null,null,null,null,null,null,null,null,null,null,null,null,null,null,null,{"$f":"IF(ISNUMBER(Identifikation6300[[#This Row],[Ejendomsnr]]),Identifikation6300[[#This Row],[Ejendomsnr]],\"Vælg\")","v":"Vælg"},{"$f":"IF(ISNUMBER(Identifikation6300[[#This Row],[Ejendomsnr]]),Identifikation6300[[#This Row],[Ejendomsnr]],\"Vælg\")","v":"Vælg"}]

{"sheet":"Landsgennemsnit","index":8,"n_rows":72,"n_cols":6,"rows_kept":72,"cut":false,"hidden":false,"merged":[[1,6,1,7],[0,8,0,10],[1,9,1,10],[1,1,1,2],[1,29,1,30],[0,1,0,2],[0,4,0,5],[1,4,1,5],[1,31,1,32],[0,20,0,32],[1,23,1,24],[1,14,1,15],[1,16,1,17],[1,18,1,19],[0,11,0,19],[1,21,1,22],[1,12,1,13],[1,25,1,26],[1,27,1,28]]}
["Danske kalve - u. 10 mdr.","Tal fra BC 2015",null,"Ungtyre  - kalve o. 10 mdr.","Tal fra BC 2015"]
[]
[null,"Gns. Gruppen","Gns. Top 5",null,"Gns.","Gns. Top 5"]
["Antal producerede kalve",736.33333333333337,929.6,"Antal producerede kalve",333,343.4]
["Slagtevægt",204.11111111111111,207.8,"Slagtevægt",233.33333333333334,238.6]
["Antal foderdage pr. produceret slagtekalv",263.98734118691146,268.84918244406191,"Antal foderdage pr. produceret slagtekalv",325.41658073598717,331.04793483377364]
["Kr. pr. kg slagtet, inkl. efterbetaling",26.497037037037039,26.981999999999999,"Kr. pr. kg slagtet, inkl. efterbetaling",25.521111111111114,25.820000000000004]
[]
["Fremstillingspris, kr. pr. kg slagtet vægt",25.720651626713931,23.17435642478916,"Fremstillingspris, kr. pr. kg slagtet vægt",27.169523927235595,25.412760875112273]
[]
["Nøgletal pr. foderdag",null,null,"Nøgletal pr. foderdag"]
["Bruttoudbytte",18.758028379215325,19.689904138305423,"Bruttoudbytte",16.971594404341115,18.500268099758703]
["- Foderomkostninger",10.839276188572086,10.285573031081139,"- Foderomkostninger",10.872902274107728,9.4205792792213803]
["- Dyrlæge og diverse",0.78356888462417129,0.68467417643013817,"- Dyrlæge og diverse",0.70246278737212853,0.97878733946027396]
["Restbeløb",7.1351833060190684,8.7196569307941463,"Restbeløb",5.3962293428612575,8.1009014810770488]
["- Krav til restbeløb",6.5657861812430109,5.2278186310004413,"- Krav til restbeløb",5.7610627125917091,6.209316590281114]
["Årets resultat",0.56939712477605742,3.491838299793705,"Årets resultat",-0.36483336973045155,1.8915848907959347]
[]
["Nøgletal pr. produceret kalv",null,null,"Nøgletal pr. produceret kalv"]
["Foderomkostninger",2856.1293194507321,2764.5346385542171,"Foderomkostninger",3483.251918585252,3124.232964472918]
["Krav til dækningsbidrag",1669.8008651476284,1493.0165662650602,"Krav til dækningsbidrag",1963.5795795795796,2016.0518345952241]
["Heraf afskrivninger",326.61923444494744,314.50494836488815,"Heraf afskrivninger",434.27777777777777,427.34536983110075]
["Arbejdsomkostninger",641.38519189175599,629.63403614457832,"Arbejdsomkostninger",671.26726726726724,652.93593476994761]
["Bygninger",462.65363915296012,387.34251290877796,"Bygninger",537.58808808808806,502.20966802562612]
["Inventar inkl. energi",344.39811880690104,318.18222891566268,"Inventar inkl. energi",456.72772772772771,566.13104251601635]
["Forrentning driftskapital",81.707358784769383,64.059810671256457,"Forrentning driftskapital",115.84434434434435,132.20267909143857]
["Øvrige omkostninger",139.59136864342841,91.793244406196209,"Øvrige omkostninger",183.22372372372374,165.30693069306932]
[0,"","",0,"",""]
["Bundet kapital",7346.9254061666916,8466.6454388984512,"Bundet kapital",9012.4070737404072,8157.6412347117066]
["Anvendt rentesats, pct.",2.6111111111111112,2.1399999999999997,"Anvendt rentesats, pct.",2.8888888888888884,2.94]
["Resultatkorrektion ved 4 pct. rente",-108.83064232181479,-146.6540447504303,"Resultatkorrektion ved 4 pct. rente",-114.69703036369702,-56.031450203843917]
["Afkastningsgrad",4.0669554718510383,13.713999999999999,"Afkastningsgrad",2.0642310066853646,12.099231624067313]
[0,"","",0,"",""]
["Specifikation af resultat","","","Specifikation af resultat","",""]
["Salg af dyr, kvæg",5457.0883758362252,5736.3175559380379,"Salg af dyr, kvæg",5819.0765765765764,6180.4467093768199]
["Køb af dyr, kvæg",-1214.1245410190634,-1166.9578313253012,"Køb af dyr, kvæg",-1243.7484150817484,-1066.9679673849737]
["Besætningsforskydning",38.498113776972993,0.63489672977624789,"Besætningsforskydning",316.47714381047712,377.5934769947583]
["Kvæg andet, inkl. slagtepræmie",726.78758613751825,751.31755593803791,"Kvæg andet, inkl. slagtepræmie",591.4154154154154,595.17996505532903]
["Andre landbrugsindtægter",9.5802525023892162,34.1039156626506,"Andre landbrugsindtægter",13.432766099432767,0.28829353523587653]
["Bruttoudbytte i alt",5017.8297872340418,5355.416092943201,"Bruttoudbytte i alt",5496.6534868201543,6086.5404775771694]
[0,"","",0,"",""]
["Korn",-535.28238016196372,-587.4292168674699,"Korn",-595.55388722055386,-918.01164822364592]
["Råvarer",-203.12660328957296,-131.22418244406197,"Råvarer",-65.22422422422423,0]
["Kraftfoder, tilskudsfoder, færdigblanding mv.",-1494.8054423821739,-1570.5036574870912,"Kraftfoder, tilskudsfoder, færdigblanding mv.",-2497.6649983316652,-2118.7105416423997]
["Mineraler og vitaminer",-53.24158744529953,-33.442986230636834,"Mineraler og vitaminer",-21.817317317317318,-22.792661619103086]
["Biprodukter mv.",-89.584075247723959,-30.298192771084338,"Biprodukter mv.",-27.696863530196865,-44.630168899242868]
["Grovfoder",-479.81595493184449,-410.85262478485367,"Grovfoder",-275.23156489823157,-20.087944088526498]
["Dyrlæge og medicin",-100.84814647150546,-82.194922547332183,"Dyrlæge og medicin",-120.84684684684684,-124.2306348281887]
["Avl, Rådgivning og Kontrol",-24.231326392032592,-13.199655765920825,"Avl, Rådgivning og Kontrol",-20.952786119452785,-28.864298194525336]
["Diverse stykomkostninger",-87.17353251848499,-73.486876075731502,"Diverse stykomkostninger",-101.10777444110778,-163.46884100174722]
["Stykomkostninger i alt",-3068.1090488406012,-2932.6323149741825,"Stykomkostninger i alt",-3726.0962629295964,-3440.796738497379]
[0,"","",0,"",""]
["Dækningsbidrag",1949.7207383934406,2422.7837779690185,"Dækningsbidrag",1770.5572238905579,2645.7437390797904]
[0,"","",0,"",""]
["Energi",-36.35410693627081,-41.032702237521512,"Energi",-70.191524858191528,-76.403028538147936]
["Brændstof og maskinstation",-50.596800965746191,-37.837994836488811,"Brændstof og maskinstation",-75.903236569903243,-90.14560279557368]
["Vedligehold",-144.43106483577284,-141.19750430292598,"Vedligehold",-148.86319652986319,-146.0891089108911]
["Lønomkostninger",-310.84145666716967,-434.45783132530119,"Lønomkostninger",-136.81181181181182,-174.59871869539896]
["Ejeraflønning",-330.6967456365374,-195.88704819277109,"Ejeraflønning",-534.32682682682685,-478.33721607454862]
["Forsikring",-60.506312559730397,-55.859509466437174,"Forsikring",-73.759426092759426,-55.917297612114155]
["Diverse kapacitetsomkostninger",-127.46436295960967,-80.03399311531841,"Diverse kapacitetsomkostninger",-171.34000667334001,-158.86429819452533]
["Kapacitetsomkostninger i alt",-1060.890850560837,-986.3065834767641,"Kapacitetsomkostninger i alt",-1211.196029362696,-1180.3552708211996]
[0,"","",0,"",""]
["Afskrivning, fast ejendom",-197.87359790754994,-200.64522375215145,"Afskrivning, fast ejendom",-260.21454788121457,-196.72801397786839]
["Afskrivning, staldinventar",-128.63613500326946,-113.8145438898451,"Afskrivning, staldinventar",-173.76726726726727,-230.54513686662784]
["Leje af driftsbygninger",-97.371611085961476,0,"Leje af driftsbygninger",-68.921087754421094,-140.08969132207338]
["Øvrige kapitalomkostninger",0,0,"Øvrige kapitalomkostninger",-4.0123456790123457,0]
["Renteomk. af bundet kapital",-185.02867059001056,-192.2502151462995,"Renteomk. af bundet kapital",-245.4683016349683,-268.33372160745489]
["Kapitalomkostninger i alt",-608.91001458679148,-506.70998278829609,"Kapitalomkostninger i alt",-752.38355021688358,-835.69656377402453]
[0,"","",0,"",""]
["Årets resultat",279.91987324581214,929.76721170395842,"Årets resultat",-193.02235568902165,629.69190448456629]
["Foderdage",269,261,"Foderdage",334,319]

{"sheet":"Statiske ejendomme","index":9,"n_rows":73,"n_cols":40,"rows_kept":73,"cut":false,"hidden":false,"merged":[[0,1,0,25],[0,26,0,39]]}
[null,"Dansk kalv - kalve under 10 mdr.",null,null,null,null,null,null,null,null,null,null,null,null,null,null,null,null,null,null,null,null,null,null,null,null,"Ungtyre - kalve over 10 mdr."]
[]
[1,"Løbenummer - 27 bedrifter i gruppen","D1","D2","D4","D5","D6","D7","D9","D10","D11","D12","D13","D14","D15","D16","D17","D19","D20","D21","D22","D23","D24","D25","D26","D27","Løbenummer - 18 bedrifter i gruppen","U1","U2","U3","U4","U6","U7","U8","U9","U10","U11","U12","U13","U14"]
[2,"Percentil","P100","P96","P89","P85","P81","P78","P70","P67","P63","P59","P56","P52","P48","P44","P41","P33","P30","P26","P22","P19","P15","P11","P7","P4","Percentil","P100","P94","P89","P83","P72","P67","P61","P56","P50","P44","P39","P33","P28"]
[3,"Løbenummer i salgsafgrøder","SKA14","","SKA15","SKA25","","SKA20","SKA23","","","","SKA28","SKA7","","","","SKA10","SKA4","","SKA24","","SKA16","SKA8","SKA13","SKA29","Løbenummer i salgsafgrøder","SKA2","SKA30","SKA26","SKA31","SKA19","SKA11","","SKA9","SKA12","","SKA21","",""]
[4,"Antal producerede kalve","200-500","Over 500","Over 500","Over 500","100-200","Over 500","200-500","200-500","Over 500","200-500","200-500","Over 500","Over 500","200-500","Over 500","100-200","100-200","Over 500","Over 500","Over 500","200-500","200-500","200-500","200-500","Antal producerede kalve","100-200","200-500","100-200","Over 500","100-200","100-200","200-500","200-500","100-200","100-200","Over 500","200-500","Over 500"]
[5,"Slagtevægt",212,201,211,218,203,198,206,206,208,218,191,200,209,195,199,214,213,203,211,200,198,193,198,198,"Slagtevægt",263,248,255,205,238,240,231,235,211,241,232,260,253]
[6,"Antal foderdage pr. produceret slagtekalv",275.97640117994075,247.63730929264901,281.18189300411507,277.10049751243798,279.51704545454544,282.25780624499589,272.6525198938993,250.33663366336606,261.58929577464835,287.26979472140761,260.78991596638633,260.12320916905441,277.70065789473682,249.09484536082465,249.18049609006712,273.323076923077,271.14049586776872,284.00724637681139,265.28730158730144,252.06776715899207,216.46290801186947,210.52118644067781,257.96951219512181,273.69333333333344,"Antal foderdage pr. produceret slagtekalv",407.14761378700763,329.0491803278689,412.71515151515189,303.25465838509331,306.87898089171921,292.62676056338034,334.06605345229116,312.95586162398291,321.18421052631669,309.92098482043696,332.67948717948713,373.78368794326298,344.09302676640226]
[7,"Kr. pr. kg slagtet, inkl. efterbetaling",26.9,27.76,27.08,27.51,24.62,26.66,27.06,26.88,27.51,26.82,26.96,26.7,27.06,27,27.11,27.3,26.4,26.75,26.83,27.01,26.58,24.09,24.67,24.78,"Kr. pr. kg slagtet, inkl. efterbetaling",25.87,26.86,25.6,27.08,24.14,25.12,24.7,25.44,26.2,25.29,24.81,26.59,26.31]
[8]
[9,"Fremstillingspris, kr. pr. kg slagtet vægt",22.75,22.044776119402986,23.644549763033176,24.403669724770641,20.47783251231527,26.277777777777779,25.766990291262136,25.368932038834952,25.754807692307693,25.729357798165136,24.115183246073297,26.734999999999999,24.741626794258373,27.005128205128205,27.175879396984925,26.177570093457945,29.535211267605632,27.773399014778324,27.009478672985782,28.68,28.358585858585858,25.7720207253886,28.555555555555557,27.383838383838384,"Fremstillingspris, kr. pr. kg slagtet vægt",21.836501901140686,24.467741935483872,25.258823529411764,27.73658536585366,26.991596638655462,24.354166666666668,24.311688311688311,24.736170212765959,29.180094786729857,18.331950207468878,27.232758620689655,28.919230769230769,28.177865612648223]
[10]
[11,"Nøgletal pr. foderdag","","","","","","","","","","","","","","","","","","","","","","","","","Nøgletal pr. foderdag","","","","","","","","","","","","",""]
[12,"Bruttoudbytte",20.078209842233548,20.753389173128575,19.956986383168061,20.383753581867655,16.945421282650678,18.766644919725429,19.329263547037641,20.831217370669219,19.675950473917791,18.923416939740097,17.155620772484415,20.226986330039768,18.342805700003556,19.403456638882229,18.750911124053417,18.749090022139661,22.16611801999511,18.013339271901888,18.850967205365862,19.078199427842701,20.307876843779127,15.781706016142353,17.613822771645363,12.314934801318584,"Bruttoudbytte",17.424072043192432,18.225625249103228,16.039839642867619,19.238055788881571,19.746699875467034,19.017616056602407,15.772329889700929,16.080820248602347,18.278055441758791,14.050625795174073,16.685707679349054,15.892834441735346,17.481287549661481]
[13,"- Foderomkostninger",10.801113771431025,10.053204627365984,10.414224496247474,10.945451476914453,9.7668462242097771,9.9583763544562363,8.7396536628076635,10.080643885461173,11.321441416606163,10.284445533335376,10.318396742580857,11.505369948118041,11.414896767392001,11.037471753399943,10.714072313613288,9.4718000675447467,12.978541819068514,10.561497827579629,12.436597638977815,11.752169717023408,12.58429292098481,11.960841736610117,12.662955696850805,10.112827008330488,"- Foderomkostninger",8.6062746652408428,10.439256177760061,9.339261064935819,8.9575010990765858,12.222021585720238,12.009746588693954,10.453436655541479,12.023504105117432,10.655578314898236,9.575239215527553,11.459654376992235,10.404290037663516,11.292616310279717]
[14,"- Dyrlæge og diverse",0.80246055838214614,0.62836571985449197,0.48524745635705868,0.49461732367156669,0.4471999186909239,0.86444375106370941,0.65950967992995402,0.96773651320993614,0.92591009237143962,0.39629845139292974,0.63651047458993426,0.79171210468920405,0.59428341289489583,1.094171888321428,0.97592378980243377,0.75049720439791345,0.60960741282613973,2.1328379912646405,0.85121850524438958,0.85827732395822598,0.75119263036683659,0.77239699696073161,0.65318584001071567,0.66019551485035943,"- Dyrlæge og diverse",0.51814052268943123,0.95754035472299703,0.54227730623513126,1.0888159315489749,0.815504358655045,0.91641999374293037,0.51564462840232017,0.23154628815678613,0.3891847603441202,0.34882474373506572,0.48568345600986557,0.73081484151906317,0.50656148993719974]
[15,"Restbeløb",8.4746355124203774,10.0718188259081,9.0575144305635291,8.943684781281636,6.7313751397499768,7.9438248142054837,9.9301002043000235,9.7828369719981101,7.4285989649401882,8.2426729550117912,6.2007135553136239,7.9299042772325228,6.3336255197166587,7.2718129971608576,7.0609150206376947,8.5267927501970018,8.5779687881004563,5.3190034530576185,5.5631510611436568,6.4677523868610676,6.9723912924274805,3.0484672825715045,4.2976812347838429,1.5419122781377368,"Restbeløb",8.2996568552621568,6.8288287166201691,6.1583012716966694,9.1917387582560099,6.7091739310917502,6.0914494741655227,4.8032486057571298,3.8257698553281285,7.2332923665164355,4.1265618359114535,4.7403698463469537,4.7577295625527665,5.6821097494445638]
[16,"- Krav til restbeløb",4.2107080251400264,5.737169308835516,6.0666118324766742,6.0239114354042895,3.9374733204593961,5.4776450899188767,7.7527094075299132,8.3684444708115908,6.3093732568632364,7.5288743249726933,5.4617596693742589,7.2649725168809143,5.9392272065007523,6.9836190413124655,7.6723931396858163,9.346560846560843,9.5122531089978004,6.2830140174711433,6.6244024148721703,7.9378485506497123,8.9757909743927158,5.5632409476078379,7.4503667635773478,5.9868871892304423,"- Krav til restbeløb",5.1765722329902557,4.023814268632921,4.7648389086316731,7.4179288899780378,6.1176214196762251,5.722835896325174,4.5047865176676014,3.701255838871818,7.3499112385634104,4.4369809753612888,5.4561805299405988,5.6992514728623256,6.7322388632451338]
[17,"Årets resultat",4.263927487280351,4.3346495170725836,2.9909025980868549,2.9197733458773465,2.7939018192905807,2.466179724286607,2.1773907967701103,1.4143925011865193,1.1192257080769519,0.71379863003909794,0.73895388593936495,0.6649317603516085,0.39439831321590635,0.28819395584839214,-0.61147811904812155,-0.81976809636384118,-0.93428432089734414,-0.96401056441352484,-1.0612513537285135,-1.4700961637886447,-2.0033996819652353,-2.5147736650363335,-3.1526855287935049,-4.4449749110927055,"Årets resultat",3.1230846222719011,2.8050144479872481,1.3934623630649963,1.7738098682779722,0.59155251141552512,0.36861357784034876,0.29846208808952834,0.12451401645631055,-0.11661887204697496,-0.31041913944983524,-0.71581068359364508,-0.94152191030955912,-1.0501291138005699]
[18]
[19,"Nøgletal pr. produceret kalv","","","","","","","","","","","","","","","","","","","","","","","","","Nøgletal pr. produceret kalv","","","","","","","","","","","","",""]
[20,"Foderomkostninger",2980.8525073746314,2489.5485436893205,2928.2913580246914,3032.990049751244,2730,2810.8294635708567,2382.8885941644562,2523.5544554455446,2961.5678873239435,2954.4105571847508,2690.9338194054963,2992.8137535816618,3169.9243421052633,2749.3773195876288,2669.7378542510123,2588.8615384615387,3519.0082644628101,2999.5419156255662,3299.2714285714287,2962.3431798436141,2724.0326409495551,2518.0105932203392,3266.6565040650407,2767.8133333333335,"Foderomkostninger",3504.0241935483873,3435.0286885245901,3854.4545454545455,2716.4039357845677,3750.6815286624205,3514.3732394366198,3492.1383285302595,3762.8260869565215,3422.4035087719299,2967.5675675675675,3812.3919413919416,3888.9539007092199,3885.7105263157896]
[21,"Krav til dækningsbidrag",1162.0560471976401,1420.737170596394,1705.8213991769546,1669.2288557213931,1100.590909090909,1546.1080864691753,2113.7957559681699,2094.9282178217823,1650.4645070422534,2162.818181818182,1424.371845204711,1889.7879656160458,1649.327302631579,1739.5835051546392,1911.8107287449393,2554.6307692307691,2579.1570247933882,1784.4215100488866,1757.3698412698413,2000.8757602085143,1942.9258160237389,1171.1800847457628,1921.9674796747968,1638.5711111111111,"Krav til dækningsbidrag",2107.6290322580644,1324.032786885246,1966.5212121212121,2249.5214914552043,1877.3694267515923,1674.6549295774648,1504.8962536023055,1158.3297101449275,2360.6754385964914,1375.1135135135135,1815.1593406593406,2130.2872340425533,2316.5164473684213]
[22,"Heraf afskrivninger",206.12684365781712,354.36893203883494,422.69053497942389,245.75621890547265,125,426.2570056044836,425.10875331564989,789.02475247524751,82.657746478873236,548.35483870967744,254.30734716769487,340.19484240687677,638.48190789473688,465.71752577319586,355.94331983805665,666.66666666666663,833.05785123966939,284.26579757378238,340.96190476190475,555.65942658557776,232.91988130563797,132.6843220338983,557.54674796747963,217.94,"Heraf afskrivninger",613.55645161290317,142.34426229508196,262.12121212121212,459.80838943552561,360.03821656050957,157.31690140845072,350.34005763688759,102.54710144927536,815.30701754385962,0,547.76190476190482,402.37943262411346,691.69407894736844]
[23,"Arbejdsomkostninger",522.41887905604722,572.12205270457696,754.28724279835387,665.08258706467666,426.13636363636363,575.59967974379504,998.40848806366046,495.04950495049508,608.90591549295777,911.21407624633434,649.46719012899598,720.38681948424073,639.8026315789474,668.65979381443299,851.02530364372467,974.35897435897436,578.51239669421489,849.1544450479812,624.45714285714291,525.62988705473504,890.20771513353111,317.79661016949154,639.1239837398374,728.88,"Arbejdsomkostninger",403.22580645161293,434.01639344262293,721.24242424242425,786.07767995857068,700.63694267515928,528.16901408450701,391.91066282420752,652.17391304347825,657.89473684210532,405.40540540540542,568.91025641025647,946.77304964539007,752.9588815789474]
[24,"Bygninger",293.15044247787608,401.99375866851597,487.51687242798351,361.49950248756221,211.36363636363637,431.04963971176943,602.48541114058355,840.07673267326732,566.54901408450701,554.09970674486806,343.37633202467748,331.82951289398278,650.00493421052636,399.90927835051548,404.82793522267207,674.5333333333333,851.23966942148763,256.02208944414269,445.86984126984129,686.75760208514339,526.02373887240356,291.29237288135596,654.61585365853659,133.56,"Bygninger",309.09677419354841,244.17622950819671,510.43030303030304,557.95546349041945,302.91719745222929,467.8098591549296,328.47262247838614,140.66666666666666,980.97368421052636,374.59459459459458,533.39377289377285,374.80141843971631,803.83059210526312]
[25,"Inventar inkl. energi",160.01179941002951,317.84327323162273,332.87242798353907,401.14726368159205,273.86931818181819,260.03442754203365,301.54376657824935,551.26732673267327,259.96253521126761,480.39589442815247,220.22434099831742,512.12893982808021,174.33881578947367,461.71546391752577,398.32489878542509,661.53846153846155,758.2644628099174,489.61071881223978,441.26666666666665,530.78279756733275,218.90207715133531,387.125,263.92479674796749,385.58222222222224,"Inventar inkl. energi",918.7822580645161,336.05327868852459,400.86060606060607,615.59295701708959,468.91082802547771,348.92253521126759,391.04322766570607,194.16666666666666,523.41228070175441,174.05405405405406,397.33150183150184,607.80141843971626,489.80921052631578]
[26,"Forrentning driftskapital",68.097345132743357,59.065187239944521,65.394238683127568,93.870646766169159,82.914772727272734,78.0408326661329,62.45888594164456,55.534653465346537,118.89605633802817,130.65102639296188,44.750420639371839,98.351002865329519,16.733552631578949,38.729896907216492,56.974696356275302,35.733333333333334,138.75206611570249,58.042730400144855,67.058730158730157,98.072980017376196,78.267062314540055,61.949152542372879,133.03658536585365,213.60666666666665,"Forrentning driftskapital",156.37903225806451,42.602459016393439,187.63636363636363,143.96271361988607,115.8407643312102,50.007042253521128,217.78097982708934,107.59057971014492,85.096491228070178,233.08108108108109,115.67948717948718,70.861702127659569,112.73848684210526]
[27,"Øvrige omkostninger",117.36283185840708,66.574202496532592,68.967078189300409,145.29850746268656,107.375,199.78142514011208,146.19893899204243,155.6881188118812,96.865633802816902,86.759530791788862,165.30286034772854,227.85673352435529,163.57565789473685,173.1958762886598,198.94635627530366,210.25641025641025,253.63636363636363,131.38330617418072,178.35555555555555,164.80538662033015,232.58456973293769,110.97457627118644,232.46341463414635,178.04222222222222,"Øvrige omkostninger",316.12903225806451,264.31147540983608,146.44242424242424,148.96841015018126,284.81528662420385,281.6901408450704,177.39481268011528,65.217391304347828,114.03508771929825,189.18918918918919,197.26739926739927,126.51418439716312,156.25]
[28,0,"","","","","","","","","","","","","","","","","","","","","","","","",0,"","","","","","","","","","","","",""]
[29,"Bundet kapital",7347.3628318584069,7846.6685159500694,9616.3292181069955,7490.4885572139301,5362.784090909091,8437.4755804643719,8297.5517241379312,7404.3638613861385,3573.545352112676,11579.615835777126,4774.1166573191249,5973.0845272206307,14170.200657894737,7622.5608247422679,6924.8026315789475,12478.974358974359,12475.495867768595,5793.1450298750688,7622.925396825397,10511.320590790618,6960.9080118694365,4969.4364406779659,6061.7682926829266,4194.9977777777776,"Bundet kapital",8704.1129032258068,6299.061475409836,9174.3515151515148,7412.1750388399796,9235.7261146496821,5702.9929577464791,7025.6887608069164,6039.228260869565,14293.921052631578,3027.0270270270271,10222.791208791208,8856.443262411347,12710.131578947368]
[30,"Anvendt rentesats, pct.",1.9,2.5,2.2999999999999998,3.3,3.4,1.8,1.4,1.8,3.6,3.5,1.8,4.2,0.5,1.2,1.8,1.5,4.5,1.9,2.2000000000000002,3.9,3.5,2,4.4000000000000004,7.1,"Anvendt rentesats, pct.",3.1,1.1000000000000001,3,3.7,2.4,1.5,4.8,2.4,2.9,7.7,2.5,1.8,2]
[31,"Resultatkorrektion ved 4 pct. rente",-154.29498525073745,-117.6997226074896,-163.47736625514403,-52.433830845771148,-32.176136363636367,-185.62449959967975,-215.73740053050398,-162.89603960396039,-14.294084507042253,-57.897360703812318,-105.03084688726864,11.945558739255015,-495.95723684210526,-213.43092783505153,-152.34615384615384,-311.97435897435895,62.380165289256198,-121.65670831070072,-137.21269841269842,-10.511728931364031,-34.804154302670625,-99.387711864406782,24.247967479674795,130.04444444444445,"Resultatkorrektion ved 4 pct. rente",-78.338709677419359,-182.67213114754099,-91.74545454545455,-22.236147074054895,-147.77070063694268,-142.57746478873239,56.204610951008647,-96.626811594202906,-157.23684210526315,112,-153.34249084249083,-194.84042553191489,-254.20230263157896]
[32,"Afkastningsgrad",17.93,16.22,11.01,14.13,17.940000000000001,10.07,8.59,6.55,11.77,5.27,5.86,7.08,1.31,2.11,-0.38,-0.31,2.46,-2.8,-1.49,0.33,-2.77,-8.61,-9.0399999999999991,-21.93,"Afkastningsgrad",17.75,15.8,9.27,10.92,4.41,3.36,6.19,3.02,2.63,4.4800000000000004,0.2,-2.13,-0.84]
[33,0,"","","","","","","","","","","","","","","","","","","","","","","","",0,"","","","","","","","","","","","",""]
[34,"Specifikation af resultat","Kr. pr. produceret kalv",null,null,null,"","","Kr. pr. produceret kalv",null,null,null,null,null,"","Kr. pr. produceret kalv",null,null,null,null,null,"","Kr. pr. produceret kalv",null,null,null,"Specifikation af resultat","Kr. pr. produceret kalv",null,null,null,"","","Kr. pr. produceret kalv",null,null,null,null,null,""]
[35,"Salg af dyr, kvæg",5332.7404129793513,5557.4223300970871,5920.9777777777781,5997.7810945273632,4458.505681818182,5280.6317053642915,5666.4880636604776,5714.4232673267325,5704.0394366197179,5898.1085043988269,4702.1676948962422,5362.7736389684815,5654.6315789473683,5276.3525773195879,5242.7550607287449,5210.3948717948715,6265.8099173553719,5269.4785442694192,5646.1523809523806,5437.4726324934836,4934.1008902077156,4035.4491525423728,4185.4390243902435,4786.9511111111115,"Salg af dyr, kvæg",6585.3790322580644,6662.2090163934427,6956.8727272727274,5852.4256861729673,6302.751592356688,6178.6830985915494,5721.3976945244958,5529.54347826087,6665.0701754385964,5411.7729729729726,5622.565934065934,5855.4042553191493,6251.9934210526317]
[36,"Køb af dyr, kvæg",-1217.825958702065,-1177.2364771151179,-1057.7432098765432,-1296.1701492537313,-1000,-1360.6493194555644,-1464.0981432360743,-1197.3712871287128,-1264.4061971830986,-965.33724340175957,-1008.5670218732473,-1070.4383954154728,-1056.9736842105262,-1228.0721649484535,-1291.1012145748987,-843.64102564102564,-752.06611570247935,-978.98243708129644,-1046.7222222222222,-1293.8079930495221,-1491.4658753709198,-1699.5042372881355,-880.89024390243901,-1272.0288888888888,"Køb af dyr, kvæg",-712.90322580645159,-1002.5,-1240.2666666666667,-1198.6276540652511,-1399.7070063694268,-1143.894366197183,-1290.4322766570606,-1496.231884057971,-1096.4912280701753,-527.03783783783786,-1362.3479853479853,-1242.3581560283687,-1358.3059210526317]
[37,"Besætningsforskydning",669.61651917404129,-51.386962552011099,-94.238683127572017,134.82587064676616,478.97727272727275,618.81505204163329,238.9920424403183,-137.12871287128712,-54.95718309859155,-83.577712609970675,98.429613011777903,156.73352435530086,-369.9013157894737,57.748453608247424,14.878542510121457,165.12820512820514,-229.75206611570249,94.875973202969405,-227.46031746031747,-77.497827975673331,244.21364985163206,409.95762711864404,652.84552845528458,-584.44444444444446,"Besætningsforskydning",433.87096774193549,331.96721311475409,60,368.51372345934749,305.73248407643314,-227.46478873239437,-6.3400576368876083,321.73913043478262,-544.73684210526312,-1090.8108108108108,461.06227106227107,1314.5390070921985,516.90789473684208]
[38,"Kvæg andet, inkl. slagtepræmie",756.58112094395278,745.08460471567264,759.09053497942386,811.91144278606964,799.05113636363637,758.23458767013608,828.79045092838192,834.8935643564356,753.50704225352115,586.93255131964804,681.98261357263038,812.43982808022918,866.0526315789474,727.27216494845356,705.82894736842104,592.67692307692312,726.14049586776855,730.54680427304004,628.95238095238096,742.83231972198087,709.053412462908,576.48093220338978,586.43495934959344,437.81555555555553,"Kvæg andet, inkl. slagtepræmie",787.82258064516134,5.4508196721311473,840.26666666666665,811.71828068358366,849.79617834394901,757.73943661971828,844.37463976945241,677.536231884058,846.78070175438597,560.65945945945941,818.03479853479848,12.897163120567376,503.73684210526318]
[39,"Andre landbrugsindtægter",0,0,0,0,0,0,0,0,8.8349295774647896,0,0,0,0,0,0,0,0,0,0,0,0,0,0,0,"Andre landbrugsindtægter",0,0,3.0121212121212122,0,1.2738853503184713,0,0,0,0,0,11.677655677655677,0,100.85690789473684]
[40,"Bruttoudbytte i alt",5541.1120943952801,5139.3134535367544,5611.5432098765432,5648.3482587064673,4736.534090909091,5297.0320256204968,5270.1724137931033,5214.8168316831679,5147.0180281690136,5436.1260997067448,4474.0128996074027,5261.5085959885391,5093.8092105263158,4833.3010309278352,4672.3613360323889,5124.5589743589744,6010.1322314049585,5115.9188846641318,5000.9222222222224,4808.9991311902695,4395.9020771513351,3322.3834745762711,4543.8292682926831,3370.5155555555557,"Bruttoudbytte i alt",7094.1693548387093,5997.127049180328,6619.8848484848486,5834.0300362506478,6059.8471337579622,5565.0633802816901,5269,5032.586956521739,5870.6228070175439,4354.5837837837835,5550.9926739926741,5940.4822695035464,6015.1891447368425]
[41,0,"","","","","","","","","","","","","","","","","","","","","","","","",0,"","","","","","","","","","","","",""]
[42,"Korn",-1257.3510324483775,-88.158113730929259,-319.34156378600824,-1129.7880597014926,0,-1074.0576461168935,-1076.1989389920425,-840.13861386138615,-196.82197183098592,-434.06158357771261,0,-1191.4770773638968,-507.36019736842104,0,-487.69028340080973,-1025.6410256410256,-1295.8677685950413,-509.72659786348004,0,-226.57254561251085,-711.20178041543022,-1500.2012711864406,-4.2682926829268295,-759.80666666666662,"Korn",0,-1498.8155737704917,-1628.3272727272727,-974.7125841532885,-949.20382165605099,0,0,-90,0,-886.48648648648646,-1085.4322344322345,-1665.2340425531916,-51.39638157894737]
[43,"Råvarer",0,0,-502.3020576131687,0,0,0,0,5.5198019801980198,-582.35830985915493,-219.94134897360703,0,0,0,0,-367.79858299595139,0,-74.380165289256198,-48.718087995654543,0,-764.12163336229366,-31.807121661721069,0,0,0,"Råvarer",0,0,0,0,0,0,0,0,-3422.4035087719299,0,0,-2.7092198581560285,0]
[44,"Kraftfoder, tilskudsfoder, færdigblanding mv.",-1648.8997050147493,-2131.1345353675451,-1009.2921810699588,-1690.2537313432836,-2730,-1475.1297037630104,-1198.8700265251989,-1637.8836633663366,-801.45661971830987,-1810.6715542521995,-2634.0409422321927,-1683.8409742120343,-2445.3766447368421,-2749.3773195876288,-855.8866396761133,-1211.2820512820513,-1983.4710743801652,-1138.2762991128011,-2987.7158730158731,-808.7932232841008,-1754.106824925816,-672.4406779661017,-2686.2357723577234,-1907.2733333333333,"Kraftfoder, tilskudsfoder, færdigblanding mv.",-3504.0241935483873,-1629.3360655737704,-2158.1030303030302,-1678.1367167270844,-2653.375796178344,-3513.0563380281692,-2673.5389048991356,-3572.8260869565215,0,-2081.0810810810813,-2589.5091575091574,-1566.514184397163,-2440.53125]
[45,"Mineraler og vitaminer",0,-5.3689320388349513,-50.139917695473251,-4.1333333333333337,0,0,-35.591511936339522,0,-141.73492957746478,0,-2.2378014582164889,-26.703438395415471,0,0,-104.81578947368421,0,-66.115702479338836,-205.14575411913816,-8.5555555555555554,-83.244135534317991,0,-56.809322033898304,-9.4491869918699187,0,"Mineraler og vitaminer",0,0,-2.8727272727272726,-40.065251165199378,-0.96815286624203822,-1.3169014084507042,-12.547550432276656,-100,0,0,0,-56.5177304964539,-5.1611842105263159]
[46,"Biprodukter mv.",-12.247787610619469,-6.1754507628294038,0,0,0,-151.7341873498799,0,-51.051980198019805,-161.1819718309859,0,0,0,0,0,-175.60121457489879,0,0,-159.1616874886837,-3.7777777777777777,-256.62206776715897,0,0,0,-47.784444444444446,"Biprodukter mv.",0,-222.55327868852459,0,-23.48938373899534,0,0,0,0,0,0,0,0,0]
[47,"Grovfoder",-62.353982300884958,-258.71151178918171,-1047.2156378600823,-208.81492537313432,0,-109.90792634107285,-72.228116710875327,0,-1078.0140845070423,-489.73607038123168,-54.65507571508693,-90.792263610315189,-217.1875,0,-677.94534412955466,-351.93846153846152,-99.173553719008268,-938.51348904580857,-299.22222222222223,-822.98957428323195,-226.91691394658753,-288.5593220338983,-566.70325203252037,-52.948888888888888,"Grovfoder",0,-84.323770491803273,-65.151515151515156,0,-147.13375796178343,0,-806.05187319884726,0,0,0,-137.45054945054946,-597.97872340425533,-1388.6217105263158]
[48,"Dyrlæge og medicin",-119.13569321533923,-96.919556171983359,-65.29547325102881,-53.690547263681594,-56.81818181818182,-105.74539631705365,-108.74535809018568,-106.62376237623762,-119.30704225352113,-61.457478005865106,-97.804262478968027,-143.99283667621776,-61.565789473684212,-172.71340206185567,-139.17813765182186,-102.56410256410257,-123.96694214876032,-131.64584464964693,-140.73809523809524,-76.180712423979145,-95.551928783382792,-81.853813559322035,-72.558943089430898,-80.982222222222219,"Dyrlæge og medicin",-139.7258064516129,-167.19262295081967,-121.61818181818182,-108.04142931123771,-144.25477707006368,-131.79577464788733,-98.982708933717575,-36.231884057971016,-61.403508771929822,-108.10810810810811,-94.111721611721606,-221.25531914893617,-105.39309210526316]
[49,"Avl, Rådgivning og Kontrol",-10.12094395280236,-15.610263522884882,-12.823868312757202,-18.759203980099503,0,-33.044035228182544,-37.96021220159151,-38.972772277227726,-25.025352112676057,-28.985337243401759,-28.533370723499718,-11.806590257879655,-16.095394736842106,-16.934020618556701,-10.530364372469636,-51.282051282051285,0,-33.161325366648562,-33.114285714285714,-17.580364900086881,-8.2789317507418403,0,-49.205284552845526,-14.44,"Avl, Rådgivning og Kontrol",-22.846774193548388,-40.450819672131146,-60.333333333333336,-27.893319523562919,-5.8789808917197455,0,-22.152737752161382,0,0,0,-31.869963369963369,-9.4716312056737593,-0.50657894736842102]
[50,"Diverse stykomkostninger",-92.203539823008853,-43.076976421636616,-58.323456790123458,-64.608955223880599,-68.181818181818187,-105.20656525220176,-33.111405835543763,-96.663366336633658,-97.875774647887326,-23.401759530791789,-39.657879977565898,-50.143266475644701,-87.371710526315795,-82.905154639175251,-93.472672064777328,-51.282051282051285,-41.32231404958678,-440.93427485062472,-51.965079365079362,-122.58297132927889,-58.774480712166174,-80.752118644067792,-46.737804878048777,-85.268888888888895,"Diverse stykomkostninger",-48.387096774193552,-107.43442622950819,-41.854545454545452,-194.25375453133091,-100.12738853503184,-136.37323943661971,-51.123919308357351,-36.231884057971016,-63.596491228070178,0,-35.595238095238095,-42.439716312056738,-68.40460526315789]
[51,"Stykomkostninger i alt",-3202.3126843657819,-2645.1553398058254,-3064.7341563786008,-3170.0487562189055,-2855,-3054.8254603682944,-2562.7055702917773,-2765.8143564356437,-3203.776056338028,-3068.2551319648096,-2856.9293325855297,-3198.7564469914041,-3334.9572368421054,-3021.9298969072165,-2912.9190283400808,-2793.9897435897437,-3684.2975206611573,-3605.2833604924863,-3525.088888888889,-3178.6872284969591,-2886.6379821958458,-2680.6165254237289,-3435.1585365853657,-2948.5044444444443,"Stykomkostninger i alt",-3714.983870967742,-3750.1065573770493,-4078.2606060606063,-3046.5924391506992,-4000.9426751592355,-3782.5422535211269,-3664.3976945244958,-3835.289855072464,-3547.4035087719299,-3075.6756756756758,-3973.9688644688645,-4162.1205673758868,-4060.0148026315787]
[52,0,"","","","","","","","","","","","","","","","","","","","","","","","",0,"","","","","","","","","","","","",""]
[53,"Dækningsbidrag",2338.7994100294986,2494.1581137309295,2546.8090534979424,2478.2995024875622,1881.534090909091,2242.2065652522019,2707.4668435013264,2449.0024752475247,1943.2419718309859,2367.8709677419356,1617.0835670218733,2062.7521489971346,1758.8519736842106,1811.3711340206185,1759.4423076923076,2330.5692307692307,2325.8347107438017,1510.635524171646,1475.8333333333333,1630.3119026933102,1509.2640949554896,641.76694915254234,1108.6707317073171,422.01111111111112,"Dækningsbidrag",3379.1854838709678,2247.0204918032787,2541.6242424242423,2787.4375970999481,2058.9044585987263,1782.5211267605634,1604.6023054755044,1197.2971014492753,2323.219298245614,1278.9081081081081,1577.0238095238096,1778.3617021276596,1955.1743421052631]
[54,0,"","","","","","","","","","","","","","","","","","","","","","","","",0,"","","","","","","","","","","","",""]
[55,"Energi",-5.8436578171091442,-50.624133148404994,-35.199176954732508,-41.791044776119406,-112.50568181818181,-12.760608486789431,-43.100795755968171,-37.594059405940591,-28.169014084507044,-17.260997067448681,-51.511497476163768,-42.97994269340974,-32.89473684210526,-27.91340206185567,-31.733805668016196,-92.307692307692307,-82.644628099173559,-75.996740901683879,-43.649206349206352,-29.159860990443093,-15.382789317507418,-74.152542372881356,-58.363821138211385,-4.4444444444444446,"Energi",-161.29032258064515,-79.918032786885249,-190.47878787878787,-45.932677369238739,-62.592356687898089,-42.79577464788732,-59.152737752161386,-21.739130434782609,-87.719298245614041,-6.4864864864864868,-51.150183150183153,-37.638297872340424,-107.49671052631579]
[56,"Brændstof og maskinstation",-26.374631268436577,-14.563106796116505,-38.909465020576128,-9.9502487562189046,-11.363636363636363,-27.64771817453963,-18.161803713527853,-176.78712871287129,-63.380281690140848,-76.838709677419359,-74.018508132361191,-42.97994269340974,-48.51973684210526,-10.309278350515465,-55.888663967611336,-76.92307692307692,0,-63.371356147021551,-187.30158730158729,-68.341442224152914,0,0,-36.585365853658537,0,"Brændstof og maskinstation",0,-23.524590163934427,-82.296969696969697,-137.42827550491972,-79.605095541401269,-129.19014084507043,-53.063400576368878,-129.34057971014494,0,-16.216216216216218,-45.787545787545788,-86.627659574468083,-49.342105263157897]
[57,"Vedligehold",-77.525073746312685,-112.55547850208045,-115.07736625514403,-294.06268656716418,-119.31818181818181,-102.46196957566053,-235.47214854111405,-226.990099009901,-84.947323943661971,-29.428152492668623,-69.066180594503635,-195.24068767908309,-20.723684210526315,-200.38350515463918,-238.08603238866397,-164.10256410256412,-206.61157024793388,-236.58881042911463,-158.6888888888889,-155.80625543006082,-261.67359050445106,-323.71822033898303,-104.66463414634147,-212.18444444444444,"Vedligehold",-194.42741935483872,-227.32377049180329,-205.25454545454545,-123.20662868979804,-132.89808917197453,-297.88732394366195,-104.96253602305475,-43.858695652173914,-175.43859649122808,-210.81081081081081,-112.92857142857143,-333.968085106383,-191.80098684210526]
[58,"Lønomkostninger",-6.1946902654867255,-462.55201109570044,-552.64115226337447,-535.72935323383081,-227.27272727272728,-395.45556445156126,-70.026525198938998,0,-498.57464788732392,-31.448680351906159,-18.508132361189006,-276.26074498567334,-251.64473684210526,-101.64948453608247,-284.2236842105263,-717.9487179487179,-247.93388429752065,-124.91037479630637,-68.901587301587298,-173.7619461337967,0,0,-59.855691056910572,-62.213333333333331,"Lønomkostninger",0,-17.21311475409836,0,-216.42465044018644,0,0,0,-634.05797101449275,0,-270.27027027027026,-19.45970695970696,-28.333333333333332,-139.47203947368422]
[59,"Ejeraflønning",-516.22418879056045,-109.57004160887656,-201.64609053497944,-129.35323383084577,-198.86363636363637,-180.14411529223378,-928.38196286472146,-495.04950495049508,-110.3312676056338,-879.76539589442814,-630.95905776780705,-444.12607449856733,-388.15789473684208,-567.01030927835052,-566.80161943319843,-256.41025641025641,-330.57851239669424,-724.24407025167488,-555.55555555555554,-351.86794092093834,-890.20771513353111,-317.79661016949154,-579.26829268292681,-666.66666666666663,"Ejeraflønning",-403.22580645161293,-416.80327868852459,-721.24242424242425,-569.6530295183843,-700.63694267515928,-528.16901408450701,-391.91066282420752,-18.115942028985508,-657.89473684210532,-135.13513513513513,-549.45054945054949,-918.4397163120567,-613.48684210526312]
[60,"Forsikring",-79.646017699115049,-50.624133148404994,-52.731687242798351,-68.542288557213936,-39.772727272727273,-65.028022417934352,-128.47745358090185,-83.205445544554451,-43.217183098591548,-87.976539589442808,-86.326416152551872,-31.306590257879655,-29.605263157894736,-104.55876288659793,-65.402834008097173,-184.61538461538461,-103.30578512396694,-28.969762810066996,-75.51428571428572,-75.854039965247608,-102.66468842729971,-74.152542372881356,-77.235772357723576,-30.72,"Forsikring",-145.16129032258064,-80.43442622950819,-83.545454545454547,-39.45209735888141,-57.471337579617831,-154,-32.544668587896254,0,-96.491228070175438,-34.054054054054056,-49.214285714285715,-64.641843971631204,-111.84210526315789]
[61,"Diverse kapacitetsomkostninger",-103.50442477876106,-66.574202496532592,-68.967078189300409,-94.527363184079604,-85.227272727272734,-182.87670136108886,-146.19893899204243,-155.6881188118812,-96.865633802816902,-86.759530791788862,-152.4901850813236,-183.78653295128939,-163.57565789473685,-173.1958762886598,-187.37348178137651,-210.25641025641025,-214.87603305785123,-126.7427122940431,-158.73015873015873,-164.80538662033015,-199.50445103857567,-95.932203389830505,-182.92682926829269,-147.65777777777777,"Diverse kapacitetsomkostninger",-316.12903225806451,-264.31147540983608,-146.44242424242424,-137.7224236147074,-258.21656050955414,-281.6901408450704,-177.39481268011528,-65.217391304347828,-114.03508771929825,-59.45945945945946,-181.26007326007326,-95.308510638297875,-156.25]
[62,"Kapacitetsomkostninger i alt",-815.31268436578171,-867.06310679611647,-1065.1720164609053,-1173.9562189054727,-794.32386363636363,-966.37469975980787,-1569.8196286472148,-1175.3143564356435,-925.48535211267608,-1209.4780058651027,-1082.8799775659002,-1216.6805157593124,-935.12171052631584,-1185.020618556701,-1429.51012145749,-1702.5641025641025,-1185.9504132231405,-1380.8238276299114,-1248.3412698412699,-1019.5968722849695,-1469.4332344213649,-885.75211864406776,-1098.9004065040651,-1123.8866666666668,"Kapacitetsomkostninger i alt",-1220.233870967742,-1109.5286885245901,-1429.2606060606061,-1269.819782496116,-1291.4203821656051,-1433.7323943661972,-819.02881844380408,-912.3297101449275,-1131.578947368421,-732.43243243243239,-1009.2509157509157,-1564.9574468085107,-1369.6907894736842]
[63,0,"","","","","","","","","","","","","","","","","","","","","","","","",0,"","","","","","","","","","","","",""]
[64,"Afskrivning, fast ejendom",-156.87905604719765,-216.36615811373093,-258.30864197530866,-135.63482587064678,-85.227272727272734,-278.85108086469177,-289.0238726790451,-587.78712871287132,-6.0836619718309857,-267.34897360703815,-205.68424004486818,-115.26647564469914,-562.72368421052636,-205.57113402061856,-229.95951417004048,-358.97435897435895,-413.22314049586777,-159.40430925221801,-250.84444444444443,-285.26672458731537,-146.48367952522256,-80.972457627118644,-471.2459349593496,-44.44222222222222,"Afskrivning, fast ejendom",-89.362903225806448,-142.34426229508196,-224.24242424242425,-190.83376488865872,-136.22292993630575,-149.99295774647888,-171.31988472622479,-102.54710144927536,-596.00877192982455,0,-360.26373626373629,-216.78014184397162,-475.3075657894737]
[65,"Afskrivning, staldinventar",-49.247787610619469,-138.00277392510401,-164.38189300411523,-110.12139303482587,-39.772727272727273,-147.40592473979183,-136.08488063660477,-201.23762376237624,-76.574084507042258,-281.00586510263929,-48.623107122826696,-224.92836676217766,-75.75822368421052,-260.1463917525773,-125.98380566801619,-307.69230769230768,-419.83471074380168,-124.86148832156438,-90.117460317460313,-270.3927019982624,-86.436201780415431,-51.711864406779661,-86.300813008130078,-173.49777777777777,"Afskrivning, staldinventar",-524.19354838709683,0,-37.878787878787875,-268.97462454686689,-223.81528662420382,-7.323943661971831,-179.02017291066284,0,-219.2982456140351,0,-187.4981684981685,-185.59929078014184,-216.38651315789474]
[66,"Leje af driftsbygninger",0,0,0,0,0,0,0,0,-514.38845070422531,0,0,-82.808022922636098,0,0,0,0,0,-9.0530508781459353,0,-20.851433536055605,0,-51.311440677966104,0,0,"Leje af driftsbygninger",0,0,0,-248.67944070429829,0,0,0,0,0,-281.08108108108109,0,0,0]
[67,"Øvrige kapitalomkostninger",0,0,0,0,0,0,0,0,0,0,0,0,0,0,0,0,0,0,0,0,0,0,0,0,"Øvrige kapitalomkostninger",0,0,0,0,0,0,0,0,0,-129.72972972972974,0,0,0]
[68,"Renteomk. af bundet kapital",-140.61651917404129,-199.30513176144245,-217.9588477366255,-249.51641791044776,-181.26704545454547,-153.4763811048839,-118.86737400530504,-130.5891089108911,-127.93295774647888,-404.98533724340177,-87.184520471116087,-250.10458452722062,-75.723684210526315,-88.845360824742272,-126.35728744939271,-185.4,-560.14876033057851,-110.27883396704691,-168.06666666666666,-404.76802780191139,-240.57270029673592,-101.43220338983051,-265.52032520325201,-296.74444444444447,"Renteomk. af bundet kapital",-273.83870967741933,-72.159836065573771,-275.13939393939393,-271.21387881926461,-225.91082802547771,-83.605633802816897,-335.52737752161386,-143.45289855072463,-413.78947368421052,-231.87027027027028,-258.14652014652017,-162.95035460992906,-255.13157894736841]
[69,"Kapitalomkostninger i alt",-346.74336283185841,-553.67406380027739,-640.64938271604933,-495.27263681592041,-306.26704545454544,-579.73338670936755,-543.9761273209549,-919.61386138613864,-724.97915492957748,-953.34017595307921,-341.49186763881096,-673.10744985673352,-714.20559210526312,-554.56288659793813,-482.3006072874494,-852.06666666666672,-1393.206611570248,-403.59768241897524,-509.02857142857141,-981.27888792354474,-473.49258160237389,-285.42796610169489,-823.06707317073176,-514.68444444444447,"Kapitalomkostninger i alt",-887.39516129032256,-214.50409836065575,-537.26060606060605,-979.70170895908859,-585.94904458598728,-240.92253521126761,-685.86743515850139,-246,-1229.0964912280701,-642.68108108108106,-805.90842490842488,-565.32978723404256,-946.82565789473688]
[70,0,"","","","","","","","","","","","","","","","","","","","","","","","",0,"","","","","","","","","","","","",""]
[71,"Årets resultat",1176.7433628318583,1073.4209431345353,840.98765432098764,809.07064676616915,780.94318181818187,696.09847878302639,593.67108753315654,354.07425742574259,292.7774647887324,205.05278592375367,192.71172181716207,172.96418338108882,109.52467105263158,71.787628865979386,-152.36842105263159,-224.06153846153848,-253.32231404958677,-273.78598587724065,-281.53650793650792,-370.56385751520418,-433.66172106824928,-529.41313559322032,-813.29674796747963,-1216.56,"Årets resultat",1271.5564516129032,922.98770491803282,575.10303030303032,537.91610564474365,181.53503184713375,107.86619718309859,99.706051873198845,38.967391304347828,-37.456140350877192,-96.205405405405401,-238.13553113553112,-351.92553191489361,-361.34210526315792]